{"text_format":"1","workbook":"xlsx","n_sheets":16,"sheets":["week1","week2","week3","week4","week5","week6","all_cars","all_cars_public","all_anti_public","all_easy_public","all_spin_public","all_slid_public","all_speed_public","pts_system","antislider_stints","calc_skippable_stint"],"not_rendered":{"charts":4,"images":0,"macros":0,"external_links":0,"defined_names":7,"comments":0,"pivot_tables":0},"unopened":[],"bounds":{"document_bytes":16777216,"sheet_cells":100000,"rows_first":2000,"rows_last":500,"rows_between":2000,"halvings":0,"cell_chars":16384,"cell_head_chars":4096},"cells_cut":0,"cells_raw":0,"read":"whole","date_system":"1900"}

{"sheet":"week1","index":0,"n_rows":76,"n_cols":68,"rows_kept":76,"cut":false,"hidden":false,"merged":[]}
[null,"*** Weekly Hot Lap Competition Results"]
[]
[null,"Start Time: 2014-11-29 16:11:10"]
[null,"End Time: 2014-12-06 16:11:10"]
[]
[null,"* Results for pu_Purcelona, AntiSlider:",null,null,null,null,"* Results for pu_Purcelona, EasySlider:",null,null,null,null,"* Results for pu_Purcelona, Spinner:",null,null,null,null,"* Results for pu_Purcelona, Slider:",null,null,null,null,"* Results for pu_Purcelona, Speeder:",null,null,null,null,null,null,"Pts","Max","Av","Anti","Easy","Spin","Slide","Speed","Ant","Eas","Spn","Sld","Spd",1,2,3,4,5,6,7,8,9,10,11,12,13,14,15,16,17,18,19,20,null,"Overall Results:"]
[null," 1. [x] Mike Nike             30.514   (1000 pts)",{"$f":"LEFT(RIGHT(B7,LEN(B7)-4),LEN(RIGHT(B7,LEN(B7)-4))-19)","v":"[x] Mike Nike             "},{"$f":"VALUE(LEFT(RIGHT(B7,19+0),6))/1000","v":30.513999999999999},100,null," 1. [+] Tinjovic              31.970   (1000 pts)",{"$f":"LEFT(RIGHT(G7,LEN(G7)-4),LEN(RIGHT(G7,LEN(G7)-4))-19)","v":"[+] Tinjovic              "},{"$f":"VALUE(LEFT(RIGHT(G7,19+0),6))/1000","v":31.97},100,null," 1. [+] Tinjovic              31.780   (1000 pts)",{"$f":"LEFT(RIGHT(L7,LEN(L7)-4),LEN(RIGHT(L7,LEN(L7)-4))-19)","v":"[+] Tinjovic              "},{"$f":"VALUE(LEFT(RIGHT(L7,19+0),6))/1000","v":31.78},100,null," 1. [x] Mike Nike             31.861   (1000 pts)",{"$f":"LEFT(RIGHT(Q7,LEN(Q7)-4),LEN(RIGHT(Q7,LEN(Q7)-4))-19)","v":"[x] Mike Nike             "},{"$f":"VALUE(LEFT(RIGHT(Q7,19+0),6))/1000","v":31.861000000000001},100,null," 1. [+] Tinjovic              29.965   (1000 pts)",{"$f":"LEFT(RIGHT(V7,LEN(V7)-4),LEN(RIGHT(V7,LEN(V7)-4))-19)","v":"[+] Tinjovic              "},{"$f":"VALUE(LEFT(RIGHT(V7,19+0),6))/1000","v":29.965},100,null,1,{"$f":"BL7","v":"[+] Tinjovic              "},{"$f":"BP7","v":"990"},{"$f":"MAX(AF7:AJ7)","v":100},{"$f":"SUM(AF7:AJ7)/COUNT(AF7:AJ7)","v":99.942479322146184},{"$f":"IF(SUMIF(C$7:C$998,$AB7,E$7:E$998)=0,\"\",VLOOKUP($AB7,C$7:E$998,3,FALSE))","v":99.878744182997977},{"$f":"IF(SUMIF(H$7:H$998,$AB7,J$7:J$998)=0,\"\",VLOOKUP($AB7,H$7:J$998,3,FALSE))","v":100},{"$f":"IF(SUMIF(M$7:M$998,$AB7,O$7:O$998)=0,\"\",VLOOKUP($AB7,M$7:O$998,3,FALSE))","v":100},{"$f":"IF(SUMIF(R$7:R$998,$AB7,T$7:T$998)=0,\"\",VLOOKUP($AB7,R$7:T$998,3,FALSE))","v":99.833652427732957},{"$f":"IF(SUMIF(W$7:W$998,$AB7,Y$7:Y$998)=0,\"\",VLOOKUP($AB7,W$7:Y$998,3,FALSE))","v":100},{"$f":"IF(AF7=\"\",\"\",RANK(AF7,AF$7:AF$999,0))","v":2},{"$f":"IF(AG7=\"\",\"\",RANK(AG7,AG$7:AG$999,0))","v":1},1,3,1,{"$f":"IF(SUMIF($AK7:$AO7,AP$6)/AP$6=0,\"\",SUMIF($AK7:$AO7,AP$6)/AP$6)","v":3},1,1,"","","","","","","",{"$f":"IF(SUMIF($AK7:$AO7,AZ$6)/AZ$6=0,\"\",SUMIF($AK7:$AO7,AZ$6)/AZ$6)","v":""},"","","","","","","","","",null," 1. [+] Tinjovic            (990 pts)",{"$f":"CONCATENATE(LEFT(RIGHT(BK7,LEN(BK7)-4),LEN(RIGHT(BK7,LEN(BK7)-4))-9),\"  \")","v":"[+] Tinjovic              "},{"$f":"RIGHT(BK7,10)","v":" (990 pts)"},{"$f":"LEFT(BM7,5)","v":" (990"},{"$f":"REPLACE(BN7,SEARCH(\"(\",BN7),1,\"\")","v":" 990"},{"$f":"TRIM(BO7)","v":"990"}]
[null," 2. [+] Tinjovic              30.551    (980 pts)","[+] Tinjovic              ",30.550999999999998,{"$f":"100-(D8-D$7)/D$7*100","v":99.878744182997977},null," 2. [x] Mike Nike             32.041    (965 pts)","[x] Mike Nike             ",32.040999999999997,{"$f":"100-(I8-I$7)/I$7*100","v":99.777916796997189},null," 2. [x] Mike Nike             31.852    (964 pts)","[x] Mike Nike             ",{"$f":"VALUE(LEFT(RIGHT(L8,19+0),6))/1000","v":31.852},{"$f":"100-(N8-N$7)/N$7*100","v":99.77344241661423},null," 2. [fS]Palo                  31.888    (986 pts)","[fS]Palo                  ",31.888000000000002,{"$f":"100-(S8-S$7)/S$7*100","v":99.915256897146975},null," 2. [x] Mike Nike             29.978    (993 pts)","[x] Mike Nike             ",29.978000000000002,{"$f":"100-(X8-X$7)/X$7*100","v":99.956616052060738},null,2,{"$f":"BL8","v":"[x] Mike Nike             "},{"$f":"BP8","v":"984"},100,{"$f":"SUM(AF8:AJ8)/COUNT(AF8:AJ8)","v":99.901595053134429},{"$f":"IF(SUMIF(C$7:C$998,$AB8,E$7:E$998)=0,\"\",VLOOKUP($AB8,C$7:E$998,3,FALSE))","v":100},99.777916796997189,99.77344241661423,100,{"$f":"IF(SUMIF(W$7:W$998,$AB8,Y$7:Y$998)=0,\"\",VLOOKUP($AB8,W$7:Y$998,3,FALSE))","v":99.956616052060738},{"$f":"IF(AF8=\"\",\"\",RANK(AF8,AF$7:AF$999,0))","v":1},{"$f":"IF(AG8=\"\",\"\",RANK(AG8,AG$7:AG$999,0))","v":2},{"$f":"IF(AH8=\"\",\"\",RANK(AH8,AH$7:AH$999,0))","v":2},{"$f":"IF(AI8=\"\",\"\",RANK(AI8,AI$7:AI$999,0))","v":1},{"$f":"IF(AJ8=\"\",\"\",RANK(AJ8,AJ$7:AJ$999,0))","v":2},2,3,"","","","","","","","","","","","","","","","","","",null," 2. [x] Mike Nike           (984 pts)",{"$f":"CONCATENATE(LEFT(RIGHT(BK8,LEN(BK8)-4),LEN(RIGHT(BK8,LEN(BK8)-4))-9),\"  \")","v":"[x] Mike Nike             "},{"$f":"RIGHT(BK8,10)","v":" (984 pts)"},{"$f":"LEFT(BM8,5)","v":" (984"},{"$f":"REPLACE(BN8,SEARCH(\"(\",BN8),1,\"\")","v":" 984"},{"$f":"TRIM(BO8)","v":"984"}]
[null," 3. [fS]Palo                  30.563    (974 pts)","[fS]Palo                  ",30.562999999999999,{"$f":"100-(D9-D$7)/D$7*100","v":99.839417972078394},null," 3. [fS]Palo                  32.233    (877 pts)","[fS]Palo                  ",32.232999999999997,{"$f":"100-(I9-I$7)/I$7*100","v":99.177353769158586},null," 3. [fS]Palo                  31.905    (939 pts)","[fS]Palo                  ",31.905000000000001,{"$f":"100-(N9-N$7)/N$7*100","v":99.606670862177467},null," 3. [+] Tinjovic              31.914    (973 pts)","[+] Tinjovic              ",31.914000000000001,{"$f":"100-(S9-S$7)/S$7*100","v":99.833652427732957},null," 3. [+] Iziwýn                30.277    (847 pts)","[+] Iziwýn                ",30.277000000000001,{"$f":"100-(X9-X$7)/X$7*100","v":98.958785249457691},null,3,"[fS]Palo                  ","924",99.915256897146975,99.492822496474702,99.839417972078394,99.177353769158586,99.606670862177467,99.915256897146975,98.925412981812116,3,3,3,2,4,"",1,3,1,"","","","","","","","","","","","","","","","",null," 3. [fS]Palo                (924 pts)","[fS]Palo                  "," (924 pts)"," (924"," 924","924"]
[null," 4. [PahaJori] Ender          30.617    (947 pts)","[PahaJori] Ender          ",30.617000000000001,99.662450022940291,null," 4. Janneosaursrex            32.294    (851 pts)","Janneosaursrex            ",32.293999999999997,98.986549890522369,null," 4. [fS]Hevonen               32.283    (777 pts)","[fS]Hevonen               ",32.283000000000001,98.417243549402144,null," 4. [fS]Hevonen               32.042    (913 pts)","[fS]Hevonen               ",32.042000000000002,99.431907347540871,null," 4. [fS]Palo                  30.287    (842 pts)","[fS]Palo                  ",30.286999999999999,98.925412981812116,null,4,"[x] Whiplash              ","793",99.518253916235167,98.524821441139608,99.518253916235167,98.326556146387233,98.407803650094394,98.327108377012649,98.044385115968637,5,5,5,7,5,"","","","",4,"",1,"","","","","","","","","","","","","",null," 4. [x] Whiplash            (793 pts)","[x] Whiplash              "," (793 pts)"," (793"," 793","793"]
[null," 5. [x] Whiplash              30.661    (925 pts)","[x] Whiplash              ",30.661000000000001,99.518253916235167,null," 5. [x] Whiplash              32.505    (766 pts)","[x] Whiplash              ",32.505000000000003,98.326556146387233,null," 5. [x] Whiplash              32.286    (776 pts)","[x] Whiplash              ",32.286000000000001,98.407803650094394,null," 5. Kyna_Musti                32.059    (905 pts)","Kyna_Musti                ",32.058999999999997,99.378550579077881,null," 5. [x] Whiplash              30.551    (733 pts)","[x] Whiplash              ",30.550999999999998,98.044385115968637,null,5,"[fS]Hevonen               ","769",99.431907347540871,98.276454547739959,99.118437438552789,97.488270253362515,98.417243549402144,99.431907347540871,96.926414149841477,8,6,4,4,6,"","","",2,"",2,"",1,"","","","","","","","","","","","",null," 5. [fS]Hevonen             (769 pts)","[fS]Hevonen               "," (769 pts)"," (769"," 769","769"]
[null," 6. Double O Seven            30.661    (925 pts)","Double O Seven            ",30.661000000000001,99.518253916235167,null," 6. [fS]Hevonen               32.773    (672 pts)","[fS]Hevonen               ",32.773000000000003,97.488270253362515,null," 6. mc65532                   32.700    (633 pts)","mc65532                   ",32.700000000000003,97.10509754562618,null," 6. [x] Whiplash              32.394    (766 pts)","[x] Whiplash              ",32.393999999999998,98.327108377012649,null," 6. [fS]Hevonen               30.886    (616 pts)","[fS]Hevonen               ",30.885999999999999,96.926414149841477,null,6,"Kyna_Musti                ","587",99.378550579077881,97.966345873977616,98.443337484433371,97.150453550203309,"",99.378550579077881,96.893041882195888,11,7,"",5,7,"","","","",1,"",2,"","","",1,"","","","","","","","","",null," 6. Kyna_Musti              (587 pts)","Kyna_Musti                "," (587 pts)"," (587"," 587","587"]
[null," 7. [+] Badeend               30.693    (910 pts)","[+] Badeend               ",30.693000000000001,99.413384020449627,null," 7. Kyna_Musti                32.881    (637 pts)","Kyna_Musti                ",32.881,97.150453550203309,null," 7. [+] Iziwýn                32.903    (573 pts)","[+] Iziwýn                ",32.902999999999999,96.466331025802404,null," 7. Chukie                    32.446    (747 pts)","Chukie                    ",32.445999999999998,98.163899438184629,null," 7. Kyna_Musti                30.896    (612 pts)","Kyna_Musti                ",30.896000000000001,96.893041882195888,null,7,"[+] Iziwýn                ","504",98.958785249457691,96.832155269095637,"",94.150766343446961,96.466331025802404,97.752738457675534,98.958785249457691,"",18,7,10,3,"","",1,"","","",1,"","",1,"","","","","","","",1,"","",null," 7. [+] Iziwýn              (504 pts)","[+] Iziwýn                "," (504 pts)"," (504"," 504","504"]
[null," 8. [fS]Hevonen               30.783    (868 pts)","[fS]Hevonen               ",30.783000000000001,99.118437438552789,null," 8. [+] Badeend               32.974    (609 pts)","[+] Badeend               ",32.973999999999997,96.859555833594001,null," 8. KyNa                      33.084    (525 pts)","KyNa                      ",33.084000000000003,95.896790434235356,null," 8. [+] Iziwýn                32.577    (700 pts)","[+] Iziwýn                ",32.576999999999998,97.752738457675534,null," 8. [+] Badeend               30.906    (609 pts)","[+] Badeend               ",30.905999999999999,96.859669614550313,null,8,"mc65532                   ","477",97.10509754562618,94.857774115240574,96.56551091302353,96.409133562715041,97.10509754562618,93.393176610903609,90.815951943934593,23,10,6,20,15,"","","","","",1,"","","",1,"","","","",1,"","","","",1,null," 8. mc65532                 (477 pts)","mc65532                   "," (477 pts)"," (477"," 477","477"]
[null," 9. Testaaja                  30.907    (814 pts)","Testaaja                  ",30.907,98.71206659238382,null," 9. mc65532                   33.118    (568 pts)","mc65532                   ",33.118000000000002,96.409133562715041,null," 9. laf                       33.724    (386 pts)","laf                       ",33.723999999999997,93.882945248584036,null," 9. chill                     32.607    (690 pts)","chill                     ",32.606999999999999,97.658579454505514,null," 9. [+] Eddie                 31.687    (409 pts)","[+] Eddie                 ",31.687000000000001,94.253295511429997,null,9,"[+] Badeend               ","426",99.413384020449627,97.710869822864652,99.413384020449627,96.859555833594001,"","",96.859669614550313,7,9,"","",9,"","","","","","",1,"",2,"","","","","","","","","","","",null," 9. [+] Badeend             (426 pts)","[+] Badeend               "," (426 pts)"," (426"," 426","426"]
[null,"10. Diego Armando             30.970    (788 pts)","Diego Armando             ",30.97,98.505603985056041,null,"10. Jurgen-NL                 33.181    (551 pts)","Jurgen-NL                 ",33.180999999999997,96.212073819205514,null,"10. stoner                    34.417    (279 pts)","stoner                    ",34.417000000000002,91.70232850849591,null,"10. Chukie                    32.623    (685 pts)","Chukie                    ",32.622999999999998,97.608361319481503,null,"10. AnnicK                    31.758    (394 pts)","AnnicK                    ",31.757999999999999,94.016352411146343,null,10,"Poisonous                 ","399",97.473290948417116,95.412941817735202,97.473290948417116,94.497966843916174,"",95.687517654813092,93.992991823794426,16,17,"",17,12,"","","","","","","","","","","",1,"","","",1,2,"","","",null,"10. Poisonous               (399 pts)","Poisonous                 "," (399 pts)"," (399"," 399","399"]
[null,"11. Kyna_Musti                30.989    (781 pts)","Kyna_Musti                ",30.989000000000001,98.443337484433371,null,"11. Chukie                    33.229    (539 pts)","Chukie                    ",33.228999999999999,96.061933062245856,null,"11. REIROM                    34.473    (272 pts)","REIROM                    ",34.472999999999999,91.526117054751424,null,"11. Kyna_Musti                32.687    (663 pts)","Kyna_Musti                ",32.686999999999998,97.40748877938546,null,"11. Poisonous                 31.765    (393 pts)","Poisonous                 ",31.765000000000001,93.992991823794426,null,11,"Chukie                    ","315",98.163899438184629,95.820574740754353,93.235891721832587,96.061933062245856,"",98.163899438184629,"",39,12,"",8,"",{"$f":"IF(SUMIF($AK17:$AO17,AP$6)/AP$6=0,\"\",SUMIF($AK17:$AO17,AP$6)/AP$6)","v":""},"","","","","","",1,"","",{"$f":"IF(SUMIF($AK17:$AO17,AZ$6)/AZ$6=0,\"\",SUMIF($AK17:$AO17,AZ$6)/AZ$6)","v":""},1,"","","","","","","","",null,"11. Chukie                  (315 pts)","Chukie                    "," (315 pts)"," (315"," 315","315"]
[null,"12. [FN] Pornfest             30.997    (777 pts)","[FN] Pornfest             ",30.997,98.417120010486983,null,"12. lds                       33.288    (523 pts)","lds                       ",33.287999999999997,95.877385048482964,null,"12. Lavon                     34.934    (220 pts)","Lavon                     ",34.933999999999997,90.075519194461933,null,"12. AnnicK                    32.711    (656 pts)","AnnicK                    ",32.710999999999999,97.332161576849444,null,"12. Jurgen-NL                 31.939    (360 pts)","Jurgen-NL                 ",31.939,93.412314366761223,null,12,"Jurgen-NL                 ","310",97.201284656223379,95.608557614063372,97.201284656223379,96.212073819205514,"","",93.412314366761223,21,11,"","",13,"","","","","","","","","","",1,"",1,"","","","","","","",null,"12. Jurgen-NL               (310 pts)","Jurgen-NL                 "," (310 pts)"," (310"," 310","310"]
[null,"13. Kyna_Musti                31.104    (736 pts)","Kyna_Musti                ",31.103999999999999,98.066461296454094,null,"13. [FN] Pornfest             33.658    (439 pts)","[FN] Pornfest             ",33.658000000000001,94.720050046918985,null,"13. [FUN] GR8 Arjen!          36.047    (133 pts)","[FUN] GR8 Arjen!          ",36.046999999999997,86.573316551290134,null,"13. Guillo                    32.966    (579 pts)","Guillo                    ",32.966000000000001,96.531810049904266,null,"13. KyNa                      32.045    (341 pts)","KyNa                      ",32.045000000000002,93.058568329718,null,13,"KyNa                      ","294",96.814576915514181,95.256645226489184,96.814576915514181,"",95.896790434235356,"",93.058568329718,22,"",8,"",14,"","","","","","","",1,"","","","","",1,"","","","","","",null,"13. KyNa                    (294 pts)","KyNa                      "," (294 pts)"," (294"," 294","294"]
[null,"14. Matic                     31.188    (704 pts)","Matic                     ",31.187999999999999,97.79117782001704,null,"14. Poisonous                 33.729    (424 pts)","Poisonous                 ",33.728999999999999,94.497966843916174,null,"14. suzuck                    36.415    (113 pts)","suzuck                    ",36.414999999999999,85.415355569540594,null,"14. Augusto                   33.112    (539 pts)","Augusto                   ",33.112000000000002,96.073569567810168,null,"14. mc65532                   32.717    (245 pts)","mc65532                   ",32.716999999999999,90.815951943934593,null,14,"Kyna_Musti                ","280",99.378550579077881,97.966345873977616,98.443337484433371,97.150453550203309,"",99.378550579077881,96.893041882195888,11,7,"",5,7,"","","","",1,"",2,"","","",1,"","","","","","","","","",null,"14. Kyna_Musti              (280 pts)","Kyna_Musti                "," (280 pts)"," (280"," 280","280"]
[null,"15. R.E.I.R.O.M               31.217    (694 pts)","R.E.I.R.O.M               ",31.216999999999999,97.696139476961392,null,"15. lds                       33.833    (404 pts)","lds                       ",33.832999999999998,94.172661870503603,null,"15. Iron Man                  37.237     (79 pts)","Iron Man                  ",37.237000000000002,82.828823159219638,null,"15. Ande                      33.153    (529 pts)","Ande                      ",33.152999999999999,95.944885596811162,null,"15. Ande                      33.112    (202 pts)","Ande                      ",33.112000000000002,89.497747371933912,null,15,"fatty                     ","248",97.41102444779446,90.362694039329654,97.41102444779446,92.29590240850797,"",82.276136969963275,89.467712331052894,17,20,"",27,17,"","","","","","","","","","","","","","","","",2,"","",1,null,"15. fatty                   (248 pts)","fatty                     "," (248 pts)"," (248"," 248","248"]
[null,"16. Poisonous                 31.285    (670 pts)","Poisonous                 ",31.285,97.473290948417116,null,"16. [+] Iziwýn                33.840    (402 pts)","[+] Iziwýn                ",33.840000000000003,94.150766343446961,null,"16. Augusto                   46.622      (2 pts)","Augusto                   ",46.622,53.297671491504097,null,"16. Poisonous                 33.235    (508 pts)","Poisonous                 ",33.234999999999999,95.687517654813092,null,"16. fatty                     33.121    (201 pts)","fatty                     ",33.121000000000002,89.467712331052894,null,16,"AnnicK                    ","247",97.332161576849444,93.457741319063416,89.024709969194461,"","",97.332161576849444,94.016352411146343,43,"","",12,11,"","","","","","","","","","",1,1,"","","","","","","","",null,"16. AnnicK                  (247 pts)","AnnicK                    "," (247 pts)"," (247"," 247","247"]
[null,"17. fatty                     31.304    (664 pts)","fatty                     ",31.303999999999998,97.41102444779446,null,"17. Rubao                     34.279    (327 pts)","Rubao                     ",34.279000000000003,92.77760400375351,null,null,null,null,null,null,"17. Sharp                     33.590    (429 pts)","Sharp                     ",33.590000000000003,94.573302783967847,null,"17. Gol_v8                    33.233    (190 pts)","Gol_v8                    ",33.232999999999997,89.093942933422341,null,17,"[FN] Pornfest             ","243",98.417120010486983,96.568585028702984,98.417120010486983,94.720050046918985,"","","",13,16,"","","","","","","","","","","","","","","",1,"","",1,"","","","",null,"17. [FN] Pornfest           (243 pts)","[FN] Pornfest             "," (243 pts)"," (243"," 243","243"]
[null,"18. [FUN] GR8 Arjen!          31.347    (649 pts)","[FUN] GR8 Arjen!          ",31.347000000000001,97.270105525332625,null,"18. fatty                     34.433    (304 pts)","fatty                     ",34.433,92.29590240850797,null,null,null,null,null,null,"18. Scud                      33.602    (426 pts)","Scud                      ",33.601999999999997,94.535639182699867,null,"18. [+] xzeal                 33.282    (186 pts)","[+] xzeal                 ",33.281999999999996,88.930418821958966,null,18,"Double O Seven            ","241",99.518253916235167,95.617744411980567,99.518253916235167,91.717234907725981,"","","",5,21,"","","","","","","",1,"","","","","","","","","","","","","","","",null,"18. Double O Seven          (241 pts)","Double O Seven            "," (241 pts)"," (241"," 241","241"]
[null,"19. Augusto                   31.367    (643 pts)","Augusto                   ",31.367000000000001,97.204561840466667,null,"19. Double O Seven            34.618    (279 pts)","Double O Seven            ",34.618000000000002,91.717234907725981,null,null,null,null,null,null,"19. mc65532                   33.966    (359 pts)","mc65532                   ",33.966000000000001,93.393176610903609,null,"19. laf                       33.705    (152 pts)","laf                       ",33.704999999999998,87.518771900550647,null,19,"chill                     ","231",97.658579454505514,96.381233097509025,95.103886740512536,"","",97.658579454505514,"",33,"","",11,"","","","","","","","","","","",1,"","","","","","","","","",null,"19. chill                   (231 pts)","chill                     "," (231 pts)"," (231"," 231","231"]
[null,"20. Jurgen-NL                 31.368    (642 pts)","Jurgen-NL                 ",31.367999999999999,97.201284656223379,null,"20. Brian                     35.124    (221 pts)","Brian                     ",35.124000000000002,90.13450109477634,null,null,null,null,null,null,"20. #5 Burnout                34.633    (263 pts)","#5 Burnout                ",34.633000000000003,91.299708107090169,null,"20. Fama                      33.744    (149 pts)","Fama                      ",33.744,87.388620056732861,null,20,"Guillo                    ","224",96.531810049904266,96.334004913527863,96.136199777151461,"","",96.531810049904266,"",28,"","",13,"","","","","","","","","","","","","",1,"","","","","","","",null,"20. Guillo                  (224 pts)","Guillo                    "," (224 pts)"," (224"," 224","224"]
[null,"21. KyNa                      31.486    (605 pts)","KyNa                      ",31.486000000000001,96.814576915514181,null,"21. Diego Armando             35.305    (204 pts)","Diego Armando             ",35.305,89.568345323740999,null,null,null,null,null,null,"21. Serif                     34.801    (243 pts)","Serif                     ",34.801000000000002,90.772417689338056,null,"21. Kiki                      34.106    (126 pts)","Kiki                      ",34.106000000000002,86.18054396796262,null,21,"Ande                      ","221",95.944885596811162,93.049054012456438,93.704529068624225,"","",95.944885596811162,89.497747371933912,37,"","",16,16,{"$f":"IF(SUMIF($AK27:$AO27,AP$6)/AP$6=0,\"\",SUMIF($AK27:$AO27,AP$6)/AP$6)","v":""},"","","","","","","","","",{"$f":"IF(SUMIF($AK27:$AO27,AZ$6)/AZ$6=0,\"\",SUMIF($AK27:$AO27,AZ$6)/AZ$6)","v":""},"","","","",2,"","","","",null,"21. Ande                    (221 pts)","Ande                      "," (221 pts)"," (221"," 221","221"]
[null,"22. mc65532                   31.562    (582 pts)","mc65532                   ",31.562000000000001,96.56551091302353,null,"22. R.E.I.R.O.M               36.151    (139 pts)","R.E.I.R.O.M               ",36.151000000000003,86.922114482327174,null,null,null,null,null,null,"22. Reinikainen               34.883    (234 pts)","Reinikainen               ",34.883000000000003,90.515049747340001,null,"22. suzuck                    35.360     (70 pts)","suzuck                    ",35.36,81.995661605206067,null,22,"Scud                      ","200",96.486858491184378,95.511248836942116,96.486858491184378,"","",94.535639182699867,"",24,"","",19,"","","","","","","","","","","","","","","","","","","",1,"",null,"22. Scud                    (200 pts)","Scud                      "," (200 pts)"," (200"," 200","200"]
[null,"23. Scud                      31.586    (575 pts)","Scud                      ",31.585999999999999,96.486858491184378,null,"23. Rahim                     36.457    (122 pts)","Rahim                     ",36.457000000000001,85.964967156709406,null,null,null,null,null,null,"23. Reiska                    35.492    (177 pts)","Reiska                    ",35.491999999999997,88.603621982988614,null,"23. Sig                       35.466     (67 pts)","Sig                       ",35.466000000000001,81.641915568162858,null,23,"Diego Armando             ","198",98.505603985056041,94.03697465439852,98.505603985056041,89.568345323740999,"","","",10,23,"","","","","","","","","","","","",1,"","","","","","","","","","",null,"23. Diego Armando           (198 pts)","Diego Armando             "," (198 pts)"," (198"," 198","198"]
[null,"24. lds                       31.627    (563 pts)","lds                       ",31.626999999999999,96.352493937209147,null,"24. Niksi                     36.472    (121 pts)","Niksi                     ",36.472000000000001,85.918048170159523,null,null,null,null,null,null,"24. DustyBadSkillz            35.666    (164 pts)","DustyBadSkillz            ",35.665999999999997,88.057499764602511,null,"24. JJN                       36.708     (38 pts)","JJN                       ",36.707999999999998,77.497079926581023,null,24,"lds                       ","193",96.352493937209147,96.114939492846048,96.352493937209147,95.877385048482964,"","","",25,14,"","","","","","","","","","","","","","","","",1,"","","","","","",null,"24. lds                     (193 pts)","lds                       "," (193 pts)"," (193"," 193","193"]
[null,"25. [+] xzeal                 31.641    (559 pts)","[+] xzeal                 ",31.640999999999998,96.306613357802973,null,"25. NBA                       36.491    (120 pts)","NBA                       ",36.491,85.85861745386299,null,null,null,null,null,null,"25. Niksi                     36.717    (103 pts)","Niksi                     ",36.716999999999999,84.758796020212799,null,"25. kikiriki                  38.999     (14 pts)","kikiriki                  ",38.999000000000002,69.851493408977134,null,25,"[PahaJori] Ender          ","189",99.662450022940291,99.662450022940291,99.662450022940291,"","","","",4,"","","","","","","",1,"","","","","","","","","","","","","","","","",null,"25. [PahaJori] Ender        (189 pts)","[PahaJori] Ender          "," (189 pts)"," (189"," 189","189"]
[null,"26. Guillo                    31.693    (545 pts)","Guillo                    ",31.693000000000001,96.136199777151461,null,"26. REIROM                    37.159     (90 pts)","REIROM                    ",37.158999999999999,83.769158586174541,null,null,null,null,null,null,"26. fatty                     37.508     (73 pts)","fatty                     ",37.508000000000003,82.276136969963275,null,"26. Iron Man                  44.024      (2 pts)","Iron Man                  ",44.024000000000001,53.081928917069909,null,26,"laf                       ","179",93.882945248584036,91.597212176800767,93.389919381267617,"",93.882945248584036,"",87.518771900550647,38,"",9,"",20,"","","","","","","","",1,"","","","","","","","","","",1,null,"26. laf                     (179 pts)","laf                       "," (179 pts)"," (179"," 179","179"]
[null,"27. Pro08                     31.767    (525 pts)","Pro08                     ",31.766999999999999,95.893688143147401,null,"27. Jim                       37.459     (79 pts)","Jim                       ",37.459000000000003,82.830778855176717,null,null,null,null,null,null,"27. Waenoo                    37.894     (62 pts)","Waenoo                    ",37.893999999999998,81.06462446250903,null,null,null,null,null,null,27,"REIROM                    ","171",95.510257586681519,90.268511075869171,95.510257586681519,83.769158586174541,91.526117054751424,"","",30,28,11,"","","","","","","","","","","","",1,"","","","","","","","","",null,"27. REIROM                  (171 pts)","REIROM                    "," (171 pts)"," (171"," 171","171"]
[null,"28. REIROM                    31.884    (495 pts)","REIROM                    ",31.884,95.510257586681519,null,"28. Jukra                     38.217     (57 pts)","Jukra                     ",38.216999999999999,80.459806068188925,null,null,null,null,null,null,"28. Brian                     39.005     (39 pts)","Brian                     ",39.005000000000003,77.577602711779292,null,null,null,null,null,null,28,"Janneosaursrex            ","170",98.986549890522369,98.986549890522369,"",98.986549890522369,"","","","",4,"","","","","","",1,"","","","","","","","","","","","","","","","",null,"28. Janneosaursrex          (170 pts)","Janneosaursrex            "," (170 pts)"," (170"," 170","170"]
[null,"29. NBA                       31.890    (493 pts)","NBA                       ",31.89,95.490594481221734,null,"29. RiantHoff                 39.828     (29 pts)","RiantHoff                 ",39.828000000000003,75.420706912730665,null,null,null,null,null,null,"29. shamino                   49.535      (0 pts)","shamino                   ",49.534999999999997,44.527792599102369,null,null,null,null,null,null,29,"R.E.I.R.O.M               ","166",97.696139476961392,92.309126979644276,97.696139476961392,86.922114482327174,"","","",15,24,"","","","","","","","","","","","","","","","","",1,"","","","","",null,"29. R.E.I.R.O.M             (166 pts)","R.E.I.R.O.M               "," (166 pts)"," (166"," 166","166"]
[null,"30. stoner                    31.927    (484 pts)","stoner                    ",31.927,95.369338664219697,null,"30. shamino                   52.368      (0 pts)","shamino                   ",52.368000000000002,36.196434157022196,null,null,null,null,null,null,null,null,null,null,null,null,null,null,null,null,30,"Testaaja                  ","162",98.71206659238382,98.71206659238382,98.71206659238382,"","","","",9,"","","","","","","","","","","","",1,"","","","","","","","","","","",null,"30. Testaaja                (162 pts)","Testaaja                  "," (162 pts)"," (162"," 162","162"]
[null,"31. chill                     32.008    (465 pts)","chill                     ",32.008000000000003,95.103886740512536,null,"31. rard                    1:29.685      (0 pts)","{l}rard{l}                ",89.685000000000002,-80.528620581795451,null,null,null,null,null,null,null,null,null,null,null,null,null,null,null,null,31,"[FUN] GR8 Arjen!          ","156",97.270105525332625,91.921711038311372,97.270105525332625,"",86.573316551290134,"","",18,"",13,"","",{"$f":"IF(SUMIF($AK37:$AO37,AP$6)/AP$6=0,\"\",SUMIF($AK37:$AO37,AP$6)/AP$6)","v":""},"","","","","","","","","",{"$f":"IF(SUMIF($AK37:$AO37,AZ$6)/AZ$6=0,\"\",SUMIF($AK37:$AO37,AZ$6)/AZ$6)","v":""},"",1,"","","","",1,"","",null,"31. [FUN] GR8 Arjen!        (156 pts)","[FUN] GR8 Arjen!          "," (156 pts)"," (156"," 156","156"]
[null,"32. RiantHoff                 32.084    (448 pts)","RiantHoff                 ",32.084000000000003,94.854820738021886,null,null,null,null,null,null,null,null,null,null,null,null,null,null,null,null,null,null,null,null,null,32,"stoner                    ","152",95.369338664219697,93.535833586357796,95.369338664219697,"",91.70232850849591,"","",32,"",10,"","","","","","","","","","","",1,"","","","","","","","","","",null,"32. stoner                  (152 pts)","stoner                    "," (152 pts)"," (152"," 152","152"]
[null,"33. Serif                     32.128    (438 pts)","Serif                     ",32.128,94.710624631316776,null,null,null,null,null,null,null,null,null,null,null,null,null,null,null,null,null,null,null,null,null,33,"Chukie                    ","149",{"$f":"MAX(AF39:AJ39)","v":98.163899438184629},{"$f":"SUM(AF39:AJ39)/COUNT(AF39:AJ39)","v":95.820574740754353},{"$f":"IF(SUMIF(C$7:C$998,$AB39,E$7:E$998)=0,\"\",VLOOKUP($AB39,C$7:E$998,3,FALSE))","v":93.235891721832587},{"$f":"IF(SUMIF(H$7:H$998,$AB39,J$7:J$998)=0,\"\",VLOOKUP($AB39,H$7:J$998,3,FALSE))","v":96.061933062245856},{"$f":"IF(SUMIF(M$7:M$998,$AB39,O$7:O$998)=0,\"\",VLOOKUP($AB39,M$7:O$998,3,FALSE))","v":""},{"$f":"IF(SUMIF(R$7:R$998,$AB39,T$7:T$998)=0,\"\",VLOOKUP($AB39,R$7:T$998,3,FALSE))","v":98.163899438184629},{"$f":"IF(SUMIF(W$7:W$998,$AB39,Y$7:Y$998)=0,\"\",VLOOKUP($AB39,W$7:Y$998,3,FALSE))","v":""},39,12,"",8,"","","","","","","","",1,"","","",1,"","","","","","","","",null,"33. Chukie                  (149 pts)","Chukie                    "," (149 pts)"," (149"," 149","149"]
[null,"34. CrazybikE                 32.154    (432 pts)","CrazybikE                 ",32.154000000000003,94.625417840991005,null,null,null,null,null,null,null,null,null,null,null,null,null,null,null,null,null,null,null,null,null,34,"[+] xzeal                 ","149",96.306613357802973,92.61851608988097,96.306613357802973,"","","",88.930418821958966,27,"","","",19,"","","","","","","","","","","","","","","","","","",1,"",null,"34. [+] xzeal               (149 pts)","[+] xzeal                 "," (149 pts)"," (149"," 149","149"]
[null,"35. Ande                      32.435    (376 pts)","Ande                      ",32.435000000000002,93.704529068624225,null,null,null,null,null,null,null,null,null,null,null,null,null,null,null,null,null,null,null,null,null,35,"Matic                     ","140",97.79117782001704,97.79117782001704,97.79117782001704,"","","","",14,"","","","","","","","","","","","","","","","","",1,"","","","","","",null,"35. Matic                   (140 pts)","Matic                     "," (140 pts)"," (140"," 140","140"]
[null,"36. laf                       32.531    (359 pts)","laf                       ",32.530999999999999,93.389919381267617,null,null,null,null,null,null,null,null,null,null,null,null,null,null,null,null,null,null,null,null,null,36,"Serif                     ","136",94.710624631316776,92.741521160327409,94.710624631316776,"","",90.772417689338056,"",35,"","",22,"","","","","","","","","","","","","","","","","","","","","",null,"36. Serif                   (136 pts)","Serif                     "," (136 pts)"," (136"," 136","136"]
[null,"37. Chukie                    32.578    (350 pts)","Chukie                    ",32.578000000000003,93.235891721832587,null,null,null,null,null,null,null,null,null,null,null,null,null,null,null,null,null,null,null,null,null,37,"Augusto                   ","129",97.204561840466667,82.19193429992697,97.204561840466667,"",53.297671491504097,96.073569567810168,"",19,"",16,14,"","","","","","","","","","","","","","",1,"",1,"","",1,"",null,"37. Augusto                 (129 pts)","Augusto                   "," (129 pts)"," (129"," 129","129"]
[null,"38. Fama                      33.301    (246 pts)","Fama                      ",33.301000000000002,90.866487513928021,null,null,null,null,null,null,null,null,null,null,null,null,null,null,null,null,null,null,null,null,null,38,"NBA                       ","122",95.490594481221734,90.674605967542362,95.490594481221734,85.85861745386299,"","","",31,27,"","","","","","","","","","","","","","","","","","","","","","","",null,"38. NBA                     (122 pts)","NBA                       "," (122 pts)"," (122"," 122","122"]
[null,"39. Jim                       33.671    (206 pts)","Jim                       ",33.670999999999999,89.65392934390772,null,null,null,null,null,null,null,null,null,null,null,null,null,null,null,null,null,null,null,null,null,39,"Augusto                   ","107",97.204561840466667,82.19193429992697,97.204561840466667,"",53.297671491504097,96.073569567810168,"",19,"",16,14,"","","","","","","","","","","","","","",1,"",1,"","",1,"",null,"39. Augusto                 (107 pts)","Augusto                   "," (107 pts)"," (107"," 107","107"]
[null,"40. AnnicK                    33.863    (188 pts)","AnnicK                    ",33.863,89.024709969194461,null,null,null,null,null,null,null,null,null,null,null,null,null,null,null,null,null,null,null,null,null,40,"Pro08                     ","105",95.893688143147401,95.893688143147401,95.893688143147401,"","","","",29,"","","","","","","","","","","","","","","","","","","","","","","","",null,"40. Pro08                   (105 pts)","Pro08                     "," (105 pts)"," (105"," 105","105"]
[null,"41. BIXOMAU                   33.889    (186 pts)","BIXOMAU                   ",33.889000000000003,88.939503178868705,null,null,null,null,null,null,null,null,null,null,null,null,null,null,null,null,null,null,null,null,null,41,"lds                       ","104",96.352493937209147,96.114939492846048,96.352493937209147,95.877385048482964,"","","",25,14,"","","",{"$f":"IF(SUMIF($AK47:$AO47,AP$6)/AP$6=0,\"\",SUMIF($AK47:$AO47,AP$6)/AP$6)","v":""},"","","","","","","","","",{"$f":"IF(SUMIF($AK47:$AO47,AZ$6)/AZ$6=0,\"\",SUMIF($AK47:$AO47,AZ$6)/AZ$6)","v":""},"","",1,"","","","","","",null,"41. lds                     (104 pts)","lds                       "," (104 pts)"," (104"," 104","104"]
[null,"42. suzuck                    35.794     (77 pts)","suzuck                    ",35.793999999999997,82.696467195385736,null,null,null,null,null,null,null,null,null,null,null,null,null,null,null,null,null,null,null,null,null,42,"RiantHoff                 ","95",94.854820738021886,85.137763825376283,94.854820738021886,75.420706912730665,"","","",34,31,"","","","","","","","","","","","","","","","","","","","","","","",null,"42. RiantHoff                (95 pts)","RiantHoff                 ","  (95 pts)","  (95","  95","95"]
[null,"43. Storm                     37.496     (37 pts)","Storm                     ",37.496000000000002,77.11869961329225,null,null,null,null,null,null,null,null,null,null,null,null,null,null,null,null,null,null,null,null,null,43,"CrazybikE                 ","86",94.625417840991005,94.625417840991005,94.625417840991005,"","","","",36,"","","","","","","","","","","","","","","","","","","","","","","","",null,"43. CrazybikE                (86 pts)","CrazybikE                 ","  (86 pts)","  (86","  86","86"]
[null,"44. Iron Man                  39.195     (18 pts)","Iron Man                  ",39.195,71.550763583928685,null,null,null,null,null,null,null,null,null,null,null,null,null,null,null,null,null,null,null,null,null,44,"Sharp                     ","85",94.573302783967847,94.573302783967847,"","","",94.573302783967847,"","","","",18,"","","","","","","","","","","","","","","","","","",1,"","",null,"44. Sharp                    (85 pts)","Sharp                     ","  (85 pts)","  (85","  85","85"]
[null,"45. {l}rard{l}                41.038      (8 pts)","{l}rard{l}                ",41.037999999999997,65.510913023530193,null,null,null,null,null,null,null,null,null,null,null,null,null,null,null,null,null,null,null,null,null,45,"[+] Eddie                 ","81",94.253295511429997,94.253295511429997,"","","","",94.253295511429997,"","","","",10,"","","","","","","","","",1,"","","","","","","","","","",null,"45. [+] Eddie                (81 pts)","[+] Eddie                 ","  (81 pts)","  (81","  81","81"]
[null,null,null,null,null,null,null,null,null,null,null,null,null,null,null,null,null,null,null,null,null,null,null,null,null,null,46,"Fama                      ","79",90.866487513928021,89.127553785330434,90.866487513928021,"","","",87.388620056732861,41,"","","",21,"","","","","","","","","","","","","","","","","","","","",null,"46. Fama                     (79 pts)","Fama                      ","  (79 pts)","  (79","  79","79"]
[null,null,null,null,null,null,null,null,null,null,null,null,null,null,null,null,null,null,null,null,null,null,null,null,null,null,47,"Rubao                     ","65",92.77760400375351,92.77760400375351,"",92.77760400375351,"","","","",19,"","","","","","","","","","","","","","","","","","","","","",1,"",null,"47. Rubao                    (65 pts)","Rubao                     ","  (65 pts)","  (65","  65","65"]
[null,null,null,null,null,null,null,null,null,null,null,null,null,null,null,null,null,null,null,null,null,null,null,null,null,null,48,"Jim                       ","57",89.65392934390772,86.242354099542212,89.65392934390772,82.830778855176717,"","","",42,29,"","","","","","","","","","","","","","","","","","","","","","","",null,"48. Jim                      (57 pts)","Jim                       ","  (57 pts)","  (57","  57","57"]
[null,null,null,null,null,null,null,null,null,null,null,null,null,null,null,null,null,null,null,null,null,null,null,null,null,null,49,"#5 Burnout                ","52",91.299708107090169,91.299708107090169,"","","",91.299708107090169,"","","","",21,"","","","","","","","","","","","","","","","","","","","","",null,"49. #5 Burnout               (52 pts)","#5 Burnout                ","  (52 pts)","  (52","  52","52"]
[null,null,null,null,null,null,null,null,null,null,null,null,null,null,null,null,null,null,null,null,null,null,null,null,null,null,50,"suzuck                    ","52",85.415355569540594,83.369161456710799,82.696467195385736,"",85.415355569540594,"",81.995661605206067,45,"",14,"",23,"","","","","","","","","","","","","",1,"","","","","","",null,"50. suzuck                   (52 pts)","suzuck                    ","  (52 pts)","  (52","  52","52"]
[null,null,null,null,null,null,null,null,null,null,null,null,null,null,null,null,null,null,null,null,null,null,null,null,null,null,51,"Brian                     ","52",90.13450109477634,83.856051903277816,"",90.13450109477634,"",77.577602711779292,"","",22,"",29,"",{"$f":"IF(SUMIF($AK57:$AO57,AP$6)/AP$6=0,\"\",SUMIF($AK57:$AO57,AP$6)/AP$6)","v":""},"","","","","","","","","",{"$f":"IF(SUMIF($AK57:$AO57,AZ$6)/AZ$6=0,\"\",SUMIF($AK57:$AO57,AZ$6)/AZ$6)","v":""},"","","","","","","","","",null,"51. Brian                    (52 pts)","Brian                     ","  (52 pts)","  (52","  52","52"]
[null,null,null,null,null,null,null,null,null,null,null,null,null,null,null,null,null,null,null,null,null,null,null,null,null,null,52,"Reinikainen               ","46",90.515049747340001,90.515049747340001,"","","",90.515049747340001,"","","","",23,"","","","","","","","","","","","","","","","","","","","","",null,"52. Reinikainen              (46 pts)","Reinikainen               ","  (46 pts)","  (46","  46","46"]
[null,null,null,null,null,null,null,null,null,null,null,null,null,null,null,null,null,null,null,null,null,null,null,null,null,null,53,"Niksi                     ","44",85.918048170159523,85.338422095186161,"",85.918048170159523,"",84.758796020212799,"","",26,"",26,"","","","","","","","","","","","","","","","","","","","","",null,"53. Niksi                    (44 pts)","Niksi                     ","  (44 pts)","  (44","  44","44"]
[null,null,null,null,null,null,null,null,null,null,null,null,null,null,null,null,null,null,null,null,null,null,null,null,null,null,54,"Lavon                     ","44",90.075519194461933,90.075519194461933,"","",90.075519194461933,"","","","",12,"","","","","","","","","","","","","",1,"","","","","","","","",null,"54. Lavon                    (44 pts)","Lavon                     ","  (44 pts)","  (44","  44","44"]
[null,null,null,null,null,null,null,null,null,null,null,null,null,null,null,null,null,null,null,null,null,null,null,null,null,null,55,"Gol_v8                    ","38",89.093942933422341,89.093942933422341,"","","","",89.093942933422341,"","","","",18,"","","","","","","","","","","","","","","","","",1,"","",null,"55. Gol_v8                   (38 pts)","Gol_v8                    ","  (38 pts)","  (38","  38","38"]
[null,null,null,null,null,null,null,null,null,null,null,null,null,null,null,null,null,null,null,null,null,null,null,null,null,null,56,"BIXOMAU                   ","37",88.939503178868705,88.939503178868705,88.939503178868705,"","","","",44,"","","","","","","","","","","","","","","","","","","","","","","","",null,"56. BIXOMAU                  (37 pts)","BIXOMAU                   ","  (37 pts)","  (37","  37","37"]
[null,null,null,null,null,null,null,null,null,null,null,null,null,null,null,null,null,null,null,null,null,null,null,null,null,null,57,"Reiska                    ","35",88.603621982988614,88.603621982988614,"","","",88.603621982988614,"","","","",24,"","","","","","","","","","","","","","","","","","","","","",null,"57. Reiska                   (35 pts)","Reiska                    ","  (35 pts)","  (35","  35","35"]
[null,null,null,null,null,null,null,null,null,null,null,null,null,null,null,null,null,null,null,null,null,null,null,null,null,null,58,"DustyBadSkillz            ","32",88.057499764602511,88.057499764602511,"","","",88.057499764602511,"","","","",25,"","","","","","","","","","","","","","","","","","","","","",null,"58. DustyBadSkillz           (32 pts)","DustyBadSkillz            ","  (32 pts)","  (32","  32","32"]
[null,null,null,null,null,null,null,null,null,null,null,null,null,null,null,null,null,null,null,null,null,null,null,null,null,null,59,"Kiki                      ","25",86.18054396796262,86.18054396796262,"","","","",86.18054396796262,"","","","",22,"","","","","","","","","","","","","","","","","","","","",null,"59. Kiki                     (25 pts)","Kiki                      ","  (25 pts)","  (25","  25","25"]
[null,null,null,null,null,null,null,null,null,null,null,null,null,null,null,null,null,null,null,null,null,null,null,null,null,null,60,"Rahim                     ","24",85.964967156709406,85.964967156709406,"",85.964967156709406,"","","","",25,"","","","","","","","","","","","","","","","","","","","","","","",null,"60. Rahim                    (24 pts)","Rahim                     ","  (24 pts)","  (24","  24","24"]
[null,null,null,null,null,null,null,null,null,null,null,null,null,null,null,null,null,null,null,null,null,null,null,null,null,null,61,"Iron Man                  ","19",82.828823159219638,69.153838553406075,71.550763583928685,"",82.828823159219638,"",53.081928917069909,47,"",15,"",27,"","","","","","","","","","","","","","",1,"","","","","",null,"61. Iron Man                 (19 pts)","Iron Man                  ","  (19 pts)","  (19","  19","19"]
[null,null,null,null,null,null,null,null,null,null,null,null,null,null,null,null,null,null,null,null,null,null,null,null,null,null,62,"Sig                       ","13",81.641915568162858,81.641915568162858,"","","","",81.641915568162858,"","","","",24,"","","","","","","","","","","","","","","","","","","","",null,"62. Sig                      (13 pts)","Sig                       ","  (13 pts)","  (13","  13","13"]
[null,null,null,null,null,null,null,null,null,null,null,null,null,null,null,null,null,null,null,null,null,null,null,null,null,null,63,"Waenoo                    ","12",81.06462446250903,81.06462446250903,"","","",81.06462446250903,"","","","",28,"","","","","","","","","","","","","","","","","","","","","",null,"63. Waenoo                   (12 pts)","Waenoo                    ","  (12 pts)","  (12","  12","12"]
[null,null,null,null,null,null,null,null,null,null,null,null,null,null,null,null,null,null,null,null,null,null,null,null,null,null,64,"Jukra                     ","11",{"$f":"MAX(AF70:AJ70)","v":80.459806068188925},{"$f":"SUM(AF70:AJ70)/COUNT(AF70:AJ70)","v":80.459806068188925},{"$f":"IF(SUMIF(C$7:C$998,$AB70,E$7:E$998)=0,\"\",VLOOKUP($AB70,C$7:E$998,3,FALSE))","v":""},{"$f":"IF(SUMIF(H$7:H$998,$AB70,J$7:J$998)=0,\"\",VLOOKUP($AB70,H$7:J$998,3,FALSE))","v":80.459806068188925},{"$f":"IF(SUMIF(M$7:M$998,$AB70,O$7:O$998)=0,\"\",VLOOKUP($AB70,M$7:O$998,3,FALSE))","v":""},{"$f":"IF(SUMIF(R$7:R$998,$AB70,T$7:T$998)=0,\"\",VLOOKUP($AB70,R$7:T$998,3,FALSE))","v":""},{"$f":"IF(SUMIF(W$7:W$998,$AB70,Y$7:Y$998)=0,\"\",VLOOKUP($AB70,W$7:Y$998,3,FALSE))","v":""},"",30,"","","","","","","","","","","","","","","","","","","","","","","",null,"64. Jukra                    (11 pts)","Jukra                     ","  (11 pts)","  (11","  11","11"]
[null,null,null,null,null,null,null,null,null,null,null,null,null,null,null,null,null,null,null,null,null,null,null,null,null,null,65,"JJN                       ","7",77.497079926581023,77.497079926581023,"","","","",77.497079926581023,"","","","",25,"","","","","","","","","","","","","","","","","","","","",null,"65. JJN                       (7 pts)","JJN                       ","   (7 pts)","   (7","   7","7"]
[null,null,null,null,null,null,null,null,null,null,null,null,null,null,null,null,null,null,null,null,null,null,null,null,null,null,66,{"$f":"BL72","v":"Storm                     "},{"$f":"BP72","v":"7"},77.11869961329225,77.11869961329225,77.11869961329225,"","","","",{"$f":"IF(AF72=\"\",\"\",RANK(AF72,AF$7:AF$999,0))","v":46},{"$f":"IF(AG72=\"\",\"\",RANK(AG72,AG$7:AG$999,0))","v":""},{"$f":"IF(AH72=\"\",\"\",RANK(AH72,AH$7:AH$999,0))","v":""},{"$f":"IF(AI72=\"\",\"\",RANK(AI72,AI$7:AI$999,0))","v":""},{"$f":"IF(AJ72=\"\",\"\",RANK(AJ72,AJ$7:AJ$999,0))","v":""},"","","","","","","","","","","","","","","","","","","","",null,"66. Storm                     (7 pts)",{"$f":"CONCATENATE(LEFT(RIGHT(BK72,LEN(BK72)-4),LEN(RIGHT(BK72,LEN(BK72)-4))-9),\"  \")","v":"Storm                     "},{"$f":"RIGHT(BK72,10)","v":"   (7 pts)"},{"$f":"LEFT(BM72,5)","v":"   (7"},{"$f":"REPLACE(BN72,SEARCH(\"(\",BN72),1,\"\")","v":"   7"},{"$f":"TRIM(BO72)","v":"7"}]
[null,null,null,null,null,null,null,null,null,null,null,null,null,null,null,null,null,null,null,null,null,null,null,null,null,null,67,"kikiriki                  ","2",69.851493408977134,69.851493408977134,"","","","",69.851493408977134,"","","","",26,{"$f":"IF(SUMIF($AK73:$AO73,AP$6)/AP$6=0,\"\",SUMIF($AK73:$AO73,AP$6)/AP$6)","v":""},"","","","","","","","","","","","","","","",{"$f":"IF(SUMIF($AK73:$AO73,BF$6)/BF$6=0,\"\",SUMIF($AK73:$AO73,BF$6)/BF$6)","v":""},"","","",null,"67. kikiriki                  (2 pts)","kikiriki                  ","   (2 pts)","   (2","   2","2"]
[null,null,null,null,null,null,null,null,null,null,null,null,null,null,null,null,null,null,null,null,null,null,null,null,null,null,68,"{l}rard{l}                ","1",65.510913023530193,-7.5088537791326289,65.510913023530193,-80.528620581795451,"","","",48,33,"","","","","","","","","","","","","","","","","","","","","","","",null,"68. {l}rard{l}                (1 pts)","{l}rard{l}                ","   (1 pts)","   (1","   1","1"]
[null,null,null,null,null,null,null,null,null,null,null,null,null,null,null,null,null,null,null,null,null,null,null,null,null,null,69,"shamino                   ","0",44.527792599102369,40.362113378062283,"",36.196434157022196,"",44.527792599102369,"","",32,"",30,"","","","","","","","","","","","","","","","","","","","","",null,"69. shamino                   (0 pts)","shamino                   ","   (0 pts)","   (0","   0","0"]
[null,null,null,null,null,null,null,null,null,null,null,null,null,null,null,null,null,null,null,null,null,null,null,null,null,null,null,null,null,null,null,null,null,null,null,null,null,null,null,null,null,null,null,null,null,null,null,null,null,null,null,null,null,null,null,null,null,null,null,null,null,null,"70. rard                      (0 pts)","rard                      ","   (0 pts)","   (0","   0","0"]

{"sheet":"week2","index":1,"n_rows":76,"n_cols":68,"rows_kept":76,"cut":false,"hidden":false,"merged":[]}
[null,"*** Weekly Hot Lap Competition Results"]
[]
[null,"Start Time: 2014-12-06 16:13:57"]
[null,"End Time: 2014-12-13 16:13:57"]
[]
[null,"* Results for de_Cazzis, AntiSlider:",null,null,null,null,"* Results for de_Cazzis, EasySlider:",null,null,null,null,"* Results for de_Cazzis, Spinner:",null,null,null,null,"* Results for de_Cazzis, Slider:",null,null,null,null,"* Results for de_Cazzis, Speeder:",null,null,null,null,null,null,"Pts","Max","Av","Anti","Easy","Spin","Slide","Speed","Ant","Eas","Spn","Sld","Spd",1,2,3,4,5,6,7,8,9,10,11,12,13,14,15,16,17,18,19,20,null,"Overall Results:"]
[null," 1. [fS]Palo                  30.480   (1000 pts)",{"$f":"LEFT(RIGHT(B7,LEN(B7)-4),LEN(RIGHT(B7,LEN(B7)-4))-19)","v":"[fS]Palo                  "},{"$f":"VALUE(LEFT(RIGHT(B7,19+0),6))/1000","v":30.48},100,null," 1. [+] Tinjovic              30.969   (1000 pts)",{"$f":"LEFT(RIGHT(G7,LEN(G7)-4),LEN(RIGHT(G7,LEN(G7)-4))-19)","v":"[+] Tinjovic              "},{"$f":"VALUE(LEFT(RIGHT(G7,19+0),6))/1000","v":30.969000000000001},100,null," 1. [x] Mike Nike             30.843   (1000 pts)",{"$f":"LEFT(RIGHT(L7,LEN(L7)-4),LEN(RIGHT(L7,LEN(L7)-4))-19)","v":"[x] Mike Nike             "},{"$f":"VALUE(LEFT(RIGHT(L7,19+0),6))/1000","v":30.843},100,null," 1. [x] Mike Nike             30.735   (1000 pts)",{"$f":"LEFT(RIGHT(Q7,LEN(Q7)-4),LEN(RIGHT(Q7,LEN(Q7)-4))-19)","v":"[x] Mike Nike             "},{"$f":"VALUE(LEFT(RIGHT(Q7,19+0),6))/1000","v":30.734999999999999},100,null," 1. [+] Tinjovic              28.748   (1000 pts)",{"$f":"LEFT(RIGHT(V7,LEN(V7)-4),LEN(RIGHT(V7,LEN(V7)-4))-19)","v":"[+] Tinjovic              "},{"$f":"VALUE(LEFT(RIGHT(V7,19+0),6))/1000","v":28.748000000000001},100,null,1,{"$f":"BL7","v":"[+] Tinjovic              "},{"$f":"BP7","v":"988"},{"$f":"MAX(AF7:AJ7)","v":100},{"$f":"SUM(AF7:AJ7)/COUNT(AF7:AJ7)","v":99.927608968930173},{"$f":"IF(SUMIF(C$7:C$998,$AB7,E$7:E$998)=0,\"\",VLOOKUP($AB7,C$7:E$998,3,FALSE))","v":99.852362204724415},{"$f":"IF(SUMIF(H$7:H$999,$AB7,J$7:J$999)=0,\"\",VLOOKUP($AB7,H$7:J$999,3,FALSE))","v":100},{"$f":"IF(SUMIF(M$7:M$998,$AB7,O$7:O$998)=0,\"\",VLOOKUP($AB7,M$7:O$998,3,FALSE))","v":99.880037609830438},{"$f":"IF(SUMIF(R$7:R$998,$AB7,T$7:T$998)=0,\"\",VLOOKUP($AB7,R$7:T$998,3,FALSE))","v":99.905645030095982},{"$f":"IF(SUMIF(W$7:W$998,$AB7,Y$7:Y$998)=0,\"\",VLOOKUP($AB7,W$7:Y$998,3,FALSE))","v":100},{"$f":"IF(AF7=\"\",\"\",RANK(AF7,AF$7:AF$999,0))","v":2},{"$f":"IF(AG7=\"\",\"\",RANK(AG7,AG$7:AG$999,0))","v":1},2,2,1,{"$f":"IF(SUMIF($AK7:$AO7,AP$6)/AP$6=0,\"\",SUMIF($AK7:$AO7,AP$6)/AP$6)","v":2},3,"","","","","","","","",{"$f":"IF(SUMIF($AK7:$AO7,AZ$6)/AZ$6=0,\"\",SUMIF($AK7:$AO7,AZ$6)/AZ$6)","v":""},"","","","","","","","","",null," 1. [+] Tinjovic            (988 pts)",{"$f":"CONCATENATE(LEFT(RIGHT(BK7,LEN(BK7)-4),LEN(RIGHT(BK7,LEN(BK7)-4))-9),\"  \")","v":"[+] Tinjovic              "},{"$f":"RIGHT(BK7,10)","v":" (988 pts)"},{"$f":"LEFT(BM7,5)","v":" (988"},{"$f":"REPLACE(BN7,SEARCH(\"(\",BN7),1,\"\")","v":" 988"},{"$f":"TRIM(BO7)","v":"988"}]
[null," 2. [+] Tinjovic              30.525    (976 pts)",{"$f":"LEFT(RIGHT(B8,LEN(B8)-4),LEN(RIGHT(B8,LEN(B8)-4))-19)","v":"[+] Tinjovic              "},30.524999999999999,{"$f":"100-(D8-D$7)/D$7*100","v":99.852362204724415},null," 2. [x] Mike Nike             31.051    (958 pts)",{"$f":"LEFT(RIGHT(G8,LEN(G8)-4),LEN(RIGHT(G8,LEN(G8)-4))-19)","v":"[x] Mike Nike             "},{"$f":"VALUE(LEFT(RIGHT(G8,19+0),6))/1000","v":31.050999999999998},{"$f":"100-(I8-I$7)/I$7*100","v":99.735219090057811},null," 2. [+] Tinjovic              30.880    (981 pts)",{"$f":"LEFT(RIGHT(L8,LEN(L8)-4),LEN(RIGHT(L8,LEN(L8)-4))-19)","v":"[+] Tinjovic              "},{"$f":"VALUE(LEFT(RIGHT(L8,19+0),6))/1000","v":30.88},{"$f":"100-(N8-N$7)/N$7*100","v":99.880037609830438},null," 2. [+] Tinjovic              30.764    (985 pts)",{"$f":"LEFT(RIGHT(Q8,LEN(Q8)-4),LEN(RIGHT(Q8,LEN(Q8)-4))-19)","v":"[+] Tinjovic              "},{"$f":"VALUE(LEFT(RIGHT(Q8,19+0),6))/1000","v":30.763999999999999},{"$f":"100-(S8-S$7)/S$7*100","v":99.905645030095982},null," 2. [x] Mike Nike             28.784    (980 pts)",{"$f":"LEFT(RIGHT(V8,LEN(V8)-4),LEN(RIGHT(V8,LEN(V8)-4))-19)","v":"[x] Mike Nike             "},{"$f":"VALUE(LEFT(RIGHT(V8,19+0),6))/1000","v":28.783999999999999},{"$f":"100-(X8-X$7)/X$7*100","v":99.874773897314597},null,2,{"$f":"BL8","v":"[x] Mike Nike             "},{"$f":"BP8","v":"976"},100,99.851132455742203,99.645669291338578,99.735219090057811,100,100,99.874773897314597,{"$f":"IF(AF8=\"\",\"\",RANK(AF8,AF$7:AF$999,0))","v":3},{"$f":"IF(AG8=\"\",\"\",RANK(AG8,AG$7:AG$999,0))","v":2},{"$f":"IF(AH8=\"\",\"\",RANK(AH8,AH$7:AH$999,0))","v":1},{"$f":"IF(AI8=\"\",\"\",RANK(AI8,AI$7:AI$999,0))","v":1},{"$f":"IF(AJ8=\"\",\"\",RANK(AJ8,AJ$7:AJ$999,0))","v":2},2,2,1,"","","","","","","","","","","","","","","","","",null," 2. [x] Mike Nike           (976 pts)",{"$f":"CONCATENATE(LEFT(RIGHT(BK8,LEN(BK8)-4),LEN(RIGHT(BK8,LEN(BK8)-4))-9),\"  \")","v":"[x] Mike Nike             "},{"$f":"RIGHT(BK8,10)","v":" (976 pts)"},{"$f":"LEFT(BM8,5)","v":" (976"},{"$f":"REPLACE(BN8,SEARCH(\"(\",BN8),1,\"\")","v":" 976"},{"$f":"TRIM(BO8)","v":"976"}]
[null," 3. [x] Mike Nike             30.588    (944 pts)",{"$f":"LEFT(RIGHT(B9,LEN(B9)-4),LEN(RIGHT(B9,LEN(B9)-4))-19)","v":"[x] Mike Nike             "},30.588000000000001,{"$f":"100-(D9-D$7)/D$7*100","v":99.645669291338578},null," 3. [fS]Palo                  31.401    (801 pts)","[fS]Palo                  ",31.401,{"$f":"100-(I9-I$7)/I$7*100","v":98.605056669572804},null," 3. [fS]Palo                  31.149    (853 pts)","[fS]Palo                  ",31.149000000000001,{"$f":"100-(N9-N$7)/N$7*100","v":99.007878611030051},null," 3. [x] Stylus                30.898    (918 pts)","[x] Stylus                ",30.898,{"$f":"100-(S9-S$7)/S$7*100","v":99.469659996746373},null," 3. [iR] iBlaze²              29.221    (770 pts)","[iR] iBlaze²              ",29.221,{"$f":"100-(X9-X$7)/X$7*100","v":98.354668150827891},null,3,"Kyna_Musti                ","759",99.248413860419717,98.184850729772393,99.189632545931758,97.584681455649203,98.220017508024512,99.248413860419717,96.681508278836787,7,6,4,4,6,"","","",2,"",2,1,"","","","","","","","","","","","","",null," 3. Kyna_Musti              (759 pts)","Kyna_Musti                "," (759 pts)"," (759"," 759","759"]
[null," 4. [+] Badeend               30.588    (944 pts)","[+] Badeend               ",30.588000000000001,99.645669291338578,null," 4. Sig                       31.557    (740 pts)","Sig                       ",31.556999999999999,98.101327133585201,null," 4. Kyna_Musti                31.392    (754 pts)","Kyna_Musti                ",31.391999999999999,98.220017508024512,null," 4. Kyna_Musti                30.966    (887 pts)","Kyna_Musti                ",30.966000000000001,99.248413860419717,null," 4. kikiriki                  29.304    (736 pts)","kikiriki                  ",29.303999999999998,98.065952414080982,null,4,"kikiriki                  ","720",98.769685039370074,97.901436570593518,98.769685039370074,97.662178307339602,98.028726129105465,96.980640963071409,98.065952414080982,12,5,6,8,4,"","","",1,1,1,"",1,"","","",1,"","","","","","","","",null," 4. kikiriki                (720 pts)","kikiriki                  "," (720 pts)"," (720"," 720","720"]
[null," 5. [x] Whiplash              30.692    (895 pts)","[x] Whiplash              ",30.692,99.30446194225722,null," 5. kikiriki                  31.693    (690 pts)","kikiriki                  ",31.693000000000001,97.662178307339602,null," 5. [iR] iBlaze²              31.450    (732 pts)","[iR] iBlaze²              ",31.45,98.031968355866809,null," 5. [fS]Palo                  31.217    (779 pts)","[fS]Palo                  ",31.216999999999999,98.431755327802179,null," 5. Sig                       29.652    (609 pts)","Sig                       ",29.652000000000001,96.855433421455402,null,5,"[fS]Palo                  ","686",100,99.011172652101266,100,98.605056669572804,99.007878611030051,98.431755327802179,"",1,3,3,5,"",1,"",2,"",1,"","","","","","","","","","","","","","","",null," 5. [fS]Palo                (686 pts)","[fS]Palo                  "," (686 pts)"," (686"," 686","686"]
[null," 6. [PahaJori] Ender          30.701    (890 pts)","[PahaJori] Ender          ",30.701000000000001,99.274934383202094,null," 6. Kyna_Musti                31.717    (682 pts)","Kyna_Musti                ",31.716999999999999,97.584681455649203,null," 6. kikiriki                  31.451    (731 pts)","kikiriki                  ",31.451000000000001,98.028726129105465,null," 6. AnnicK                    31.464    (687 pts)","AnnicK                    ",31.463999999999999,97.628111273792101,null," 6. Kyna_Musti                29.702    (593 pts)","Kyna_Musti                ",29.702000000000002,96.681508278836787,null,6,"[iR] iBlaze²              ","685",98.671259842519675,97.523586199551588,98.671259842519675,96.441602893215801,98.031968355866809,96.118431755327791,98.354668150827891,13,10,5,11,3,"","",1,"",1,"","","","",1,1,"",1,"","","","","","","",null," 6. [iR] iBlaze²            (685 pts)","[iR] iBlaze²              "," (685 pts)"," (685"," 685","685"]
[null," 7. Kyna_Musti                30.727    (878 pts)","Kyna_Musti                ",30.727,99.189632545931758,null," 7. [x] Whiplash              31.778    (661 pts)","[x] Whiplash              ",31.777999999999999,97.387710290936099,null," 7. AnnicK                    31.598    (679 pts)","AnnicK                    ",31.597999999999999,97.552118795188534,null," 7. Chukie                    31.655    (623 pts)","Chukie                    ",31.655000000000001,97.006669920286313,null," 7. Hazard                    29.918    (528 pts)","Hazard                    ",29.917999999999999,95.93015166272437,null,7,"AnnicK                    ","605",97.628111273792101,96.765336804729557,96.896325459317595,96.338273757628599,97.552118795188534,97.628111273792101,95.411854737720887,35,11,7,6,10,"","","","","",1,1,"","",1,1,"","","","","","","","","",null," 7. AnnicK                  (605 pts)","AnnicK                    "," (605 pts)"," (605"," 605","605"]
[null," 8. Double O Seven            30.731    (877 pts)","Double O Seven            ",30.731000000000002,99.176509186351709,null," 8. Jurgen-NL                 31.951    (606 pts)","Jurgen-NL                 ",31.951000000000001,96.829087151667792,null," 8. Ande                      31.762    (625 pts)","Ande                      ",31.762,97.020393606328824,null," 8. kikiriki                  31.663    (621 pts)","kikiriki                  ",31.663,96.980640963071409,null," 8. Gol_v8                    29.939    (522 pts)","Gol_v8                    ",29.939,95.857103102824553,null,8,"Jurgen-NL                 ","592",98.914041994750662,96.484599494262653,98.914041994750662,96.829087151667792,96.832344454171121,94.999186595087039,94.848337275636567,11,8,9,14,12,"","","","","","","",1,1,"",1,1,"",1,"","","","","","",null," 8. Jurgen-NL               (592 pts)","Jurgen-NL                 "," (592 pts)"," (592"," 592","592"]
[null," 9. [fS]Hevonen               30.748    (869 pts)","[fS]Hevonen               ",30.748000000000001,99.120734908136484,null," 9. [+] xzeal                 32.055    (576 pts)","[+] xzeal                 ",32.055,96.493267461009395,null," 9. Jurgen-NL                 31.820    (607 pts)","Jurgen-NL                 ",31.82,96.832344454171121,null," 9. Hengari                   31.871    (559 pts)","Hengari                   ",31.870999999999999,96.303888075483982,null," 9. [x] Stylus                29.975    (512 pts)","[x] Stylus                ",29.975000000000001,95.731877000139136,null,9,"[+] xzeal                 ","557",97.339238845144351,96.23097118990934,97.339238845144351,96.493267461009395,96.540544045650549,95.62388156824467,95.157924029497707,30,9,10,12,11,"","","","","","","","",1,1,1,1,"","","","","","","","",null," 9. [+] xzeal               (557 pts)","[+] xzeal                 "," (557 pts)"," (557"," 557","557"]
[null,"10. Sig                       30.753    (867 pts)","Sig                       ",30.753,99.104330708661422,null,"10. [iR] iBlaze²              32.071    (571 pts)","[iR] iBlaze²              ",32.070999999999998,96.441602893215801,null,"10. [+] xzeal                 31.910    (580 pts)","[+] xzeal                 ",31.91,96.540544045650549,null,"10. [fS]Hevonen               31.927    (544 pts)","[fS]Hevonen               ",31.927,96.121685374979663,null,"10. AnnicK                    30.067    (487 pts)","AnnicK                    ",30.067,95.411854737720887,null,10,"Ande                      ","475",97.020393606328824,95.063086093076123,95.052493438320212,95.476121282572905,97.020393606328824,95.41564991052546,92.350772227633229,44,13,8,13,15,"","","","","","","",1,"","","","",2,"",1,"","","","","",null,"10. Ande                    (475 pts)","Ande                      "," (475 pts)"," (475"," 475","475"]
[null,"11. Jurgen-NL                 30.811    (841 pts)","Jurgen-NL                 ",30.811,98.914041994750662,null,"11. AnnicK                    32.103    (562 pts)","AnnicK                    ",32.103000000000002,96.338273757628599,null,"11. \\/\\/ | |_ |_              31.961    (565 pts)","\\/\\/ | |_ |_              ",31.960999999999999,96.375190480822226,null,"11. [iR] iBlaze²              31.928    (543 pts)","[iR] iBlaze²              ",31.928000000000001,96.118431755327791,null,"11. [+] xzeal                 30.140    (469 pts)","[+] xzeal                 ",30.14,95.157924029497707,null,11,"Sig                       ","443",99.104330708661422,98.020363754567356,99.104330708661422,98.101327133585201,"","",96.855433421455402,10,4,"","",5,{"$f":"IF(SUMIF($AK17:$AO17,AP$6)/AP$6=0,\"\",SUMIF($AK17:$AO17,AP$6)/AP$6)","v":""},"","",1,1,"","","","",1,{"$f":"IF(SUMIF($AK17:$AO17,AZ$6)/AZ$6=0,\"\",SUMIF($AK17:$AO17,AZ$6)/AZ$6)","v":""},"","","","","","","","","",null,"11. Sig                     (443 pts)","Sig                       "," (443 pts)"," (443"," 443","443"]
[null,"12. kikiriki                  30.855    (822 pts)","kikiriki                  ",30.855,98.769685039370074,null,"12. [+] Badeend               32.131    (554 pts)","[+] Badeend               ",32.131,96.247860763989806,null,"12. mc65532                   32.071    (535 pts)","mc65532                   ",32.070999999999998,96.018545537074871,null,"12. [+] xzeal                 32.080    (503 pts)","[+] xzeal                 ",32.08,95.62388156824467,null,"12. Jurgen-NL                 30.229    (447 pts)","Jurgen-NL                 ",30.228999999999999,94.848337275636567,null,12,"[x] Stylus                ","442",99.469659996746373,78.608685533741863,98.431758530183728,20.801446607898228,"",99.469659996746373,95.731877000139136,16,32,"",3,9,"","",1,"","","","","",1,"","","","","","",1,"","","","",null,"12. [x] Stylus              (442 pts)","[x] Stylus                "," (442 pts)"," (442"," 442","442"]
[null,"13. [iR] iBlaze²              30.885    (809 pts)","[iR] iBlaze²              ",30.885000000000002,98.671259842519675,null,"13. Ande                      32.370    (492 pts)","Ande                      ",32.369999999999997,95.476121282572905,null,"13. Bubba                     33.310    (291 pts)","Bubba                     ",33.31,92.001426579774986,null,"13. Ande                      32.144    (488 pts)","Ande                      ",32.143999999999998,95.41564991052546,null,"13. Ninjinha_br               30.651    (358 pts)","Ninjinha_br               ",30.651,93.380409071935446,null,13,"mc65532                   ","324",97.841207349081358,95.845767134138143,97.841207349081358,93.677548516258199,96.018545537074871,"","",24,16,12,"","","","","","","","","","","","","",1,"","","",1,"","","","",null,"13. mc65532                 (324 pts)","mc65532                   "," (324 pts)"," (324"," 324","324"]
[null,"14. Popowitch                 30.896    (805 pts)","Popowitch                 ",30.896000000000001,98.635170603674538,null,"14. Double O Seven            32.510    (459 pts)","Double O Seven            ",32.51,95.02405631437891,null,"14. Fama                      33.377    (282 pts)","Fama                      ",33.377000000000002,91.784197386765214,null,"14. Jurgen-NL                 32.272    (458 pts)","Jurgen-NL                 ",32.271999999999998,94.999186595087039,null,"14. Scud                      30.843    (324 pts)","Scud                      ",30.843,92.712536524279955,null,14,"[x] Whiplash              ","311",99.30446194225722,98.346086116596666,99.30446194225722,97.387710290936099,"","","",5,7,"","","","","","","",1,"",1,"","","","","","","","","","","","","",null,"14. [x] Whiplash            (311 pts)","[x] Whiplash              "," (311 pts)"," (311"," 311","311"]
[null,"15. [FUN] GR8 Arjen!          30.945    (784 pts)","[FUN] GR8 Arjen!          ",30.945,98.474409448818903,null,"15. Scud                      32.889    (381 pts)","Scud                      ",32.889000000000003,93.800251864767986,null,"15. fatty                     44.999      (2 pts)","fatty                     ",44.999000000000002,54.10303796647537,null,"15. Hazard                    32.668    (376 pts)","Hazard                    ",32.667999999999999,93.710753212949413,null,"15. Ande                      30.947    (307 pts)","Ande                      ",30.946999999999999,92.350772227633229,null,15,"[+] Badeend               ","299",99.645669291338578,97.946765027664185,99.645669291338578,96.247860763989806,"","","",3,12,"","","","","",1,"","","","","","","","",1,"","","","","","","","",null,"15. [+] Badeend             (299 pts)","[+] Badeend               "," (299 pts)"," (299"," 299","299"]
[null,"16. [x] Stylus                30.958    (779 pts)","[x] Stylus                ",30.957999999999998,98.431758530183728,null,"16. mc65532                   32.927    (374 pts)","mc65532                   ",32.927,93.677548516258199,null,null,null,null,null,null,"16. fatty                     33.092    (306 pts)","fatty                     ",33.091999999999999,92.331218480559627,null,"16. Qpa                       31.113    (282 pts)","Qpa                       ",31.113,91.773340754139426,null,16,"Hazard                    ","290",96.184383202099738,95.275096025924498,96.184383202099738,"","",93.710753212949413,95.93015166272437,39,"","",15,7,"","","","","","",1,"","","","","","","",1,"","","","","",null,"16. Hazard                  (290 pts)","Hazard                    "," (290 pts)"," (290"," 290","290"]
[null,"17. Poisonous                 30.968    (775 pts)","Poisonous                 ",30.968,98.39895013123359,null,"17. Serif  v2.5.3W            33.075    (349 pts)","Serif  v2.5.3W            ",33.075000000000003,93.199651264167386,null,null,null,null,null,null,"17. Qpa                       34.006    (198 pts)","Qpa                       ",34.006,89.357410118757116,null,"17. fatty                     31.285    (258 pts)","fatty                     ",31.285,91.175038263531377,null,17,"[fS]Hevonen               ","282",99.120734908136484,97.621210141558066,99.120734908136484,"","",96.121685374979663,"",9,"","",10,"","","","","","","","","",1,1,"","","","","","","","","","",null,"17. [fS]Hevonen             (282 pts)","[fS]Hevonen               "," (282 pts)"," (282"," 282","282"]
[null,"18. lds                       31.035    (749 pts)","lds                       ",31.035,98.179133858267718,null,"18. Rub                       33.162    (334 pts)","Rub                       ",33.161999999999999,92.918725176789707,null,null,null,null,null,null,"18. Gol_v8                    44.050      (3 pts)","Gol_v8                    ",44.05,56.678054335448195,null,"18. Poisonous                 31.440    (238 pts)","Poisonous                 ",31.44,90.635870321413663,null,18,"fatty                     ","280",96.935695538057743,84.914745732891859,96.935695538057743,90.028738415835193,54.10303796647537,92.331218480559627,91.175038263531377,34,25,15,16,17,"","","","","","","","","","","","","","",1,1,1,"","","",null,"18. fatty                   (280 pts)","fatty                     "," (280 pts)"," (280"," 280","280"]
[null,"19. Poisonous                 31.037    (748 pts)","Poisonous                 ",31.036999999999999,98.172572178477694,null,"19. lds                       33.236    (322 pts)","lds                       ",33.235999999999997,92.679776550744307,null,null,null,null,null,null,null,null,null,null,null,"19. TD Juquinha               31.528    (228 pts)","TD Juquinha               ",31.527999999999999,90.329762070404911,null,19,"Double O Seven            ","267",99.176509186351709,97.100282750365309,99.176509186351709,95.02405631437891,"","","",8,14,"","","","","","","","","","",1,"","","","","",1,"","","","","","",null,"19. Double O Seven          (267 pts)","Double O Seven            "," (267 pts)"," (267"," 267","267"]
[null,"20. Diego Armando             31.063    (738 pts)","Diego Armando             ",31.062999999999999,98.087270341207358,null,"20. pozdro600                 33.299    (313 pts)","pozdro600                 ",33.298999999999999,92.476347315056998,null,null,null,null,null,null,null,null,null,null,null,"20. Kooler                    34.664     (50 pts)","Kooler                    ",34.664000000000001,79.421177125365233,null,20,"Scud                      ","261",96.784776902887131,94.432521763978343,96.784776902887131,93.800251864767986,"","",92.712536524279955,38,15,"","",14,"","","","","","","","","","","","","",1,1,"","","","","",null,"20. Scud                    (261 pts)","Scud                      "," (261 pts)"," (261"," 261","261"]
[null,"21. Qpa                       31.075    (733 pts)","Qpa                       ",31.074999999999999,98.047900262467195,null,"21. TD Juquinha               33.310    (311 pts)","TD Juquinha               ",33.31,92.440827924698894,null,null,null,null,null,null,null,null,null,null,null,null,null,null,null,null,21,"Poisonous                 ","259",98.39895013123359,93.824139780619689,98.39895013123359,92.437598889211799,"","",90.635870321413663,17,22,"","",18,{"$f":"IF(SUMIF($AK27:$AO27,AP$6)/AP$6=0,\"\",SUMIF($AK27:$AO27,AP$6)/AP$6)","v":""},"","","","","","","","","",{"$f":"IF(SUMIF($AK27:$AO27,AZ$6)/AZ$6=0,\"\",SUMIF($AK27:$AO27,AZ$6)/AZ$6)","v":""},"","","","","",1,1,"","",null,"21. Poisonous               (259 pts)","Poisonous                 "," (259 pts)"," (259"," 259","259"]
[null,"22. Serif  v2.5.3W            31.077    (733 pts)","Serif  v2.5.3W            ",31.077000000000002,98.041338582677156,null,"22. Poisonous                 33.311    (311 pts)","Poisonous                 ",33.311,92.437598889211799,null,null,null,null,null,null,null,null,null,null,null,null,null,null,null,null,22,"\\/\\/ | |_ |_              ","250",97.624671916010499,96.999931198416363,97.624671916010499,"",96.375190480822226,"","",28,"",11,"","","","","","","","","","","","",1,"","","","","","","","","",null,"22. \\/\\/ | |_ |_            (250 pts)","\\/\\/ | |_ |_              "," (250 pts)"," (250"," 250","250"]
[null,"23. Qri                       31.084    (730 pts)","Qri                       ",31.084,98.018372703412069,null,"23. Fama                      33.598    (271 pts)","Fama                      ",33.597999999999999,91.510865704414101,null,null,null,null,null,null,null,null,null,null,null,null,null,null,null,null,23,"Qpa                       ","242",98.047900262467195,93.059550378454574,98.047900262467195,"","",89.357410118757116,91.773340754139426,21,"","",17,16,"","","","","","","","","","","","","","","",1,1,"","","",null,"23. Qpa                     (242 pts)","Qpa                       "," (242 pts)"," (242"," 242","242"]
[null,"24. mc65532                   31.138    (710 pts)","mc65532                   ",31.138000000000002,97.841207349081358,null,"24. fatty                     34.057    (218 pts)","fatty                     ",34.057000000000002,90.028738415835193,null,null,null,null,null,null,null,null,null,null,null,null,null,null,null,null,24,"Serif  v2.5.3W            ","216",98.041338582677156,95.620494923422271,98.041338582677156,93.199651264167386,"","","",22,17,"","","","","","","","","","","","","","","","","","","",1,"","","",null,"24. Serif  v2.5.3W          (216 pts)","Serif  v2.5.3W            "," (216 pts)"," (216"," 216","216"]
[null,"25. pozdro600                 31.172    (698 pts)","pozdro600                 ",31.172000000000001,97.729658792650923,null,"25. Bubba                     34.107    (213 pts)","Bubba                     ",34.106999999999999,89.867286641480192,null,null,null,null,null,null,null,null,null,null,null,null,null,null,null,null,25,"lds                       ","214",98.179133858267718,95.429455204506013,98.179133858267718,92.679776550744307,"","","",19,19,"","","","","","","","","","","","","","","","","","","","","",2,"",null,"25. lds                     (214 pts)","lds                       "," (214 pts)"," (214"," 214","214"]
[null,"26. batjunior                 31.199    (688 pts)","batjunior                 ",31.199000000000002,97.641076115485561,null,"26. R.E.I.R.O.M               34.597    (169 pts)","R.E.I.R.O.M               ",34.597000000000001,88.28505925280119,null,null,null,null,null,null,null,null,null,null,null,null,null,null,null,null,26,"Hengari                   ","207",96.303888075483982,95.784818053490028,95.265748031496074,"","",96.303888075483982,"",43,"","",9,"","","","","","","","","",1,"","","","","","","","","","","",null,"26. Hengari                 (207 pts)","Hengari                   "," (207 pts)"," (207"," 207","207"]
[null,"27. CrazybikE                 31.203    (687 pts)","CrazybikE                 ",31.202999999999999,97.627952755905511,null,"27. NBA                       34.813    (153 pts)","NBA                       ",34.813000000000002,87.587587587587592,null,null,null,null,null,null,null,null,null,null,null,null,null,null,null,null,27,"pozdro600                 ","202",97.729658792650923,95.103003053853968,97.729658792650923,92.476347315056998,"","","",25,20,"","","","","","","","","","","","","","","","","","","","","","",1,null,"27. pozdro600               (202 pts)","pozdro600                 "," (202 pts)"," (202"," 202","202"]
[null,"28. \\/\\/ | |_ |_              31.204    (686 pts)","\\/\\/ | |_ |_              ",31.204000000000001,97.624671916010499,null,"28. GoingDillon               36.177     (83 pts)","GoingDillon               ",36.177,83.183183183183189,null,null,null,null,null,null,null,null,null,null,null,null,null,null,null,null,28,"Gol_v8                    ","193",95.857103102824553,82.427510922118913,94.747375328083976,"","",56.678054335448195,95.857103102824553,45,"","",18,8,"","","","","","","",1,"","","","","","","","","",1,"","",null,"28. Gol_v8                  (193 pts)","Gol_v8                    "," (193 pts)"," (193"," 193","193"]
[null,"29. Matic                     31.273    (663 pts)","Matic                     ",31.273,97.398293963254602,null,"29. stoner                    38.796     (27 pts)","stoner                    ",38.795999999999999,74.726339242468285,null,null,null,null,null,null,null,null,null,null,null,null,null,null,null,null,29,"Bubba                     ","186",94.537401574803141,92.135371598686106,94.537401574803141,89.867286641480192,92.001426579774986,"","",47,26,13,"","","","","","","","","","","","","","",1,"","","","","","","",null,"29. Bubba                   (186 pts)","Bubba                     "," (186 pts)"," (186"," 186","186"]
[null,"30. [+] xzeal                 31.291    (656 pts)","[+] xzeal                 ",31.291,97.339238845144351,null,"30. [x] Stylus                55.496      (0 pts)","[x] Stylus                ",55.496000000000002,20.801446607898228,null,null,null,null,null,null,null,null,null,null,null,null,null,null,null,null,30,"[PahaJori] Ender          ","178",99.274934383202094,99.274934383202094,99.274934383202094,"","","","",6,"","","","","","","","","",1,"","","","","","","","","","","","","","",null,"30. [PahaJori] Ender        (178 pts)","[PahaJori] Ender          "," (178 pts)"," (178"," 178","178"]
[null,"31. Delux                     31.299    (654 pts)","Delux                     ",31.298999999999999,97.312992125984252,null,"31. Diego Armando           2:11.069      (0 pts)","Diego Armando             ",131.06899999999999,-223.22645225871025,null,null,null,null,null,null,null,null,null,null,null,null,null,null,null,null,31,"Fama                      ","174",92.631233595800524,91.975432228993284,92.631233595800524,91.510865704414101,91.784197386765214,"","",53,24,14,"","",{"$f":"IF(SUMIF($AK37:$AO37,AP$6)/AP$6=0,\"\",SUMIF($AK37:$AO37,AP$6)/AP$6)","v":""},"","","","","","","","","",{"$f":"IF(SUMIF($AK37:$AO37,AZ$6)/AZ$6=0,\"\",SUMIF($AK37:$AO37,AZ$6)/AZ$6)","v":""},"","",1,"","","","","","",null,"31. Fama                    (174 pts)","Fama                      "," (174 pts)"," (174"," 174","174"]
[null,"32. R.E.I.R.O.M               31.354    (636 pts)","R.E.I.R.O.M               ",31.353999999999999,97.132545931758528,null,null,null,null,null,null,null,null,null,null,null,null,null,null,null,null,null,null,null,null,null,32,"R.E.I.R.O.M               ","161",97.132545931758528,92.708802592279852,97.132545931758528,88.28505925280119,"","","",32,27,"","","","","","","","","","","","","","","","","","","","","","","",null,"32. R.E.I.R.O.M             (161 pts)","R.E.I.R.O.M               "," (161 pts)"," (161"," 161","161"]
[null,"33. power79                   31.406    (619 pts)","power79                   ",31.405999999999999,96.961942257217856,null,null,null,null,null,null,null,null,null,null,null,null,null,null,null,null,null,null,null,null,null,33,"Popowitch                 ","161",{"$f":"MAX(AF39:AJ39)","v":98.635170603674538},{"$f":"SUM(AF39:AJ39)/COUNT(AF39:AJ39)","v":98.635170603674538},{"$f":"IF(SUMIF(C$7:C$998,$AB39,E$7:E$998)=0,\"\",VLOOKUP($AB39,C$7:E$998,3,FALSE))","v":98.635170603674538},{"$f":"IF(SUMIF(H$7:H$999,$AB39,J$7:J$999)=0,\"\",VLOOKUP($AB39,H$7:J$999,3,FALSE))","v":""},{"$f":"IF(SUMIF(M$7:M$998,$AB39,O$7:O$998)=0,\"\",VLOOKUP($AB39,M$7:O$998,3,FALSE))","v":""},{"$f":"IF(SUMIF(R$7:R$998,$AB39,T$7:T$998)=0,\"\",VLOOKUP($AB39,R$7:T$998,3,FALSE))","v":""},{"$f":"IF(SUMIF(W$7:W$998,$AB39,Y$7:Y$998)=0,\"\",VLOOKUP($AB39,W$7:Y$998,3,FALSE))","v":""},14,"","","","","","","","","","","","","","","","","",1,"","","","","","",null,"33. Popowitch               (161 pts)","Popowitch                 "," (161 pts)"," (161"," 161","161"]
[null,"34. fatty                     31.414    (616 pts)","fatty                     ",31.414000000000001,96.935695538057743,null,null,null,null,null,null,null,null,null,null,null,null,null,null,null,null,null,null,null,null,null,34,"[FUN] GR8 Arjen!          ","156",98.474409448818903,98.474409448818903,98.474409448818903,"","","","",15,"","","","","","","","","","","","","","","","","","",1,"","","","","",null,"34. [FUN] GR8 Arjen!        (156 pts)","[FUN] GR8 Arjen!          "," (156 pts)"," (156"," 156","156"]
[null,"35. AnnicK                    31.426    (613 pts)","AnnicK                    ",31.425999999999998,96.896325459317595,null,null,null,null,null,null,null,null,null,null,null,null,null,null,null,null,null,null,null,null,null,35,"Poisonous                 ","155",98.39895013123359,93.824139780619689,98.39895013123359,92.437598889211799,"","",90.635870321413663,17,22,"","",18,"","","","","","","","","","","","","","","","",1,1,"","",null,"35. Poisonous               (155 pts)","Poisonous                 "," (155 pts)"," (155"," 155","155"]
[null,"36. NBA                       31.450    (605 pts)","NBA                       ",31.45,96.817585301837269,null,null,null,null,null,null,null,null,null,null,null,null,null,null,null,null,null,null,null,null,null,36,"NBA                       ","151",96.817585301837269,92.202586444712438,96.817585301837269,87.587587587587592,"","","",36,28,"","","","","","","","","","","","","","","","","","","","","","","",null,"36. NBA                     (151 pts)","NBA                       "," (151 pts)"," (151"," 151","151"]
[null,"37. Scud                      31.460    (602 pts)","Scud                      ",31.46,96.784776902887131,null,null,null,null,null,null,null,null,null,null,null,null,null,null,null,null,null,null,null,null,null,37,"Diego Armando             ","147",98.087270341207358,-62.569590958751448,98.087270341207358,-223.22645225871025,"","","",20,33,"","","","","","","","","","","","","","","","","","","","","","",1,null,"37. Diego Armando           (147 pts)","Diego Armando             "," (147 pts)"," (147"," 147","147"]
[null,"38. NBA                       31.622    (555 pts)","NBA                       ",31.622,96.253280839895012,null,null,null,null,null,null,null,null,null,null,null,null,null,null,null,null,null,null,null,null,null,38,"Qri                       ","146",98.018372703412069,98.018372703412069,98.018372703412069,"","","","",23,"","","","","","","","","","","","","","","","","","","","","","","","",null,"38. Qri                     (146 pts)","Qri                       "," (146 pts)"," (146"," 146","146"]
[null,"39. Hazard                    31.643    (549 pts)","Hazard                    ",31.643000000000001,96.184383202099738,null,null,null,null,null,null,null,null,null,null,null,null,null,null,null,null,null,null,null,null,null,39,"batjunior                 ","137",97.641076115485561,97.641076115485561,97.641076115485561,"","","","",26,"","","","","","","","","","","","","","","","","","","","","","","","",null,"39. batjunior               (137 pts)","batjunior                 "," (137 pts)"," (137"," 137","137"]
[null,"40. Alukin                    31.715    (529 pts)","Alukin                    ",31.715,95.94816272965879,null,null,null,null,null,null,null,null,null,null,null,null,null,null,null,null,null,null,null,null,null,40,"CrazybikE                 ","137",97.627952755905511,97.627952755905511,97.627952755905511,"","","","",27,"","","","","","","","","","","","","","","","","","","","","","","","",null,"40. CrazybikE               (137 pts)","CrazybikE                 "," (137 pts)"," (137"," 137","137"]
[null,"41. REIROM                    31.782    (512 pts)","REIROM                    ",31.782,95.728346456692918,null,null,null,null,null,null,null,null,null,null,null,null,null,null,null,null,null,null,null,null,null,41,"Matic                     ","132",97.398293963254602,97.398293963254602,97.398293963254602,"","","","",29,"","","","",{"$f":"IF(SUMIF($AK47:$AO47,AP$6)/AP$6=0,\"\",SUMIF($AK47:$AO47,AP$6)/AP$6)","v":""},"","","","","","","","","",{"$f":"IF(SUMIF($AK47:$AO47,AZ$6)/AZ$6=0,\"\",SUMIF($AK47:$AO47,AZ$6)/AZ$6)","v":""},"","","","","","","","","",null,"41. Matic                   (132 pts)","Matic                     "," (132 pts)"," (132"," 132","132"]
[null,"42. stoner                    31.908    (480 pts)","stoner                    ",31.908000000000001,95.314960629921259,null,null,null,null,null,null,null,null,null,null,null,null,null,null,null,null,null,null,null,null,null,42,"Delux                     ","130",97.312992125984252,97.312992125984252,97.312992125984252,"","","","",31,"","","","","","","","","","","","","","","","","","","","","","","","",null,"42. Delux                   (130 pts)","Delux                     "," (130 pts)"," (130"," 130","130"]
[null,"43. Hengari                   31.923    (477 pts)","Hengari                   ",31.922999999999998,95.265748031496074,null,null,null,null,null,null,null,null,null,null,null,null,null,null,null,null,null,null,null,null,null,43,"Chukie                    ","124",97.006669920286313,97.006669920286313,"","","",97.006669920286313,"","","","",7,"","","","","","","",1,"","","","","","","","","","","","","",null,"43. Chukie                  (124 pts)","Chukie                    "," (124 pts)"," (124"," 124","124"]
[null,"44. Ande                      31.988    (461 pts)","Ande                      ",31.988,95.052493438320212,null,null,null,null,null,null,null,null,null,null,null,null,null,null,null,null,null,null,null,null,null,44,"power79                   ","123",96.961942257217856,96.961942257217856,96.961942257217856,"","","","",33,"","","","","","","","","","","","","","","","","","","","","","","","",null,"44. power79                 (123 pts)","power79                   "," (123 pts)"," (123"," 123","123"]
[null,"45. Gol_v8                    32.081    (440 pts)","Gol_v8                    ",32.081000000000003,94.747375328083976,null,null,null,null,null,null,null,null,null,null,null,null,null,null,null,null,null,null,null,null,null,45,"NBA                       ","111",96.817585301837269,92.202586444712438,96.817585301837269,87.587587587587592,"","","",36,28,"","","","","","","","","","","","","","","","","","","","","","","",null,"45. NBA                     (111 pts)","NBA                       "," (111 pts)"," (111"," 111","111"]
[null,"46. [Qc]RSX                   32.113    (433 pts)",{"$f":"LEFT(RIGHT(B52,LEN(B52)-4),LEN(RIGHT(B52,LEN(B52)-4))-19)","v":"[Qc]RSX                   "},{"$f":"VALUE(LEFT(RIGHT(B52,19+0),6))/1000","v":32.113},94.642388451443566,null,null,null,null,null,null,null,null,null,null,null,null,null,null,null,null,null,null,null,null,null,46,"TD Juquinha               ","107",92.440827924698894,91.38529499755191,"",92.440827924698894,"","",90.329762070404911,"",21,"","",20,"","","","","","","","","","","","","","","","","","","",1,null,"46. TD Juquinha             (107 pts)","TD Juquinha               "," (107 pts)"," (107"," 107","107"]
[null,"47. Bubba                     32.145    (426 pts)","Bubba                     ",32.145000000000003,94.537401574803141,null,null,null,null,null,null,null,null,null,null,null,null,null,null,null,null,null,null,null,null,null,47,"Alukin                    ","105",95.94816272965879,95.94816272965879,95.94816272965879,"","","","",40,"","","","","","","","","","","","","","","","","","","","","","","","",null,"47. Alukin                  (105 pts)","Alukin                    "," (105 pts)"," (105"," 105","105"]
[null,"48. laf                       32.158    (424 pts)","laf                       ",32.158000000000001,94.49475065616798,null,null,null,null,null,null,null,null,null,null,null,null,null,null,null,null,null,null,null,null,null,48,"REIROM                    ","102",95.728346456692918,95.728346456692918,95.728346456692918,"","","","",41,"","","","","","","","","","","","","","","","","","","","","","","","",null,"48. REIROM                  (102 pts)","REIROM                    "," (102 pts)"," (102"," 102","102"]
[null,"49. GoingDillon               32.184    (418 pts)","GoingDillon               ",32.183999999999997,94.409448818897644,null,null,null,null,null,null,null,null,null,null,null,null,null,null,null,null,null,null,null,null,null,49,"stoner                    ","101",95.314960629921259,85.020649936194772,95.314960629921259,74.726339242468285,"","","",42,31,"","","","","","","","","","","","","","","","","","","","","","","",null,"49. stoner                  (101 pts)","stoner                    "," (101 pts)"," (101"," 101","101"]
[null,"50. dire                      32.349    (385 pts)","dire                      ",32.348999999999997,93.868110236220488,null,null,null,null,null,null,null,null,null,null,null,null,null,null,null,null,null,null,null,null,null,50,"GoingDillon               ","100",94.409448818897644,88.796316001040424,94.409448818897644,83.183183183183189,"","","",49,30,"","","","","","","","","","","","","","","","","","","","","","","",null,"50. GoingDillon             (100 pts)","GoingDillon               "," (100 pts)"," (100"," 100","100"]
[null,"51. cavani                    32.429    (370 pts)","cavani                    ",32.429000000000002,93.605643044619413,null,null,null,null,null,null,null,null,null,null,null,null,null,null,null,null,null,null,null,null,null,51,"[Qc]RSX                   ","86",94.642388451443566,94.642388451443566,94.642388451443566,"","","","",46,"","","","",{"$f":"IF(SUMIF($AK57:$AO57,AP$6)/AP$6=0,\"\",SUMIF($AK57:$AO57,AP$6)/AP$6)","v":""},"","","","","","","","","",{"$f":"IF(SUMIF($AK57:$AO57,AZ$6)/AZ$6=0,\"\",SUMIF($AK57:$AO57,AZ$6)/AZ$6)","v":""},"","","","","","","","","",null,"51. [Qc]RSX                  (86 pts)","[Qc]RSX                   ","  (86 pts)","  (86","  86","86"]
[null,"52. bohun                     32.612    (339 pts)","bohun                     ",32.612000000000002,93.00524934383202,null,null,null,null,null,null,null,null,null,null,null,null,null,null,null,null,null,null,null,null,null,52,"laf                       ","84",94.49475065616798,94.49475065616798,94.49475065616798,"","","","",48,"","","","","","","","","","","","","","","","","","","","","","","","",null,"52. laf                      (84 pts)","laf                       ","  (84 pts)","  (84","  84","84"]
[null,"53. Fama                      32.726    (320 pts)","Fama                      ",32.725999999999999,92.631233595800524,null,null,null,null,null,null,null,null,null,null,null,null,null,null,null,null,null,null,null,null,null,53,"dire                      ","77",93.868110236220488,93.868110236220488,93.868110236220488,"","","","",50,"","","","","","","","","","","","","","","","","","","","","","","","",null,"53. dire                     (77 pts)","dire                      ","  (77 pts)","  (77","  77","77"]
[null,"54. KORINGA                   37.213     (41 pts)","KORINGA                   ",37.213000000000001,77.910104986876632,null,null,null,null,null,null,null,null,null,null,null,null,null,null,null,null,null,null,null,null,null,54,"cavani                    ","74",93.605643044619413,93.605643044619413,93.605643044619413,"","","","",51,"","","","","","","","","","","","","","","","","","","","","","","","",null,"54. cavani                   (74 pts)","cavani                    ","  (74 pts)","  (74","  74","74"]
[null,"55. Oppy                    1:00.485      (0 pts)","Oppy                      ",60.484999999999999,1.5583989501312345,null,null,null,null,null,null,null,null,null,null,null,null,null,null,null,null,null,null,null,null,null,55,"Ninjinha_br               ","71",93.380409071935446,93.380409071935446,"","","","",93.380409071935446,"","","","",13,"","","","","","","","","","","","",1,"","","","","","","",null,"55. Ninjinha_br              (71 pts)","Ninjinha_br               ","  (71 pts)","  (71","  71","71"]
[null,null,null,null,null,null,null,null,null,null,null,null,null,null,null,null,null,null,null,null,null,null,null,null,null,null,56,"bohun                     ","67",93.00524934383202,93.00524934383202,93.00524934383202,"","","","",52,"","","","","","","","","","","","","","","","","","","","","","","","",null,"56. bohun                    (67 pts)","bohun                     ","  (67 pts)","  (67","  67","67"]
[null,null,null,null,null,null,null,null,null,null,null,null,null,null,null,null,null,null,null,null,null,null,null,null,null,null,57,"Rub                       ","66",92.918725176789707,92.918725176789707,"",92.918725176789707,"","","","",18,"","","","","","","","","","","","","","","","","","","","",1,"","",null,"57. Rub                      (66 pts)","Rub                       ","  (66 pts)","  (66","  66","66"]
[null,null,null,null,null,null,null,null,null,null,null,null,null,null,null,null,null,null,null,null,null,null,null,null,null,null,58,"Kooler                    ","10",79.421177125365233,79.421177125365233,"","","","",79.421177125365233,"","","","",21,"","","","","","","","","","","","","","","","","","","","",null,"58. Kooler                   (10 pts)","Kooler                    ","  (10 pts)","  (10","  10","10"]
[null,null,null,null,null,null,null,null,null,null,null,null,null,null,null,null,null,null,null,null,null,null,null,null,null,null,59,"KORINGA                   ","8",{"$f":"MAX(AF65:AJ65)","v":77.910104986876632},{"$f":"SUM(AF65:AJ65)/COUNT(AF65:AJ65)","v":77.910104986876632},{"$f":"IF(SUMIF(C$7:C$998,$AB65,E$7:E$998)=0,\"\",VLOOKUP($AB65,C$7:E$998,3,FALSE))","v":77.910104986876632},{"$f":"IF(SUMIF(H$7:H$999,$AB65,J$7:J$999)=0,\"\",VLOOKUP($AB65,H$7:J$999,3,FALSE))","v":""},{"$f":"IF(SUMIF(M$7:M$998,$AB65,O$7:O$998)=0,\"\",VLOOKUP($AB65,M$7:O$998,3,FALSE))","v":""},{"$f":"IF(SUMIF(R$7:R$998,$AB65,T$7:T$998)=0,\"\",VLOOKUP($AB65,R$7:T$998,3,FALSE))","v":""},{"$f":"IF(SUMIF(W$7:W$998,$AB65,Y$7:Y$998)=0,\"\",VLOOKUP($AB65,W$7:Y$998,3,FALSE))","v":""},54,"","","","","","","","","","","","","","","","","","","","","","","","",null,"59. KORINGA                   (8 pts)","KORINGA                   ","   (8 pts)","   (8","   8","8"]
[null,null,null,null,null,null,null,null,null,null,null,null,null,null,null,null,null,null,null,null,null,null,null,null,null,null,60,"Oppy                      ","0",1.5583989501312345,1.5583989501312345,1.5583989501312345,"","","","",55,"","","","","","","","","","","","","","","","","","","","","","","","",null,"60. Oppy                      (0 pts)","Oppy                      ","   (0 pts)","   (0","   0","0"]
[null,null,null,null,null,null,null,null,null,null,null,null,null,null,null,null,null,null,null,null,null,null,null,null,null,null,null,null,null,null,null,null,null,null,null,null,null,null,null,null,null,null,null,null,null,null,null,null,null,null,null,null,null,null,null,null,null,null,null,null,null,null,null,null,"","",{"$error":"#VALUE!"},{"$error":"#VALUE!"}]
[null,null,null,null,null,null,null,null,null,null,null,null,null,null,null,null,null,null,null,null,null,null,null,null,null,null,null,null,null,null,null,null,null,null,null,null,null,null,null,null,null,null,null,null,null,null,null,null,null,null,null,null,null,null,null,null,null,null,null,null,null,null,null,null,"","",{"$error":"#VALUE!"},{"$error":"#VALUE!"}]
[null,null,null,null,null,null,null,null,null,null,null,null,null,null,null,null,null,null,null,null,null,null,null,null,null,null,null,null,null,null,null,null,null,null,null,null,null,null,null,null,null,null,null,null,null,null,null,null,null,null,null,null,null,null,null,null,null,null,null,null,null,null,null,null,"","",{"$error":"#VALUE!"},{"$error":"#VALUE!"}]
[null,null,null,null,null,null,null,null,null,null,null,null,null,null,null,null,null,null,null,null,null,null,null,null,null,null,null,null,null,null,null,null,null,null,null,null,null,null,null,null,null,null,null,null,null,null,null,null,null,null,null,null,null,null,null,null,null,null,null,null,null,null,null,null,"","",{"$error":"#VALUE!"},{"$error":"#VALUE!"}]
[null,null,null,null,null,null,null,null,null,null,null,null,null,null,null,null,null,null,null,null,null,null,null,null,null,null,null,null,null,null,null,null,null,null,null,null,null,null,null,null,null,null,null,null,null,null,null,null,null,null,null,null,null,null,null,null,null,null,null,null,null,null,null,null,"","",{"$error":"#VALUE!"},{"$error":"#VALUE!"}]
[null,null,null,null,null,null,null,null,null,null,null,null,null,null,null,null,null,null,null,null,null,null,null,null,null,null,null,null,null,null,null,null,null,null,null,null,null,null,null,null,null,null,null,null,null,null,null,null,null,null,null,null,null,null,null,null,null,null,null,null,null,null,null,null,{"$f":"RIGHT(BK72,10)","v":""},{"$f":"LEFT(BM72,5)","v":""},{"$f":"REPLACE(BN72,SEARCH(\"(\",BN72),1,\"\")","v":{"$error":"#VALUE!"}},{"$f":"TRIM(BO72)","v":{"$error":"#VALUE!"}}]
[null,null,null,null,null,null,null,null,null,null,null,null,null,null,null,null,null,null,null,null,null,null,null,null,null,null,null,null,null,null,null,null,null,null,null,null,null,null,null,null,null,null,null,null,null,null,null,null,null,null,null,null,null,null,null,null,null,null,null,null,null,null,null,null,"","",{"$error":"#VALUE!"},{"$error":"#VALUE!"}]
[null,null,null,null,null,null,null,null,null,null,null,null,null,null,null,null,null,null,null,null,null,null,null,null,null,null,null,null,null,null,null,null,null,null,null,null,null,null,null,null,null,null,null,null,null,null,null,null,null,null,null,null,null,null,null,null,null,null,null,null,null,null,null,null,"","",{"$error":"#VALUE!"},{"$error":"#VALUE!"}]
[null,null,null,null,null,null,null,null,null,null,null,null,null,null,null,null,null,null,null,null,null,null,null,null,null,null,null,null,null,null,null,null,null,null,null,null,null,null,null,null,null,null,null,null,null,null,null,null,null,null,null,null,null,null,null,null,null,null,null,null,null,null,null,null,"","",{"$error":"#VALUE!"},{"$error":"#VALUE!"}]
[null,null,null,null,null,null,null,null,null,null,null,null,null,null,null,null,null,null,null,null,null,null,null,null,null,null,null,null,null,null,null,null,null,null,null,null,null,null,null,null,null,null,null,null,null,null,null,null,null,null,null,null,null,null,null,null,null,null,null,null,null,null,null,null,"","",{"$error":"#VALUE!"},{"$error":"#VALUE!"}]

{"sheet":"week3","index":2,"n_rows":76,"n_cols":68,"rows_kept":76,"cut":false,"hidden":false,"merged":[]}
[null,"*** Weekly Hot Lap Competition Results"]
[]
[null,"Start Time: 2014-12-13 16:23:05"]
[null,"End Time: 2014-12-20 16:23:05"]
[]
[null,"* Results for Sc_Aldearing, AntiSlider:",null,null,null,null,"* Results for Sc_Aldearing, EasySlider:",null,null,null,null,"* Results for Sc_Aldearing, Spinner:",null,null,null,null,"* Results for Sc_Aldearing, Slider:",null,null,null,null,"* Results for Sc_Aldearing, Speeder:",null,null,null,null,null,null,"Pts","Max","Av","Anti","Easy","Spin","Slide","Speed","Ant","Eas","Spn","Sld","Spd",1,2,3,4,5,6,7,8,9,10,11,12,13,14,15,16,17,18,19,20,null,"Overall Results:"]
[null," 1. [x] Mike Nike             26.552   (1000 pts)",{"$f":"LEFT(RIGHT(B7,LEN(B7)-4),LEN(RIGHT(B7,LEN(B7)-4))-19)","v":"[x] Mike Nike             "},{"$f":"VALUE(LEFT(RIGHT(B7,19+0),6))/1000","v":26.552},100,null," 1. [+] Tinjovic              26.493   (1000 pts)",{"$f":"LEFT(RIGHT(G7,LEN(G7)-4),LEN(RIGHT(G7,LEN(G7)-4))-19)","v":"[+] Tinjovic              "},{"$f":"VALUE(LEFT(RIGHT(G7,19+0),6))/1000","v":26.492999999999999},100,null," 1. [+] Tinjovic              27.144   (1000 pts)",{"$f":"LEFT(RIGHT(L7,LEN(L7)-4),LEN(RIGHT(L7,LEN(L7)-4))-19)","v":"[+] Tinjovic              "},{"$f":"VALUE(LEFT(RIGHT(L7,19+0),6))/1000","v":27.143999999999998},100,null," 1. [x] Mike Nike             26.151   (1000 pts)",{"$f":"LEFT(RIGHT(Q7,LEN(Q7)-4),LEN(RIGHT(Q7,LEN(Q7)-4))-19)","v":"[x] Mike Nike             "},{"$f":"VALUE(LEFT(RIGHT(Q7,19+0),6))/1000","v":26.151},100,null," 1. [+] Tinjovic              24.150   (1000 pts)",{"$f":"LEFT(RIGHT(V7,LEN(V7)-4),LEN(RIGHT(V7,LEN(V7)-4))-19)","v":"[+] Tinjovic              "},{"$f":"VALUE(LEFT(RIGHT(V7,19+0),6))/1000","v":24.15},100,null,1,{"$f":"BL7","v":"[+] Tinjovic              "},{"$f":"BP7","v":"992"},{"$f":"MAX(AF7:AJ7)","v":100},{"$f":"SUM(AF7:AJ7)/COUNT(AF7:AJ7)","v":99.955085345821502},{"$f":"IF(SUMIF(C$7:C$998,$AB7,E$7:E$998)=0,\"\",VLOOKUP($AB7,C$7:E$998,3,FALSE))","v":99.932208496535097},{"$f":"IF(SUMIF(H$7:H$999,$AB7,J$7:J$999)=0,\"\",VLOOKUP($AB7,H$7:J$999,3,FALSE))","v":100},{"$f":"IF(SUMIF(M$7:M$998,$AB7,O$7:O$998)=0,\"\",VLOOKUP($AB7,M$7:O$998,3,FALSE))","v":100},{"$f":"IF(SUMIF(R$7:R$998,$AB7,T$7:T$998)=0,\"\",VLOOKUP($AB7,R$7:T$998,3,FALSE))","v":99.843218232572369},{"$f":"IF(SUMIF(W$7:W$998,$AB7,Y$7:Y$998)=0,\"\",VLOOKUP($AB7,W$7:Y$998,3,FALSE))","v":100},{"$f":"IF(AF7=\"\",\"\",RANK(AF7,AF$7:AF$999,0))","v":2},{"$f":"IF(AG7=\"\",\"\",RANK(AG7,AG$7:AG$999,0))","v":1},1,2,1,{"$f":"IF(SUMIF($AK7:$AO7,AP$6)/AP$6=0,\"\",SUMIF($AK7:$AO7,AP$6)/AP$6)","v":3},2,"","","","","","","","","","","","","","",{"$f":"IF(SUMIF($AK7:$AO7,BF$6)/BF$6=0,\"\",SUMIF($AK7:$AO7,BF$6)/BF$6)","v":""},"","","",null," 1. [+] Tinjovic            (992 pts)",{"$f":"CONCATENATE(LEFT(RIGHT(BK7,LEN(BK7)-4),LEN(RIGHT(BK7,LEN(BK7)-4))-9),\"  \")","v":"[+] Tinjovic              "},{"$f":"RIGHT(BK7,10)","v":" (992 pts)"},{"$f":"LEFT(BM7,5)","v":" (992"},{"$f":"REPLACE(BN7,SEARCH(\"(\",BN7),1,\"\")","v":" 992"},{"$f":"TRIM(BO7)","v":"992"}]
[null," 2. [+] Tinjovic              26.570    (989 pts)",{"$f":"LEFT(RIGHT(B8,LEN(B8)-4),LEN(RIGHT(B8,LEN(B8)-4))-19)","v":"[+] Tinjovic              "},26.57,{"$f":"100-(D8-D$7)/D$7*100","v":99.932208496535097},null," 2. [x] Mike Nike             26.536    (974 pts)",{"$f":"LEFT(RIGHT(G8,LEN(G8)-4),LEN(RIGHT(G8,LEN(G8)-4))-19)","v":"[x] Mike Nike             "},{"$f":"VALUE(LEFT(RIGHT(G8,19+0),6))/1000","v":26.536000000000001},{"$f":"100-(I8-I$7)/I$7*100","v":99.837692975502947},null," 2. [x] Mike Nike             27.263    (932 pts)",{"$f":"LEFT(RIGHT(L8,LEN(L8)-4),LEN(RIGHT(L8,LEN(L8)-4))-19)","v":"[x] Mike Nike             "},{"$f":"VALUE(LEFT(RIGHT(L8,19+0),6))/1000","v":27.263000000000002},{"$f":"100-(N8-N$7)/N$7*100","v":99.56159740642498},null," 2. [+] Tinjovic              26.192    (975 pts)",{"$f":"LEFT(RIGHT(Q8,LEN(Q8)-4),LEN(RIGHT(Q8,LEN(Q8)-4))-19)","v":"[+] Tinjovic              "},{"$f":"VALUE(LEFT(RIGHT(Q8,19+0),6))/1000","v":26.192},{"$f":"100-(S8-S$7)/S$7*100","v":99.843218232572369},null," 2. [x] Mike Nike             24.295    (908 pts)",{"$f":"LEFT(RIGHT(V8,LEN(V8)-4),LEN(RIGHT(V8,LEN(V8)-4))-19)","v":"[x] Mike Nike             "},{"$f":"VALUE(LEFT(RIGHT(V8,19+0),6))/1000","v":24.295000000000002},{"$f":"100-(X8-X$7)/X$7*100","v":99.399585921325041},null,2,{"$f":"BL8","v":"[x] Mike Nike             "},{"$f":"BP8","v":"963"},100,99.759775260650599,100,99.837692975502947,99.56159740642498,100,99.399585921325041,{"$f":"IF(AF8=\"\",\"\",RANK(AF8,AF$7:AF$999,0))","v":1},{"$f":"IF(AG8=\"\",\"\",RANK(AG8,AG$7:AG$999,0))","v":2},{"$f":"IF(AH8=\"\",\"\",RANK(AH8,AH$7:AH$999,0))","v":2},{"$f":"IF(AI8=\"\",\"\",RANK(AI8,AI$7:AI$999,0))","v":1},{"$f":"IF(AJ8=\"\",\"\",RANK(AJ8,AJ$7:AJ$999,0))","v":2},2,3,"","","","","","","","","","","","","","","","","","",null," 2. [x] Mike Nike           (963 pts)",{"$f":"CONCATENATE(LEFT(RIGHT(BK8,LEN(BK8)-4),LEN(RIGHT(BK8,LEN(BK8)-4))-9),\"  \")","v":"[x] Mike Nike             "},{"$f":"RIGHT(BK8,10)","v":" (963 pts)"},{"$f":"LEFT(BM8,5)","v":" (963"},{"$f":"REPLACE(BN8,SEARCH(\"(\",BN8),1,\"\")","v":" 963"},{"$f":"TRIM(BO8)","v":"963"}]
[null," 3. [fS]Hevonen               26.582    (982 pts)",{"$f":"LEFT(RIGHT(B9,LEN(B9)-4),LEN(RIGHT(B9,LEN(B9)-4))-19)","v":"[fS]Hevonen               "},26.582000000000001,{"$f":"100-(D9-D$7)/D$7*100","v":99.887014160891837},null," 3. [x] Stylus                26.683    (891 pts)","[x] Stylus                ",26.683,{"$f":"100-(I9-I$7)/I$7*100","v":99.282829426641001},null," 3. [x] Stylus                27.443    (839 pts)","[x] Stylus                ",27.443000000000001,{"$f":"100-(N9-N$7)/N$7*100","v":98.898467432950184},null," 3. [x] Stylus                26.296    (915 pts)","[x] Stylus                ",26.295999999999999,{"$f":"100-(S9-S$7)/S$7*100","v":99.445527895682773},null," 3. kikiriki                  24.299    (906 pts)","kikiriki                  ",24.298999999999999,{"$f":"100-(X9-X$7)/X$7*100","v":99.383022774327117},null,3,"[x] Stylus                ","879",99.555589032841212,99.184722923254498,99.555589032841212,99.282829426641001,98.898467432950184,99.445527895682773,98.741200828157346,7,3,3,3,6,"","",3,"","",1,1,"","","","","","","","","","","","","",null," 3. [x] Stylus              (879 pts)","[x] Stylus                "," (879 pts)"," (879"," 879","879"]
[null," 4. [+] Badeend               26.584    (980 pts)","[+] Badeend               ",26.584,99.879481771617961,null," 4. [fS]Palo                  26.722    (871 pts)","[fS]Palo                  ",26.722000000000001,99.135620730004135,null," 4. [fS]Palo                  27.476    (823 pts)","[fS]Palo                  ",27.475999999999999,98.77689360447981,null," 4. Matti                     26.298    (914 pts)","Matti                     ",26.297999999999998,99.437880004588735,null," 4. [fS]Palo                  24.387    (855 pts)","[fS]Palo                  ",24.387,99.018633540372662,null,4,"[fS]Palo                  ","879",99.811690268153058,99.181843602752068,99.811690268153058,99.135620730004135,98.77689360447981,99.166379870750646,99.018633540372662,5,4,4,6,4,"","","",3,1,1,"","","","","","","","","","","","","","",null," 4. [fS]Palo                (879 pts)","[fS]Palo                  "," (879 pts)"," (879"," 879","879"]
[null," 5. [fS]Palo                  26.602    (970 pts)","[fS]Palo                  ",26.602,99.811690268153058,null," 5. [+] xzeal                 26.765    (849 pts)","[+] xzeal                 ",26.765000000000001,98.97331370550711,null," 5. Kyna_Musti                27.504    (809 pts)","Kyna_Musti                ",27.504000000000001,98.673740053050381,null," 5. Kyna_Musti                26.317    (903 pts)","Kyna_Musti                ",26.317,99.365225039195437,null," 5. Gol_v8                    24.430    (831 pts)","Gol_v8                    ",24.43,98.840579710144922,null,5,"Kyna_Musti                ","834",99.521693281108767,98.838446442453247,99.521693281108767,98.441097648435431,98.673740053050381,99.365225039195437,98.19047619047619,8,8,5,5,9,"","","","",2,"","",2,1,"","","","","","","","","","","",null," 5. Kyna_Musti              (834 pts)","Kyna_Musti                "," (834 pts)"," (834"," 834","834"]
[null," 6. [PahaJori] Ender          26.662    (935 pts)","[PahaJori] Ender          ",26.661999999999999,99.585718589936732,null," 6. [x] Whiplash              26.860    (802 pts)","[x] Whiplash              ",26.86,98.61472841882761,null," 6. Ku Dern [Ri]              27.524    (800 pts)","Ku Dern [Ri]              ",27.524000000000001,98.600058944886527,null," 6. [fS]Palo                  26.369    (875 pts)","[fS]Palo                  ",26.369,99.166379870750646,null," 6. [x] Stylus                24.454    (818 pts)","[x] Stylus                ",24.454000000000001,98.741200828157346,null,6,"[x] Whiplash              ","824",99.514160891834891,98.765735290224484,99.514160891834891,98.61472841882761,98.157972295903335,98.933119192382705,98.608695652173907,9,6,8,7,7,"","","","","",1,2,1,1,"","","","","","","","","","","",null," 6. [x] Whiplash            (824 pts)","[x] Whiplash              "," (824 pts)"," (824"," 824","824"]
[null," 7. [x] Stylus                26.670    (931 pts)","[x] Stylus                ",26.67,99.555589032841212,null," 7. [fS]Hevonen               26.880    (792 pts)","[fS]Hevonen               ",26.88,98.539236779526661,null," 7. [fS]Hevonen               27.567    (780 pts)","[fS]Hevonen               ",27.567,98.441644562334204,null," 7. [x] Whiplash              26.430    (843 pts)","[x] Whiplash              ",26.43,98.933119192382705,null," 7. [x] Whiplash              24.486    (801 pts)","[x] Whiplash              ",24.486000000000001,98.608695652173907,null,7,"[fS]Hevonen               ","809",99.887014160891837,98.62752295410435,99.887014160891837,98.539236779526661,98.441644562334204,98.393942870253525,97.875776397515523,3,7,7,10,10,"","",1,"","","",2,"","",2,"","","","","","","","","","",null," 7. [fS]Hevonen             (809 pts)","[fS]Hevonen               "," (809 pts)"," (809"," 809","809"]
[null," 8. Kyna_Musti                26.679    (926 pts)","Kyna_Musti                ",26.678999999999998,99.521693281108767,null," 8. Kyna_Musti                26.906    (780 pts)","Kyna_Musti                ",26.905999999999999,98.441097648435431,null," 8. [x] Whiplash              27.644    (746 pts)","[x] Whiplash              ",27.643999999999998,98.157972295903335,null," 8. [+] xzeal                 26.482    (817 pts)","[+] xzeal                 ",26.481999999999999,98.7342740239379,null," 8. Sig                       24.533    (777 pts)","Sig                       ",24.533000000000001,98.414078674948229,null,8,"[+] xzeal                 ","778",98.97331370550711,98.38505898819264,98.907803555287742,98.97331370550711,98.017978190391986,98.7342740239379,97.291925465838503,19,5,9,8,12,"","","","",1,"","",1,1,"","",1,"","","","","","",1,"",null," 8. [+] xzeal               (778 pts)","[+] xzeal                 "," (778 pts)"," (778"," 778","778"]
[null," 9. [x] Whiplash              26.681    (925 pts)","[x] Whiplash              ",26.681000000000001,99.514160891834891,null," 9. Jurgen-NL                 26.952    (759 pts)","Jurgen-NL                 ",26.952000000000002,98.267466878043251,null," 9. [+] xzeal                 27.682    (730 pts)","[+] xzeal                 ",27.681999999999999,98.017978190391986,null," 9. AnnicK                    26.553    (783 pts)","AnnicK                    ",26.553000000000001,98.462773890099797,null," 9. Kyna_Musti                24.587    (750 pts)","Kyna_Musti                ",24.587,98.19047619047619,null,9,"Jurgen-NL                 ","762",99.461434166917741,98.245962135483779,99.461434166917741,98.267466878043251,97.933244916003531,98.321287904860242,97.246376811594189,11,9,10,11,13,"","","","","","","","",1,1,2,"",1,"","","","","","","",null," 9. Jurgen-NL               (762 pts)","Jurgen-NL                 "," (762 pts)"," (762"," 762","762"]
[null,"10. mc65532                   26.681    (925 pts)","mc65532                   ",26.681000000000001,99.514160891834891,null,"10. Ku Dern [Ri]              26.992    (741 pts)","Ku Dern [Ri]              ",26.992000000000001,98.116483599441352,null,"10. Jurgen-NL                 27.705    (720 pts)","Jurgen-NL                 ",27.704999999999998,97.933244916003531,null,"10. [fS]Hevonen               26.571    (774 pts)","[fS]Hevonen               ",26.571000000000002,98.393942870253525,null,"10. [fS]Hevonen               24.663    (714 pts)","[fS]Hevonen               ",24.663,97.875776397515523,null,10,"[iR] iBlaze²              ","723",99.156372401325697,97.913805795267422,99.156372401325697,97.822066206167662,97.892720306513397,97.074681656533215,97.623188405797094,15,11,11,17,11,"","","","","","","","","","",3,"","","",1,"",1,"","","",null,"10. [iR] iBlaze²            (723 pts)","[iR] iBlaze²              "," (723 pts)"," (723"," 723","723"]
[null,"11. Jurgen-NL                 26.695    (917 pts)","Jurgen-NL                 ",26.695,99.461434166917741,null,"11. [iR] iBlaze²              27.070    (708 pts)","[iR] iBlaze²              ",27.07,97.822066206167662,null,"11. [iR] iBlaze²              27.716    (716 pts)","[iR] iBlaze²              ",27.716000000000001,97.892720306513397,null,"11. Jurgen-NL                 26.590    (766 pts)","Jurgen-NL                 ",26.59,98.321287904860242,null,"11. [iR] iBlaze²              24.724    (686 pts)","[iR] iBlaze²              ",24.724,97.623188405797094,null,11,"AnnicK                    ","664",98.462773890099797,97.340260426979981,98.267550467008135,95.897029403993514,96.831712348953715,98.462773890099797,97.242236024844715,28,23,16,9,14,"","","","","","","","",1,"","","","",1,"",1,"","","","",null,"11. AnnicK                  (664 pts)","AnnicK                    "," (664 pts)"," (664"," 664","664"]
[null,"12. Double O Seven            26.710    (909 pts)","Double O Seven            ",26.71,99.404941247363652,null,"12. [+] Badeend               27.149    (676 pts)","[+] Badeend               ",27.149000000000001,97.523874230928911,null,"12. mc65532                   27.723    (713 pts)","mc65532                   ",27.722999999999999,97.86693191865605,null,"12. fatty                     26.680    (725 pts)","fatty                     ",26.68,97.977132805628855,null,"12. [+] xzeal                 24.804    (652 pts)","[+] xzeal                 ",24.803999999999998,97.291925465838503,null,12,"mc65532                   ","632",99.514160891834891,96.816386569639036,99.514160891834891,95.776242781111989,97.86693191865605,96.937019616840644,93.987577639751549,9,25,12,18,26,"","","","","","","","",1,"","",1,"","","","","",1,"","",null,"12. mc65532                 (632 pts)","mc65532                   "," (632 pts)"," (632"," 632","632"]
[null,"13. Qri                       26.745    (890 pts)","Qri                       ",26.745000000000001,99.273124435070798,null,"13. [FUN] GR8 Arjen!          27.181    (663 pts)","[FUN] GR8 Arjen!          ",27.181000000000001,97.4030876080474,null,"13. Sig                       27.786    (687 pts)","Sig                       ",27.786000000000001,97.63483642793986,null,"13. Chukie                    26.690    (721 pts)","Chukie                    ",26.69,97.938893350158693,null,"13. Jurgen-NL                 24.815    (647 pts)","Jurgen-NL                 ",24.815000000000001,97.246376811594189,null,13,"fatty                     ","586",98.105604097619761,96.455796142402761,98.105604097619761,96.153700977616722,94.680223990568805,97.977132805628855,95.362318840579704,30,21,19,12,19,"","","","","","","","","","","",1,"","","","","","",2,"",null,"13. fatty                   (586 pts)","fatty                     "," (586 pts)"," (586"," 586","586"]
[null,"14. [FUN] GR8 Arjen!          26.748    (888 pts)","[FUN] GR8 Arjen!          ",26.748000000000001,99.261825851159983,null,"14. [PahaJori] Ender          27.254    (635 pts)","[PahaJori] Ender          ",27.254000000000001,97.127543124598944,null,"14. chill                     27.981    (615 pts)","chill                     ",27.981000000000002,96.916445623342156,null,"14. chill                     26.724    (706 pts)","chill                     ",26.724,97.808879201560174,null,"14. AnnicK                    24.816    (647 pts)","AnnicK                    ",24.815999999999999,97.242236024844715,null,14,"[fS]Jan                   ","582",97.652097434132529,96.464621284547121,96.975745706538106,96.519835428226315,96.864868847627463,97.652097434132529,94.310559006211165,39,17,15,15,23,"","","","","","","","","","","","","","",2,"",1,"","","",null,"14. [fS]Jan                 (582 pts)","[fS]Jan                   "," (582 pts)"," (582"," 582","582"]
[null,"15. [iR] iBlaze²              26.776    (874 pts)","[iR] iBlaze²              ",26.776,99.156372401325697,null,"15. Chukie                    27.257    (634 pts)","Chukie                    ",27.257000000000001,97.116219378703803,null,"15. [fS]Jan                   27.995    (610 pts)",{"$f":"LEFT(RIGHT(L21,LEN(L21)-4),LEN(RIGHT(L21,LEN(L21)-4))-19)","v":"[fS]Jan                   "},{"$f":"VALUE(LEFT(RIGHT(L21,19+0),6))/1000","v":27.995000000000001},{"$f":"100-(N21-N$7)/N$7*100","v":96.864868847627463},null,"15. [fS]Jan                   26.765    (689 pts)","[fS]Jan                   ",26.765000000000001,97.652097434132529,null,"15. Chukie                    24.991    (578 pts)","Chukie                    ",24.991,96.517598343685293,null,15,"pozdro600                 ","559",97.330886008183242,96.238407072277099,97.054835793913824,96.380175895519557,95.560713233127018,97.330886008183242,94.865424430641809,37,19,18,16,21,"","","","","","","","","","","","","","","",1,"",1,1,"",null,"15. pozdro600               (559 pts)","pozdro600                 "," (559 pts)"," (559"," 559","559"]
[null,"16. power79                   26.797    (863 pts)","power79                   ",26.797000000000001,99.077282313949979,null,"16. koripallo tits            27.358    (598 pts)","koripallo tits            ",27.358000000000001,96.734986600234009,null,"16. AnnicK                    28.004    (607 pts)","AnnicK                    ",28.004000000000001,96.831712348953715,null,"16. pozdro600                 26.849    (656 pts)","pozdro600                 ",26.849,97.330886008183242,null,"16. Matic                     25.109    (536 pts)","Matic                     ",25.109000000000002,96.028985507246361,null,16,"chill                     ","530",98.195992768906294,97.356513673543688,98.195992768906294,96.504737100366128,96.916445623342156,97.808879201560174,"",29,18,14,14,"","","","","","","","","","","","","","",2,"","","",1,"","",null,"16. chill                   (530 pts)","chill                     "," (530 pts)"," (530"," 530","530"]
[null,"17. Matti                     26.808    (857 pts)","Matti                     ",26.808,99.035854172943658,null,"17. [fS]Jan                   27.415    (578 pts)","[fS]Jan                   ",27.414999999999999,96.519835428226315,null,"17. Rub                       28.126    (566 pts)","Rub                       ",28.126000000000001,96.382257589154136,null,"17. [iR] iBlaze²              26.916    (630 pts)","[iR] iBlaze²              ",26.916,97.074681656533215,null,"17. \\/\\/ | |_ |_              25.171    (515 pts)","\\/\\/ | |_ |_              ",25.170999999999999,95.772256728778459,null,17,"Qpa                       ","480",98.888972582103037,96.563219234099236,98.888972582103037,96.029139772770151,"",96.734350502848841,94.600414078674945,20,22,"",19,22,{"$f":"IF(SUMIF($AK23:$AO23,AP$6)/AP$6=0,\"\",SUMIF($AK23:$AO23,AP$6)/AP$6)","v":""},"","","","","","","","","","","","","","","",{"$f":"IF(SUMIF($AK23:$AO23,BF$6)/BF$6=0,\"\",SUMIF($AK23:$AO23,BF$6)/BF$6)","v":""},"",1,1,null,"17. Qpa                     (480 pts)","Qpa                       "," (480 pts)"," (480"," 480","480"]
[null,"18. batjunior                 26.830    (846 pts)","batjunior                 ",26.83,98.952997890931002,null,"18. chill                     27.419    (577 pts)","chill                     ",27.419,96.504737100366128,null,"18. pozdro600                 28.349    (499 pts)","pozdro600                 ",28.349,95.560713233127018,null,"18. mc65532                   26.952    (617 pts)",{"$f":"LEFT(RIGHT(Q24,LEN(Q24)-4),LEN(RIGHT(Q24,LEN(Q24)-4))-19)","v":"mc65532                   "},{"$f":"VALUE(LEFT(RIGHT(Q24,19+0),6))/1000","v":26.952000000000002},{"$f":"100-(S24-S$7)/S$7*100","v":96.937019616840644},null,"18. Hazard                    25.195    (507 pts)","Hazard                    ",25.195,95.672877846790882,null,18,"Gol_v8                    ","418",98.840579710144922,97.505844657364776,98.583910816510993,95.093043445438411,"","",98.840579710144922,25,27,"","",5,"","","","",1,"","","","","","","","","","","","","","","",null,"18. Gol_v8                  (418 pts)","Gol_v8                    "," (418 pts)"," (418"," 418","418"]
[null,"19. [+] xzeal                 26.842    (840 pts)","[+] xzeal                 ",26.841999999999999,98.907803555287742,null,"19. pozdro600                 27.452    (566 pts)","pozdro600                 ",27.452000000000002,96.380175895519557,null,"19. fatty                     28.588    (436 pts)","fatty                     ",28.588000000000001,94.680223990568805,null,"19. Qpa                       27.005    (598 pts)","Qpa                       ",27.004999999999999,96.734350502848841,null,"19. fatty                     25.270    (484 pts)",{"$f":"LEFT(RIGHT(V25,LEN(V25)-4),LEN(RIGHT(V25,LEN(V25)-4))-19)","v":"fatty                     "},{"$f":"VALUE(LEFT(RIGHT(V25,19+0),6))/1000","v":25.27},{"$f":"100-(X25-X$7)/X$7*100","v":95.362318840579704},null,19,"Rub                       ","404",97.612232600180775,95.282488577338597,97.612232600180775,95.466727059978098,96.382257589154136,"",91.668737060041408,36,26,17,"",32,"","","","","","","","","","","","","","","","",1,"","","",null,"19. Rub                     (404 pts)","Rub                       "," (404 pts)"," (404"," 404","404"]
[null,"20. Qpa                       26.847    (837 pts)","Qpa                       ",26.847000000000001,98.888972582103037,null,"20. \\/\\/ | |_ |_              27.471    (559 pts)","\\/\\/ | |_ |_              ",27.471,96.308458838183668,null,"20. [LWD] JamsleJ             28.737    (401 pts)","[LWD] JamsleJ             ",28.736999999999998,94.131299734748012,null,"20. messi                     27.192    (535 pts)","messi                     ",27.192,96.019272685556956,null,"20. Ninjinha_br               25.274    (482 pts)","Ninjinha_br               ",25.274000000000001,95.345755693581765,null,20,"Augusto                   ","401",97.939891533594448,95.292515762998292,97.939891533594448,94.859019363605469,"",95.820427517112151,92.550724637681142,31,30,"",21,30,"","","","","","","","","","","","","","","","","","","","",null,"20. Augusto                 (401 pts)","Augusto                   "," (401 pts)"," (401"," 401","401"]
[null,"21. Alukin                    26.851    (835 pts)","Alukin                    ",26.850999999999999,98.873907803555284,null,"21. fatty                     27.512    (546 pts)","fatty                     ",27.512,96.153700977616722,null,"21. REIROM                    28.962    (354 pts)","REIROM                    ",28.962,93.302387267904507,null,"21. Augusto                   27.244    (519 pts)","Augusto                   ",27.244,95.820427517112151,null,"21. pozdro600                 25.390    (448 pts)","pozdro600                 ",25.39,94.865424430641809,null,21,"Chukie                    ","386",97.938893350158693,97.190903690849268,"",97.116219378703803,"",97.938893350158693,96.517598343685293,"",15,"",13,15,"","","","","","","","","","","","",1,"",2,"","","","","",null,"21. Chukie                  (386 pts)","Chukie                    "," (386 pts)"," (386"," 386","386"]
[null,"22. \\/\\/ | |_ |_              26.899    (812 pts)","\\/\\/ | |_ |_              ",26.899000000000001,98.693130460982218,null,"22. Qpa                       27.545    (536 pts)","Qpa                       ",27.545000000000002,96.029139772770151,null,null,null,null,null,null,"22. REIROM                    32.380     (32 pts)","REIROM                    ",32.380000000000003,76.180643187640996,null,"22. Qpa                       25.454    (431 pts)","Qpa                       ",25.454000000000001,94.600414078674945,null,22,"[FUN] GR8 Arjen!          ","383",99.261825851159983,96.715771705174021,99.261825851159983,97.4030876080474,"","",93.482401656314693,14,13,"","",27,"","","","","","","","","","","","",1,1,"","","","","","",null,"22. [FUN] GR8 Arjen!        (383 pts)","[FUN] GR8 Arjen!          "," (383 pts)"," (383"," 383","383"]
[null,"23. messi                     26.910    (807 pts)","messi                     ",26.91,98.651702319975897,null,"23. AnnicK                    27.580    (525 pts)","AnnicK                    ",27.58,95.897029403993514,null,null,null,null,null,null,null,null,null,null,null,"23. [fS]Jan                   25.524    (412 pts)","[fS]Jan                   ",25.524000000000001,94.310559006211165,null,23,"\\/\\/ | |_ |_              ","377",98.693130460982218,96.92461534264811,98.693130460982218,96.308458838183668,"","",95.772256728778459,22,20,"","",17,"","","","","","","","","","","","","","","","",1,"","",1,null,"23. \\/\\/ | |_ |_            (377 pts)","\\/\\/ | |_ |_              "," (377 pts)"," (377"," 377","377"]
[null,"24. Serif  v2.5.3W            26.926    (799 pts)","Serif  v2.5.3W            ",26.925999999999998,98.591443205784884,null,"24. Double O Seven            27.601    (519 pts)","Double O Seven            ",27.600999999999999,95.817763182727504,null,null,null,null,null,null,null,null,null,null,null,"24. [5] Burnout               25.543    (407 pts)","[5] Burnout               ",25.542999999999999,94.231884057971016,null,24,"Matti                     ","354",99.437880004588735,99.236867088766189,99.035854172943658,"","",99.437880004588735,"",17,"","",4,"","","","",1,"","","","","","","","","","","","",1,"","","",null,"24. Matti                   (354 pts)","Matti                     "," (354 pts)"," (354"," 354","354"]
[null,"25. Gol_v8                    26.928    (798 pts)","Gol_v8                    ",26.928000000000001,98.583910816510993,null,"25. mc65532                   27.612    (515 pts)","mc65532                   ",27.611999999999998,95.776242781111989,null,null,null,null,null,null,null,null,null,null,null,"25. Alukin                    25.563    (402 pts)","Alukin                    ",25.562999999999999,94.149068322981364,null,25,"messi                     ","353",98.651702319975897,96.379145948257815,98.651702319975897,94.466462839240549,"",96.019272685556956,"",23,31,"",20,"","","","","","","","","","","","","","","","","","","","",1,null,"25. messi                   (353 pts)","messi                     "," (353 pts)"," (353"," 353","353"]
[null,"26. REIROM                    26.959    (783 pts)","REIROM                    ",26.959,98.467158782765893,null,"26. Rub                       27.694    (491 pts)","Rub                       ",27.693999999999999,95.466727059978098,null,null,null,null,null,null,null,null,null,null,null,"26. mc65532                   25.602    (392 pts)","mc65532                   ",25.602,93.987577639751549,null,26,"REIROM                    ","350",98.467158782765893,90.296259882640214,98.467158782765893,90.193636054806916,93.302387267904507,76.180643187640996,93.337474120082803,26,35,21,22,28,"","","","","","","","","","","","","","","","","","","","",null,"26. REIROM                  (350 pts)","REIROM                    "," (350 pts)"," (350"," 350","350"]
[null,"27. lds                       26.998    (766 pts)","lds                       ",26.998000000000001,98.320277191925271,null,"27. Gol_v8                    27.793    (464 pts)","Gol_v8                    ",27.792999999999999,95.093043445438411,null,null,null,null,null,null,null,null,null,null,null,"27. [FUN] GR8 Arjen!          25.724    (364 pts)","[FUN] GR8 Arjen!          ",25.724,93.482401656314693,null,27,"[+] Badeend               ","331",99.879481771617961,98.701678001273436,99.879481771617961,97.523874230928911,"","","",4,12,"","","","","","",1,"","","","","","","",1,"","","","","","","","",null,"27. [+] Badeend             (331 pts)","[+] Badeend               "," (331 pts)"," (331"," 331","331"]
[null,"28. AnnicK                    27.012    (759 pts)","AnnicK                    ",27.012,98.267550467008135,null,"28. [$pectre]Jaw$             27.836    (453 pts)","[$pectre]Jaw$             ",27.835999999999999,94.930736420941386,null,null,null,null,null,null,null,null,null,null,null,"28. REIROM                    25.759    (356 pts)","REIROM                    ",25.759,93.337474120082803,null,28,"[PahaJori] Ender          ","314",99.585718589936732,98.356630857267845,99.585718589936732,97.127543124598944,"","","",6,14,"","","","","","","","",1,"","","","","","","",1,"","","","","","",null,"28. [PahaJori] Ender        (314 pts)","[PahaJori] Ender          "," (314 pts)"," (314"," 314","314"]
[null,"29. chill                     27.031    (751 pts)","chill                     ",27.030999999999999,98.195992768906294,null,"29. Magnat                    27.844    (451 pts)","Magnat                    ",27.844000000000001,94.900539765220998,null,null,null,null,null,null,null,null,null,null,null,"29. Magnat                    25.818    (343 pts)","Magnat                    ",25.818000000000001,93.093167701863337,null,29,"Ku Dern [Ri]              ","308",98.600058944886527,98.358271272163933,"",98.116483599441352,98.600058944886527,"","","",10,6,"","","","","","","",1,"","","",1,"","","","","","","","","","",null,"29. Ku Dern [Ri]            (308 pts)","Ku Dern [Ri]              "," (308 pts)"," (308"," 308","308"]
[null,"30. fatty                     27.055    (740 pts)","fatty                     ",27.055,98.105604097619761,null,"30. Augusto                   27.855    (448 pts)","Augusto                   ",{"$f":"VALUE(LEFT(RIGHT(G36,19+0),6))/1000","v":27.855},{"$f":"100-(I36-I$7)/I$7*100","v":94.859019363605469},null,null,null,null,null,null,null,null,null,null,null,"30. Augusto                   25.949    (316 pts)","Augusto                   ",25.949000000000002,92.550724637681142,null,30,"Sig                       ","293",98.414078674948229,98.024457551444044,"","",97.63483642793986,"",98.414078674948229,"","",13,"",8,"","","","","","","",1,"","","","",1,"","","","","","","",null,"30. Sig                     (293 pts)","Sig                       "," (293 pts)"," (293"," 293","293"]
[null,"31. Augusto                   27.099    (721 pts)","Augusto                   ",27.099,97.939891533594448,null,"31. messi                     27.959    (422 pts)","messi                     ",27.959,94.466462839240549,null,null,null,null,null,null,null,null,null,null,null,"31. laf                       26.131    (283 pts)","laf                       ",26.131,91.79710144927536,null,31,"Double O Seven            ","285",99.404941247363652,97.611352215045571,99.404941247363652,95.817763182727504,"","","",12,24,"","","","","","","","","","","","","","",1,"","","","","","","","",null,"31. Double O Seven          (285 pts)","Double O Seven            "," (285 pts)"," (285"," 285","285"]
[null,"32. Popowitch                 27.122    (711 pts)","Popowitch                 ",27.122,97.853269056944868,null,"32. lds                       28.316    (344 pts)","lds                       ",28.315999999999999,93.118937077718641,null,null,null,null,null,null,null,null,null,null,null,"32. Rub                       26.162    (277 pts)","Rub                       ",26.161999999999999,91.668737060041408,null,32,"Matic                     ","248",97.811840915938532,96.920413211592447,97.811840915938532,"","","",96.028985507246361,33,"","","",16,"","","","","","","","","","","","","","","",1,"","","","",null,"32. Matic                   (248 pts)","Matic                     "," (248 pts)"," (248"," 248","248"]
[null,"33. Matic                     27.133    (707 pts)","Matic                     ",27.132999999999999,97.811840915938532,null,"33. stoner                    28.369    (334 pts)","stoner                    ",28.369,92.91888423357112,null,null,null,null,null,null,null,null,null,null,null,null,null,null,null,null,33,"Alukin                    ","247",98.873907803555284,96.511488063268331,98.873907803555284,"","","",94.149068322981364,21,"","","",25,{"$f":"IF(SUMIF($AK39:$AO39,AP$6)/AP$6=0,\"\",SUMIF($AK39:$AO39,AP$6)/AP$6)","v":""},"","","","","","","","","","","","","","","",{"$f":"IF(SUMIF($AK39:$AO39,BF$6)/BF$6=0,\"\",SUMIF($AK39:$AO39,BF$6)/BF$6)","v":""},"","","",null,"33. Alukin                  (247 pts)","Alukin                    "," (247 pts)"," (247"," 247","247"]
[null,"34. straits                   27.156    (697 pts)","straits                   ",27.155999999999999,97.725218439288952,null,"34. BrunoA                    28.563    (300 pts)","BrunoA                    ",28.562999999999999,92.186615332351934,null,null,null,null,null,null,null,null,null,null,null,null,null,null,null,null,34,"lds                       ","222",98.320277191925271,95.719607134821956,98.320277191925271,93.118937077718641,"","","",27,32,"","","","","","","","","","","","","","","","","","","","","","","",null,"34. lds                     (222 pts)","lds                       "," (222 pts)"," (222"," 222","222"]
[null,"35. RiantHoff                 27.165    (694 pts)","RiantHoff                 ",27.164999999999999,97.691322687556493,null,"35. REIROM                    29.091    (223 pts)","REIROM                    ",29.091000000000001,90.193636054806916,null,null,null,null,null,null,null,null,null,null,null,null,null,null,null,null,35,"Ninjinha_br               ","217",96.798734558601979,96.072245126091872,96.798734558601979,"","","",95.345755693581765,42,"","","",20,"","","","","","","","","","","","","","","","","","","",1,null,"35. Ninjinha_br             (217 pts)","Ninjinha_br               "," (217 pts)"," (217"," 217","217"]
[null,"36. Rub                       27.186    (685 pts)","Rub                       ",27.186,97.612232600180775,null,"36. Thunda                    30.043    (133 pts)","Thunda                    ",30.042999999999999,86.600234024081828,null,null,null,null,null,null,null,null,null,null,null,null,null,null,null,null,36,"[$pectre]Jaw$             ","211",96.787435974691164,95.859086197816282,96.787435974691164,94.930736420941386,"","","",43,28,"","","","","","","","","","","","","","","","","","","","","","","",null,"36. [$pectre]Jaw$           (211 pts)","[$pectre]Jaw$             "," (211 pts)"," (211"," 211","211"]
[null,"37. pozdro600                 27.334    (628 pts)","pozdro600                 ",27.334,97.054835793913824,null,"37. [ITA]_AIR_GIGI            30.708     (94 pts)","[ITA]_AIR_GIGI            ",30.707999999999998,84.090137017325333,null,null,null,null,null,null,null,null,null,null,null,null,null,null,null,null,37,"stoner                    ","191",96.990810485085873,94.954847359328497,96.990810485085873,92.91888423357112,"","","",38,33,"","","","","","","","","","","","","","","","","","","","","","","",null,"37. stoner                  (191 pts)","stoner                    "," (191 pts)"," (191"," 191","191"]
[null,"38. stoner                    27.351    (622 pts)","stoner                    ",27.350999999999999,96.990810485085873,null,"38. RiantHoff                 31.498     (62 pts)","RiantHoff                 ",31.498000000000001,81.108217264937906,null,null,null,null,null,null,null,null,null,null,null,null,null,null,null,null,38,"kikiriki                  ","183",99.383022774327117,84.174789482975541,68.966556191623965,"","","",99.383022774327117,49,"","","",3,"","",1,"","","","","","","","","","","","","","","","","",null,"38. kikiriki                (183 pts)","kikiriki                  "," (183 pts)"," (183"," 183","183"]
[null,"39. [fS]Jan                   27.355    (620 pts)","[fS]Jan                   ",27.355,96.975745706538106,null,"39. Broomstig                 32.537     (37 pts)","Broomstig                 ",32.536999999999999,77.186426603253693,null,null,null,null,null,null,null,null,null,null,null,null,null,null,null,null,39,"Qri                       ","178",99.273124435070798,99.273124435070798,99.273124435070798,"","","","",13,"","","","","","","","","","","","","","","","",1,"","","","","","","",null,"39. Qri                     (178 pts)","Qri                       "," (178 pts)"," (178"," 178","178"]
[null,"40. CrazybikE                 27.357    (620 pts)","CrazybikE                 ",27.356999999999999,96.968213317264244,null,null,null,null,null,null,null,null,null,null,null,null,null,null,null,null,null,null,null,null,null,40,"power79                   ","172",99.077282313949979,99.077282313949979,99.077282313949979,"","","","",16,"","","","","","","","","","","","","","","","","","","",1,"","","","",null,"40. power79                 (172 pts)","power79                   "," (172 pts)"," (172"," 172","172"]
[null,"41. Ninjinha_br               27.402    (604 pts)","Ninjinha_br               ",27.402000000000001,96.798734558601979,null,null,null,null,null,null,null,null,null,null,null,null,null,null,null,null,null,null,null,null,null,41,"batjunior                 ","169",98.952997890931002,98.952997890931002,98.952997890931002,"","","","",18,"","","","","","","","","","","","","","","","","","","","","",1,"","",null,"41. batjunior               (169 pts)","batjunior                 "," (169 pts)"," (169"," 169","169"]
[null,"42. [$pectre]Jaw$             27.405    (602 pts)","[$pectre]Jaw$             ",27.405000000000001,96.787435974691164,null,null,null,null,null,null,null,null,null,null,null,null,null,null,null,null,null,null,null,null,null,42,"Serif  v2.5.3W            ","159",98.591443205784884,98.591443205784884,98.591443205784884,"","","","",24,"","","","","","","","","","","","","","","","","","","","","","","","",null,"42. Serif  v2.5.3W          (159 pts)","Serif  v2.5.3W            "," (159 pts)"," (159"," 159","159"]
[null,"43. bohun                     27.432    (593 pts)","bohun                     ",27.431999999999999,96.68574871949383,null,null,null,null,null,null,null,null,null,null,null,null,null,null,null,null,null,null,null,null,null,43,"Magnat                    ","158",94.900539765220998,93.996853733542167,"",94.900539765220998,"","",93.093167701863337,"",29,"","",29,"","","","","","","","","","","","","","","","","","","","",null,"43. Magnat                  (158 pts)","Magnat                    "," (158 pts)"," (158"," 158","158"]
[null,"44. Rendy                     27.481    (576 pts)","Rendy                     ",27.481000000000002,96.501205182283812,null,null,null,null,null,null,null,null,null,null,null,null,null,null,null,null,null,null,null,null,null,44,"RiantHoff                 ","151",97.691322687556493,89.3997699762472,97.691322687556493,81.108217264937906,"","","",35,38,"","","","","","","","","","","","","","","","","","","","","","","",null,"44. RiantHoff               (151 pts)","RiantHoff                 "," (151 pts)"," (151"," 151","151"]
[null,"45. [ITA]_AIR_GIGI            27.499    (570 pts)","[ITA]_AIR_GIGI            ",27.498999999999999,96.433413678818923,null,null,null,null,null,null,null,null,null,null,null,null,null,null,null,null,null,null,null,null,null,45,"Popowitch                 ","142",97.853269056944868,97.853269056944868,97.853269056944868,"","","","",32,"","","","","","","","","","","","","","","","","","","","","","","","",null,"45. Popowitch               (142 pts)","Popowitch                 "," (142 pts)"," (142"," 142","142"]
[null,"46. Frank05                   27.759    (491 pts)","Frank05                   ",27.759,95.454203073214813,null,null,null,null,null,null,null,null,null,null,null,null,null,null,null,null,null,null,null,null,null,46,"straits                   ","139",97.725218439288952,97.725218439288952,97.725218439288952,"","","","",34,"","","","","","","","","","","","","","","","","","","","","","","","",null,"46. straits                 (139 pts)","straits                   "," (139 pts)"," (139"," 139","139"]
[null,"47. CrazybikE                 28.306    (359 pts)","CrazybikE                 ",28.306000000000001,93.394094606809276,null,null,null,null,null,null,null,null,null,null,null,null,null,null,null,null,null,null,null,null,null,47,"[ITA]_AIR_GIGI            ","133",96.433413678818923,90.261775348072121,96.433413678818923,84.090137017325333,"","","",46,37,"","","","","","","","","","","","","","","","","","","","","","","",null,"47. [ITA]_AIR_GIGI          (133 pts)","[ITA]_AIR_GIGI            "," (133 pts)"," (133"," 133","133"]
[null,"48. BrunoA                    28.445    (332 pts)","BrunoA                    ",28.445,92.870593552274784,null,null,null,null,null,null,null,null,null,null,null,null,null,null,null,null,null,null,null,null,null,48,"BrunoA                    ","126",92.870593552274784,92.528604442313366,92.870593552274784,92.186615332351934,"","","",48,34,"","","","","","","","","","","","","","","","","","","","","","","",null,"48. BrunoA                  (126 pts)","BrunoA                    "," (126 pts)"," (126"," 126","126"]
[null,"49. kikiriki                  34.792     (13 pts)","kikiriki                  ",34.792000000000002,68.966556191623965,null,null,null,null,null,null,null,null,null,null,null,null,null,null,null,null,null,null,null,null,null,49,"CrazybikE                 ","124",96.968213317264244,96.968213317264244,96.968213317264244,"","","","",40,"","","","",{"$f":"IF(SUMIF($AK55:$AO55,AP$6)/AP$6=0,\"\",SUMIF($AK55:$AO55,AP$6)/AP$6)","v":""},"","","","","","","","","","","","","","","",{"$f":"IF(SUMIF($AK55:$AO55,BF$6)/BF$6=0,\"\",SUMIF($AK55:$AO55,BF$6)/BF$6)","v":""},"","","",null,"49. CrazybikE               (124 pts)","CrazybikE                 "," (124 pts)"," (124"," 124","124"]
[null,null,null,null,null,null,null,null,null,null,null,null,null,null,null,null,null,null,null,null,null,null,null,null,null,null,50,"koripallo tits            ","119",96.734986600234009,96.734986600234009,"",96.734986600234009,"","","","",16,"","","","","","","","","","","","","","","","","","",1,"","","","",null,"50. koripallo tits          (119 pts)","koripallo tits            "," (119 pts)"," (119"," 119","119"]
[null,null,null,null,null,null,null,null,null,null,null,null,null,null,null,null,null,null,null,null,null,null,null,null,null,null,51,"bohun                     ","118",96.68574871949383,96.68574871949383,96.68574871949383,"","","","",44,"","","","","","","","","","","","","","","","","","","","","","","","",null,"51. bohun                   (118 pts)","bohun                     "," (118 pts)"," (118"," 118","118"]
[null,null,null,null,null,null,null,null,null,null,null,null,null,null,null,null,null,null,null,null,null,null,null,null,null,null,52,"Rendy                     ","115",96.501205182283812,96.501205182283812,96.501205182283812,"","","","",45,"","","","","","","","","","","","","","","","","","","","","","","","",null,"52. Rendy                   (115 pts)","Rendy                     "," (115 pts)"," (115"," 115","115"]
[null,null,null,null,null,null,null,null,null,null,null,null,null,null,null,null,null,null,null,null,null,null,null,null,null,null,53,"Hazard                    ","101",95.672877846790882,95.672877846790882,"","","","",95.672877846790882,"","","","",18,"","","","","","","","","","","","","","","","","",1,"","",null,"53. Hazard                  (101 pts)","Hazard                    "," (101 pts)"," (101"," 101","101"]
[null,null,null,null,null,null,null,null,null,null,null,null,null,null,null,null,null,null,null,null,null,null,null,null,null,null,54,"Frank05                   ","98",95.454203073214813,95.454203073214813,95.454203073214813,"","","","",47,"","","","","","","","","","","","","","","","","","","","","","","","",null,"54. Frank05                  (98 pts)","Frank05                   ","  (98 pts)","  (98","  98","98"]
[null,null,null,null,null,null,null,null,null,null,null,null,null,null,null,null,null,null,null,null,null,null,null,null,null,null,55,"[5] Burnout               ","81",94.231884057971016,94.231884057971016,"","","","",94.231884057971016,"","","","",24,"","","","","","","","","","","","","","","","","","","","",null,"55. [5] Burnout              (81 pts)","[5] Burnout               ","  (81 pts)","  (81","  81","81"]
[null,null,null,null,null,null,null,null,null,null,null,null,null,null,null,null,null,null,null,null,null,null,null,null,null,null,56,"[LWD] JamsleJ             ","80",94.131299734748012,94.131299734748012,"","",94.131299734748012,"","","","",20,"","","","","","","","","","","","","","","","","","","","","",1,null,"56. [LWD] JamsleJ            (80 pts)","[LWD] JamsleJ             ","  (80 pts)","  (80","  80","80"]
[null,null,null,null,null,null,null,null,null,null,null,null,null,null,null,null,null,null,null,null,null,null,null,null,null,null,57,"CrazybikE                 ","71",96.968213317264244,96.968213317264244,96.968213317264244,"","","","",40,"","","","","","","","","","","","","","","","","","","","","","","","",null,"57. CrazybikE                (71 pts)","CrazybikE                 ","  (71 pts)","  (71","  71","71"]
[null,null,null,null,null,null,null,null,null,null,null,null,null,null,null,null,null,null,null,null,null,null,null,null,null,null,58,"laf                       ","56",91.79710144927536,91.79710144927536,"","","","",91.79710144927536,"","","","",31,"","","","","","","","","","","","","","","","","","","","",null,"58. laf                      (56 pts)","laf                       ","  (56 pts)","  (56","  56","56"]
[null,null,null,null,null,null,null,null,null,null,null,null,null,null,null,null,null,null,null,null,null,null,null,null,null,null,59,"Thunda                    ","26",{"$f":"MAX(AF65:AJ65)","v":86.600234024081828},{"$f":"SUM(AF65:AJ65)/COUNT(AF65:AJ65)","v":86.600234024081828},{"$f":"IF(SUMIF(C$7:C$998,$AB65,E$7:E$998)=0,\"\",VLOOKUP($AB65,C$7:E$998,3,FALSE))","v":""},{"$f":"IF(SUMIF(H$7:H$999,$AB65,J$7:J$999)=0,\"\",VLOOKUP($AB65,H$7:J$999,3,FALSE))","v":86.600234024081828},{"$f":"IF(SUMIF(M$7:M$998,$AB65,O$7:O$998)=0,\"\",VLOOKUP($AB65,M$7:O$998,3,FALSE))","v":""},{"$f":"IF(SUMIF(R$7:R$998,$AB65,T$7:T$998)=0,\"\",VLOOKUP($AB65,R$7:T$998,3,FALSE))","v":""},{"$f":"IF(SUMIF(W$7:W$998,$AB65,Y$7:Y$998)=0,\"\",VLOOKUP($AB65,W$7:Y$998,3,FALSE))","v":""},"",36,"","","","","","","","","","","","","","","","","","","","","","","",null,"59. Thunda                   (26 pts)","Thunda                    ","  (26 pts)","  (26","  26","26"]
[null,null,null,null,null,null,null,null,null,null,null,null,null,null,null,null,null,null,null,null,null,null,null,null,null,null,60,"Broomstig                 ","7",77.186426603253693,77.186426603253693,"",77.186426603253693,"","","","",39,"","","","","","","","","","","","","","","","","","","","","","","",null,"60. Broomstig                 (7 pts)","Broomstig                 ","   (7 pts)","   (7","   7","7"]
[null,null,null,null,null,null,null,null,null,null,null,null,null,null,null,null,null,null,null,null,null,null,null,null,null,null,null,null,null,null,null,null,null,null,null,null,null,null,null,null,null,null,null,null,null,null,null,null,null,null,null,null,null,null,null,null,null,null,null,null,null,null,null,null,"","",{"$error":"#VALUE!"},{"$error":"#VALUE!"}]
[null,null,null,null,null,null,null,null,null,null,null,null,null,null,null,null,null,null,null,null,null,null,null,null,null,null,null,null,null,null,null,null,null,null,null,null,null,null,null,null,null,null,null,null,null,null,null,null,null,null,null,null,null,null,null,null,null,null,null,null,null,null,null,null,"","",{"$error":"#VALUE!"},{"$error":"#VALUE!"}]
[null,null,null,null,null,null,null,null,null,null,null,null,null,null,null,null,null,null,null,null,null,null,null,null,null,null,null,null,null,null,null,null,null,null,null,null,null,null,null,null,null,null,null,null,null,null,null,null,null,null,null,null,null,null,null,null,null,null,null,null,null,null,null,null,"","",{"$error":"#VALUE!"},{"$error":"#VALUE!"}]
[null,null,null,null,null,null,null,null,null,null,null,null,null,null,null,null,null,null,null,null,null,null,null,null,null,null,null,null,null,null,null,null,null,null,null,null,null,null,null,null,null,null,null,null,null,null,null,null,null,null,null,null,null,null,null,null,null,null,null,null,null,null,null,null,"","",{"$error":"#VALUE!"},{"$error":"#VALUE!"}]
[null,null,null,null,null,null,null,null,null,null,null,null,null,null,null,null,null,null,null,null,null,null,null,null,null,null,null,null,null,null,null,null,null,null,null,null,null,null,null,null,null,null,null,null,null,null,null,null,null,null,null,null,null,null,null,null,null,null,null,null,null,null,null,null,"","",{"$error":"#VALUE!"},{"$error":"#VALUE!"}]
[null,null,null,null,null,null,null,null,null,null,null,null,null,null,null,null,null,null,null,null,null,null,null,null,null,null,null,null,null,null,null,null,null,null,null,null,null,null,null,null,null,null,null,null,null,null,null,null,null,null,null,null,null,null,null,null,null,null,null,null,null,null,null,null,{"$f":"RIGHT(BK72,10)","v":""},{"$f":"LEFT(BM72,5)","v":""},{"$f":"REPLACE(BN72,SEARCH(\"(\",BN72),1,\"\")","v":{"$error":"#VALUE!"}},{"$f":"TRIM(BO72)","v":{"$error":"#VALUE!"}}]
[null,null,null,null,null,null,null,null,null,null,null,null,null,null,null,null,null,null,null,null,null,null,null,null,null,null,null,null,null,null,null,null,null,null,null,null,null,null,null,null,null,null,null,null,null,null,null,null,null,null,null,null,null,null,null,null,null,null,null,null,null,null,null,null,"","",{"$error":"#VALUE!"},{"$error":"#VALUE!"}]
[null,null,null,null,null,null,null,null,null,null,null,null,null,null,null,null,null,null,null,null,null,null,null,null,null,null,null,null,null,null,null,null,null,null,null,null,null,null,null,null,null,null,null,null,null,null,null,null,null,null,null,null,null,null,null,null,null,null,null,null,null,null,null,null,"","",{"$error":"#VALUE!"},{"$error":"#VALUE!"}]
[null,null,null,null,null,null,null,null,null,null,null,null,null,null,null,null,null,null,null,null,null,null,null,null,null,null,null,null,null,null,null,null,null,null,null,null,null,null,null,null,null,null,null,null,null,null,null,null,null,null,null,null,null,null,null,null,null,null,null,null,null,null,null,null,"","",{"$error":"#VALUE!"},{"$error":"#VALUE!"}]
[null,null,null,null,null,null,null,null,null,null,null,null,null,null,null,null,null,null,null,null,null,null,null,null,null,null,null,null,null,null,null,null,null,null,null,null,null,null,null,null,null,null,null,null,null,null,null,null,null,null,null,null,null,null,null,null,null,null,null,null,null,null,null,null,"","",{"$error":"#VALUE!"},{"$error":"#VALUE!"}]

{"sheet":"week4","index":3,"n_rows":76,"n_cols":68,"rows_kept":76,"cut":false,"hidden":false,"merged":[]}
[null,"*** Weekly Hot Lap Competition Results"]
[]
[null,"Start Time: 2014-12-20 16:23:27"]
[null,"End Time: 2014-12-27 16:23:27"]
[]
[null,"* Results for Sc_Bonneville, AntiSlider:",null,null,null,null,"* Results for Sc_Bonneville, EasySlider:",null,null,null,null,"* Results for Sc_Bonneville, Spinner:",null,null,null,null,"* Results for Sc_Bonneville, Slider:",null,null,null,null,"* Results for Sc_Bonneville, Speeder:",null,null,null,null,null,null,"Pts","Max","Av","Anti","Easy","Spin","Slide","Speed","Ant","Eas","Spn","Sld","Spd",1,2,3,4,5,6,7,8,9,10,11,12,13,14,15,16,17,18,19,20,null,"Overall Results:"]
[null," 1. [+] Tinjovic              26.786   (1000 pts)",{"$f":"LEFT(RIGHT(B7,LEN(B7)-4),LEN(RIGHT(B7,LEN(B7)-4))-19)","v":"[+] Tinjovic              "},{"$f":"VALUE(LEFT(RIGHT(B7,19+0),6))/1000","v":26.786000000000001},100,null," 1. [+] Tinjovic              27.773   (1000 pts)",{"$f":"LEFT(RIGHT(G7,LEN(G7)-4),LEN(RIGHT(G7,LEN(G7)-4))-19)","v":"[+] Tinjovic              "},{"$f":"VALUE(LEFT(RIGHT(G7,19+0),6))/1000","v":27.773},100,null," 1. [+] Tinjovic              27.487   (1000 pts)",{"$f":"LEFT(RIGHT(L7,LEN(L7)-4),LEN(RIGHT(L7,LEN(L7)-4))-19)","v":"[+] Tinjovic              "},{"$f":"VALUE(LEFT(RIGHT(L7,19+0),6))/1000","v":27.486999999999998},100,null," 1. [x] Mike Nike             27.532   (1000 pts)",{"$f":"LEFT(RIGHT(Q7,LEN(Q7)-4),LEN(RIGHT(Q7,LEN(Q7)-4))-19)","v":"[x] Mike Nike             "},{"$f":"VALUE(LEFT(RIGHT(Q7,19+0),6))/1000","v":27.532},100,null," 1. [+] Tinjovic              25.867   (1000 pts)",{"$f":"LEFT(RIGHT(V7,LEN(V7)-4),LEN(RIGHT(V7,LEN(V7)-4))-19)","v":"[+] Tinjovic              "},{"$f":"VALUE(LEFT(RIGHT(V7,19+0),6))/1000","v":25.867000000000001},100,null,1,{"$f":"BL7","v":"[+] Tinjovic              "},{"$f":"BP7","v":"998"},{"$f":"MAX(AF7:AJ7)","v":100},{"$f":"SUM(AF7:AJ7)/COUNT(AF7:AJ7)","v":99.988377161121605},{"$f":"IF(SUMIF(C$7:C$995,$AB7,E$7:E$995)=0,\"\",VLOOKUP($AB7,C$7:E$995,3,FALSE))","v":100},{"$f":"IF(SUMIF(H$7:H$996,$AB7,J$7:J$996)=0,\"\",VLOOKUP($AB7,H$7:J$996,3,FALSE))","v":100},{"$f":"IF(SUMIF(M$7:M$995,$AB7,O$7:O$995)=0,\"\",VLOOKUP($AB7,M$7:O$995,3,FALSE))","v":100},{"$f":"IF(SUMIF(R$7:R$995,$AB7,T$7:T$995)=0,\"\",VLOOKUP($AB7,R$7:T$995,3,FALSE))","v":99.941885805608024},{"$f":"IF(SUMIF(W$7:W$995,$AB7,Y$7:Y$995)=0,\"\",VLOOKUP($AB7,W$7:Y$995,3,FALSE))","v":100},{"$f":"IF(AF7=\"\",\"\",RANK(AF7,AF$7:AF$999,0))","v":1},{"$f":"IF(AG7=\"\",\"\",RANK(AG7,AG$7:AG$999,0))","v":1},1,2,1,{"$f":"IF(SUMIF($AK7:$AO7,AP$6)/AP$6=0,\"\",SUMIF($AK7:$AO7,AP$6)/AP$6)","v":4},1,"","","","","","","","","","","","","","",{"$f":"IF(SUMIF($AK7:$AO7,BF$6)/BF$6=0,\"\",SUMIF($AK7:$AO7,BF$6)/BF$6)","v":""},"","","",null," 1. [+] Tinjovic            (998 pts)",{"$f":"CONCATENATE(LEFT(RIGHT(BK7,LEN(BK7)-4),LEN(RIGHT(BK7,LEN(BK7)-4))-9),\"  \")","v":"[+] Tinjovic              "},{"$f":"RIGHT(BK7,10)","v":" (998 pts)"},{"$f":"LEFT(BM7,5)","v":" (998"},{"$f":"REPLACE(BN7,SEARCH(\"(\",BN7),1,\"\")","v":" 998"},{"$f":"TRIM(BO7)","v":"998"}]
[null," 2. [x] Mike Nike             26.801    (991 pts)",{"$f":"LEFT(RIGHT(B8,LEN(B8)-4),LEN(RIGHT(B8,LEN(B8)-4))-19)","v":"[x] Mike Nike             "},26.800999999999998,{"$f":"100-(D8-D$7)/D$7*100","v":99.944000597326976},null," 2. [+] dede                  27.832    (966 pts)",{"$f":"LEFT(RIGHT(G8,LEN(G8)-4),LEN(RIGHT(G8,LEN(G8)-4))-19)","v":"[+] dede                  "},{"$f":"VALUE(LEFT(RIGHT(G8,19+0),6))/1000","v":27.832000000000001},{"$f":"100-(I8-I$7)/I$7*100","v":99.78756346091528},null," 2. [x] Mike Nike             27.496    (994 pts)",{"$f":"LEFT(RIGHT(L8,LEN(L8)-4),LEN(RIGHT(L8,LEN(L8)-4))-19)","v":"[x] Mike Nike             "},{"$f":"VALUE(LEFT(RIGHT(L8,19+0),6))/1000","v":27.495999999999999},{"$f":"100-(N8-N$7)/N$7*100","v":99.967257248881282},null," 2. [+] Tinjovic              27.548    (990 pts)",{"$f":"LEFT(RIGHT(Q8,LEN(Q8)-4),LEN(RIGHT(Q8,LEN(Q8)-4))-19)","v":"[+] Tinjovic              "},{"$f":"VALUE(LEFT(RIGHT(Q8,19+0),6))/1000","v":27.547999999999998},{"$f":"100-(S8-S$7)/S$7*100","v":99.941885805608024},null," 2. [x] Mike Nike             25.989    (927 pts)",{"$f":"LEFT(RIGHT(V8,LEN(V8)-4),LEN(RIGHT(V8,LEN(V8)-4))-19)","v":"[x] Mike Nike             "},{"$f":"VALUE(LEFT(RIGHT(V8,19+0),6))/1000","v":25.989000000000001},{"$f":"100-(X8-X$7)/X$7*100","v":99.528356593342863},null,2,{"$f":"BL8","v":"[x] Mike Nike             "},{"$f":"BP8","v":"968"},100,99.795026909801976,99.944000597326976,99.535520109458815,99.967257248881282,100,99.528356593342863,{"$f":"IF(AF8=\"\",\"\",RANK(AF8,AF$7:AF$999,0))","v":2},{"$f":"IF(AG8=\"\",\"\",RANK(AG8,AG$7:AG$999,0))","v":3},{"$f":"IF(AH8=\"\",\"\",RANK(AH8,AH$7:AH$999,0))","v":2},{"$f":"IF(AI8=\"\",\"\",RANK(AI8,AI$7:AI$999,0))","v":1},{"$f":"IF(AJ8=\"\",\"\",RANK(AJ8,AJ$7:AJ$999,0))","v":2},1,3,1,"","","","","","","","","","","","","","","","","",null," 2. [x] Mike Nike           (968 pts)",{"$f":"CONCATENATE(LEFT(RIGHT(BK8,LEN(BK8)-4),LEN(RIGHT(BK8,LEN(BK8)-4))-9),\"  \")","v":"[x] Mike Nike             "},{"$f":"RIGHT(BK8,10)","v":" (968 pts)"},{"$f":"LEFT(BM8,5)","v":" (968"},{"$f":"REPLACE(BN8,SEARCH(\"(\",BN8),1,\"\")","v":" 968"},{"$f":"TRIM(BO8)","v":"968"}]
[null," 3. [PahaJori] Ender          26.872    (950 pts)",{"$f":"LEFT(RIGHT(B9,LEN(B9)-4),LEN(RIGHT(B9,LEN(B9)-4))-19)","v":"[PahaJori] Ender          "},26.872,{"$f":"100-(D9-D$7)/D$7*100","v":99.678936758007922},null," 3. [x] Mike Nike             27.902    (928 pts)","[x] Mike Nike             ",27.902000000000001,{"$f":"100-(I9-I$7)/I$7*100","v":99.535520109458815},null," 3. [+] dede                  27.519    (981 pts)","[+] dede                  ",27.518999999999998,{"$f":"100-(N9-N$7)/N$7*100","v":99.883581329355692},null," 3. Matti                     27.781    (865 pts)","Matti                     ",27.780999999999999,{"$f":"100-(S9-S$7)/S$7*100","v":99.095597849774805},null," 3. Sig                       26.017    (911 pts)","Sig                       ",26.016999999999999,{"$f":"100-(X9-X$7)/X$7*100","v":99.420110565585503},null,3,"[x] Stylus                ","840",99.660270290450242,98.865126175689781,99.660270290450242,98.664170237280814,99.472477898642978,98.913990992299873,97.614721459774998,4,5,4,6,8,"","","",2,1,1,"",1,"","","","","","","","","","","","",null," 3. [x] Stylus              (840 pts)","[x] Stylus                "," (840 pts)"," (840"," 840","840"]
[null," 4. [x] Stylus                26.877    (947 pts)","[x] Stylus                ",26.876999999999999,99.660270290450242,null," 4. [fS]Palo                  28.095    (831 pts)","[fS]Palo                  ",28.094999999999999,98.840600583300329,null," 4. [x] Stylus                27.632    (919 pts)","[x] Stylus                ",27.632000000000001,99.472477898642978,null," 4. [+] dede                  27.790    (861 pts)","[+] dede                  ",27.79,99.062908615429322,null," 4. GOl V8                    26.021    (909 pts)","GOl V8                    ",26.021000000000001,99.404646847334448,null,4,"Matti                     ","834",99.301874113342805,98.850772856783777,99.301874113342805,98.653368379361254,98.857641794302765,99.095597849774805,98.345382147137272,12,6,6,3,7,"","",1,"","",2,1,"","","","",1,"","","","","","","","",null," 4. Matti                   (834 pts)","Matti                     "," (834 pts)"," (834"," 834","834"]
[null," 5. Jurgen-NL                 26.886    (942 pts)","Jurgen-NL                 ",26.885999999999999,99.626670648846414,null," 5. [x] Stylus                28.144    (808 pts)","[x] Stylus                ",28.143999999999998,98.664170237280814,null," 5. [fS]Palo                  27.654    (907 pts)","[fS]Palo                  ",27.654,99.392440062575034,null," 5. [+] olio                  27.792    (860 pts)","[+] olio                  ",27.792000000000002,99.055644341130318,null," 5. Gol_V8 ( 17 )             26.260    (785 pts)","Gol_V8 ( 17 )             ",26.26,98.480689681833994,null,5,"Jurgen-NL                 ","688",99.626670648846414,97.527663574164933,99.626670648846414,96.932272350844343,97.555207916469598,97.123347377596971,96.40081957706731,5,8,14,14,11,"","","","",1,"","",1,"","",1,"","",2,"","","","","","",null," 5. Jurgen-NL               (688 pts)","Jurgen-NL                 "," (688 pts)"," (688"," 688","688"]
[null," 6. [fS]Palo                  26.908    (929 pts)","[fS]Palo                  ",26.908000000000001,99.544538191592622,null," 6. Matti                     28.147    (807 pts)","Matti                     ",28.146999999999998,98.653368379361254,null," 6. Matti                     27.801    (833 pts)","Matti                     ",27.800999999999998,98.857641794302765,null," 6. [x] Stylus                27.831    (841 pts)","[x] Stylus                ",27.831,98.913990992299873,null," 6. Gol_v8                    26.285    (773 pts)","Gol_v8                    ",26.285,98.384041442764911,null,6,"[+] xzeal                 ","672",98.264018517135824,97.448987454328744,98.264018517135824,96.799049436503083,97.904463928402521,97.733546418712777,96.543858970889559,21,10,13,9,10,"","","","","","","","",1,2,"","",1,"","","","","","","",null," 6. [+] xzeal               (672 pts)","[+] xzeal                 "," (672 pts)"," (672"," 672","672"]
[null," 7. [+] Badeend               26.916    (925 pts)","[+] Badeend               ",26.916,99.514671843500338,null," 7. Qpa                       28.543    (645 pts)","Qpa                       ",28.542999999999999,97.227523133979048,null," 7. [iR] iBlaze²              27.848    (811 pts)","[iR] iBlaze²              ",27.847999999999999,98.686651871793941,null," 7. Kyna_Musti                27.967    (778 pts)","Kyna_Musti                ",27.966999999999999,98.420020339968048,null," 7. Matti                     26.295    (769 pts)","Matti                     ",26.295000000000002,98.345382147137272,null,7,"[iR] iBlaze²              ","653",98.686651871793941,97.204345482695629,97.84215635033226,96.561408562272703,98.686651871793941,95.45982856312655,97.471682065952763,30,11,7,16,9,"","","","","","",1,"",1,"",1,"","","","",1,"","","","",null," 7. [iR] iBlaze²            (653 pts)","[iR] iBlaze²              "," (653 pts)"," (653"," 653","653"]
[null," 8. majstorfantac             26.945    (909 pts)","majstorfantac             ",26.945,99.406406331665806,null," 8. Jurgen-NL                 28.625    (616 pts)","Jurgen-NL                 ",28.625,96.932272350844343,null," 8. majstorfantac             28.014    (737 pts)","majstorfantac             ",28.013999999999999,98.082730017826606,null," 8. AnnicK                    28.074    (732 pts)","AnnicK                    ",28.074000000000002,98.031381664971661,null," 8. [x] Stylus                26.484    (685 pts)","[x] Stylus                ",26.484000000000002,97.614721459774998,null,8,"AnnicK                    ","624",98.031381664971661,96.971690610852733,97.117897409094311,95.920498325712032,97.387856077418419,98.031381664971661,96.40081957706731,34,19,15,8,11,"","","","","","","",1,"","",1,"","","",1,"","","",1,"",null," 8. AnnicK                  (624 pts)","AnnicK                    "," (624 pts)"," (624"," 624","624"]
[null," 9. majstorfantac             26.963    (899 pts)","majstorfantac             ",26.963000000000001,99.33920704845815,null," 9. [PahaJori] Ender          28.657    (605 pts)","[PahaJori] Ender          ",28.657,96.817052533035678,null," 9. messi                     28.021    (735 pts)","messi                     ",28.021000000000001,98.057263433623163,null," 9. [+] xzeal                 28.156    (698 pts)","[+] xzeal                 ",28.155999999999999,97.733546418712777,null," 9. [iR] iBlaze²              26.521    (670 pts)","[iR] iBlaze²              ",26.521000000000001,97.471682065952763,null,9,"[+] dede                  ","561",99.883581329355692,99.578017801900103,"",99.78756346091528,99.883581329355692,99.062908615429322,"","",2,3,4,"","",1,1,1,"","","","","","","","","","","","","","","","",null," 9. [+] dede                (561 pts)","[+] dede                  "," (561 pts)"," (561"," 561","561"]
[null,"10. Matti                     26.973    (894 pts)","Matti                     ",26.972999999999999,99.301874113342805,null,"10. [+] xzeal                 28.662    (604 pts)","[+] xzeal                 ",28.661999999999999,96.799049436503083,null,"10. majstorfantac             28.032    (730 pts)","majstorfantac             ",28.032,98.017244515589184,null,"10. majstorfantac             28.267    (656 pts)","majstorfantac             ",28.266999999999999,97.330379195118411,null,"10. [+] xzeal                 26.761    (580 pts)","[+] xzeal                 ",26.760999999999999,96.543858970889559,null,10,"GOl V8                    ","554",99.404646847334448,97.499227094395934,98.540282236989484,96.039318762827207,96.012660530432569,"",99.404646847334448,18,16,18,"",4,"","","",1,"","","","","","","","","","","",1,"",2,"","",null,"10. GOl V8                  (554 pts)","GOl V8                    "," (554 pts)"," (554"," 554","554"]
[null,"11. messi                     26.992    (884 pts)","messi                     ",26.992000000000001,99.230941536623618,null,"11. [iR] iBlaze²              28.728    (582 pts)","[iR] iBlaze²              ",28.728000000000002,96.561408562272703,null,"11. [+] xzeal                 28.063    (717 pts)","[+] xzeal                 ",28.062999999999999,97.904463928402521,null,"11. Jurgen-NL                 28.324    (635 pts)","Jurgen-NL                 ",28.324000000000002,97.123347377596971,null,"11. Jurgen-NL                 26.798    (567 pts)","Jurgen-NL                 ",26.797999999999998,96.40081957706731,null,11,"messi                     ","547",99.230941536623618,95.578464421754717,99.230941536623618,94.750297051092787,98.057263433623163,93.825366845852102,92.028453241581943,13,21,12,17,20,"","","","","","","","","","","",1,1,"","","",1,"","",1,null,"11. messi                   (547 pts)","messi                     "," (547 pts)"," (547"," 547","547"]
[null,"12. batjunior                 26.999    (880 pts)","batjunior                 ",26.998999999999999,99.204808482042864,null,"12. majstorfantac             28.731    (581 pts)","majstorfantac             ",28.731000000000002,96.550606704353143,null,"12. Jurgen-NL                 28.159    (679 pts)","Jurgen-NL                 ",28.158999999999999,97.555207916469598,null,"12. majstorfantac             28.353    (624 pts)","majstorfantac             ",28.353000000000002,97.018015400261504,null,"12. AnnicK                    26.798    (567 pts)","AnnicK                    ",26.797999999999998,96.40081957706731,null,12,"[fS]Palo                  ","533",99.544538191592622,99.259192945822647,99.544538191592622,98.840600583300329,99.392440062575034,"","",6,4,5,"","","","","",1,1,1,"","","","","","","","","","","","","","",null,"12. [fS]Palo                (533 pts)","[fS]Palo                  "," (533 pts)"," (533"," 533","533"]
[null,"13. Kyna_Musti                27.034    (862 pts)","Kyna_Musti                ",27.033999999999999,99.074143209139109,null,"13. GOl V8                    28.873    (537 pts)","GOl V8                    ",28.873000000000001,96.039318762827207,null,"13. AnnicK                    28.205    (661 pts)","AnnicK                    ",28.204999999999998,97.387856077418419,null,"13. pozdro600                 28.382    (614 pts)","pozdro600                 ",28.382000000000001,96.912683422926051,null,"13. Ninjinha_br               26.801    (566 pts)","Ninjinha_br               ",26.800999999999998,96.389221788379018,null,13,"majstorfantac             ","516",99.406406331665806,97.842530562240995,99.406406331665806,96.550606704353143,98.082730017826606,97.330379195118411,"",8,12,8,10,"","","","","","","","",2,"",1,"",1,"","","","","","","","",null,"13. majstorfantac           (516 pts)","majstorfantac             "," (516 pts)"," (516"," 516","516"]
[null,"14. [x] Whiplash              27.054    (852 pts)","[x] Whiplash              ",27.053999999999998,98.999477338908392,null,"14. majstorfantac             28.886    (533 pts)","majstorfantac             ",28.885999999999999,95.992510711842442,null,"14. JJ Nylander               28.539    (548 pts)","JJ Nylander               ",28.539000000000001,96.172736202568473,null,"14. majstorfantac             28.564    (555 pts)","majstorfantac             ",28.564,96.251634461717273,null,"14. [PahaJori] Ender          27.127    (467 pts)","[PahaJori] Ender          ",27.126999999999999,95.128928750918163,null,14,"pozdro600                 ","489",97.046964832375124,95.254576952302997,97.046964832375124,94.674684045655852,94.539236730090579,96.912683422926051,93.099315730467396,35,22,20,15,18,"","","","","","","","","","","","","","",1,"","",1,"",1,null,"14. pozdro600               (489 pts)","pozdro600                 "," (489 pts)"," (489"," 489","489"]
[null,"15. majstorfantac             27.137    (811 pts)","majstorfantac             ",27.137,98.689613977450904,null,"15. Shaytun                   28.898    (529 pts)","Shaytun                   ",28.898,95.949303280164187,null,"15. GOl V8                    28.583    (534 pts)",{"$f":"LEFT(RIGHT(L21,LEN(L21)-4),LEN(RIGHT(L21,LEN(L21)-4))-19)","v":"GOl V8                    "},{"$f":"VALUE(LEFT(RIGHT(L21,19+0),6))/1000","v":28.582999999999998},{"$f":"100-(N21-N$7)/N$7*100","v":96.012660530432569},null,"15. majstorfantac             28.722    (508 pts)","majstorfantac             ",28.722000000000001,95.67775679209646,null,"15. Fa la la la la            27.156    (459 pts)",{"$f":"LEFT(RIGHT(V21,LEN(V21)-4),LEN(RIGHT(V21,LEN(V21)-4))-19)","v":"Fa la la la la            "},{"$f":"VALUE(LEFT(RIGHT(V21,19+0),6))/1000","v":27.155999999999999},{"$f":"100-(X21-X$7)/X$7*100","v":95.016816793598025},null,15,"Shaytun                   ","472",98.043754199955217,94.73389936910651,98.043754199955217,95.949303280164187,95.728890020737069,92.870114775533921,91.077434569142156,24,17,19,19,21,"","","","","","","","","","","","","","","","",1,"",2,"",null,"15. Shaytun                 (472 pts)","Shaytun                   "," (472 pts)"," (472"," 472","472"]
[null,"16. Double O Seven            27.173    (794 pts)","Double O Seven            ",27.172999999999998,98.555215411035633,null,"16. \\/\\/ | |_ |_              28.903    (528 pts)","\\/\\/ | |_ |_              ",28.902999999999999,95.931300183631592,null,"16. Shaytun                   28.661    (512 pts)","Shaytun                   ",28.661000000000001,95.728890020737069,null,"16. [iR] iBlaze²              28.782    (491 pts)",{"$f":"LEFT(RIGHT(Q22,LEN(Q22)-4),LEN(RIGHT(Q22,LEN(Q22)-4))-19)","v":"[iR] iBlaze²              "},{"$f":"VALUE(LEFT(RIGHT(Q22,19+0),6))/1000","v":28.782},{"$f":"100-(S22-S$7)/S$7*100","v":95.45982856312655},null,"16. Qpa                       27.623    (349 pts)","Qpa                       ",27.623000000000001,93.211427687787534,null,16,"majstorfantac             ","440",99.406406331665806,97.842530562240995,99.406406331665806,96.550606704353143,98.082730017826606,97.330379195118411,"",8,12,8,10,"","","","","","","","",2,"",1,"",1,"","","","","","","","",null,"16. majstorfantac           (440 pts)","majstorfantac             "," (440 pts)"," (440"," 440","440"]
[null,"17. GOl V8                    27.177    (793 pts)","GOl V8                    ",27.177,98.540282236989484,null,"17. AnnicK                    28.906    (527 pts)","AnnicK                    ",28.905999999999999,95.920498325712032,null,"17. pozdro600                 28.988    (427 pts)","pozdro600                 ",28.988,94.539236730090579,null,"17. messi                     29.232    (383 pts)","messi                     ",29.231999999999999,93.825366845852102,null,"17. \\/\\/ | |_ |_              27.629    (348 pts)","\\/\\/ | |_ |_              ",27.629000000000001,93.188232110410951,null,17,"Qpa                       ","426",98.3760173224819,95.583808867385684,98.3760173224819,97.227523133979048,"",93.520267325294213,93.211427687787534,19,7,"",18,16,{"$f":"IF(SUMIF($AK23:$AO23,AP$6)/AP$6=0,\"\",SUMIF($AK23:$AO23,AP$6)/AP$6)","v":""},"","","","","",1,"","","","","","","","",1,{"$f":"IF(SUMIF($AK23:$AO23,BF$6)/BF$6=0,\"\",SUMIF($AK23:$AO23,BF$6)/BF$6)","v":""},1,1,"",null,"17. Qpa                     (426 pts)","Qpa                       "," (426 pts)"," (426"," 426","426"]
[null,"18. Qpa                       27.221    (772 pts)","Qpa                       ",27.221,98.3760173224819,null,"18. Bleached Anus             28.932    (519 pts)","Bleached Anus             ",28.931999999999999,95.826882223742487,null,null,null,null,null,null,"18. Qpa                       29.316    (366 pts)","Qpa                       ",29.315999999999999,93.520267325294213,null,"18. pozdro600                 27.652    (343 pts)","pozdro600                 ",27.652000000000001,93.099315730467396,null,18,"[PahaJori] Ender          ","404",99.678936758007922,97.208306013987269,99.678936758007922,96.817052533035678,"","",95.128928750918163,3,9,"","",14,"","",1,"","","","","",1,"","","","",1,"","","","","","",null,"18. [PahaJori] Ender        (404 pts)","[PahaJori] Ender          "," (404 pts)"," (404"," 404","404"]
[null,"19. \\/\\/ | |_ |_              27.247    (761 pts)","\\/\\/ | |_ |_              ",27.247,98.278951691181973,null,"19. messi                     29.231    (441 pts)","messi                     ",29.231000000000002,94.750297051092787,null,null,null,null,null,null,"19. Shaytun                   29.495    (332 pts)","Shaytun                   ",29.495000000000001,92.870114775533921,null,"19. Jaka                      27.728    (329 pts)","Jaka                      ",27.728000000000002,92.805505083697369,null,19,"JJ Nylander               ","348",96.172736202568473,93.662081042046026,95.632046591503027,94.671083426349327,96.172736202568473,91.282870841202964,90.551668148606339,41,23,16,21,22,"","","","","","","","","","","","","","","",1,"","","","",null,"19. JJ Nylander             (348 pts)","JJ Nylander               "," (348 pts)"," (348"," 348","348"]
[null,"20. [+] xzeal                 27.251    (759 pts)","[+] xzeal                 ",27.251000000000001,98.264018517135824,null,"20. pozdro600                 29.252    (435 pts)","pozdro600                 ",29.251999999999999,94.674684045655852,null,null,null,null,null,null,"20. Augusto                   29.585    (316 pts)","Augusto                   ",29.585000000000001,92.543222432079034,null,"20. messi                     27.929    (293 pts)","messi                     ",27.928999999999998,92.028453241581943,null,20,"Kyna_Musti                ","328",99.074143209139109,98.747081774553578,99.074143209139109,"","",98.420020339968048,"",15,"","",7,"","","","","","","",1,"","","","","","","",1,"","","","","",null,"20. Kyna_Musti              (328 pts)","Kyna_Musti                "," (328 pts)"," (328"," 328","328"]
[null,"21. lds                       27.255    (757 pts)","lds                       ",27.254999999999999,98.249085343089689,null,"21. JJ Nylander               29.253    (435 pts)","JJ Nylander               ",29.253,94.671083426349327,null,null,null,null,null,null,"21. JJ Nylander               29.932    (262 pts)","JJ Nylander               ",29.931999999999999,91.282870841202964,null,"21. Shaytun                   28.175    (254 pts)","Shaytun                   ",28.175000000000001,91.077434569142156,null,21,"\\/\\/ | |_ |_              ","327",98.278951691181973,95.799494661741505,98.278951691181973,95.931300183631592,"","",93.188232110410951,20,18,"","",17,"","","","","","","","","","","","","","","","",1,1,"",1,null,"21. \\/\\/ | |_ |_            (327 pts)","\\/\\/ | |_ |_              "," (327 pts)"," (327"," 327","327"]
[null,"22. Nico Hulkenberg           27.261    (754 pts)","Nico Hulkenberg           ",27.260999999999999,98.226685582020465,null,"22. Nico Hulkenberg           29.333    (417 pts)","Nico Hulkenberg           ",29.332999999999998,94.383033881827686,null,null,null,null,null,null,"22. FliZeR                    30.536    (190 pts)","FliZeR                    ",30.536000000000001,89.089060002905711,null,"22. JJ Nylander               28.311    (235 pts)","JJ Nylander               ",28.311,90.551668148606339,null,22,"Sig                       ","321",99.420110565585503,98.571400761774314,97.722690957963124,"","","",99.420110565585503,31,"","","",3,"","",1,"","","","","","","","","","","","","","","","","",null,"22. Sig                     (321 pts)","Sig                       "," (321 pts)"," (321"," 321","321"]
[null,"23. Shaytun                   27.310    (733 pts)","Shaytun                   ",27.31,98.043754199955217,null,"23. Augusto                   29.369    (409 pts)","Augusto                   ",29.369,94.253411586792922,null,null,null,null,null,null,"23. JJ Nylander               32.379     (74 pts)","JJ Nylander               ",32.378999999999998,82.395031236379495,null,"23. laf                       28.391    (225 pts)","laf                       ",28.390999999999998,90.242393783585271,null,23,"majstorfantac             ","311",99.406406331665806,97.842530562240995,99.406406331665806,96.550606704353143,98.082730017826606,97.330379195118411,"",8,12,8,10,"","","","","","","","",2,"",1,"",1,"","","","","","","","",null,"23. majstorfantac           (311 pts)","majstorfantac             "," (311 pts)"," (311"," 311","311"]
[null,"24. ROMREI                    27.314    (731 pts)","ROMREI                    ",27.314,98.028821025909068,null,"24. JJ Nylander               29.979    (294 pts)","JJ Nylander               ",29.978999999999999,92.057033809815294,null,null,null,null,null,null,"24. Gol_V8 ( 17 )             43.290      (0 pts)","Gol_V8 ( 17 )             ",43.29,42.764782798198468,null,"24. DEAD FISH                 31.207     (49 pts)","DEAD FISH                 ",31.207000000000001,79.355936134843631,null,24,"Gol_v8                    ","263",98.384041442764911,97.24697480187227,96.109908160979629,"","","",98.384041442764911,39,"","","",6,"","","","","",1,"","","","","","","","","","","","","","",null,"24. Gol_v8                  (263 pts)","Gol_v8                    "," (263 pts)"," (263"," 263","263"]
[null,"25. KLE621                    27.317    (730 pts)","KLE621                    ",27.317,98.017621145374449,null,"25. FliZeR                    30.902    (181 pts)","FliZeR                    ",30.902000000000001,88.733662189896663,null,null,null,null,null,null,"25. DEAD FISH               2:12.389      (0 pts)","DEAD FISH               2:",132.38900000000001,{"$f":"100-(S31-S$7)/S$7*100","v":-280.85500508499206},null,"25. Kooler                    31.332     (46 pts)","Kooler                    ",31.332000000000001,78.872694939498203,null,25,"Augusto                   ","258",96.408571641902483,94.401735220258161,96.408571641902483,94.253411586792922,"",92.543222432079034,"",38,26,"",20,"","","","","","","","","","","","","","","","","","","","",1,null,"25. Augusto                 (258 pts)","Augusto                   "," (258 pts)"," (258"," 258","258"]
[null,"26. power79                   27.318    (730 pts)","power79                   ",27.318000000000001,98.013887851862918,null,"26. DEAD FISH                 32.640     (75 pts)","DEAD FISH                 ",32.64,82.475785835163649,null,null,null,null,null,null,null,null,null,null,null,"26. FliZeR                    33.178     (18 pts)","FliZeR                    ",33.177999999999997,71.736188966637044,null,26,"majstorfantac             ","241",99.406406331665806,97.842530562240995,99.406406331665806,96.550606704353143,98.082730017826606,97.330379195118411,"",8,12,8,10,"","","","","","","","",2,"",1,"",1,"","","","","","","","",null,"26. majstorfantac           (241 pts)","majstorfantac             "," (241 pts)"," (241"," 241","241"]
[null,"27. Fa la la la la            27.332    (724 pts)","Fa la la la la            ",27.332000000000001,97.961621742701411,null,"27. [iR] Etmil                38.123      (6 pts)","[iR] Etmil                ",38.122999999999998,62.733590177510543,null,null,null,null,null,null,null,null,null,null,null,null,null,null,null,null,27,"Fa la la la la            ","236",97.961621742701411,96.489219268149725,97.961621742701411,"","","",95.016816793598025,28,"","","",15,"","","","","","","","","","","","","","",1,"","","","","",null,"27. Fa la la la la          (236 pts)","Fa la la la la            "," (236 pts)"," (236"," 236","236"]
[null,"28. [FUN] GR8 Arjen!          27.347    (717 pts)","[FUN] GR8 Arjen!          ",27.347000000000001,97.905622340028373,null,"28. I-IenR!Kubica             42.580      (1 pts)","I-IenR!Kubica             ",42.58,46.68562992834768,null,null,null,null,null,null,null,null,null,null,null,null,null,null,null,null,28,"Nico Hulkenberg           ","234",98.226685582020465,96.304859731924068,98.226685582020465,94.383033881827686,"","","",23,25,"","","","","","","","","","","","","","","","","","","","","","","",null,"28. Nico Hulkenberg         (234 pts)","Nico Hulkenberg           "," (234 pts)"," (234"," 234","234"]
[null,"29. [iR] iBlaze²              27.364    (710 pts)","[iR] iBlaze²              ",27.364000000000001,97.84215635033226,null,null,null,null,null,null,null,null,null,null,null,null,null,null,null,null,null,null,null,null,null,29,"Bleached Anus             ","226",96.878966624356011,96.352924424049249,96.878966624356011,95.826882223742487,"","","",36,20,"","","","","","","","","","","","","","","","","","","","","","",1,null,"29. Bleached Anus           (226 pts)","Bleached Anus             "," (226 pts)"," (226"," 226","226"]
[null,"30. Sig                       27.396    (697 pts)","Sig                       ",27.396000000000001,97.722690957963124,null,null,null,null,null,null,null,null,null,null,null,null,null,null,null,null,null,null,null,null,null,30,"JJ Nylander               ","212",96.172736202568473,93.662081042046026,95.632046591503027,94.671083426349327,96.172736202568473,91.282870841202964,90.551668148606339,41,23,16,21,22,"","","","","","","","","","","","","","","",1,"","","","",null,"30. JJ Nylander             (212 pts)","JJ Nylander               "," (212 pts)"," (212"," 212","212"]
[null,"31. RiantHoff                 27.426    (685 pts)","RiantHoff                 ",27.425999999999998,97.610692152617048,null,null,null,null,null,null,null,null,null,null,null,null,null,null,null,null,null,null,null,null,null,31,"[+] Badeend               ","185",99.514671843500338,99.514671843500338,99.514671843500338,"","","","",7,"","","","","","","","","","",1,"","","","","","","","","","","","","",null,"31. [+] Badeend             (185 pts)","[+] Badeend               "," (185 pts)"," (185"," 185","185"]
[null,"32. put                       27.552    (636 pts)","put                       ",27.552,97.140297170163521,null,null,null,null,null,null,null,null,null,null,null,null,null,null,null,null,null,null,null,null,null,32,"batjunior                 ","176",99.204808482042864,99.204808482042864,99.204808482042864,"","","","",14,"","","","","","","","","","","","","","","","","",1,"","","","","","",null,"32. batjunior               (176 pts)","batjunior                 "," (176 pts)"," (176"," 176","176"]
[null,"33. AnnicK                    27.558    (634 pts)","AnnicK                    ",27.558,97.117897409094311,null,null,null,null,null,null,null,null,null,null,null,null,null,null,null,null,null,null,null,null,null,33,"[+] olio                  ","172",99.055644341130318,99.055644341130318,{"$f":"IF(SUMIF(C$7:C$995,$AB39,E$7:E$995)=0,\"\",VLOOKUP($AB39,C$7:E$995,3,FALSE))","v":""},{"$f":"IF(SUMIF(H$7:H$996,$AB39,J$7:J$996)=0,\"\",VLOOKUP($AB39,H$7:J$996,3,FALSE))","v":""},{"$f":"IF(SUMIF(M$7:M$995,$AB39,O$7:O$995)=0,\"\",VLOOKUP($AB39,M$7:O$995,3,FALSE))","v":""},{"$f":"IF(SUMIF(R$7:R$995,$AB39,T$7:T$995)=0,\"\",VLOOKUP($AB39,R$7:T$995,3,FALSE))","v":99.055644341130318},{"$f":"IF(SUMIF(W$7:W$995,$AB39,Y$7:Y$995)=0,\"\",VLOOKUP($AB39,W$7:Y$995,3,FALSE))","v":""},"","","",5,"",{"$f":"IF(SUMIF($AK39:$AO39,AP$6)/AP$6=0,\"\",SUMIF($AK39:$AO39,AP$6)/AP$6)","v":""},"","","",1,"","","","","","","","","","","",{"$f":"IF(SUMIF($AK39:$AO39,BF$6)/BF$6=0,\"\",SUMIF($AK39:$AO39,BF$6)/BF$6)","v":""},"","","",null,"33. [+] olio                (172 pts)","[+] olio                  "," (172 pts)"," (172"," 172","172"]
[null,"34. pozdro600                 27.577    (627 pts)","pozdro600                 ",27.577000000000002,97.046964832375124,null,null,null,null,null,null,null,null,null,null,null,null,null,null,null,null,null,null,null,null,null,34,"[x] Whiplash              ","170",98.999477338908392,98.999477338908392,98.999477338908392,"","","","",16,"","","","","","","","","","","","","","","","","","","",1,"","","","",null,"34. [x] Whiplash            (170 pts)","[x] Whiplash              "," (170 pts)"," (170"," 170","170"]
[null,"35. Bleached Anus             27.622    (611 pts)","Bleached Anus             ",27.622,96.878966624356011,null,null,null,null,null,null,null,null,null,null,null,null,null,null,null,null,null,null,null,null,null,35,"Jaka                      ","162",95.355782871649367,94.080643977673361,95.355782871649367,"","","",92.805505083697369,43,"","","",19,"","","","","","","","","","","","","","","","","","",1,"",null,"35. Jaka                    (162 pts)","Jaka                      "," (162 pts)"," (162"," 162","162"]
[null,"36. Qri                       27.643    (604 pts)","Qri                       ",27.643000000000001,96.800567460613763,null,null,null,null,null,null,null,null,null,null,null,null,null,null,null,null,null,null,null,null,null,36,"Double O Seven            ","158",98.555215411035633,98.555215411035633,98.555215411035633,"","","","",17,"","","","","","","","","","","","","","","","","","","","",1,"","","",null,"36. Double O Seven          (158 pts)","Double O Seven            "," (158 pts)"," (158"," 158","158"]
[null,"37. Augusto                   27.748    (568 pts)","Augusto                   ",27.748000000000001,96.408571641902483,null,null,null,null,null,null,null,null,null,null,null,null,null,null,null,null,null,null,null,null,null,37,"Gol_V8 ( 17 )             ","157",98.480689681833994,70.622736240016224,"","","",42.764782798198468,98.480689681833994,"","","",25,5,"","","","",1,"","","","","","","","","","","","","","","",null,"37. Gol_V8 ( 17 )           (157 pts)","Gol_V8 ( 17 )             "," (157 pts)"," (157"," 157","157"]
[null,"38. Gol_v8                    27.828    (543 pts)","Gol_v8                    ",27.827999999999999,96.109908160979629,null,null,null,null,null,null,null,null,null,null,null,null,null,null,null,null,null,null,null,null,null,38,"laf                       ","152",96.012842529679688,93.127618156632479,96.012842529679688,"","","",90.242393783585271,40,"","","",24,"","","","","","","","","","","","","","","","","","","","",null,"38. laf                     (152 pts)","laf                       "," (152 pts)"," (152"," 152","152"]
[null,"39. laf                       27.854    (534 pts)","laf                       ",27.853999999999999,96.012842529679688,null,null,null,null,null,null,null,null,null,null,null,null,null,null,null,null,null,null,null,null,null,39,"lds                       ","151",98.249085343089689,98.249085343089689,98.249085343089689,"","","","",22,"","","","","","","","","","","","","","","","","","","","","","","","",null,"39. lds                     (151 pts)","lds                       "," (151 pts)"," (151"," 151","151"]
[null,"40. JJ Nylander               27.956    (504 pts)","JJ Nylander               ",27.956,95.632046591503027,null,null,null,null,null,null,null,null,null,null,null,null,null,null,null,null,null,null,null,null,null,40,"ROMREI                    ","146",98.028821025909068,98.028821025909068,98.028821025909068,"","","","",25,"","","","","","","","","","","","","","","","","","","","","","","","",null,"40. ROMREI                  (146 pts)","ROMREI                    "," (146 pts)"," (146"," 146","146"]
[null,"41. Jaka                      28.030    (483 pts)","Jaka                      ",28.03,95.355782871649367,null,null,null,null,null,null,null,null,null,null,null,null,null,null,null,null,null,null,null,null,null,41,"KLE621                    ","146",98.017621145374449,98.017621145374449,98.017621145374449,"","","","",26,"","","","","","","","","","","","","","","","","","","","","","","","",null,"41. KLE621                  (146 pts)","KLE621                    "," (146 pts)"," (146"," 146","146"]
[null,"42. JJ Nylander               28.168    (447 pts)","JJ Nylander               ",28.167999999999999,94.840588367057421,null,null,null,null,null,null,null,null,null,null,null,null,null,null,null,null,null,null,null,null,null,42,"power79                   ","146",98.013887851862918,98.013887851862918,98.013887851862918,"","","","",27,"","","","","","","","","","","","","","","","","","","","","","","","",null,"42. power79                 (146 pts)","power79                   "," (146 pts)"," (146"," 146","146"]
[null,"43. DEAD FISH                 28.249    (427 pts)","DEAD FISH                 ",28.248999999999999,94.538191592623022,null,null,null,null,null,null,null,null,null,null,null,null,null,null,null,null,null,null,null,null,null,43,"[FUN] GR8 Arjen!          ","143",97.905622340028373,97.905622340028373,97.905622340028373,"","","","",29,"","","","","","","","","","","","","","","","","","","","","","","","",null,"43. [FUN] GR8 Arjen!        (143 pts)","[FUN] GR8 Arjen!          "," (143 pts)"," (143"," 143","143"]
[null,"44. Xenor                     29.309    (236 pts)","Xenor                     ",29.309000000000001,90.58090047039498,null,null,null,null,null,null,null,null,null,null,null,null,null,null,null,null,null,null,null,null,null,44,"RiantHoff                 ","137",97.610692152617048,97.610692152617048,97.610692152617048,"","","","",32,"","","","","","","","","","","","","","","","","","","","","","","","",null,"44. RiantHoff               (137 pts)","RiantHoff                 "," (137 pts)"," (137"," 137","137"]
[null,"45. kikiriki                  29.844    (177 pts)","kikiriki                  ",29.844000000000001,88.583588441723293,null,null,null,null,null,null,null,null,null,null,null,null,null,null,null,null,null,null,null,null,null,45,"put                       ","127",97.140297170163521,97.140297170163521,97.140297170163521,"","","","",33,"","","","","","","","","","","","","","","","","","","","","","","","",null,"45. put                     (127 pts)","put                       "," (127 pts)"," (127"," 127","127"]
[null,"46. FliZeR                    29.900    (172 pts)","FliZeR                    ",29.9,88.374524005077291,null,null,null,null,null,null,null,null,null,null,null,null,null,null,null,null,null,null,null,null,null,46,"Qri                       ","120",96.800567460613763,96.800567460613763,96.800567460613763,"","","","",37,"","","","","","","","","","","","","","","","","","","","","","","","",null,"46. Qri                     (120 pts)","Qri                       "," (120 pts)"," (120"," 120","120"]
[null,null,null,null,null,null,null,null,null,null,null,null,null,null,null,null,null,null,null,null,null,null,null,null,null,null,47,"Ninjinha_br               ","113",96.389221788379018,96.389221788379018,"","","","",96.389221788379018,"","","","",13,"","","","","","","","","","","","",1,"","","","","","","",null,"47. Ninjinha_br             (113 pts)","Ninjinha_br               "," (113 pts)"," (113"," 113","113"]
[null,null,null,null,null,null,null,null,null,null,null,null,null,null,null,null,null,null,null,null,null,null,null,null,null,null,48,"DEAD FISH                 ","110",94.538191592623022,85.456637854210101,94.538191592623022,82.475785835163649,"","",79.355936134843631,44,29,"","",25,"","","","","","","","","","","","","","","","","","","","",null,"48. DEAD FISH               (110 pts)","DEAD FISH                 "," (110 pts)"," (110"," 110","110"]
[null,null,null,null,null,null,null,null,null,null,null,null,null,null,null,null,null,null,null,null,null,null,null,null,null,null,49,"FliZeR                    ","74",89.089060002905711,84.483358791129163,88.374524005077291,88.733662189896663,"",89.089060002905711,71.736188966637044,47,27,"",23,27,{"$f":"IF(SUMIF($AK55:$AO55,AP$6)/AP$6=0,\"\",SUMIF($AK55:$AO55,AP$6)/AP$6)","v":""},"","","","","","","","","","","","","","","",{"$f":"IF(SUMIF($AK55:$AO55,BF$6)/BF$6=0,\"\",SUMIF($AK55:$AO55,BF$6)/BF$6)","v":""},"","","",null,"49. FliZeR                   (74 pts)","FliZeR                    ","  (74 pts)","  (74","  74","74"]
[null,null,null,null,null,null,null,null,null,null,null,null,null,null,null,null,null,null,null,null,null,null,null,null,null,null,50,"Xenor                     ","47",90.58090047039498,90.58090047039498,90.58090047039498,"","","","",45,"","","","","","","","","","","","","","","","","","","","","","","","",null,"50. Xenor                    (47 pts)","Xenor                     ","  (47 pts)","  (47","  47","47"]
[null,null,null,null,null,null,null,null,null,null,null,null,null,null,null,null,null,null,null,null,null,null,null,null,null,null,51,"FliZeR                    ","38",89.089060002905711,84.483358791129163,88.374524005077291,88.733662189896663,"",89.089060002905711,71.736188966637044,47,27,"",23,27,"","","","","","","","","","","","","","","","","","","","",null,"51. FliZeR                   (38 pts)","FliZeR                    ","  (38 pts)","  (38","  38","38"]
[null,null,null,null,null,null,null,null,null,null,null,null,null,null,null,null,null,null,null,null,null,null,null,null,null,null,52,"kikiriki                  ","35",88.583588441723293,88.583588441723293,88.583588441723293,"","","","",46,"","","","","","","","","","","","","","","","","","","","","","","","",null,"52. kikiriki                 (35 pts)","kikiriki                  ","  (35 pts)","  (35","  35","35"]
[null,null,null,null,null,null,null,null,null,null,null,null,null,null,null,null,null,null,null,null,null,null,null,null,null,null,53,"Kooler                    ","9",78.872694939498203,78.872694939498203,"","","","",78.872694939498203,"","","","",26,"","","","","","","","","","","","","","","","","","","","",null,"53. Kooler                    (9 pts)","Kooler                    ","   (9 pts)","   (9","   9","9"]
[null,null,null,null,null,null,null,null,null,null,null,null,null,null,null,null,null,null,null,null,null,null,null,null,null,null,54,"[iR] Etmil                ","1",62.733590177510543,62.733590177510543,"",62.733590177510543,"","","","",30,"","","","","","","","","","","","","","","","","","","","","","","",null,"54. [iR] Etmil                (1 pts)","[iR] Etmil                ","   (1 pts)","   (1","   1","1"]
[null,null,null,null,null,null,null,null,null,null,null,null,null,null,null,null,null,null,null,null,null,null,null,null,null,null,55,"I-IenR!Kubica             ","0",46.68562992834768,46.68562992834768,"",46.68562992834768,"","","","",31,"","","","","","","","","","","","","","","","","","","","","","","",null,"55. I-IenR!Kubica             (0 pts)","I-IenR!Kubica             ","   (0 pts)","   (0","   0","0"]
[null,null,null,null,null,null,null,null,null,null,null,null,null,null,null,null,null,null,null,null,null,null,null,null,null,null,null,null,null,null,null,null,null,null,null,null,null,null,null,null,null,null,null,null,null,null,null,null,null,null,null,null,null,null,null,null,null,null,null,null,null,null,null,null,"","",{"$error":"#VALUE!"},{"$error":"#VALUE!"}]
[null,null,null,null,null,null,null,null,null,null,null,null,null,null,null,null,null,null,null,null,null,null,null,null,null,null,null,null,null,null,null,null,null,null,null,null,null,null,null,null,null,null,null,null,null,null,null,null,null,null,null,null,null,null,null,null,null,null,null,null,null,null,null,null,"","",{"$error":"#VALUE!"},{"$error":"#VALUE!"}]
[null,null,null,null,null,null,null,null,null,null,null,null,null,null,null,null,null,null,null,null,null,null,null,null,null,null,null,null,null,null,null,null,null,null,null,null,null,null,null,null,null,null,null,null,null,null,null,null,null,null,null,null,null,null,null,null,null,null,null,null,null,null,null,null,"","",{"$error":"#VALUE!"},{"$error":"#VALUE!"}]
[null,null,null,null,null,null,null,null,null,null,null,null,null,null,null,null,null,null,null,null,null,null,null,null,null,null,null,null,null,null,null,null,null,null,null,null,null,null,null,null,null,null,null,null,null,null,null,null,null,null,null,null,null,null,null,null,null,null,null,null,null,null,null,null,"","",{"$error":"#VALUE!"},{"$error":"#VALUE!"}]
[null,null,null,null,null,null,null,null,null,null,null,null,null,null,null,null,null,null,null,null,null,null,null,null,null,null,null,null,null,null,null,null,null,null,null,null,null,null,null,null,null,null,null,null,null,null,null,null,null,null,null,null,null,null,null,null,null,null,null,null,null,null,null,null,"","",{"$error":"#VALUE!"},{"$error":"#VALUE!"}]
[null,null,null,null,null,null,null,null,null,null,null,null,null,null,null,null,null,null,null,null,null,null,null,null,null,null,null,null,null,null,null,null,null,null,null,null,null,null,null,null,null,null,null,null,null,null,null,null,null,null,null,null,null,null,null,null,null,null,null,null,null,null,null,null,"","",{"$error":"#VALUE!"},{"$error":"#VALUE!"}]
[null,null,null,null,null,null,null,null,null,null,null,null,null,null,null,null,null,null,null,null,null,null,null,null,null,null,null,null,null,null,null,null,null,null,null,null,null,null,null,null,null,null,null,null,null,null,null,null,null,null,null,null,null,null,null,null,null,null,null,null,null,null,null,null,"","",{"$error":"#VALUE!"},{"$error":"#VALUE!"}]
[null,null,null,null,null,null,null,null,null,null,null,null,null,null,null,null,null,null,null,null,null,null,null,null,null,null,null,null,null,null,null,null,null,null,null,null,null,null,null,null,null,null,null,null,null,null,null,null,null,null,null,null,null,null,null,null,null,null,null,null,null,null,null,null,"","",{"$error":"#VALUE!"},{"$error":"#VALUE!"}]
[null,null,null,null,null,null,null,null,null,null,null,null,null,null,null,null,null,null,null,null,null,null,null,null,null,null,null,null,null,null,null,null,null,null,null,null,null,null,null,null,null,null,null,null,null,null,null,null,null,null,null,null,null,null,null,null,null,null,null,null,null,null,null,null,"","",{"$error":"#VALUE!"},{"$error":"#VALUE!"}]
[null,null,null,null,null,null,null,null,null,null,null,null,null,null,null,null,null,null,null,null,null,null,null,null,null,null,null,null,null,null,null,null,null,null,null,null,null,null,null,null,null,null,null,null,null,null,null,null,null,null,null,null,null,null,null,null,null,null,null,null,null,null,null,null,"","",{"$error":"#VALUE!"},{"$error":"#VALUE!"}]
[null,null,null,null,null,null,null,null,null,null,null,null,null,null,null,null,null,null,null,null,null,null,null,null,null,null,null,null,null,null,null,null,null,null,null,null,null,null,null,null,null,null,null,null,null,null,null,null,null,null,null,null,null,null,null,null,null,null,null,null,null,null,null,null,{"$f":"RIGHT(BK72,10)","v":""},{"$f":"LEFT(BM72,5)","v":""},{"$f":"REPLACE(BN72,SEARCH(\"(\",BN72),1,\"\")","v":{"$error":"#VALUE!"}},{"$f":"TRIM(BO72)","v":{"$error":"#VALUE!"}}]
[null,null,null,null,null,null,null,null,null,null,null,null,null,null,null,null,null,null,null,null,null,null,null,null,null,null,null,null,null,null,null,null,null,null,null,null,null,null,null,null,null,null,null,null,null,null,null,null,null,null,null,null,null,null,null,null,null,null,null,null,null,null,null,null,"","",{"$error":"#VALUE!"},{"$error":"#VALUE!"}]
[null,null,null,null,null,null,null,null,null,null,null,null,null,null,null,null,null,null,null,null,null,null,null,null,null,null,null,null,null,null,null,null,null,null,null,null,null,null,null,null,null,null,null,null,null,null,null,null,null,null,null,null,null,null,null,null,null,null,null,null,null,null,null,null,"","",{"$error":"#VALUE!"},{"$error":"#VALUE!"}]
[null,null,null,null,null,null,null,null,null,null,null,null,null,null,null,null,null,null,null,null,null,null,null,null,null,null,null,null,null,null,null,null,null,null,null,null,null,null,null,null,null,null,null,null,null,null,null,null,null,null,null,null,null,null,null,null,null,null,null,null,null,null,null,null,"","",{"$error":"#VALUE!"},{"$error":"#VALUE!"}]
[null,null,null,null,null,null,null,null,null,null,null,null,null,null,null,null,null,null,null,null,null,null,null,null,null,null,null,null,null,null,null,null,null,null,null,null,null,null,null,null,null,null,null,null,null,null,null,null,null,null,null,null,null,null,null,null,null,null,null,null,null,null,null,null,"","",{"$error":"#VALUE!"},{"$error":"#VALUE!"}]

{"sheet":"week5","index":4,"n_rows":76,"n_cols":68,"rows_kept":76,"cut":false,"hidden":false,"merged":[]}
[null,"*** Weekly Hot Lap Competition Results"]
[]
[null,"Start Time: 2014-12-27 16:39:46"]
[null,"End Time: 2015-01-03 16:39:46"]
[]
[null,"* Results for Sc_Gogobay, AntiSlider:",null,null,null,null,"* Results for Sc_Gogobay, EasySlider:",null,null,null,null,"* Results for Sc_Gogobay, Spinner:",null,null,null,null,"* Results for Sc_Gogobay, Slider:",null,null,null,null,"* Results for Sc_Gogobay, Speeder:",null,null,null,null,null,null,"Pts","Max","Av","Anti","Easy","Spin","Slide","Speed","Ant","Eas","Spn","Sld","Spd",1,2,3,4,5,6,7,8,9,10,11,12,13,14,15,16,17,18,19,20,null,"Overall Results:"]
[null," 1. [x] Mike Nike             27.399   (1000 pts)",{"$f":"LEFT(RIGHT(B7,LEN(B7)-4),LEN(RIGHT(B7,LEN(B7)-4))-19)","v":"[x] Mike Nike             "},{"$f":"VALUE(LEFT(RIGHT(B7,19+0),6))/1000","v":27.399000000000001},100,null," 1. [+] Tinjovic              27.936   (1000 pts)",{"$f":"LEFT(RIGHT(G7,LEN(G7)-4),LEN(RIGHT(G7,LEN(G7)-4))-19)","v":"[+] Tinjovic              "},{"$f":"VALUE(LEFT(RIGHT(G7,19+0),6))/1000","v":27.936},100,null," 1. [x] Mike Nike             27.918   (1000 pts)",{"$f":"LEFT(RIGHT(L7,LEN(L7)-4),LEN(RIGHT(L7,LEN(L7)-4))-19)","v":"[x] Mike Nike             "},{"$f":"VALUE(LEFT(RIGHT(L7,19+0),6))/1000","v":27.917999999999999},100,null," 1. [+] dede                  27.853   (1000 pts)",{"$f":"LEFT(RIGHT(Q7,LEN(Q7)-4),LEN(RIGHT(Q7,LEN(Q7)-4))-19)","v":"[+] dede                  "},{"$f":"VALUE(LEFT(RIGHT(Q7,19+0),6))/1000","v":27.853000000000002},100,null," 1. [+] Tinjovic              25.965   (1000 pts)",{"$f":"LEFT(RIGHT(V7,LEN(V7)-4),LEN(RIGHT(V7,LEN(V7)-4))-19)","v":"[+] Tinjovic              "},{"$f":"VALUE(LEFT(RIGHT(V7,19+0),6))/1000","v":25.965},100,null,1,{"$f":"BL7","v":"[+] Tinjovic              "},{"$f":"BP7","v":"988"},{"$f":"MAX(AF7:AJ7)","v":100},{"$f":"SUM(AF7:AJ7)/COUNT(AF7:AJ7)","v":99.927156620426842},{"$f":"IF(SUMIF(C$7:C$995,$AB7,E$7:E$995)=0,\"\",VLOOKUP($AB7,C$7:E$995,3,FALSE))","v":99.89780648928793},{"$f":"IF(SUMIF(H$7:H$996,$AB7,J$7:J$996)=0,\"\",VLOOKUP($AB7,H$7:J$996,3,FALSE))","v":100},{"$f":"IF(SUMIF(M$7:M$995,$AB7,O$7:O$995)=0,\"\",VLOOKUP($AB7,M$7:O$995,3,FALSE))","v":99.971344652195725},{"$f":"IF(SUMIF(R$7:R$995,$AB7,T$7:T$995)=0,\"\",VLOOKUP($AB7,R$7:T$995,3,FALSE))","v":99.766631960650571},{"$f":"IF(SUMIF(W$7:W$995,$AB7,Y$7:Y$995)=0,\"\",VLOOKUP($AB7,W$7:Y$995,3,FALSE))","v":100},{"$f":"IF(AF7=\"\",\"\",RANK(AF7,AF$7:AF$999,0))","v":2},{"$f":"IF(AG7=\"\",\"\",RANK(AG7,AG$7:AG$999,0))","v":1},2,3,1,{"$f":"IF(SUMIF($AK7:$AO7,AP$6)/AP$6=0,\"\",SUMIF($AK7:$AO7,AP$6)/AP$6)","v":2},2,1,"","","","","","","","","","","","","",{"$f":"IF(SUMIF($AK7:$AO7,BF$6)/BF$6=0,\"\",SUMIF($AK7:$AO7,BF$6)/BF$6)","v":""},"","","",null," 1. [+] Tinjovic            (988 pts)",{"$f":"CONCATENATE(LEFT(RIGHT(BK7,LEN(BK7)-4),LEN(RIGHT(BK7,LEN(BK7)-4))-9),\"  \")","v":"[+] Tinjovic              "},{"$f":"RIGHT(BK7,10)","v":" (988 pts)"},{"$f":"LEFT(BM7,5)","v":" (988"},{"$f":"REPLACE(BN7,SEARCH(\"(\",BN7),1,\"\")","v":" 988"},{"$f":"TRIM(BO7)","v":"988"}]
[null," 2. [+] Tinjovic              27.427    (983 pts)",{"$f":"LEFT(RIGHT(B8,LEN(B8)-4),LEN(RIGHT(B8,LEN(B8)-4))-19)","v":"[+] Tinjovic              "},27.427,{"$f":"100-(D8-D$7)/D$7*100","v":99.89780648928793},null," 2. [+] dede                  27.959    (986 pts)",{"$f":"LEFT(RIGHT(G8,LEN(G8)-4),LEN(RIGHT(G8,LEN(G8)-4))-19)","v":"[+] dede                  "},{"$f":"VALUE(LEFT(RIGHT(G8,19+0),6))/1000","v":27.959},{"$f":"100-(I8-I$7)/I$7*100","v":99.917668957617408},null," 2. [+] Tinjovic              27.926    (995 pts)",{"$f":"LEFT(RIGHT(L8,LEN(L8)-4),LEN(RIGHT(L8,LEN(L8)-4))-19)","v":"[+] Tinjovic              "},{"$f":"VALUE(LEFT(RIGHT(L8,19+0),6))/1000","v":27.925999999999998},{"$f":"100-(N8-N$7)/N$7*100","v":99.971344652195725},null," 2. [x] Mike Nike             27.905    (970 pts)",{"$f":"LEFT(RIGHT(Q8,LEN(Q8)-4),LEN(RIGHT(Q8,LEN(Q8)-4))-19)","v":"[x] Mike Nike             "},{"$f":"VALUE(LEFT(RIGHT(Q8,19+0),6))/1000","v":27.905000000000001},{"$f":"100-(S8-S$7)/S$7*100","v":99.813305568520448},null," 2. [x] Mike Nike             26.048    (950 pts)",{"$f":"LEFT(RIGHT(V8,LEN(V8)-4),LEN(RIGHT(V8,LEN(V8)-4))-19)","v":"[x] Mike Nike             "},{"$f":"VALUE(LEFT(RIGHT(V8,19+0),6))/1000","v":26.047999999999998},{"$f":"100-(X8-X$7)/X$7*100","v":99.680338917773938},null,2,{"$f":"BL8","v":"[x] Mike Nike             "},{"$f":"BP8","v":"961"},100,99.746237488324169,100,99.237542955326461,100,99.813305568520448,99.680338917773938,{"$f":"IF(AF8=\"\",\"\",RANK(AF8,AF$7:AF$999,0))","v":1},3,1,2,2,2,2,1,"","","","","","","","","","","","","","","","","",null," 2. [x] Mike Nike           (961 pts)",{"$f":"CONCATENATE(LEFT(RIGHT(BK8,LEN(BK8)-4),LEN(RIGHT(BK8,LEN(BK8)-4))-9),\"  \")","v":"[x] Mike Nike             "},{"$f":"RIGHT(BK8,10)","v":" (961 pts)"},{"$f":"LEFT(BM8,5)","v":" (961"},{"$f":"REPLACE(BN8,SEARCH(\"(\",BN8),1,\"\")","v":" 961"},{"$f":"TRIM(BO8)","v":"961"}]
[null," 3. Kyna_Musti                27.512    (936 pts)",{"$f":"LEFT(RIGHT(B9,LEN(B9)-4),LEN(RIGHT(B9,LEN(B9)-4))-19)","v":"Kyna_Musti                "},27.512,{"$f":"100-(D9-D$7)/D$7*100","v":99.58757618891201},null," 3. [x] Mike Nike             28.149    (885 pts)","[x] Mike Nike             ",28.149000000000001,{"$f":"100-(I9-I$7)/I$7*100","v":99.237542955326461},null," 3. [+] dede                  27.928    (994 pts)","[+] dede                  ",27.928000000000001,{"$f":"100-(N9-N$7)/N$7*100","v":99.964180815244646},null," 3. [+] Tinjovic              27.918    (963 pts)","[+] Tinjovic              ",27.917999999999999,{"$f":"100-(S9-S$7)/S$7*100","v":99.766631960650571},null," 3. [+] dede                  26.133    (901 pts)","[+] dede                  ",26.132999999999999,{"$f":"100-(X9-X$7)/X$7*100","v":99.352975158867707},null,3,"[+] dede                  ","960",100,99.741121707394171,99.470783605241067,99.917668957617408,99.964180815244646,100,99.352975158867707,4,2,3,1,3,1,1,2,1,"","","","","","","","","","","","","","","","",null," 3. [+] dede                (960 pts)","[+] dede                  "," (960 pts)"," (960"," 960","960"]
[null," 4. [+] dede                  27.544    (919 pts)","[+] dede                  ",27.544,99.470783605241067,null," 4. [+] olio                  28.358    (786 pts)","[+] olio                  ",28.358000000000001,98.489404352806417,null," 4. Kyna_Musti                28.241    (831 pts)","Kyna_Musti                ",28.241,98.843040332402026,null," 4. Kyna_Musti                27.990    (924 pts)","Kyna_Musti                ",27.99,99.508131978601952,null," 4. GOl V8                    26.562    (695 pts)","GOl V8                    ",26.562000000000001,97.700751010976305,null,4,"Kyna_Musti                ","799",99.58757618891201,98.469144609069787,99.58757618891201,98.185137457044675,98.843040332402026,99.508131978601952,96.221837088388213,3,6,4,4,8,"","",1,2,"",1,"",1,"","","","","","","","","","","","",null," 4. Kyna_Musti              (799 pts)","Kyna_Musti                "," (799 pts)"," (799"," 799","799"]
[null," 5. [+] Badeend               27.552    (914 pts)","[+] Badeend               ",27.552,99.441585459323335,null," 5. [x] Whiplash              28.368    (782 pts)","[x] Whiplash              ",28.367999999999999,98.453608247422679,null," 5. [x] Stylus                28.527    (708 pts)","[x] Stylus                ",28.527000000000001,97.818611648398871,null," 5. [+] olio                  27.995    (921 pts)","[+] olio                  ",27.995000000000001,99.490180590959682,null," 5. AnnicK                    26.785    (608 pts)","AnnicK                    ",26.785,96.841902561139989,null,5,"[+] xzeal                 ","671",98.76494453021219,97.431463304335281,97.835687433847951,96.824885452462766,96.955369295794824,98.76494453021219,96.776429809358746,21,7,8,6,6,"","","","","",2,1,1,"","","","","","","","","","","","",null," 5. [+] xzeal               (671 pts)","[+] xzeal                 "," (671 pts)"," (671"," 671","671"]
[null," 6. [x] Whiplash              27.571    (904 pts)","[x] Whiplash              ",27.571000000000002,99.372239862768708,null," 6. Kyna_Musti                28.443    (749 pts)","Kyna_Musti                ",28.443000000000001,98.185137457044675,null," 6. [iR] iBlaze²              28.615    (673 pts)","[iR] iBlaze²              ",28.614999999999998,97.503402822551763,null," 6. [+] xzeal                 28.197    (821 pts)","[+] xzeal                 ",28.196999999999999,98.76494453021219,null," 6. [+] xzeal                 26.802    (601 pts)","[+] xzeal                 ",26.802,96.776429809358746,null,6,"[iR] iBlaze²              ","587",97.503402822551763,96.569052219310635,97.434212927479109,95.60423825887743,97.503402822551763,95.996840555774966,96.306566531869834,23,10,6,11,7,"","","","","",1,1,"","",1,1,"","","","","","","","","",null," 6. [iR] iBlaze²            (587 pts)","[iR] iBlaze²              "," (587 pts)"," (587"," 587","587"]
[null," 7. [PahaJori] Ender          27.597    (891 pts)","[PahaJori] Ender          ",27.597000000000001,99.277345888536075,null," 7. [+] xzeal                 28.823    (606 pts)","[+] xzeal                 ",28.823,96.824885452462766,null," 7. Sami                      28.717    (636 pts)","Sami                      ",28.716999999999999,97.138047138047142,null," 7. AnnicK                    28.363    (748 pts)","AnnicK                    ",28.363,98.168958460489009,null," 7. [iR] iBlaze²              26.924    (559 pts)","[iR] iBlaze²              ",26.923999999999999,96.306566531869834,null,7,"pozdro600                 ","508",97.379466403883356,95.554490877211748,97.379466403883356,94.820303550973662,95.705279747832932,96.129680824327721,93.737723859041012,24,12,9,10,12,"","","","","","","","",1,1,"",2,"","","","","","","","",null," 7. pozdro600               (508 pts)","pozdro600                 "," (508 pts)"," (508"," 508","508"]
[null," 8. Jurgen-NL                 27.605    (887 pts)","Jurgen-NL                 ",27.605,99.248147742618343,null," 8. Jurgen-NL                 28.889    (584 pts)","Jurgen-NL                 ",28.888999999999999,96.588631156930134,null," 8. [+] xzeal                 28.768    (618 pts)","[+] xzeal                 ",28.768000000000001,96.955369295794824,null," 8. [x] Stylus                28.619    (647 pts)","[x] Stylus                ",28.619,97.249847413205046,null," 8. Kyna_Musti                26.946    (552 pts)","Kyna_Musti                ",26.946000000000002,96.221837088388213,null,8,"Qpa                       ","499",98.043724223511816,95.214530085444224,98.043724223511816,95.761741122565866,93.516727559280739,96.607187735611973,92.143269786250727,20,9,11,9,15,"","","","","","","","",2,"",1,"","","",1,"","","","",1,null," 8. Qpa                     (499 pts)","Qpa                       "," (499 pts)"," (499"," 499","499"]
[null," 9. batjunior                 27.710    (834 pts)","batjunior                 ",27.71,98.864922077448085,null," 9. Qpa                       29.120    (514 pts)","Qpa                       ",29.12,95.761741122565866,null," 9. pozdro600                 29.117    (510 pts)","pozdro600                 ",29.117000000000001,95.705279747832932,null," 9. Qpa                       28.798    (586 pts)","Qpa                       ",28.797999999999998,96.607187735611973,null," 9. Sig                       27.031    (525 pts)","Sig                       ",27.030999999999999,95.894473329481997,null,9,"[x] Stylus                ","432",98.660535056023946,97.909664705875954,98.660535056023946,"",97.818611648398871,97.249847413205046,"",15,"",5,8,"","","","","",1,"","",1,"","","","","","",1,"","","","","",null," 9. [x] Stylus              (432 pts)","[x] Stylus                "," (432 pts)"," (432"," 432","432"]
[null,"10. majstorfantac             27.720    (829 pts)","majstorfantac             ",27.72,98.828424395050916,null,"10. [iR] iBlaze²              29.164    (502 pts)","[iR] iBlaze²              ",29.164000000000001,95.60423825887743,null,"10. Wokinger                  29.172    (495 pts)","Wokinger                  ",29.172000000000001,95.508274231678485,null,"10. pozdro600                 28.931    (544 pts)","pozdro600                 ",28.931000000000001,96.129680824327721,null,"10. Drax                      27.288    (451 pts)","Drax                      ",27.288,94.90467937608318,null,10,"Sami                      ","424",97.138047138047142,95.802986054245252,97.021789116391119,95.414518900343651,97.138047138047142,"",93.637589062199112,27,11,7,"",13,"","","","","","",1,"","","",1,"",1,"","","","","","","",null,"10. Sami                    (424 pts)","Sami                      "," (424 pts)"," (424"," 424","424"]
[null,"11. majstorfantac             27.741    (819 pts)","majstorfantac             ",27.741,98.751779262016868,null,"11. Sami                      29.217    (488 pts)","Sami                      ",29.216999999999999,95.414518900343651,null,"11. Qpa                       29.728    (366 pts)","Qpa                       ",29.728000000000002,93.516727559280739,null,"11. [iR] iBlaze²              28.968    (533 pts)","[iR] iBlaze²              ",28.968,95.996840555774966,null,"11. [PahaJori] Ender          27.351    (435 pts)","[PahaJori] Ender          ",27.350999999999999,94.662045060658585,null,11,"Jurgen-NL                 ","387",99.248147742618343,96.972699561855976,99.248147742618343,96.588631156930134,"",95.081319786019463,"",8,8,"",12,"","","","","","","","",2,"","","",1,"","","","","","","","",null,"11. Jurgen-NL               (387 pts)","Jurgen-NL                 "," (387 pts)"," (387"," 387","387"]
[null,"12. Double O Seven            27.748    (816 pts)","Double O Seven            ",27.748000000000001,98.726230884338847,null,"12. pozdro600                 29.383    (445 pts)","pozdro600                 ",29.382999999999999,94.820303550973662,null,"12. GOl V8                    31.413    (151 pts)","GOl V8                    ",31.413,87.481194928003433,null,"12. Jurgen-NL                 29.223    (463 pts)","Jurgen-NL                 ",29.222999999999999,95.081319786019463,null,"12. pozdro600                 27.591    (378 pts)","pozdro600                 ",27.591000000000001,93.737723859041012,null,12,"Wokinger                  ","371",98.215263330778498,92.050209736749395,98.215263330778498,92.872995418098512,95.508274231678485,86.525688435716077,87.128827267475458,18,15,10,15,19,"","","","","","","","","",1,"","","","",2,"","",1,1,"",null,"12. Wokinger                (371 pts)","Wokinger                  "," (371 pts)"," (371"," 371","371"]
[null,"13. Sig                       27.752    (814 pts)","Sig                       ",27.751999999999999,98.711631811379988,null,"13. [FUN] GR8 Arjen!          29.531    (411 pts)","[FUN] GR8 Arjen!          ",29.530999999999999,94.290521191294388,null,null,null,null,null,null,"13. Shaytun                   29.223    (463 pts)","Shaytun                   ",29.222999999999999,95.081319786019463,null,"13. Sami                      27.617    (372 pts)","Sami                      ",27.617000000000001,93.637589062199112,null,13,"[+] olio                  ","341",99.490180590959682,98.98979247188305,"",98.489404352806417,"",99.490180590959682,"","",4,"",5,"","","","",1,1,"","","","","","","","","","","","","","","",null,"13. [+] olio                (341 pts)","[+] olio                  "," (341 pts)"," (341"," 341","341"]
[null,"14. [x] Stylus                27.766    (808 pts)","[x] Stylus                ",27.765999999999998,98.660535056023946,null,"14. Simo                      29.624    (391 pts)","Simo                      ",29.623999999999999,93.957617411225669,null,null,null,null,null,null,"14. Augusto                   29.469    (405 pts)","Augusto                   ",29.469000000000001,94.198111514020042,null,"14. Shaytun                   27.674    (360 pts)","Shaytun                   ",27.673999999999999,93.418062776814949,null,14,"[x] Whiplash              ","337",99.372239862768708,98.912924055095687,99.372239862768708,98.453608247422679,"","","",6,5,"","","","","","","",1,1,"","","","","","","","","","","","","","",null,"14. [x] Whiplash            (337 pts)","[x] Whiplash              "," (337 pts)"," (337"," 337","337"]
[null,"15. power79                   27.843    (773 pts)","power79                   ",27.843,98.379502901565758,null,"15. Wokinger                  29.927    (332 pts)","Wokinger                  ",29.927,92.872995418098512,null,null,null,null,null,null,"15. Wokinger                  31.606    (132 pts)","Wokinger                  ",31.606000000000002,86.525688435716077,null,"15. Qpa                       28.005    (298 pts)","Qpa                       ",28.004999999999999,92.143269786250727,null,15,"GOl V8                    ","330",98.226212635497646,90.816422518762536,98.226212635497646,79.857531500572733,87.481194928003433,"",97.700751010976305,17,20,12,"",4,"","","",1,"","","","","","","",1,"","","","",1,"","",1,null,"15. GOl V8                  (330 pts)","GOl V8                    "," (330 pts)"," (330"," 330","330"]
[null,"16. majstorfantac             27.865    (763 pts)","majstorfantac             ",27.864999999999998,98.299208000291998,null,"16. T                         30.244    (280 pts)","T                         ",30.244,91.738258877434134,null,null,null,null,null,null,null,null,null,null,null,"16. Delux                     28.037    (292 pts)","Delux                     ",28.036999999999999,92.02002695936838,null,16,"Sig                       ","292",98.711631811379988,93.507972427633646,98.711631811379988,85.91781214203894,"","",95.894473329481997,14,19,"","",9,"","","","","","","","",1,"","","","",1,"","","","",1,"",null,"16. Sig                     (292 pts)","Sig                       "," (292 pts)"," (292"," 292","292"]
[null,"17. GOl V8                    27.885    (754 pts)","GOl V8                    ",27.885000000000002,98.226212635497646,null,"17. ROMREI                    30.684    (222 pts)","ROMREI                    ",30.684000000000001,90.163230240549822,null,null,null,null,null,null,null,null,null,null,null,"17. laf                       28.370    (242 pts)","laf                       ",28.37,90.737531292124004,null,17,"AnnicK                    ","271",98.168958460489009,97.505430510814506,"","","",98.168958460489009,96.841902561139989,"","","",7,5,{"$f":"IF(SUMIF($AK23:$AO23,AP$6)/AP$6=0,\"\",SUMIF($AK23:$AO23,AP$6)/AP$6)","v":""},"","","",1,"",1,"","","","","","","","","",{"$f":"IF(SUMIF($AK23:$AO23,BF$6)/BF$6=0,\"\",SUMIF($AK23:$AO23,BF$6)/BF$6)","v":""},"","","",null,"17. AnnicK                  (271 pts)","AnnicK                    "," (271 pts)"," (271"," 271","271"]
[null,"18. Wokinger                  27.888    (753 pts)","Wokinger                  ",27.888000000000002,98.215263330778498,null,"18. C.Monster                 31.095    (180 pts)","C.Monster                 ",31.094999999999999,88.692010309278359,null,null,null,null,null,null,null,null,null,null,null,"18. ROMREI                    28.731    (197 pts)","ROMREI                    ",28.731000000000002,89.347198151357588,null,18,"[PahaJori] Ender          ","265",99.277345888536075,96.96969547459733,99.277345888536075,"","","",94.662045060658585,7,"","","",11,"","","","","","",1,"","","",1,"","","","","","","","","",null,"18. [PahaJori] Ender        (265 pts)","[PahaJori] Ender          "," (265 pts)"," (265"," 265","265"]
[null,"19. lds                       27.913    (742 pts)","lds                       ",27.913,98.124019124785576,null,"19. Sig                       31.870    (121 pts)","Sig                       ",31.87,85.91781214203894,null,null,null,null,null,null,null,null,null,null,null,"19. Wokinger                  29.307    (144 pts)","Wokinger                  ",29.306999999999999,87.128827267475458,null,19,"ROMREI                    ","223",97.70429577721815,92.404908056375191,97.70429577721815,90.163230240549822,"","",89.347198151357588,22,17,"","",18,"","","","","","","","","","","","","","","","",1,1,"","",null,"19. ROMREI                  (223 pts)","ROMREI                    "," (223 pts)"," (223"," 223","223"]
[null,"20. Qpa                       27.935    (733 pts)","Qpa                       ",27.934999999999999,98.043724223511816,null,"20. GOl V8                    33.563     (53 pts)","GOl V8                    ",33.563000000000002,79.857531500572733,null,null,null,null,null,null,null,null,null,null,null,"20. [Qc]RSX                 2:08.423      (0 pts)","[Qc]RSX                   ",128.423,-294.60042364721744,null,20,"[FUN] GR8 Arjen!          ","214",97.379466403883356,95.834993797588879,97.379466403883356,94.290521191294388,"","","",24,13,"","","","","","","","","","","","","","","",1,"","","","","","","",null,"20. [FUN] GR8 Arjen!        (214 pts)","[FUN] GR8 Arjen!          "," (214 pts)"," (214"," 214","214"]
[null,"21. [+] xzeal                 27.992    (709 pts)","[+] xzeal                 ",27.992000000000001,97.835687433847951,null,"21. Baba                      35.544     (21 pts)","Baba                      ",35.543999999999997,72.766323024054998,null,null,null,null,null,null,null,null,null,null,null,null,null,null,null,null,21,"[+] Badeend               ","182",99.441585459323335,99.441585459323335,99.441585459323335,"","","","",5,"","","","","","","","",1,"","","","","","","","","","","","","","","",null,"21. [+] Badeend             (182 pts)","[+] Badeend               "," (182 pts)"," (182"," 182","182"]
[null,"22. ROMREI                    28.028    (695 pts)","ROMREI                    ",28.027999999999999,97.70429577721815,null,"22. [Qc]ghost                 41.060      (2 pts)","[Qc]ghost                 ",41.06,53.021191294387158,null,null,null,null,null,null,null,null,null,null,null,null,null,null,null,null,22,"Delux                     ","179",96.780904412569811,94.400465685969095,96.780904412569811,"","","",92.02002695936838,29,"","","",16,"","","","","","","","","","","","","","","",1,"","","","",null,"22. Delux                   (179 pts)","Delux                     "," (179 pts)"," (179"," 179","179"]
[null,"23. [iR] iBlaze²              28.102    (666 pts)","[iR] iBlaze²              ",28.102,97.434212927479109,null,"23. Buzzurro                  46.469      (0 pts)","Buzzurro                  ",46.469000000000001,33.6590778923253,null,null,null,null,null,null,null,null,null,null,null,null,null,null,null,null,23,"T                         ","167",96.262637322530026,94.00044809998208,96.262637322530026,91.738258877434134,"","","",30,16,"","","","","","","","","","","","","","","","","","",1,"","","","",null,"23. T                       (167 pts)","T                         "," (167 pts)"," (167"," 167","167"]
[null,"24. [FUN] GR8 Arjen!          28.117    (661 pts)","[FUN] GR8 Arjen!          ",28.117000000000001,97.379466403883356,null,"24. max tre                   48.264      (0 pts)","max tre                   ",48.264000000000003,27.233676975945002,null,null,null,null,null,null,null,null,null,null,null,null,null,null,null,null,24,"batjunior                 ","166",98.864922077448085,98.864922077448085,98.864922077448085,"","","","",9,"","","","","","","","","","","","",1,"","","","","","","","","","","",null,"24. batjunior               (166 pts)","batjunior                 "," (166 pts)"," (166"," 166","166"]
[null,"25. pozdro600                 28.117    (661 pts)","pozdro600                 ",28.117000000000001,97.379466403883356,null,"25. [Qc]Praline             4:10.501      (0 pts)","[Qc]Praline               ",250.501,-696.69601947308126,null,null,null,null,null,null,null,null,null,null,null,null,null,null,null,null,25,"majstorfantac             ","165",98.828424395050916,98.828424395050916,98.828424395050916,"","","","",10,"","","","","","","","","","","","","",1,"","","","","","","","","","",null,"25. majstorfantac           (165 pts)","majstorfantac             "," (165 pts)"," (165"," 165","165"]
[null,"26. PEACE                     28.146    (650 pts)","PEACE                     ",28.146000000000001,97.273623124931561,null,null,null,null,null,null,null,null,null,null,null,null,null,null,null,null,null,null,null,null,null,26,"Shaytun                   ","164",95.081319786019463,94.249691281417199,"","","",95.081319786019463,93.418062776814949,"","","",12,14,"","","","","","","","","","","",1,"",1,"","","","","","",null,"26. Shaytun                 (164 pts)","Shaytun                   "," (164 pts)"," (164"," 164","164"]
[null,"27. Sami                      28.215    (625 pts)","Sami                      ",28.215,97.021789116391119,null,null,null,null,null,null,null,null,null,null,null,null,null,null,null,null,null,null,null,null,null,27,"majstorfantac             ","163",98.828424395050916,98.828424395050916,98.828424395050916,"","","","",10,"","","","","","","","","","","","","",1,"","","","","","","","","","",null,"27. majstorfantac           (163 pts)","majstorfantac             "," (163 pts)"," (163"," 163","163"]
[null,"28. |/|/ | |_ |_ | E          28.224    (622 pts)","|/|/ | |_ |_ | E          ",28.224,96.988941202233661,null,null,null,null,null,null,null,null,null,null,null,null,null,null,null,null,null,null,null,null,null,28,"Double O Seven            ","163",98.726230884338847,98.726230884338847,98.726230884338847,"","","","",13,"","","","","","","","","","","","","","","","",1,"","","","","","","",null,"28. Double O Seven          (163 pts)","Double O Seven            "," (163 pts)"," (163"," 163","163"]
[null,"29. Delux                     28.281    (602 pts)","Delux                     ",28.280999999999999,96.780904412569811,null,null,null,null,null,null,null,null,null,null,null,null,null,null,null,null,null,null,null,null,null,29,"power79                   ","154",98.379502901565758,98.379502901565758,98.379502901565758,"","","","",16,"","","","","","","","","","","","","","","","","","","",1,"","","","",null,"29. power79                 (154 pts)","power79                   "," (154 pts)"," (154"," 154","154"]
[null,"30. T                         28.423    (555 pts)","T                         ",28.422999999999998,96.262637322530026,null,null,null,null,null,null,null,null,null,null,null,null,null,null,null,null,null,null,null,null,null,30,"majstorfantac             ","152",98.828424395050916,98.828424395050916,98.828424395050916,"","","","",10,"","","","","","","","","","","","","",1,"","","","","","","","","","",null,"30. majstorfantac           (152 pts)","majstorfantac             "," (152 pts)"," (152"," 152","152"]
[null,"31. JJ Nylander               28.743    (464 pts)","JJ Nylander               ",28.742999999999999,95.094711485820653,null,null,null,null,null,null,null,null,null,null,null,null,null,null,null,null,null,null,null,null,null,31,"lds                       ","148",98.124019124785576,98.124019124785576,98.124019124785576,"","","","",19,"","","","","","","","","","","","","","","","","","","","","","",1,"",null,"31. lds                     (148 pts)","lds                       "," (148 pts)"," (148"," 148","148"]
[null,"32. czk                       28.835    (441 pts)",{"$f":"LEFT(RIGHT(B38,LEN(B38)-4),LEN(RIGHT(B38,LEN(B38)-4))-19)","v":"czk                       "},{"$f":"VALUE(LEFT(RIGHT(B38,19+0),6))/1000","v":28.835000000000001},{"$f":"100-(D38-D$7)/D$7*100","v":94.758932807766712},null,null,null,null,null,null,null,null,null,null,null,null,null,null,null,null,null,null,null,null,null,32,"PEACE                     ","130",97.273623124931561,97.273623124931561,97.273623124931561,"","","","",26,"","","","","","","","","","","","","","","","","","","","","","","","",null,"32. PEACE                   (130 pts)","PEACE                     "," (130 pts)"," (130"," 130","130"]
[null,"33. [Qc]RSX                   29.156    (369 pts)","[Qc]RSX                   ",29.155999999999999,93.587357202817628,null,null,null,null,null,null,null,null,null,null,null,null,null,null,null,null,null,null,null,null,null,33,"|/|/ | |_ |_ | E          ","124",96.988941202233661,96.988941202233661,96.988941202233661,"","","","",28,"","","","",{"$f":"IF(SUMIF($AK39:$AO39,AP$6)/AP$6=0,\"\",SUMIF($AK39:$AO39,AP$6)/AP$6)","v":""},"","","","","","","","","","","","","","","",{"$f":"IF(SUMIF($AK39:$AO39,BF$6)/BF$6=0,\"\",SUMIF($AK39:$AO39,BF$6)/BF$6)","v":""},"","","",null,"33. |/|/ | |_ |_ | E        (124 pts)","|/|/ | |_ |_ | E          "," (124 pts)"," (124"," 124","124"]
[null,"34. KLE621                    30.965    (141 pts)","KLE621                    ",30.965,86.984926457169976,null,null,null,null,null,null,null,null,null,null,null,null,null,null,null,null,null,null,null,null,null,34,"Simo                      ","106",93.957617411225669,90.438424020040372,86.919230628855075,93.957617411225669,"","","",35,14,"","","","","","","","","","","","","","","","",1,"","","","","","",null,"34. Simo                    (106 pts)","Simo                      "," (106 pts)"," (106"," 106","106"]
[null,"35. Simo                      30.983    (139 pts)","Simo                      ",30.983000000000001,86.919230628855075,null,null,null,null,null,null,null,null,null,null,null,null,null,null,null,null,null,null,null,null,null,35,"JJ Nylander               ","92",95.094711485820653,95.094711485820653,95.094711485820653,"","","","",31,"","","","","","","","","","","","","","","","","","","","","","","","",null,"35. JJ Nylander              (92 pts)","JJ Nylander               ","  (92 pts)","  (92","  92","92"]
[null,"36. MoCoCa                    31.674     (98 pts)","MoCoCa                    ",31.673999999999999,84.397240775210776,null,null,null,null,null,null,null,null,null,null,null,null,null,null,null,null,null,null,null,null,null,36,"Drax                      ","90",94.90467937608318,94.90467937608318,"","","","",94.90467937608318,"","","","",10,"","","","","","","","","",1,"","","","","","","","","","",null,"36. Drax                     (90 pts)","Drax                      ","  (90 pts)","  (90","  90","90"]
[null,"37. Nico Hulkenberg           32.425     (67 pts)","Nico Hulkenberg           ",32.424999999999997,81.656264827183492,null,null,null,null,null,null,null,null,null,null,null,null,null,null,null,null,null,null,null,null,null,37,"czk                       ","88",94.758932807766712,94.758932807766712,94.758932807766712,"","","","",32,"","","","","","","","","","","","","","","","","","","","","","","","",null,"37. czk                      (88 pts)","czk                       ","  (88 pts)","  (88","  88","88"]
[null,"38. [Qc]Isaac                 32.859     (54 pts)","[Qc]Isaac                 ",32.859000000000002,80.07226541114639,null,null,null,null,null,null,null,null,null,null,null,null,null,null,null,null,null,null,null,null,null,38,"Augusto                   ","81",94.198111514020042,94.198111514020042,"","","",94.198111514020042,"","","","",14,"","","","","","","","","","","","","","",1,"","","","","","",null,"38. Augusto                  (81 pts)","Augusto                   ","  (81 pts)","  (81","  81","81"]
[null,null,null,null,null,null,null,null,null,null,null,null,null,null,null,null,null,null,null,null,null,null,null,null,null,null,39,"[Qc]RSX                   ","73",93.587357202817628,-100.50653322219991,93.587357202817628,"","","",-294.60042364721744,33,"","","",20,"","","","","","","","","","","","","","","","","","","",1,null,"39. [Qc]RSX                  (73 pts)","[Qc]RSX                   ","  (73 pts)","  (73","  73","73"]
[null,null,null,null,null,null,null,null,null,null,null,null,null,null,null,null,null,null,null,null,null,null,null,null,null,null,40,"laf                       ","48",90.737531292124004,90.737531292124004,"","","","",90.737531292124004,"","","","",17,"","","","","","","","","","","","","","","","",1,"","","",null,"40. laf                      (48 pts)","laf                       ","  (48 pts)","  (48","  48","48"]
[null,null,null,null,null,null,null,null,null,null,null,null,null,null,null,null,null,null,null,null,null,null,null,null,null,null,41,"C.Monster                 ","36",88.692010309278359,88.692010309278359,"",88.692010309278359,"","","","",18,"","","","","","","","","","","","","","","","","","","","",1,"","",null,"41. C.Monster                (36 pts)","C.Monster                 ","  (36 pts)","  (36","  36","36"]
[null,null,null,null,null,null,null,null,null,null,null,null,null,null,null,null,null,null,null,null,null,null,null,null,null,null,42,"KLE621                    ","28",86.984926457169976,86.984926457169976,86.984926457169976,"","","","",34,"","","","","","","","","","","","","","","","","","","","","","","","",null,"42. KLE621                   (28 pts)","KLE621                    ","  (28 pts)","  (28","  28","28"]
[null,null,null,null,null,null,null,null,null,null,null,null,null,null,null,null,null,null,null,null,null,null,null,null,null,null,43,"MoCoCa                    ","19",84.397240775210776,84.397240775210776,84.397240775210776,"","","","",36,"","","","","","","","","","","","","","","","","","","","","","","","",null,"43. MoCoCa                   (19 pts)","MoCoCa                    ","  (19 pts)","  (19","  19","19"]
[null,null,null,null,null,null,null,null,null,null,null,null,null,null,null,null,null,null,null,null,null,null,null,null,null,null,44,"Nico Hulkenberg           ","13",81.656264827183492,81.656264827183492,81.656264827183492,"","","","",37,"","","","","","","","","","","","","","","","","","","","","","","","",null,"44. Nico Hulkenberg          (13 pts)","Nico Hulkenberg           ","  (13 pts)","  (13","  13","13"]
[null,null,null,null,null,null,null,null,null,null,null,null,null,null,null,null,null,null,null,null,null,null,null,null,null,null,45,"[Qc]Isaac                 ","10",80.07226541114639,80.07226541114639,80.07226541114639,"","","","",38,"","","","","","","","","","","","","","","","","","","","","","","","",null,"45. [Qc]Isaac                (10 pts)","[Qc]Isaac                 ","  (10 pts)","  (10","  10","10"]
[null,null,null,null,null,null,null,null,null,null,null,null,null,null,null,null,null,null,null,null,null,null,null,null,null,null,46,"Baba                      ","4",72.766323024054998,72.766323024054998,"",72.766323024054998,"","","","",21,"","","","","","","","","","","","","","","","","","","","","","","",null,"46. Baba                      (4 pts)","Baba                      ","   (4 pts)","   (4","   4","4"]
[null,null,null,null,null,null,null,null,null,null,null,null,null,null,null,null,null,null,null,null,null,null,null,null,null,null,47,"[Qc]ghost                 ","0",53.021191294387158,53.021191294387158,"",53.021191294387158,"","","","",22,"","","","","","","","","","","","","","","","","","","","","","","",null,"47. [Qc]ghost                 (0 pts)","[Qc]ghost                 ","   (0 pts)","   (0","   0","0"]
[null,null,null,null,null,null,null,null,null,null,null,null,null,null,null,null,null,null,null,null,null,null,null,null,null,null,48,{"$f":"BL54","v":"Buzzurro                  "},{"$f":"BP54","v":"0"},{"$f":"MAX(AF54:AJ54)","v":33.6590778923253},{"$f":"SUM(AF54:AJ54)/COUNT(AF54:AJ54)","v":33.6590778923253},{"$f":"IF(SUMIF(C$7:C$995,$AB54,E$7:E$995)=0,\"\",VLOOKUP($AB54,C$7:E$995,3,FALSE))","v":""},{"$f":"IF(SUMIF(H$7:H$996,$AB54,J$7:J$996)=0,\"\",VLOOKUP($AB54,H$7:J$996,3,FALSE))","v":33.6590778923253},{"$f":"IF(SUMIF(M$7:M$995,$AB54,O$7:O$995)=0,\"\",VLOOKUP($AB54,M$7:O$995,3,FALSE))","v":""},{"$f":"IF(SUMIF(R$7:R$995,$AB54,T$7:T$995)=0,\"\",VLOOKUP($AB54,R$7:T$995,3,FALSE))","v":""},{"$f":"IF(SUMIF(W$7:W$995,$AB54,Y$7:Y$995)=0,\"\",VLOOKUP($AB54,W$7:Y$995,3,FALSE))","v":""},{"$f":"IF(AF54=\"\",\"\",RANK(AF54,AF$7:AF$999,0))","v":""},{"$f":"IF(AG54=\"\",\"\",RANK(AG54,AG$7:AG$999,0))","v":23},{"$f":"IF(AH54=\"\",\"\",RANK(AH54,AH$7:AH$999,0))","v":""},{"$f":"IF(AI54=\"\",\"\",RANK(AI54,AI$7:AI$999,0))","v":""},{"$f":"IF(AJ54=\"\",\"\",RANK(AJ54,AJ$7:AJ$999,0))","v":""},"","","","","","","","","","","","","","","","","","","","",null,"48. Buzzurro                  (0 pts)","Buzzurro                  ","   (0 pts)","   (0","   0","0"]
[null,null,null,null,null,null,null,null,null,null,null,null,null,null,null,null,null,null,null,null,null,null,null,null,null,null,49,"max tre                   ","0",27.233676975945002,27.233676975945002,"",27.233676975945002,"","","","",24,"","","",{"$f":"IF(SUMIF($AK55:$AO55,AP$6)/AP$6=0,\"\",SUMIF($AK55:$AO55,AP$6)/AP$6)","v":""},"","","","","","","","","","","","","","","",{"$f":"IF(SUMIF($AK55:$AO55,BF$6)/BF$6=0,\"\",SUMIF($AK55:$AO55,BF$6)/BF$6)","v":""},"","","",null,"49. max tre                   (0 pts)","max tre                   ","   (0 pts)","   (0","   0","0"]
[null,null,null,null,null,null,null,null,null,null,null,null,null,null,null,null,null,null,null,null,null,null,null,null,null,null,50,"[Qc]Praline               ","0",-696.69601947308126,-696.69601947308126,"",-696.69601947308126,"","","","",25,"","","","","","","","","","","","","","","","","","","","","","","",null,"50. [Qc]Praline               (0 pts)","[Qc]Praline               ","   (0 pts)","   (0","   0","0"]
[null,null,null,null,null,null,null,null,null,null,null,null,null,null,null,null,null,null,null,null,null,null,null,null,null,null,null,null,null,null,null,null,null,null,null,null,null,null,null,null,null,null,null,null,null,null,null,null,null,null,null,null,null,null,null,null,null,null,null,null,null,null,null,{"$error":"#VALUE!"},"","",{"$error":"#VALUE!"},{"$error":"#VALUE!"}]
[null,null,null,null,null,null,null,null,null,null,null,null,null,null,null,null,null,null,null,null,null,null,null,null,null,null,null,null,null,null,null,null,null,null,null,null,null,null,null,null,null,null,null,null,null,null,null,null,null,null,null,null,null,null,null,null,null,null,null,null,null,null,null,{"$error":"#VALUE!"},"","",{"$error":"#VALUE!"},{"$error":"#VALUE!"}]
[null,null,null,null,null,null,null,null,null,null,null,null,null,null,null,null,null,null,null,null,null,null,null,null,null,null,null,null,null,null,null,null,null,null,null,null,null,null,null,null,null,null,null,null,null,null,null,null,null,null,null,null,null,null,null,null,null,null,null,null,null,null,null,{"$error":"#VALUE!"},"","",{"$error":"#VALUE!"},{"$error":"#VALUE!"}]
[null,null,null,null,null,null,null,null,null,null,null,null,null,null,null,null,null,null,null,null,null,null,null,null,null,null,null,null,null,null,null,null,null,null,null,null,null,null,null,null,null,null,null,null,null,null,null,null,null,null,null,null,null,null,null,null,null,null,null,null,null,null,null,{"$error":"#VALUE!"},"","",{"$error":"#VALUE!"},{"$error":"#VALUE!"}]
[null,null,null,null,null,null,null,null,null,null,null,null,null,null,null,null,null,null,null,null,null,null,null,null,null,null,null,null,null,null,null,null,null,null,null,null,null,null,null,null,null,null,null,null,null,null,null,null,null,null,null,null,null,null,null,null,null,null,null,null,null,null,null,{"$error":"#VALUE!"},"","",{"$error":"#VALUE!"},{"$error":"#VALUE!"}]
[null,null,null,null,null,null,null,null,null,null,null,null,null,null,null,null,null,null,null,null,null,null,null,null,null,null,null,null,null,null,null,null,null,null,null,null,null,null,null,null,null,null,null,null,null,null,null,null,null,null,null,null,null,null,null,null,null,null,null,null,null,null,null,null,"","",{"$error":"#VALUE!"},{"$error":"#VALUE!"}]
[null,null,null,null,null,null,null,null,null,null,null,null,null,null,null,null,null,null,null,null,null,null,null,null,null,null,null,null,null,null,null,null,null,null,null,null,null,null,null,null,null,null,null,null,null,null,null,null,null,null,null,null,null,null,null,null,null,null,null,null,null,null,null,null,"","",{"$error":"#VALUE!"},{"$error":"#VALUE!"}]
[null,null,null,null,null,null,null,null,null,null,null,null,null,null,null,null,null,null,null,null,null,null,null,null,null,null,null,null,null,null,null,null,null,null,null,null,null,null,null,null,null,null,null,null,null,null,null,null,null,null,null,null,null,null,null,null,null,null,null,null,null,null,null,null,"","",{"$error":"#VALUE!"},{"$error":"#VALUE!"}]
[null,null,null,null,null,null,null,null,null,null,null,null,null,null,null,null,null,null,null,null,null,null,null,null,null,null,null,null,null,null,null,null,null,null,null,null,null,null,null,null,null,null,null,null,null,null,null,null,null,null,null,null,null,null,null,null,null,null,null,null,null,null,null,null,"","",{"$error":"#VALUE!"},{"$error":"#VALUE!"}]
[null,null,null,null,null,null,null,null,null,null,null,null,null,null,null,null,null,null,null,null,null,null,null,null,null,null,null,null,null,null,null,null,null,null,null,null,null,null,null,null,null,null,null,null,null,null,null,null,null,null,null,null,null,null,null,null,null,null,null,null,null,null,null,null,"","",{"$error":"#VALUE!"},{"$error":"#VALUE!"}]
[null,null,null,null,null,null,null,null,null,null,null,null,null,null,null,null,null,null,null,null,null,null,null,null,null,null,null,null,null,null,null,null,null,null,null,null,null,null,null,null,null,null,null,null,null,null,null,null,null,null,null,null,null,null,null,null,null,null,null,null,null,null,null,null,"","",{"$error":"#VALUE!"},{"$error":"#VALUE!"}]
[null,null,null,null,null,null,null,null,null,null,null,null,null,null,null,null,null,null,null,null,null,null,null,null,null,null,null,null,null,null,null,null,null,null,null,null,null,null,null,null,null,null,null,null,null,null,null,null,null,null,null,null,null,null,null,null,null,null,null,null,null,null,null,null,"","",{"$error":"#VALUE!"},{"$error":"#VALUE!"}]
[null,null,null,null,null,null,null,null,null,null,null,null,null,null,null,null,null,null,null,null,null,null,null,null,null,null,null,null,null,null,null,null,null,null,null,null,null,null,null,null,null,null,null,null,null,null,null,null,null,null,null,null,null,null,null,null,null,null,null,null,null,null,null,null,"","",{"$error":"#VALUE!"},{"$error":"#VALUE!"}]
[null,null,null,null,null,null,null,null,null,null,null,null,null,null,null,null,null,null,null,null,null,null,null,null,null,null,null,null,null,null,null,null,null,null,null,null,null,null,null,null,null,null,null,null,null,null,null,null,null,null,null,null,null,null,null,null,null,null,null,null,null,null,null,null,"","",{"$error":"#VALUE!"},{"$error":"#VALUE!"}]
[null,null,null,null,null,null,null,null,null,null,null,null,null,null,null,null,null,null,null,null,null,null,null,null,null,null,null,null,null,null,null,null,null,null,null,null,null,null,null,null,null,null,null,null,null,null,null,null,null,null,null,null,null,null,null,null,null,null,null,null,null,null,null,null,"","",{"$error":"#VALUE!"},{"$error":"#VALUE!"}]
[null,null,null,null,null,null,null,null,null,null,null,null,null,null,null,null,null,null,null,null,null,null,null,null,null,null,null,null,null,null,null,null,null,null,null,null,null,null,null,null,null,null,null,null,null,null,null,null,null,null,null,null,null,null,null,null,null,null,null,null,null,null,null,null,{"$f":"RIGHT(BK72,10)","v":""},{"$f":"LEFT(BM72,5)","v":""},{"$f":"REPLACE(BN72,SEARCH(\"(\",BN72),1,\"\")","v":{"$error":"#VALUE!"}},{"$f":"TRIM(BO72)","v":{"$error":"#VALUE!"}}]
[null,null,null,null,null,null,null,null,null,null,null,null,null,null,null,null,null,null,null,null,null,null,null,null,null,null,null,null,null,null,null,null,null,null,null,null,null,null,null,null,null,null,null,null,null,null,null,null,null,null,null,null,null,null,null,null,null,null,null,null,null,null,null,null,"","",{"$error":"#VALUE!"},{"$error":"#VALUE!"}]
[null,null,null,null,null,null,null,null,null,null,null,null,null,null,null,null,null,null,null,null,null,null,null,null,null,null,null,null,null,null,null,null,null,null,null,null,null,null,null,null,null,null,null,null,null,null,null,null,null,null,null,null,null,null,null,null,null,null,null,null,null,null,null,null,"","",{"$error":"#VALUE!"},{"$error":"#VALUE!"}]
[null,null,null,null,null,null,null,null,null,null,null,null,null,null,null,null,null,null,null,null,null,null,null,null,null,null,null,null,null,null,null,null,null,null,null,null,null,null,null,null,null,null,null,null,null,null,null,null,null,null,null,null,null,null,null,null,null,null,null,null,null,null,null,null,"","",{"$error":"#VALUE!"},{"$error":"#VALUE!"}]
[null,null,null,null,null,null,null,null,null,null,null,null,null,null,null,null,null,null,null,null,null,null,null,null,null,null,null,null,null,null,null,null,null,null,null,null,null,null,null,null,null,null,null,null,null,null,null,null,null,null,null,null,null,null,null,null,null,null,null,null,null,null,null,null,"","",{"$error":"#VALUE!"},{"$error":"#VALUE!"}]

{"sheet":"week6","index":5,"n_rows":76,"n_cols":68,"rows_kept":76,"cut":false,"hidden":false,"merged":[]}
[null,"*** Weekly Hot Lap Competition Results"]
[]
[null,"Start Time: 2015-01-03 17:12:16"]
[null,"End Time: 2015-01-10 17:12:16"]
[]
[null,"* Results for T_Tiny04, AntiSlider:",null,null,null,null,"* Results for T_Tiny04, EasySlider:",null,null,null,null,"* Results for T_Tiny04, Spinner:",null,null,null,null,"* Results for T_Tiny04, Slider:",null,null,null,null,"* Results for T_Tiny04, Speeder:",null,null,null,null,null,null,"Pts","Max","Av","Anti","Easy","Spin","Slide","Speed","Ant","Eas","Spn","Sld","Spd",1,2,3,4,5,6,7,8,9,10,11,12,13,14,15,16,17,18,19,20,null,"Overall Results:"]
[null," 1. [x] Mike Nike              8.684   (1000 pts)",{"$f":"LEFT(RIGHT(B7,LEN(B7)-4),LEN(RIGHT(B7,LEN(B7)-4))-19)","v":"[x] Mike Nike             "},{"$f":"VALUE(LEFT(RIGHT(B7,19+0),6))/1000","v":8.6839999999999993},100,null," 1. [+] dede                   9.667   (1000 pts)",{"$f":"LEFT(RIGHT(G7,LEN(G7)-4),LEN(RIGHT(G7,LEN(G7)-4))-19)","v":"[+] dede                  "},{"$f":"VALUE(LEFT(RIGHT(G7,19+0),6))/1000","v":9.6669999999999998},100,null," 1. [+] dede                   8.983   (1000 pts)",{"$f":"LEFT(RIGHT(L7,LEN(L7)-4),LEN(RIGHT(L7,LEN(L7)-4))-19)","v":"[+] dede                  "},{"$f":"VALUE(LEFT(RIGHT(L7,19+0),6))/1000","v":8.9830000000000005},100,null," 1. [x] Mike Nike              9.714   (1000 pts)",{"$f":"LEFT(RIGHT(Q7,LEN(Q7)-4),LEN(RIGHT(Q7,LEN(Q7)-4))-19)","v":"[x] Mike Nike             "},{"$f":"VALUE(LEFT(RIGHT(Q7,19+0),6))/1000","v":9.7140000000000004},100,null," 1. [+] Tinjovic               9.410   (1000 pts)",{"$f":"LEFT(RIGHT(V7,LEN(V7)-4),LEN(RIGHT(V7,LEN(V7)-4))-19)","v":"[+] Tinjovic              "},{"$f":"VALUE(LEFT(RIGHT(V7,19+0),6))/1000","v":9.41},100,null,1,{"$f":"BL7","v":"[+] Tinjovic              "},{"$f":"BP7","v":"967"},{"$f":"MAX(AF7:AJ7)","v":100},{"$f":"SUM(AF7:AJ7)/COUNT(AF7:AJ7)","v":99.792362873002219},{"$f":"IF(SUMIF(C$7:C$995,$AB7,E$7:E$995)=0,\"\",VLOOKUP($AB7,C$7:E$995,3,FALSE))","v":99.873330262551804},{"$f":"IF(SUMIF(H$7:H$996,$AB7,J$7:J$996)=0,\"\",VLOOKUP($AB7,H$7:J$996,3,FALSE))","v":99.606910106548042},{"$f":"IF(SUMIF(M$7:M$995,$AB7,O$7:O$995)=0,\"\",VLOOKUP($AB7,M$7:O$995,3,FALSE))","v":99.677167983969724},{"$f":"IF(SUMIF(R$7:R$995,$AB7,T$7:T$995)=0,\"\",VLOOKUP($AB7,R$7:T$995,3,FALSE))","v":99.804406011941524},{"$f":"IF(SUMIF(W$7:W$995,$AB7,Y$7:Y$995)=0,\"\",VLOOKUP($AB7,W$7:Y$995,3,FALSE))","v":100},{"$f":"IF(AF7=\"\",\"\",RANK(AF7,AF$7:AF$999,0))","v":2},{"$f":"IF(AG7=\"\",\"\",RANK(AG7,AG$7:AG$999,0))","v":3},3,3,1,{"$f":"IF(SUMIF($AK7:$AO7,AP$6)/AP$6=0,\"\",SUMIF($AK7:$AO7,AP$6)/AP$6)","v":1},1,3,"","","","","","","","","","","","","",{"$f":"IF(SUMIF($AK7:$AO7,BF$6)/BF$6=0,\"\",SUMIF($AK7:$AO7,BF$6)/BF$6)","v":""},"","","",null," 1. [+] Tinjovic            (967 pts)",{"$f":"CONCATENATE(LEFT(RIGHT(BK7,LEN(BK7)-4),LEN(RIGHT(BK7,LEN(BK7)-4))-9),\"  \")","v":"[+] Tinjovic              "},{"$f":"RIGHT(BK7,10)","v":" (967 pts)"},{"$f":"LEFT(BM7,5)","v":" (967"},{"$f":"REPLACE(BN7,SEARCH(\"(\",BN7),1,\"\")","v":" 967"},{"$f":"TRIM(BO7)","v":"967"}]
[null," 2. [+] Tinjovic               8.695    (979 pts)",{"$f":"LEFT(RIGHT(B8,LEN(B8)-4),LEN(RIGHT(B8,LEN(B8)-4))-19)","v":"[+] Tinjovic              "},8.6950000000000003,{"$f":"100-(D8-D$7)/D$7*100","v":99.873330262551804},null," 2. [x] Mike Nike              9.704    (940 pts)",{"$f":"LEFT(RIGHT(G8,LEN(G8)-4),LEN(RIGHT(G8,LEN(G8)-4))-19)","v":"[x] Mike Nike             "},{"$f":"VALUE(LEFT(RIGHT(G8,19+0),6))/1000","v":9.7040000000000006},{"$f":"100-(I8-I$7)/I$7*100","v":99.617254577428355},null," 2. [x] Mike Nike              8.996    (977 pts)",{"$f":"LEFT(RIGHT(L8,LEN(L8)-4),LEN(RIGHT(L8,LEN(L8)-4))-19)","v":"[x] Mike Nike             "},{"$f":"VALUE(LEFT(RIGHT(L8,19+0),6))/1000","v":8.9960000000000004},{"$f":"100-(N8-N$7)/N$7*100","v":99.855282199710572},null," 2. [x] Stylus                 9.730    (974 pts)",{"$f":"LEFT(RIGHT(Q8,LEN(Q8)-4),LEN(RIGHT(Q8,LEN(Q8)-4))-19)","v":"[x] Stylus                "},{"$f":"VALUE(LEFT(RIGHT(Q8,19+0),6))/1000","v":9.73},{"$f":"100-(S8-S$7)/S$7*100","v":99.835289273213917},null," 2. [x] Mike Nike              9.498    (861 pts)",{"$f":"LEFT(RIGHT(V8,LEN(V8)-4),LEN(RIGHT(V8,LEN(V8)-4))-19)","v":"[x] Mike Nike             "},{"$f":"VALUE(LEFT(RIGHT(V8,19+0),6))/1000","v":9.4979999999999993},{"$f":"100-(X8-X$7)/X$7*100","v":99.064824654622754},null,2,{"$f":"BL8","v":"[x] Mike Nike             "},{"$f":"BP8","v":"955"},100,99.707472286352342,100,99.617254577428355,99.855282199710572,100,99.064824654622754,{"$f":"IF(AF8=\"\",\"\",RANK(AF8,AF$7:AF$999,0))","v":1},2,2,1,2,2,3,"","","","","","","","","","","","","","","","","","",null," 2. [x] Mike Nike           (955 pts)",{"$f":"CONCATENATE(LEFT(RIGHT(BK8,LEN(BK8)-4),LEN(RIGHT(BK8,LEN(BK8)-4))-9),\"  \")","v":"[x] Mike Nike             "},{"$f":"RIGHT(BK8,10)","v":" (955 pts)"},{"$f":"LEFT(BM8,5)","v":" (955"},{"$f":"REPLACE(BN8,SEARCH(\"(\",BN8),1,\"\")","v":" 955"},{"$f":"TRIM(BO8)","v":"955"}]
[null," 3. [fS]Palo                   8.705    (962 pts)",{"$f":"LEFT(RIGHT(B9,LEN(B9)-4),LEN(RIGHT(B9,LEN(B9)-4))-19)","v":"[fS]Palo                  "},8.7050000000000001,{"$f":"100-(D9-D$7)/D$7*100","v":99.758175955780743},null," 3. [+] Tinjovic               9.705    (939 pts)",{"$f":"LEFT(RIGHT(G9,LEN(G9)-4),LEN(RIGHT(G9,LEN(G9)-4))-19)","v":"[+] Tinjovic              "},{"$f":"VALUE(LEFT(RIGHT(G9,19+0),6))/1000","v":9.7050000000000001},{"$f":"100-(I9-I$7)/I$7*100","v":99.606910106548042},null," 3. [+] Tinjovic               9.012    (949 pts)",{"$f":"LEFT(RIGHT(L9,LEN(L9)-4),LEN(RIGHT(L9,LEN(L9)-4))-19)","v":"[+] Tinjovic              "},{"$f":"VALUE(LEFT(RIGHT(L9,19+0),6))/1000","v":9.0120000000000005},{"$f":"100-(N9-N$7)/N$7*100","v":99.677167983969724},null," 3. [+] Tinjovic               9.733    (969 pts)",{"$f":"LEFT(RIGHT(Q9,LEN(Q9)-4),LEN(RIGHT(Q9,LEN(Q9)-4))-19)","v":"[+] Tinjovic              "},{"$f":"VALUE(LEFT(RIGHT(Q9,19+0),6))/1000","v":9.7330000000000005},{"$f":"100-(S9-S$7)/S$7*100","v":99.804406011941524},null," 3. [+] dede                   9.520    (830 pts)",{"$f":"LEFT(RIGHT(V9,LEN(V9)-4),LEN(RIGHT(V9,LEN(V9)-4))-19)","v":"[+] dede                  "},{"$f":"VALUE(LEFT(RIGHT(V9,19+0),6))/1000","v":9.52},{"$f":"100-(X9-X$7)/X$7*100","v":98.831030818278435},null,3,"[+] dede                  ","910",100,99.388495769837917,98.790879778903729,100,100,99.320568252007419,98.831030818278435,11,1,1,4,3,2,"",1,1,"","","","","","",1,"","","","","","","","","",null," 3. [+] dede                (910 pts)","[+] dede                  "," (910 pts)"," (910"," 910","910"]
[null," 4. [PahaJori] Ender           8.719    (937 pts)","[PahaJori] Ender          ",8.7189999999999994,99.596959926301238,null," 4. [fS]Palo                   9.712    (928 pts)","[fS]Palo                  ",9.7119999999999997,99.534498810385855,null," 4. [fS]Palo                   9.024    (929 pts)","[fS]Palo                  ",9.0239999999999991,99.543582322164099,null," 4. [+] dede                   9.780    (897 pts)","[+] dede                  ",9.7799999999999994,99.320568252007419,null," 4. [fS]Palo                   9.536    (808 pts)","[fS]Palo                  ",9.5359999999999996,98.660998937300747,null,4,"[fS]Palo                  ","896",99.758175955780743,99.303857217067815,99.758175955780743,99.534498810385855,99.543582322164099,99.022030059707646,98.660998937300747,3,4,4,5,4,"","",1,3,1,"","","","","","","","","","","","","","","",null," 4. [fS]Palo                (896 pts)","[fS]Palo                  "," (896 pts)"," (896"," 896","896"]
[null," 5. [x] Stylus                 8.739    (903 pts)","[x] Stylus                ",8.7390000000000008,99.366651312759075,null," 5. [+] olio                   9.782    (827 pts)","[+] olio                  ",9.782,98.810385848763829,null," 5. [x] Stylus                 9.071    (855 pts)","[x] Stylus                ",9.0709999999999997,99.020371813425371,null," 5. [fS]Palo                   9.809    (855 pts)","[fS]Palo                  ",9.8089999999999993,99.022030059707646,null," 5. Tinjoypadawan              9.606    (719 pts)","Tinjoypadawan             ",9.6059999999999999,97.917109458023376,null,5,"[x] Stylus                ","833",99.835289273213917,98.797419607929157,99.366651312759075,98.262128892107157,99.020371813425371,99.835289273213917,97.502656748140282,5,6,5,2,6,"",1,"","",2,2,"","","","","","","","","","","","","","",null," 5. [x] Stylus              (833 pts)","[x] Stylus                "," (833 pts)"," (833"," 833","833"]
[null," 6. Sig                        8.754    (879 pts)","Sig                       ",{"$f":"VALUE(LEFT(RIGHT(B12,19+0),6))/1000","v":8.7539999999999996},{"$f":"100-(D12-D$7)/D$7*100","v":99.193919852602477},null," 6. [x] Stylus                 9.835    (759 pts)","[x] Stylus                ",9.8350000000000009,98.262128892107157,null," 6. [+] olio                   9.135    (764 pts)","[+] olio                  ",9.1349999999999998,98.307914950461992,null," 6. Kyna_Musti                 9.824    (835 pts)","Kyna_Musti                ",9.8239999999999998,98.867613753345694,null," 6. [x] Stylus                 9.645    (673 pts)","[x] Stylus                ",9.6449999999999996,97.502656748140282,null,6,"[PahaJori] Ender          ","625",99.596959926301238,96.76439232425416,99.596959926301238,97.589738284886721,95.825448068573976,96.314597488161425,94.495217853347498,4,7,16,11,10,"","","",1,"","",1,"","",1,1,"","","","",1,"","","","",null," 6. [PahaJori] Ender        (625 pts)","[PahaJori] Ender          "," (625 pts)"," (625"," 625","625"]
[null," 7. [+] Badeend                8.760    (869 pts)","[+] Badeend               ",8.76,99.124827268539832,null," 7. [PahaJori] Ender           9.900    (683 pts)","[PahaJori] Ender          ",9.9,97.589738284886721,null," 7. Sig                        9.215    (664 pts)","Sig                       ",9.2149999999999999,97.417343871757765,null," 7. [+] olio                   9.853    (796 pts)","[+] olio                  ",9.8529999999999998,98.569075561045921,null," 7. [iR] iBlaze²               9.733    (582 pts)","[iR] iBlaze²              ",9.7330000000000005,96.567481402763008,null,7,"Jurgen-NL                 ","586",98.802395209580823,96.428186516421036,98.802395209580823,95.789800351712003,95.970165868863404,97.189623224212482,94.388947927736439,10,10,15,9,12,"","","","","","","","",1,2,"",1,"","",1,"","","","","",null," 7. Jurgen-NL               (586 pts)","Jurgen-NL                 "," (586 pts)"," (586"," 586","586"]
[null," 8. Leftinjo                   8.768    (857 pts)","Leftinjo                  ",8.7680000000000007,99.032703823122972,null," 8. Sig                        9.965    (615 pts)","Sig                       ",9.9649999999999999,96.917347677666285,null," 8. Kyna_Musti                 9.236    (641 pts)","Kyna_Musti                ",9.2360000000000007,97.183568963597907,null," 8. Chukie                     9.951    (679 pts)","Chukie                    ",9.9510000000000005,97.560222359481159,null," 8. Sig                        9.759    (558 pts)","Sig                       ",9.7590000000000003,96.291179596174274,null,8,"[+] Badeend               ","543",99.124827268539832,95.780187371240288,99.124827268539832,95.789800351712003,96.42658354669932,93.957175211035619,93.602550478214667,7,10,11,15,14,"","","","","","",1,"","",1,1,"","",1,1,"","","","","",null," 8. [+] Badeend             (543 pts)","[+] Badeend               "," (543 pts)"," (543"," 543","543"]
[null," 9. GOl V8                     8.777    (843 pts)","GOl V8                    ",8.7769999999999992,98.929064947029019,null," 9. Chukie                     9.985    (595 pts)","Chukie                    ",9.9849999999999994,96.710458260060008,null," 9. GOl V8                     9.273    (601 pts)","GOl V8                    ",9.2729999999999997,96.771679839697214,null," 9. Jurgen-NL                  9.987    (641 pts)","Jurgen-NL                 ",9.9870000000000001,97.189623224212482,null," 9. AnnicK                     9.814    (510 pts)","AnnicK                    ",9.8140000000000001,95.706695005313492,null,9,"Sig                       ","543",99.193919852602477,97.4549477495502,99.193919852602477,96.917347677666285,97.417343871757765,"",96.291179596174274,6,8,7,"",8,"","","","","",1,1,2,"","","","","","","","","","","","",null," 9. Sig                     (543 pts)","Sig                       "," (543 pts)"," (543"," 543","543"]
[null,"10. Jurgen-NL                  8.788    (826 pts)","Jurgen-NL                 ",8.7880000000000003,98.802395209580823,null,"10. Jurgen-NL                 10.074    (516 pts)","Jurgen-NL                 ",10.074,95.789800351712003,null,"10. [iR] iBlaze²               9.297    (577 pts)","[iR] iBlaze²              ",9.2970000000000006,96.504508516085934,null,"10. AnnicK                    10.038    (591 pts)","AnnicK                    ",10.038,96.66460778258184,null,"10. [PahaJori] Ender           9.928    (424 pts)","[PahaJori] Ender          ",9.9280000000000008,94.495217853347498,null,10,"Kyna_Musti                ","539",98.867613753345694,97.277187152971152,98.583602026715781,"",97.183568963597907,98.867613753345694,94.473963868225297,12,"",8,6,11,"","","","","",1,"",1,"","",1,1,"","","","","","","","",null,"10. Kyna_Musti              (539 pts)","Kyna_Musti                "," (539 pts)"," (539"," 539","539"]
[null,"11. [+] dede                   8.789    (825 pts)","[+] dede                  ",8.7889999999999997,98.790879778903729,null,"11. [+] Badeend               10.074    (516 pts)","[+] Badeend               ",10.074,95.789800351712003,null,"11. [+] Badeend                9.304    (570 pts)","[+] Badeend               ",9.3040000000000003,96.42658354669932,null,"11. [PahaJori] Ender          10.072    (560 pts)","[PahaJori] Ender          ",10.071999999999999,96.314597488161425,null,"11. Kyna_Musti                 9.930    (422 pts)","Kyna_Musti                ",9.93,94.473963868225297,null,11,"pozdro600                 ","515",98.583602026715781,95.458383368929873,98.583602026715781,93.865728767973522,95.992430145831023,95.789582046530796,93.0605738575983,12,19,14,12,15,"","","","","","","","","","","",2,"",1,1,"","","",1,"",null,"11. pozdro600               (515 pts)","pozdro600                 "," (515 pts)"," (515"," 515","515"]
[null,"12. Kyna_Musti                 8.807    (798 pts)","Kyna_Musti                ",8.8070000000000004,98.583602026715781,null,"12. Gol_v8                    10.116    (483 pts)","Gol_v8                    ",10.116,95.35533257473881,null,"12. Chukie                     9.324    (550 pts)","Chukie                    ",9.3239999999999998,96.203940777023277,null,"12. pozdro600                 10.123    (516 pts)","pozdro600                 ",10.122999999999999,95.789582046530796,null,"12. Jurgen-NL                  9.938    (417 pts)","Jurgen-NL                 ",9.9380000000000006,94.388947927736439,null,12,"[iR] iBlaze²              ","512",96.856287425149688,95.599939775283246,96.856287425149688,94.165718423502639,96.504508516085934,93.905703108914977,96.567481402763008,25,15,10,16,7,"","","","","","",1,"","",1,"","","","",1,1,"","","","",null,"12. [iR] iBlaze²            (512 pts)","[iR] iBlaze²              "," (512 pts)"," (512"," 512","512"]
[null,"13. pozdro600                  8.807    (798 pts)","pozdro600                 ",8.8070000000000004,98.583602026715781,null,"13. [+] xzeal                 10.118    (482 pts)","[+] xzeal                 ",10.118,95.334643632978171,null,"13. [+] xzeal                  9.330    (545 pts)","[+] xzeal                 ",9.33,96.13714794612045,null,"13. majstorfantac             10.193    (462 pts)","majstorfantac             ",10.193,95.068972616841677,null,"13. majstorfantac              9.949    (410 pts)","majstorfantac             ",9.9489999999999998,94.272051009564294,null,13,"AnnicK                    ","497",96.66460778258184,95.490694336668042,95.278673422385992,94.145029481742,95.658465991316945,96.66460778258184,95.706695005313492,31,16,17,10,9,"","","","","","","","",1,1,"","","","","",1,1,"","","",null,"13. AnnicK                  (497 pts)","AnnicK                    "," (497 pts)"," (497"," 497","497"]
[null,"14. [x] Whiplash               8.811    (792 pts)","[x] Whiplash              ",8.8109999999999999,98.537540304007365,null,"14. GOl V8                    10.154    (455 pts)","GOl V8                    ",10.154,94.962242681286853,null,"14. pozdro600                  9.343    (533 pts)","pozdro600                 ",9.343,95.992430145831023,null,"14. [+] xzeal                 10.277    (405 pts)","[+] xzeal                 ",10.276999999999999,94.204241301214751,null,"14. [+] Badeend               10.012    (370 pts)","[+] Badeend               ",10.012,93.602550478214667,null,14,"majstorfantac             ","495",98.491478581298935,95.229971784103469,98.491478581298935,93.04851556842867,95.268841144383856,95.068972616841677,94.272051009564294,15,20,18,13,13,"","","","","","","","","","","","",2,"",1,"","",1,"",1,null,"14. majstorfantac           (495 pts)","majstorfantac             "," (495 pts)"," (495"," 495","495"]
[null,"15. majstorfantac              8.815    (786 pts)","majstorfantac             ",8.8149999999999995,98.491478581298935,null,"15. [iR] iBlaze²              10.231    (403 pts)","[iR] iBlaze²              ",10.231,94.165718423502639,null,"15. Jurgen-NL                  9.345    (531 pts)","Jurgen-NL                 ",9.3450000000000006,95.970165868863404,null,"15. [+] Badeend               10.301    (391 pts)","[+] Badeend               ",10.301,93.957175211035619,null,"15. pozdro600                 10.063    (341 pts)","pozdro600                 ",10.063000000000001,93.0605738575983,null,15,"[+] xzeal                 ","488",97.835099032703823,95.140058476120984,97.835099032703823,95.334643632978171,96.13714794612045,94.204241301214751,92.189160467587683,19,13,13,14,17,"","","","","","","","","","","","",2,1,"","",1,"",1,"",null,"15. [+] xzeal               (488 pts)","[+] xzeal                 "," (488 pts)"," (488"," 488","488"]
[null,"16. kapa112                    8.830    (765 pts)","kapa112                   ",8.83,98.318747121142323,null,"16. AnnicK                    10.233    (402 pts)","AnnicK                    ",10.233000000000001,94.145029481742,null,"16. [PahaJori] Ender           9.358    (519 pts)","[PahaJori] Ender          ",9.3580000000000005,95.825448068573976,null,"16. [iR] iBlaze²              10.306    (388 pts)","[iR] iBlaze²              ",10.305999999999999,93.905703108914977,null,"16. GOl V8                    10.065    (340 pts)","GOl V8                    ",10.065,93.039319872476099,null,16,"GOl V8                    ","480",98.929064947029019,94.337743741105868,98.929064947029019,94.962242681286853,96.771679839697214,87.986411365040155,93.039319872476099,9,14,9,21,16,"","","","","","","","",2,"","","","",1,"",1,"","","","",null,"16. GOl V8                  (480 pts)","GOl V8                    "," (480 pts)"," (480"," 480","480"]
[null,"17. power79                    8.847    (742 pts)","power79                   ",8.8469999999999995,98.12298479963151,null,"17. Qpa                       10.234    (401 pts)","Qpa                       ",10.234,94.134685010861688,null,"17. AnnicK                     9.373    (506 pts)","AnnicK                    ",9.3729999999999993,95.658465991316945,null,"17. Lamppu                    10.315    (382 pts)","Lamppu                    ",10.315,93.813053325097812,null,"17. [+] xzeal                 10.145    (300 pts)","[+] xzeal                 ",10.145,92.189160467587683,null,17,"[+] olio                  ","477",98.810385848763829,98.562458786757247,"",98.810385848763829,98.307914950461992,98.569075561045921,"","",5,6,7,"",{"$f":"IF(SUMIF($AK23:$AO23,AP$6)/AP$6=0,\"\",SUMIF($AK23:$AO23,AP$6)/AP$6)","v":""},"","","",1,1,1,"","","","","","","","","",{"$f":"IF(SUMIF($AK23:$AO23,BF$6)/BF$6=0,\"\",SUMIF($AK23:$AO23,BF$6)/BF$6)","v":""},"","","",null,"17. [+] olio                (477 pts)","[+] olio                  "," (477 pts)"," (477"," 477","477"]
[null,"18. Gol_v8                     8.857    (729 pts)","Gol_v8                    ",8.8569999999999993,98.007830492860435,null,"18. lds                       10.254    (389 pts)","lds                       ",10.254,93.927795593255411,null,"18. majstorfantac              9.408    (477 pts)","majstorfantac             ",9.4079999999999995,95.268841144383856,null,"18. kapa112                   10.336    (370 pts)","kapa112                   ",10.336,93.596870496191059,null,"18. Chukie                    10.331    (224 pts)","Chukie                    ",10.331,90.212539851222118,null,18,"Chukie                    ","470",97.560222359481159,94.585152194283239,92.238599723629648,96.710458260060008,96.203940777023277,97.560222359481159,90.212539851222118,36,9,12,8,18,"","","","","","","",1,1,"","",1,"","","","","",1,"","",null,"18. Chukie                  (470 pts)","Chukie                    "," (470 pts)"," (470"," 470","470"]
[null,"19. [+] xzeal                  8.872    (709 pts)","[+] xzeal                 ",8.8719999999999999,97.835099032703823,null,"19. pozdro600                 10.260    (385 pts)","pozdro600                 ",10.26,93.865728767973522,null,"19. Lamppu                     9.565    (366 pts)","Lamppu                    ",9.5649999999999995,93.521095402426823,null,"19. Qpa                       10.478    (297 pts)","Qpa                       ",10.478,92.135062795964586,null,"19. Lamppu                    10.331    (224 pts)","Lamppu                    ",10.331,90.212539851222118,null,19,"Lamppu                    ","335",93.813053325097812,92.814596142407282,93.539843390142792,92.986448743146781,93.521095402426823,93.813053325097812,90.212539851222118,33,21,19,17,18,"","","","","","","","","","","","","","","","",1,1,1,"",null,"19. Lamppu                  (335 pts)","Lamppu                    "," (335 pts)"," (335"," 335","335"]
[null,"20. Johnny                     8.873    (708 pts)","Johnny                    ",8.8729999999999993,97.823583602026716,null,"20. majstorfantac             10.339    (341 pts)","majstorfantac             ",10.339,93.04851556842867,null,"20. DutchMan                   9.729    (279 pts)","DutchMan                  ",9.7289999999999992,91.695424691083176,null,"20. Simo                      10.704    (211 pts)","Simo                      ",10.704000000000001,89.808523780111173,null,"20. Qpa                       10.669    (134 pts)","Qpa                       ",10.669,86.620616365568537,null,20,"Qpa                       ","331",96.602947950253338,92.008425309979913,96.602947950253338,94.134685010861688,90.548814427251472,92.135062795964586,86.620616365568537,27,17,21,19,20,"","","","","","","","","","","","","","","","",1,"",1,1,null,"20. Qpa                     (331 pts)","Qpa                       "," (331 pts)"," (331"," 331","331"]
[null,"21. mc65532                    8.910    (662 pts)","mc65532                   ",8.91,97.397512666973739,null,"21. Lamppu                    10.345    (338 pts)","Lamppu                    ",10.345000000000001,92.986448743146781,null,"21. Qpa                        9.832    (235 pts)","Qpa                       ",9.8320000000000007,90.548814427251472,null,"21. GOl V8                    10.881    (162 pts)","GOl V8                    ",10.881,87.986411365040155,null,"21. laf                       10.697    (128 pts)","laf                       ",10.696999999999999,86.323060573857617,null,21,"ROMREI                    ","246",96.579917088899123,89.485263451638104,96.579917088899123,89.179683459191068,89.914282533674736,86.215771052089764,85.536663124335803,28,24,22,22,23,"","","","","","","","","","","","","","","","","","","","",null,"21. ROMREI                  (246 pts)","ROMREI                    "," (246 pts)"," (246"," 246","246"]
[null,"22. Jaka                       8.914    (658 pts)","Jaka                      ",8.9139999999999997,97.351450944265309,null,"22. Simo                      10.656    (210 pts)","Simo                      ",10.656000000000001,89.769318299368976,null,"22. ROMREI                     9.889    (214 pts)","ROMREI                    ",9.8889999999999993,89.914282533674736,null,"22. ROMREI                    11.053    (126 pts)","ROMREI                    ",11.053000000000001,86.215771052089764,null,"22. [FUN] GR8 Arjen!          10.715    (125 pts)","[FUN] GR8 Arjen!          ",10.715,86.131774707757714,null,22,"Gol_v8                    ","242",98.007830492860435,96.68158153379963,98.007830492860435,95.35533257473881,"","","",18,12,"","","","","","","","","","","","","","",1,"","","","","",1,"","",null,"22. Gol_v8                  (242 pts)","Gol_v8                    "," (242 pts)"," (242"," 242","242"]
[null,"23. [FUN] GR8 Arjen!           8.923    (647 pts)","[FUN] GR8 Arjen!          ",8.923,97.247812068171342,null,"23. PEACE                     10.698    (197 pts)","PEACE                     ",10.698,89.334850522395769,null,"23. Baba                      10.130    (146 pts)","Baba                      ",10.130000000000001,87.231437159078254,null,"23. Baba                      12.093     (30 pts)","Baba                      ",12.093,75.509573810994453,null,"23. ROMREI                    10.771    (115 pts)","ROMREI                    ",10.771000000000001,85.536663124335803,null,23,"kapa112                   ","227",98.318747121142323,95.957808808666698,98.318747121142323,"","",93.596870496191059,"",16,"","",18,"","","","","","","","","","","","","","","","",1,"",1,"","",null,"23. kapa112                 (227 pts)","kapa112                   "," (227 pts)"," (227"," 227","227"]
[null,"24. Lost_KiLler                8.923    (647 pts)","Lost_KiLler               ",8.923,97.247812068171342,null,"24. ROMREI                    10.713    (193 pts)","ROMREI                    ",10.712999999999999,89.179683459191068,null,null,null,null,null,null,null,null,null,null,null,"24. Ninjinha_br               10.963     (86 pts)","Ninjinha_br               ",10.962999999999999,83.496280552603622,null,24,"lds                       ","198",96.775679410409936,95.351737501832673,96.775679410409936,93.927795593255411,"","","",26,18,"","","","","","","","","","","","","","","","","","","","",1,"","",null,"24. lds                     (198 pts)","lds                       "," (198 pts)"," (198"," 198","198"]
[null,"25. [iR] iBlaze²               8.957    (609 pts)","[iR] iBlaze²              ",8.9570000000000007,96.856287425149688,null,"25. Buzzurro                  10.885    (149 pts)","Buzzurro                  ",10.885,87.400434467776975,null,null,null,null,null,null,null,null,null,null,null,"25. Ze Turbo Andre            11.665     (32 pts)","Ze Turbo Andre            ",11.664999999999999,76.036131774707769,null,25,"Leftinjo                  ","171",99.032703823122972,99.032703823122972,99.032703823122972,"","","","",8,"","","","","","","","","","","",1,"","","","","","","","","","","","",null,"25. Leftinjo                (171 pts)","Leftinjo                  "," (171 pts)"," (171"," 171","171"]
[null,"26. lds                        8.964    (601 pts)","lds                       ",8.9640000000000004,96.775679410409936,null,"26. Nocture                   10.977    (130 pts)","Nocture                   ",10.977,86.448743146788033,null,null,null,null,null,null,null,null,null,null,null,"26. Baba                      12.218     (15 pts)","Baba                      ",12.218,70.159404888416589,null,26,"[x] Whiplash              ","158",98.537540304007365,98.537540304007365,98.537540304007365,"","","","",14,"","","","","","","","","","","","","","","","","",1,"","","","","","",null,"26. [x] Whiplash            (158 pts)","[x] Whiplash              "," (158 pts)"," (158"," 158","158"]
[null,"27. Qpa                        8.979    (585 pts)","Qpa                       ",8.9789999999999992,96.602947950253338,null,"27. Matic                     10.984    (129 pts)","Matic                     ",10.984,86.376331850625846,null,null,null,null,null,null,null,null,null,null,null,null,null,null,null,null,27,"[FUN] GR8 Arjen!          ","154",97.247812068171342,91.689793387964528,97.247812068171342,"","","",86.131774707757714,23,"","","",22,"","","","","","","","","","","","","","","","","","","","",null,"27. [FUN] GR8 Arjen!        (154 pts)","[FUN] GR8 Arjen!          "," (154 pts)"," (154"," 154","154"]
[null,"28. ROMREI                     8.981    (583 pts)","ROMREI                    ",8.9809999999999999,96.579917088899123,null,"28. Air13                     10.998    (126 pts)","Air13                     ",10.997999999999999,86.231509258301443,null,null,null,null,null,null,null,null,null,null,null,null,null,null,null,null,28,"power79                   ","148",98.12298479963151,98.12298479963151,98.12298479963151,"","","","",17,"","","","","","","","","","","","","","","","","","","","",1,"","","",null,"28. power79                 (148 pts)","power79                   "," (148 pts)"," (148"," 148","148"]
[null,"29. PEACE                      9.047    (519 pts)","PEACE                     ",9.0470000000000006,95.819898664210029,null,"29. Jos Verstappen            11.032    (120 pts)","Jos Verstappen            ",11.032,85.87979724837075,null,null,null,null,null,null,null,null,null,null,null,null,null,null,null,null,29,"Tinjoypadawan             ","143",97.917109458023376,97.917109458023376,"","","","",97.917109458023376,"","","","",5,"","","","",1,"","","","","","","","","","","","","","","",null,"29. Tinjoypadawan           (143 pts)","Tinjoypadawan             "," (143 pts)"," (143"," 143","143"]
[null,"30. Alukin                     9.057    (510 pts)","Alukin                    ",9.0570000000000004,95.704744357438955,null,"30. Baba                      11.289     (83 pts)","Baba                      ",11.289,83.22126823212993,null,null,null,null,null,null,null,null,null,null,null,null,null,null,null,null,30,"PEACE                     ","143",95.819898664210029,92.577374593302892,95.819898664210029,89.334850522395769,"","","",29,23,"","","","","","","","","","","","","","","","","","","","","","","",null,"30. PEACE                   (143 pts)","PEACE                     "," (143 pts)"," (143"," 143","143"]
[null,"31. AnnicK                     9.094    (478 pts)","AnnicK                    ",9.0939999999999994,95.278673422385992,null,"31. Ze Turbo Andre            11.909     (35 pts)","Ze Turbo Andre            ",11.909000000000001,76.807696286334945,null,null,null,null,null,null,null,null,null,null,null,null,null,null,null,null,31,"Johnny                    ","141",97.823583602026716,97.823583602026716,97.823583602026716,"","","","",20,"","","","","","","","","","","","","","","","","","","","","","","",1,null,"31. Johnny                  (141 pts)","Johnny                    "," (141 pts)"," (141"," 141","141"]
[null,"32. [LWD] JamsleJ              9.224    (380 pts)","[LWD] JamsleJ             ",9.2240000000000002,93.781667434362035,null,"32. ZakkWylde                 11.916     (35 pts)","ZakkWylde                 ",11.916,76.735284990172744,null,null,null,null,null,null,null,null,null,null,null,null,null,null,null,null,32,"mc65532                   ","132",97.397512666973739,97.397512666973739,97.397512666973739,"","","","",21,"","","","","","","","","","","","","","","","","","","","","","","","",null,"32. mc65532                 (132 pts)","mc65532                   "," (132 pts)"," (132"," 132","132"]
[null,"33. Lamppu                     9.245    (367 pts)","Lamppu                    ",9.2449999999999992,93.539843390142792,null,null,null,null,null,null,null,null,null,null,null,null,null,null,null,null,null,null,null,null,null,33,"Jaka                      ","131",97.351450944265309,97.351450944265309,97.351450944265309,"","","","",22,"","","","",{"$f":"IF(SUMIF($AK39:$AO39,AP$6)/AP$6=0,\"\",SUMIF($AK39:$AO39,AP$6)/AP$6)","v":""},"","","","","","","","","","","","","","","",{"$f":"IF(SUMIF($AK39:$AO39,BF$6)/BF$6=0,\"\",SUMIF($AK39:$AO39,BF$6)/BF$6)","v":""},"","","",null,"33. Jaka                    (131 pts)","Jaka                      "," (131 pts)"," (131"," 131","131"]
[null,"34. Pro08                      9.252    (362 pts)","Pro08                     ",9.2520000000000007,93.459235375403026,null,null,null,null,null,null,null,null,null,null,null,null,null,null,null,null,null,null,null,null,null,34,"Lost_KiLler               ","129",97.247812068171342,97.247812068171342,97.247812068171342,"","","","",23,"","","","","","","","","","","","","","","","","","","","","","","","",null,"34. Lost_KiLler             (129 pts)","Lost_KiLler               "," (129 pts)"," (129"," 129","129"]
[null,"35. Rodrigo                    9.323    (321 pts)","Rodrigo                   ",9.3230000000000004,92.641639797328409,null,null,null,null,null,null,null,null,null,null,null,null,null,null,null,null,null,null,null,null,null,35,"Alukin                    ","102",95.704744357438955,95.704744357438955,95.704744357438955,"","","","",30,"","","","","","","","","","","","","","","","","","","","","","","","",null,"35. Alukin                  (102 pts)","Alukin                    "," (102 pts)"," (102"," 102","102"]
[null,"36. Chukie                     9.358    (302 pts)","Chukie                    ",9.3580000000000005,92.238599723629648,null,null,null,null,null,null,null,null,null,null,null,null,null,null,null,null,null,null,null,null,null,36,"Baba                      ","94",89.336711192998621,81.091679056723564,89.336711192998621,83.22126823212993,87.231437159078254,75.509573810994453,70.159404888416589,40,30,23,23,26,"","","","","","","","","","","","","","","","","","","","",null,"36. Baba                     (94 pts)","Baba                      ","  (94 pts)","  (94","  94","94"]
[null,"37. Nocture                    9.462    (253 pts)","Nocture                   ",9.4619999999999997,91.040994933210499,null,null,null,null,null,null,null,null,null,null,null,null,null,null,null,null,null,null,null,null,null,37,"Simo                      ","84",89.808523780111173,89.788921039740075,"",89.769318299368976,"",89.808523780111173,"","",22,"",20,"","","","","","","","","","","","","","","","","","","","",1,null,"37. Simo                     (84 pts)","Simo                      ","  (84 pts)","  (84","  84","84"]
[null,"38. Buzzurro                   9.478    (246 pts)","Buzzurro                  ",9.4779999999999998,90.856748042376779,null,null,null,null,null,null,null,null,null,null,null,null,null,null,null,null,null,null,null,null,null,38,"Buzzurro                  ","79",90.856748042376779,89.128591255076884,90.856748042376779,87.400434467776975,"","","",38,25,"","","","","","","","","","","","","","","","","","","","","","","",null,"38. Buzzurro                 (79 pts)","Buzzurro                  ","  (79 pts)","  (79","  79","79"]
[null,"39. Jos Verstappen             9.510    (233 pts)","Jos Verstappen            ",9.51,90.48825426070934,null,null,null,null,null,null,null,null,null,null,null,null,null,null,null,null,null,null,null,null,null,39,"Nocture                   ","76",91.040994933210499,88.744869039999259,91.040994933210499,86.448743146788033,"","","",37,26,"","","","","","","","","","","","","","","","","","","","","","","",null,"39. Nocture                  (76 pts)","Nocture                   ","  (76 pts)","  (76","  76","76"]
[null,"40. Baba                       9.610    (197 pts)","Baba                      ",9.61,89.336711192998621,null,null,null,null,null,null,null,null,null,null,null,null,null,null,null,null,null,null,null,null,null,40,"[LWD] JamsleJ             ","76",93.781667434362035,93.781667434362035,93.781667434362035,"","","","",32,"","","","","","","","","","","","","","","","","","","","","","","","",null,"40. [LWD] JamsleJ            (76 pts)","[LWD] JamsleJ             ","  (76 pts)","  (76","  76","76"]
[null,"41. Delux                      9.692    (172 pts)","Delux                     ",9.6920000000000002,88.392445877475808,null,null,null,null,null,null,null,null,null,null,null,null,null,null,null,null,null,null,null,null,null,41,"Pro08                     ","72",93.459235375403026,93.459235375403026,93.459235375403026,"","","","",34,"","","","","","","","","","","","","","","","","","","","","","","","",null,"41. Pro08                    (72 pts)","Pro08                     ","  (72 pts)","  (72","  72","72"]
[null,"42. ZakkWylde                 10.837     (28 pts)","ZakkWylde                 ",10.837,75.20727775218792,null,null,null,null,null,null,null,null,null,null,null,null,null,null,null,null,null,null,null,null,null,42,"Jos Verstappen            ","70",90.48825426070934,88.184025754540045,90.48825426070934,85.87979724837075,"","","",39,29,"","","","","","","","","","","","","","","","","","","","","","","",null,"42. Jos Verstappen           (70 pts)","Jos Verstappen            ","  (70 pts)","  (70","  70","70"]
[null,null,null,null,null,null,null,null,null,null,null,null,null,null,null,null,null,null,null,null,null,null,null,null,null,null,43,"Rodrigo                   ","64",92.641639797328409,92.641639797328409,92.641639797328409,"","","","",35,"","","","","","","","","","","","","","","","","","","","","","","","",null,"43. Rodrigo                  (64 pts)","Rodrigo                   ","  (64 pts)","  (64","  64","64"]
[null,null,null,null,null,null,null,null,null,null,null,null,null,null,null,null,null,null,null,null,null,null,null,null,null,null,44,"DutchMan                  ","55",91.695424691083176,91.695424691083176,"","",91.695424691083176,"","","","",20,"","","","","","","","","","","","","","","","","","","","","",1,null,"44. DutchMan                 (55 pts)","DutchMan                  ","  (55 pts)","  (55","  55","55"]
[null,null,null,null,null,null,null,null,null,null,null,null,null,null,null,null,null,null,null,null,null,null,null,null,null,null,45,"Delux                     ","34",88.392445877475808,88.392445877475808,88.392445877475808,"","","","",41,"","","","","","","","","","","","","","","","","","","","","","","","",null,"45. Delux                    (34 pts)","Delux                     ","  (34 pts)","  (34","  34","34"]
[null,null,null,null,null,null,null,null,null,null,null,null,null,null,null,null,null,null,null,null,null,null,null,null,null,null,46,"Matic                     ","25",86.376331850625846,86.376331850625846,"",86.376331850625846,"","","","",27,"","","","","","","","","","","","","","","","","","","","","","","",null,"46. Matic                    (25 pts)","Matic                     ","  (25 pts)","  (25","  25","25"]
[null,null,null,null,null,null,null,null,null,null,null,null,null,null,null,null,null,null,null,null,null,null,null,null,null,null,47,{"$f":"BL53","v":"laf                       "},{"$f":"BP53","v":"25"},{"$f":"MAX(AF53:AJ53)","v":86.323060573857617},{"$f":"SUM(AF53:AJ53)/COUNT(AF53:AJ53)","v":86.323060573857617},{"$f":"IF(SUMIF(C$7:C$995,$AB53,E$7:E$995)=0,\"\",VLOOKUP($AB53,C$7:E$995,3,FALSE))","v":""},{"$f":"IF(SUMIF(H$7:H$996,$AB53,J$7:J$996)=0,\"\",VLOOKUP($AB53,H$7:J$996,3,FALSE))","v":""},{"$f":"IF(SUMIF(M$7:M$995,$AB53,O$7:O$995)=0,\"\",VLOOKUP($AB53,M$7:O$995,3,FALSE))","v":""},{"$f":"IF(SUMIF(R$7:R$995,$AB53,T$7:T$995)=0,\"\",VLOOKUP($AB53,R$7:T$995,3,FALSE))","v":""},{"$f":"IF(SUMIF(W$7:W$995,$AB53,Y$7:Y$995)=0,\"\",VLOOKUP($AB53,W$7:Y$995,3,FALSE))","v":86.323060573857617},{"$f":"IF(AF53=\"\",\"\",RANK(AF53,AF$7:AF$999,0))","v":""},{"$f":"IF(AG53=\"\",\"\",RANK(AG53,AG$7:AG$999,0))","v":""},{"$f":"IF(AH53=\"\",\"\",RANK(AH53,AH$7:AH$999,0))","v":""},{"$f":"IF(AI53=\"\",\"\",RANK(AI53,AI$7:AI$999,0))","v":""},{"$f":"IF(AJ53=\"\",\"\",RANK(AJ53,AJ$7:AJ$999,0))","v":21},"","","","","","","","","","","","","","","","","","","","",null,"47. laf                      (25 pts)","laf                       ","  (25 pts)","  (25","  25","25"]
[null,null,null,null,null,null,null,null,null,null,null,null,null,null,null,null,null,null,null,null,null,null,null,null,null,null,48,"Air13                     ","25",86.231509258301443,86.231509258301443,"",86.231509258301443,"","","","",28,"","","","","","","","","","","","","","","","","","","","","","","",null,"48. Air13                    (25 pts)","Air13                     ","  (25 pts)","  (25","  25","25"]
[null,null,null,null,null,null,null,null,null,null,null,null,null,null,null,null,null,null,null,null,null,null,null,null,null,null,49,"Ninjinha_br               ","17",83.496280552603622,83.496280552603622,"","","","",83.496280552603622,"","","","",24,{"$f":"IF(SUMIF($AK55:$AO55,AP$6)/AP$6=0,\"\",SUMIF($AK55:$AO55,AP$6)/AP$6)","v":""},"","","","","","","","","","","","","","","",{"$f":"IF(SUMIF($AK55:$AO55,BF$6)/BF$6=0,\"\",SUMIF($AK55:$AO55,BF$6)/BF$6)","v":""},"","","",null,"49. Ninjinha_br              (17 pts)","Ninjinha_br               ","  (17 pts)","  (17","  17","17"]
[null,null,null,null,null,null,null,null,null,null,null,null,null,null,null,null,null,null,null,null,null,null,null,null,null,null,50,"Ze Turbo Andre            ","13",76.807696286334945,76.42191403052135,"",76.807696286334945,"","",76.036131774707769,"",31,"","",25,"","","","","","","","","","","","","","","","","","","","",null,"50. Ze Turbo Andre           (13 pts)","Ze Turbo Andre            ","  (13 pts)","  (13","  13","13"]
[null,null,null,null,null,null,null,null,null,null,null,null,null,null,null,null,null,null,null,null,null,null,null,null,null,null,51,"ZakkWylde                 ","12",76.735284990172744,75.971281371180339,75.20727775218792,76.735284990172744,"","","",42,32,"","","","","","","","","","","","","","","","","","","","","","","",null,"51. ZakkWylde                (12 pts)","ZakkWylde                 ","  (12 pts)","  (12","  12","12"]
[null,null,null,null,null,null,null,null,null,null,null,null,null,null,null,null,null,null,null,null,null,null,null,null,null,null,null,null,null,null,null,null,null,null,null,null,null,null,null,null,null,null,null,null,null,null,null,null,null,null,null,null,null,null,null,null,null,null,null,null,null,null,null,{"$error":"#VALUE!"},"","",{"$error":"#VALUE!"},{"$error":"#VALUE!"}]
[null,null,null,null,null,null,null,null,null,null,null,null,null,null,null,null,null,null,null,null,null,null,null,null,null,null,null,null,null,null,null,null,null,null,null,null,null,null,null,null,null,null,null,null,null,null,null,null,null,null,null,null,null,null,null,null,null,null,null,null,null,null,null,{"$error":"#VALUE!"},"","",{"$error":"#VALUE!"},{"$error":"#VALUE!"}]
[null,null,null,null,null,null,null,null,null,null,null,null,null,null,null,null,null,null,null,null,null,null,null,null,null,null,null,null,null,null,null,null,null,null,null,null,null,null,null,null,null,null,null,null,null,null,null,null,null,null,null,null,null,null,null,null,null,null,null,null,null,null,null,{"$error":"#VALUE!"},"","",{"$error":"#VALUE!"},{"$error":"#VALUE!"}]
[null,null,null,null,null,null,null,null,null,null,null,null,null,null,null,null,null,null,null,null,null,null,null,null,null,null,null,null,null,null,null,null,null,null,null,null,null,null,null,null,null,null,null,null,null,null,null,null,null,null,null,null,null,null,null,null,null,null,null,null,null,null,null,{"$error":"#VALUE!"},"","",{"$error":"#VALUE!"},{"$error":"#VALUE!"}]
[null,null,null,null,null,null,null,null,null,null,null,null,null,null,null,null,null,null,null,null,null,null,null,null,null,null,null,null,null,null,null,null,null,null,null,null,null,null,null,null,null,null,null,null,null,null,null,null,null,null,null,null,null,null,null,null,null,null,null,null,null,null,null,null,"","",{"$error":"#VALUE!"},{"$error":"#VALUE!"}]
[null,null,null,null,null,null,null,null,null,null,null,null,null,null,null,null,null,null,null,null,null,null,null,null,null,null,null,null,null,null,null,null,null,null,null,null,null,null,null,null,null,null,null,null,null,null,null,null,null,null,null,null,null,null,null,null,null,null,null,null,null,null,null,null,"","",{"$error":"#VALUE!"},{"$error":"#VALUE!"}]
[null,null,null,null,null,null,null,null,null,null,null,null,null,null,null,null,null,null,null,null,null,null,null,null,null,null,null,null,null,null,null,null,null,null,null,null,null,null,null,null,null,null,null,null,null,null,null,null,null,null,null,null,null,null,null,null,null,null,null,null,null,null,null,null,"","",{"$error":"#VALUE!"},{"$error":"#VALUE!"}]
[null,null,null,null,null,null,null,null,null,null,null,null,null,null,null,null,null,null,null,null,null,null,null,null,null,null,null,null,null,null,null,null,null,null,null,null,null,null,null,null,null,null,null,null,null,null,null,null,null,null,null,null,null,null,null,null,null,null,null,null,null,null,null,null,"","",{"$error":"#VALUE!"},{"$error":"#VALUE!"}]
[null,null,null,null,null,null,null,null,null,null,null,null,null,null,null,null,null,null,null,null,null,null,null,null,null,null,null,null,null,null,null,null,null,null,null,null,null,null,null,null,null,null,null,null,null,null,null,null,null,null,null,null,null,null,null,null,null,null,null,null,null,null,null,null,"","",{"$error":"#VALUE!"},{"$error":"#VALUE!"}]
[null,null,null,null,null,null,null,null,null,null,null,null,null,null,null,null,null,null,null,null,null,null,null,null,null,null,null,null,null,null,null,null,null,null,null,null,null,null,null,null,null,null,null,null,null,null,null,null,null,null,null,null,null,null,null,null,null,null,null,null,null,null,null,null,"","",{"$error":"#VALUE!"},{"$error":"#VALUE!"}]
[null,null,null,null,null,null,null,null,null,null,null,null,null,null,null,null,null,null,null,null,null,null,null,null,null,null,null,null,null,null,null,null,null,null,null,null,null,null,null,null,null,null,null,null,null,null,null,null,null,null,null,null,null,null,null,null,null,null,null,null,null,null,null,null,"","",{"$error":"#VALUE!"},{"$error":"#VALUE!"}]
[null,null,null,null,null,null,null,null,null,null,null,null,null,null,null,null,null,null,null,null,null,null,null,null,null,null,null,null,null,null,null,null,null,null,null,null,null,null,null,null,null,null,null,null,null,null,null,null,null,null,null,null,null,null,null,null,null,null,null,null,null,null,null,null,"","",{"$error":"#VALUE!"},{"$error":"#VALUE!"}]
[null,null,null,null,null,null,null,null,null,null,null,null,null,null,null,null,null,null,null,null,null,null,null,null,null,null,null,null,null,null,null,null,null,null,null,null,null,null,null,null,null,null,null,null,null,null,null,null,null,null,null,null,null,null,null,null,null,null,null,null,null,null,null,null,"","",{"$error":"#VALUE!"},{"$error":"#VALUE!"}]
[null,null,null,null,null,null,null,null,null,null,null,null,null,null,null,null,null,null,null,null,null,null,null,null,null,null,null,null,null,null,null,null,null,null,null,null,null,null,null,null,null,null,null,null,null,null,null,null,null,null,null,null,null,null,null,null,null,null,null,null,null,null,null,null,"","",{"$error":"#VALUE!"},{"$error":"#VALUE!"}]
[null,null,null,null,null,null,null,null,null,null,null,null,null,null,null,null,null,null,null,null,null,null,null,null,null,null,null,null,null,null,null,null,null,null,null,null,null,null,null,null,null,null,null,null,null,null,null,null,null,null,null,null,null,null,null,null,null,null,null,null,null,null,null,null,{"$f":"RIGHT(BK72,10)","v":""},{"$f":"LEFT(BM72,5)","v":""},{"$f":"REPLACE(BN72,SEARCH(\"(\",BN72),1,\"\")","v":{"$error":"#VALUE!"}},{"$f":"TRIM(BO72)","v":{"$error":"#VALUE!"}}]
[null,null,null,null,null,null,null,null,null,null,null,null,null,null,null,null,null,null,null,null,null,null,null,null,null,null,null,null,null,null,null,null,null,null,null,null,null,null,null,null,null,null,null,null,null,null,null,null,null,null,null,null,null,null,null,null,null,null,null,null,null,null,null,null,"","",{"$error":"#VALUE!"},{"$error":"#VALUE!"}]
[null,null,null,null,null,null,null,null,null,null,null,null,null,null,null,null,null,null,null,null,null,null,null,null,null,null,null,null,null,null,null,null,null,null,null,null,null,null,null,null,null,null,null,null,null,null,null,null,null,null,null,null,null,null,null,null,null,null,null,null,null,null,null,null,"","",{"$error":"#VALUE!"},{"$error":"#VALUE!"}]
[null,null,null,null,null,null,null,null,null,null,null,null,null,null,null,null,null,null,null,null,null,null,null,null,null,null,null,null,null,null,null,null,null,null,null,null,null,null,null,null,null,null,null,null,null,null,null,null,null,null,null,null,null,null,null,null,null,null,null,null,null,null,null,null,"","",{"$error":"#VALUE!"},{"$error":"#VALUE!"}]
[null,null,null,null,null,null,null,null,null,null,null,null,null,null,null,null,null,null,null,null,null,null,null,null,null,null,null,null,null,null,null,null,null,null,null,null,null,null,null,null,null,null,null,null,null,null,null,null,null,null,null,null,null,null,null,null,null,null,null,null,null,null,null,null,"","",{"$error":"#VALUE!"},{"$error":"#VALUE!"}]

{"sheet":"all_cars","index":6,"n_rows":298,"n_cols":44,"rows_kept":298,"cut":false,"hidden":false,"merged":[]}
[]
[]
[]
[null,null,null,null,null,null,null,null,null,null,5,null,null,null,null,null,6,null,null,null,null,null,7,null,null,null,null,null,8,null,null,null,null,null,9]
[null,null,null,null,null,null,null,null,null,null,"Antislider",null,null,null,null,null,"EasySlider",null,null,null,null,null,"Spinner",null,null,null,null,null,"Slider",null,null,null,null,null,"Speeder"]
[null,null,null,null,null,"Max","Min",null,"Av",null,"Week 1","Week 2","Week 3","Week 4","Week 5",null,"Week 1","Week 2","Week 3","Week 4","Week 5",null,"Week 1","Week 2","Week 3","Week 4","Week 5",null,"Week 1","Week 2","Week 3","Week 4","Week 5",null,"Week 1","Week 2","Week 3","Week 4","Week 5",null,null,null,null,"copy from all weeks under/after here..values..and then copy to left and filter out duplicates"]
[null,null,1,"[+] Tinjovic              ",null,{"$f":"IF($I7=\"\",0,MAX($K7:$AM7))","v":100},{"$f":"IF($I7=\"\",0,MIN($K7:$AM7))","v":99.766631960650571},null,{"$f":"IF(COUNT(K7:AM7)=0,0,SUM(K7:AM7)/COUNT(K7:AM7))","v":99.948141483689255},null,{"$f":"IF(SUMIF(week1!$AB:$AB,all_cars!$D7,week1!$AF:$AF)=0,\"\",VLOOKUP(all_cars!$D7,week1!$AB:$AJ,5,FALSE))","v":99.878744182997977},{"$f":"IF(SUMIF(week2!$AB:$AB,all_cars!$D7,week2!$AF:$AF)=0,\"\",VLOOKUP(all_cars!$D7,week2!$AB:$AJ,5,FALSE))","v":99.852362204724415},{"$f":"IF(SUMIF(week3!$AB:$AB,all_cars!$D7,week3!$AF:$AF)=0,\"\",VLOOKUP(all_cars!$D7,week3!$AB:$AJ,5,FALSE))","v":99.932208496535097},{"$f":"IF(SUMIF(week4!$AB:$AB,all_cars!$D7,week4!$AF:$AF)=0,\"\",VLOOKUP(all_cars!$D7,week4!$AB:$AJ,5,FALSE))","v":100},{"$f":"IF(SUMIF(week5!$AB:$AB,all_cars!$D7,week5!$AF:$AF)=0,\"\",VLOOKUP(all_cars!$D7,week5!$AB:$AJ,5,FALSE))","v":99.89780648928793},null,{"$f":"IF(SUMIF(week1!$AB:$AB,all_cars!$D7,week1!$AG:$AG)=0,\"\",VLOOKUP(all_cars!$D7,week1!$AB:$AJ,6,FALSE))","v":100},{"$f":"IF(SUMIF(week2!$AB:$AB,all_cars!$D7,week2!$AG:$AG)=0,\"\",VLOOKUP(all_cars!$D7,week2!$AB:$AJ,6,FALSE))","v":100},{"$f":"IF(SUMIF(week3!$AB:$AB,all_cars!$D7,week3!$AG:$AG)=0,\"\",VLOOKUP(all_cars!$D7,week3!$AB:$AJ,6,FALSE))","v":100},{"$f":"IF(SUMIF(week4!$AB:$AB,all_cars!$D7,week4!$AG:$AG)=0,\"\",VLOOKUP(all_cars!$D7,week4!$AB:$AJ,6,FALSE))","v":100},{"$f":"IF(SUMIF(week5!$AB:$AB,all_cars!$D7,week5!$AG:$AG)=0,\"\",VLOOKUP(all_cars!$D7,week5!$AB:$AJ,6,FALSE))","v":100},null,{"$f":"IF(SUMIF(week1!$AB:$AB,all_cars!$D7,week1!$AH:$AH)=0,\"\",VLOOKUP(all_cars!$D7,week1!$AB:$AJ,7,FALSE))","v":100},{"$f":"IF(SUMIF(week2!$AB:$AB,all_cars!$D7,week2!$AH:$AH)=0,\"\",VLOOKUP(all_cars!$D7,week2!$AB:$AJ,7,FALSE))","v":99.880037609830438},{"$f":"IF(SUMIF(week3!$AB:$AB,all_cars!$D7,week3!$AH:$AH)=0,\"\",VLOOKUP(all_cars!$D7,week3!$AB:$AJ,7,FALSE))","v":100},{"$f":"IF(SUMIF(week4!$AB:$AB,all_cars!$D7,week4!$AH:$AH)=0,\"\",VLOOKUP(all_cars!$D7,week4!$AB:$AJ,7,FALSE))","v":100},{"$f":"IF(SUMIF(week5!$AB:$AB,all_cars!$D7,week5!$AH:$AH)=0,\"\",VLOOKUP(all_cars!$D7,week5!$AB:$AJ,7,FALSE))","v":99.971344652195725},null,{"$f":"IF(SUMIF(week1!$AB:$AB,all_cars!$D7,week1!$AI:$AI)=0,\"\",VLOOKUP(all_cars!$D7,week1!$AB:$AJ,8,FALSE))","v":99.833652427732957},{"$f":"IF(SUMIF(week2!$AB:$AB,all_cars!$D7,week2!$AI:$AI)=0,\"\",VLOOKUP(all_cars!$D7,week2!$AB:$AJ,8,FALSE))","v":99.905645030095982},{"$f":"IF(SUMIF(week3!$AB:$AB,all_cars!$D7,week3!$AI:$AI)=0,\"\",VLOOKUP(all_cars!$D7,week3!$AB:$AJ,8,FALSE))","v":99.843218232572369},{"$f":"IF(SUMIF(week4!$AB:$AB,all_cars!$D7,week4!$AI:$AI)=0,\"\",VLOOKUP(all_cars!$D7,week4!$AB:$AJ,8,FALSE))","v":99.941885805608024},{"$f":"IF(SUMIF(week5!$AB:$AB,all_cars!$D7,week5!$AI:$AI)=0,\"\",VLOOKUP(all_cars!$D7,week5!$AB:$AJ,8,FALSE))","v":99.766631960650571},null,{"$f":"IF(SUMIF(week1!$AB:$AB,all_cars!$D7,week1!$AJ:$AJ)=0,\"\",VLOOKUP(all_cars!$D7,week1!$AB:$AJ,9,FALSE))","v":100},{"$f":"IF(SUMIF(week2!$AB:$AB,all_cars!$D7,week2!$AJ:$AJ)=0,\"\",VLOOKUP(all_cars!$D7,week2!$AB:$AJ,9,FALSE))","v":100},{"$f":"IF(SUMIF(week3!$AB:$AB,all_cars!$D7,week3!$AJ:$AJ)=0,\"\",VLOOKUP(all_cars!$D7,week3!$AB:$AJ,9,FALSE))","v":100},{"$f":"IF(SUMIF(week4!$AB:$AB,all_cars!$D7,week4!$AJ:$AJ)=0,\"\",VLOOKUP(all_cars!$D7,week4!$AB:$AJ,9,FALSE))","v":100},{"$f":"IF(SUMIF(week5!$AB:$AB,all_cars!$D7,week5!$AJ:$AJ)=0,\"\",VLOOKUP(all_cars!$D7,week5!$AB:$AJ,9,FALSE))","v":100},null,null,null,"[+] Tinjovic              ","[+] Tinjovic              "]
[null,null,2,"[x] Mike Nike             ",null,100,99.237542955326461,null,99.810753433530678,null,{"$f":"IF(SUMIF(week1!$AB:$AB,all_cars!$D8,week1!$AF:$AF)=0,\"\",VLOOKUP(all_cars!$D8,week1!$AB:$AJ,5,FALSE))","v":100},{"$f":"IF(SUMIF(week2!$AB:$AB,all_cars!$D8,week2!$AF:$AF)=0,\"\",VLOOKUP(all_cars!$D8,week2!$AB:$AJ,5,FALSE))","v":99.645669291338578},{"$f":"IF(SUMIF(week3!$AB:$AB,all_cars!$D8,week3!$AF:$AF)=0,\"\",VLOOKUP(all_cars!$D8,week3!$AB:$AJ,5,FALSE))","v":100},{"$f":"IF(SUMIF(week4!$AB:$AB,all_cars!$D8,week4!$AF:$AF)=0,\"\",VLOOKUP(all_cars!$D8,week4!$AB:$AJ,5,FALSE))","v":99.944000597326976},{"$f":"IF(SUMIF(week5!$AB:$AB,all_cars!$D8,week5!$AF:$AF)=0,\"\",VLOOKUP(all_cars!$D8,week5!$AB:$AJ,5,FALSE))","v":100},null,{"$f":"IF(SUMIF(week1!$AB:$AB,all_cars!$D8,week1!$AG:$AG)=0,\"\",VLOOKUP(all_cars!$D8,week1!$AB:$AJ,6,FALSE))","v":99.777916796997189},{"$f":"IF(SUMIF(week2!$AB:$AB,all_cars!$D8,week2!$AG:$AG)=0,\"\",VLOOKUP(all_cars!$D8,week2!$AB:$AJ,6,FALSE))","v":99.735219090057811},{"$f":"IF(SUMIF(week3!$AB:$AB,all_cars!$D8,week3!$AG:$AG)=0,\"\",VLOOKUP(all_cars!$D8,week3!$AB:$AJ,6,FALSE))","v":99.837692975502947},{"$f":"IF(SUMIF(week4!$AB:$AB,all_cars!$D8,week4!$AG:$AG)=0,\"\",VLOOKUP(all_cars!$D8,week4!$AB:$AJ,6,FALSE))","v":99.535520109458815},{"$f":"IF(SUMIF(week5!$AB:$AB,all_cars!$D8,week5!$AG:$AG)=0,\"\",VLOOKUP(all_cars!$D8,week5!$AB:$AJ,6,FALSE))","v":99.237542955326461},null,{"$f":"IF(SUMIF(week1!$AB:$AB,all_cars!$D8,week1!$AH:$AH)=0,\"\",VLOOKUP(all_cars!$D8,week1!$AB:$AJ,7,FALSE))","v":99.77344241661423},{"$f":"IF(SUMIF(week2!$AB:$AB,all_cars!$D8,week2!$AH:$AH)=0,\"\",VLOOKUP(all_cars!$D8,week2!$AB:$AJ,7,FALSE))","v":100},{"$f":"IF(SUMIF(week3!$AB:$AB,all_cars!$D8,week3!$AH:$AH)=0,\"\",VLOOKUP(all_cars!$D8,week3!$AB:$AJ,7,FALSE))","v":99.56159740642498},{"$f":"IF(SUMIF(week4!$AB:$AB,all_cars!$D8,week4!$AH:$AH)=0,\"\",VLOOKUP(all_cars!$D8,week4!$AB:$AJ,7,FALSE))","v":99.967257248881282},{"$f":"IF(SUMIF(week5!$AB:$AB,all_cars!$D8,week5!$AH:$AH)=0,\"\",VLOOKUP(all_cars!$D8,week5!$AB:$AJ,7,FALSE))","v":100},null,{"$f":"IF(SUMIF(week1!$AB:$AB,all_cars!$D8,week1!$AI:$AI)=0,\"\",VLOOKUP(all_cars!$D8,week1!$AB:$AJ,8,FALSE))","v":100},{"$f":"IF(SUMIF(week2!$AB:$AB,all_cars!$D8,week2!$AI:$AI)=0,\"\",VLOOKUP(all_cars!$D8,week2!$AB:$AJ,8,FALSE))","v":100},{"$f":"IF(SUMIF(week3!$AB:$AB,all_cars!$D8,week3!$AI:$AI)=0,\"\",VLOOKUP(all_cars!$D8,week3!$AB:$AJ,8,FALSE))","v":100},{"$f":"IF(SUMIF(week4!$AB:$AB,all_cars!$D8,week4!$AI:$AI)=0,\"\",VLOOKUP(all_cars!$D8,week4!$AB:$AJ,8,FALSE))","v":100},{"$f":"IF(SUMIF(week5!$AB:$AB,all_cars!$D8,week5!$AI:$AI)=0,\"\",VLOOKUP(all_cars!$D8,week5!$AB:$AJ,8,FALSE))","v":99.813305568520448},null,{"$f":"IF(SUMIF(week1!$AB:$AB,all_cars!$D8,week1!$AJ:$AJ)=0,\"\",VLOOKUP(all_cars!$D8,week1!$AB:$AJ,9,FALSE))","v":99.956616052060738},{"$f":"IF(SUMIF(week2!$AB:$AB,all_cars!$D8,week2!$AJ:$AJ)=0,\"\",VLOOKUP(all_cars!$D8,week2!$AB:$AJ,9,FALSE))","v":99.874773897314597},{"$f":"IF(SUMIF(week3!$AB:$AB,all_cars!$D8,week3!$AJ:$AJ)=0,\"\",VLOOKUP(all_cars!$D8,week3!$AB:$AJ,9,FALSE))","v":99.399585921325041},{"$f":"IF(SUMIF(week4!$AB:$AB,all_cars!$D8,week4!$AJ:$AJ)=0,\"\",VLOOKUP(all_cars!$D8,week4!$AB:$AJ,9,FALSE))","v":99.528356593342863},{"$f":"IF(SUMIF(week5!$AB:$AB,all_cars!$D8,week5!$AJ:$AJ)=0,\"\",VLOOKUP(all_cars!$D8,week5!$AB:$AJ,9,FALSE))","v":99.680338917773938},null,null,null,"[x] Mike Nike             ","[x] Mike Nike             "]
[null,null,3,"[fS]Palo                  ",null,100,98.431755327802179,null,99.246799996588649,null,{"$f":"IF(SUMIF(week1!$AB:$AB,all_cars!$D9,week1!$AF:$AF)=0,\"\",VLOOKUP(all_cars!$D9,week1!$AB:$AJ,5,FALSE))","v":99.839417972078394},{"$f":"IF(SUMIF(week2!$AB:$AB,all_cars!$D9,week2!$AF:$AF)=0,\"\",VLOOKUP(all_cars!$D9,week2!$AB:$AJ,5,FALSE))","v":100},{"$f":"IF(SUMIF(week3!$AB:$AB,all_cars!$D9,week3!$AF:$AF)=0,\"\",VLOOKUP(all_cars!$D9,week3!$AB:$AJ,5,FALSE))","v":99.811690268153058},{"$f":"IF(SUMIF(week4!$AB:$AB,all_cars!$D9,week4!$AF:$AF)=0,\"\",VLOOKUP(all_cars!$D9,week4!$AB:$AJ,5,FALSE))","v":99.544538191592622},{"$f":"IF(SUMIF(week5!$AB:$AB,all_cars!$D9,week5!$AF:$AF)=0,\"\",VLOOKUP(all_cars!$D9,week5!$AB:$AJ,5,FALSE))","v":""},null,{"$f":"IF(SUMIF(week1!$AB:$AB,all_cars!$D9,week1!$AG:$AG)=0,\"\",VLOOKUP(all_cars!$D9,week1!$AB:$AJ,6,FALSE))","v":99.177353769158586},{"$f":"IF(SUMIF(week2!$AB:$AB,all_cars!$D9,week2!$AG:$AG)=0,\"\",VLOOKUP(all_cars!$D9,week2!$AB:$AJ,6,FALSE))","v":98.605056669572804},{"$f":"IF(SUMIF(week3!$AB:$AB,all_cars!$D9,week3!$AG:$AG)=0,\"\",VLOOKUP(all_cars!$D9,week3!$AB:$AJ,6,FALSE))","v":99.135620730004135},{"$f":"IF(SUMIF(week4!$AB:$AB,all_cars!$D9,week4!$AG:$AG)=0,\"\",VLOOKUP(all_cars!$D9,week4!$AB:$AJ,6,FALSE))","v":98.840600583300329},{"$f":"IF(SUMIF(week5!$AB:$AB,all_cars!$D9,week5!$AG:$AG)=0,\"\",VLOOKUP(all_cars!$D9,week5!$AB:$AJ,6,FALSE))","v":""},null,{"$f":"IF(SUMIF(week1!$AB:$AB,all_cars!$D9,week1!$AH:$AH)=0,\"\",VLOOKUP(all_cars!$D9,week1!$AB:$AJ,7,FALSE))","v":99.606670862177467},{"$f":"IF(SUMIF(week2!$AB:$AB,all_cars!$D9,week2!$AH:$AH)=0,\"\",VLOOKUP(all_cars!$D9,week2!$AB:$AJ,7,FALSE))","v":99.007878611030051},{"$f":"IF(SUMIF(week3!$AB:$AB,all_cars!$D9,week3!$AH:$AH)=0,\"\",VLOOKUP(all_cars!$D9,week3!$AB:$AJ,7,FALSE))","v":98.77689360447981},{"$f":"IF(SUMIF(week4!$AB:$AB,all_cars!$D9,week4!$AH:$AH)=0,\"\",VLOOKUP(all_cars!$D9,week4!$AB:$AJ,7,FALSE))","v":99.392440062575034},{"$f":"IF(SUMIF(week5!$AB:$AB,all_cars!$D9,week5!$AH:$AH)=0,\"\",VLOOKUP(all_cars!$D9,week5!$AB:$AJ,7,FALSE))","v":""},null,{"$f":"IF(SUMIF(week1!$AB:$AB,all_cars!$D9,week1!$AI:$AI)=0,\"\",VLOOKUP(all_cars!$D9,week1!$AB:$AJ,8,FALSE))","v":99.915256897146975},{"$f":"IF(SUMIF(week2!$AB:$AB,all_cars!$D9,week2!$AI:$AI)=0,\"\",VLOOKUP(all_cars!$D9,week2!$AB:$AJ,8,FALSE))","v":98.431755327802179},{"$f":"IF(SUMIF(week3!$AB:$AB,all_cars!$D9,week3!$AI:$AI)=0,\"\",VLOOKUP(all_cars!$D9,week3!$AB:$AJ,8,FALSE))","v":99.166379870750646},{"$f":"IF(SUMIF(week4!$AB:$AB,all_cars!$D9,week4!$AI:$AI)=0,\"\",VLOOKUP(all_cars!$D9,week4!$AB:$AJ,8,FALSE))","v":""},{"$f":"IF(SUMIF(week5!$AB:$AB,all_cars!$D9,week5!$AI:$AI)=0,\"\",VLOOKUP(all_cars!$D9,week5!$AB:$AJ,8,FALSE))","v":""},null,{"$f":"IF(SUMIF(week1!$AB:$AB,all_cars!$D9,week1!$AJ:$AJ)=0,\"\",VLOOKUP(all_cars!$D9,week1!$AB:$AJ,9,FALSE))","v":98.925412981812116},{"$f":"IF(SUMIF(week2!$AB:$AB,all_cars!$D9,week2!$AJ:$AJ)=0,\"\",VLOOKUP(all_cars!$D9,week2!$AB:$AJ,9,FALSE))","v":""},{"$f":"IF(SUMIF(week3!$AB:$AB,all_cars!$D9,week3!$AJ:$AJ)=0,\"\",VLOOKUP(all_cars!$D9,week3!$AB:$AJ,9,FALSE))","v":99.018633540372662},{"$f":"IF(SUMIF(week4!$AB:$AB,all_cars!$D9,week4!$AJ:$AJ)=0,\"\",VLOOKUP(all_cars!$D9,week4!$AB:$AJ,9,FALSE))","v":""},{"$f":"IF(SUMIF(week5!$AB:$AB,all_cars!$D9,week5!$AJ:$AJ)=0,\"\",VLOOKUP(all_cars!$D9,week5!$AB:$AJ,9,FALSE))","v":""},null,null,null,"[fS]Palo                  ","[fS]Palo                  "]
[null,null,4,"[x] Whiplash              ",null,99.518253916235167,97.387710290936099,null,98.664685422607576,null,{"$f":"IF(SUMIF(week1!$AB:$AB,all_cars!$D10,week1!$AF:$AF)=0,\"\",VLOOKUP(all_cars!$D10,week1!$AB:$AJ,5,FALSE))","v":99.518253916235167},{"$f":"IF(SUMIF(week2!$AB:$AB,all_cars!$D10,week2!$AF:$AF)=0,\"\",VLOOKUP(all_cars!$D10,week2!$AB:$AJ,5,FALSE))","v":99.30446194225722},{"$f":"IF(SUMIF(week3!$AB:$AB,all_cars!$D10,week3!$AF:$AF)=0,\"\",VLOOKUP(all_cars!$D10,week3!$AB:$AJ,5,FALSE))","v":99.514160891834891},{"$f":"IF(SUMIF(week4!$AB:$AB,all_cars!$D10,week4!$AF:$AF)=0,\"\",VLOOKUP(all_cars!$D10,week4!$AB:$AJ,5,FALSE))","v":98.999477338908392},{"$f":"IF(SUMIF(week5!$AB:$AB,all_cars!$D10,week5!$AF:$AF)=0,\"\",VLOOKUP(all_cars!$D10,week5!$AB:$AJ,5,FALSE))","v":99.372239862768708},null,{"$f":"IF(SUMIF(week1!$AB:$AB,all_cars!$D10,week1!$AG:$AG)=0,\"\",VLOOKUP(all_cars!$D10,week1!$AB:$AJ,6,FALSE))","v":98.326556146387233},{"$f":"IF(SUMIF(week2!$AB:$AB,all_cars!$D10,week2!$AG:$AG)=0,\"\",VLOOKUP(all_cars!$D10,week2!$AB:$AJ,6,FALSE))","v":97.387710290936099},{"$f":"IF(SUMIF(week3!$AB:$AB,all_cars!$D10,week3!$AG:$AG)=0,\"\",VLOOKUP(all_cars!$D10,week3!$AB:$AJ,6,FALSE))","v":98.61472841882761},{"$f":"IF(SUMIF(week4!$AB:$AB,all_cars!$D10,week4!$AG:$AG)=0,\"\",VLOOKUP(all_cars!$D10,week4!$AB:$AJ,6,FALSE))","v":""},{"$f":"IF(SUMIF(week5!$AB:$AB,all_cars!$D10,week5!$AG:$AG)=0,\"\",VLOOKUP(all_cars!$D10,week5!$AB:$AJ,6,FALSE))","v":98.453608247422679},null,{"$f":"IF(SUMIF(week1!$AB:$AB,all_cars!$D10,week1!$AH:$AH)=0,\"\",VLOOKUP(all_cars!$D10,week1!$AB:$AJ,7,FALSE))","v":98.407803650094394},{"$f":"IF(SUMIF(week2!$AB:$AB,all_cars!$D10,week2!$AH:$AH)=0,\"\",VLOOKUP(all_cars!$D10,week2!$AB:$AJ,7,FALSE))","v":""},{"$f":"IF(SUMIF(week3!$AB:$AB,all_cars!$D10,week3!$AH:$AH)=0,\"\",VLOOKUP(all_cars!$D10,week3!$AB:$AJ,7,FALSE))","v":98.157972295903335},{"$f":"IF(SUMIF(week4!$AB:$AB,all_cars!$D10,week4!$AH:$AH)=0,\"\",VLOOKUP(all_cars!$D10,week4!$AB:$AJ,7,FALSE))","v":""},{"$f":"IF(SUMIF(week5!$AB:$AB,all_cars!$D10,week5!$AH:$AH)=0,\"\",VLOOKUP(all_cars!$D10,week5!$AB:$AJ,7,FALSE))","v":""},null,{"$f":"IF(SUMIF(week1!$AB:$AB,all_cars!$D10,week1!$AI:$AI)=0,\"\",VLOOKUP(all_cars!$D10,week1!$AB:$AJ,8,FALSE))","v":98.327108377012649},{"$f":"IF(SUMIF(week2!$AB:$AB,all_cars!$D10,week2!$AI:$AI)=0,\"\",VLOOKUP(all_cars!$D10,week2!$AB:$AJ,8,FALSE))","v":""},{"$f":"IF(SUMIF(week3!$AB:$AB,all_cars!$D10,week3!$AI:$AI)=0,\"\",VLOOKUP(all_cars!$D10,week3!$AB:$AJ,8,FALSE))","v":98.933119192382705},{"$f":"IF(SUMIF(week4!$AB:$AB,all_cars!$D10,week4!$AI:$AI)=0,\"\",VLOOKUP(all_cars!$D10,week4!$AB:$AJ,8,FALSE))","v":""},{"$f":"IF(SUMIF(week5!$AB:$AB,all_cars!$D10,week5!$AI:$AI)=0,\"\",VLOOKUP(all_cars!$D10,week5!$AB:$AJ,8,FALSE))","v":""},null,{"$f":"IF(SUMIF(week1!$AB:$AB,all_cars!$D10,week1!$AJ:$AJ)=0,\"\",VLOOKUP(all_cars!$D10,week1!$AB:$AJ,9,FALSE))","v":98.044385115968637},{"$f":"IF(SUMIF(week2!$AB:$AB,all_cars!$D10,week2!$AJ:$AJ)=0,\"\",VLOOKUP(all_cars!$D10,week2!$AB:$AJ,9,FALSE))","v":""},{"$f":"IF(SUMIF(week3!$AB:$AB,all_cars!$D10,week3!$AJ:$AJ)=0,\"\",VLOOKUP(all_cars!$D10,week3!$AB:$AJ,9,FALSE))","v":98.608695652173907},{"$f":"IF(SUMIF(week4!$AB:$AB,all_cars!$D10,week4!$AJ:$AJ)=0,\"\",VLOOKUP(all_cars!$D10,week4!$AB:$AJ,9,FALSE))","v":""},{"$f":"IF(SUMIF(week5!$AB:$AB,all_cars!$D10,week5!$AJ:$AJ)=0,\"\",VLOOKUP(all_cars!$D10,week5!$AB:$AJ,9,FALSE))","v":""},null,null,null,"[x] Whiplash              ","[x] Whiplash              "]
[null,null,5,"[fS]Hevonen               ",null,99.887014160891837,96.121685374979663,null,98.313525649361466,null,{"$f":"IF(SUMIF(week1!$AB:$AB,all_cars!$D11,week1!$AF:$AF)=0,\"\",VLOOKUP(all_cars!$D11,week1!$AB:$AJ,5,FALSE))","v":99.118437438552789},{"$f":"IF(SUMIF(week2!$AB:$AB,all_cars!$D11,week2!$AF:$AF)=0,\"\",VLOOKUP(all_cars!$D11,week2!$AB:$AJ,5,FALSE))","v":99.120734908136484},{"$f":"IF(SUMIF(week3!$AB:$AB,all_cars!$D11,week3!$AF:$AF)=0,\"\",VLOOKUP(all_cars!$D11,week3!$AB:$AJ,5,FALSE))","v":99.887014160891837},{"$f":"IF(SUMIF(week4!$AB:$AB,all_cars!$D11,week4!$AF:$AF)=0,\"\",VLOOKUP(all_cars!$D11,week4!$AB:$AJ,5,FALSE))","v":""},{"$f":"IF(SUMIF(week5!$AB:$AB,all_cars!$D11,week5!$AF:$AF)=0,\"\",VLOOKUP(all_cars!$D11,week5!$AB:$AJ,5,FALSE))","v":""},null,{"$f":"IF(SUMIF(week1!$AB:$AB,all_cars!$D11,week1!$AG:$AG)=0,\"\",VLOOKUP(all_cars!$D11,week1!$AB:$AJ,6,FALSE))","v":97.488270253362515},{"$f":"IF(SUMIF(week2!$AB:$AB,all_cars!$D11,week2!$AG:$AG)=0,\"\",VLOOKUP(all_cars!$D11,week2!$AB:$AJ,6,FALSE))","v":""},{"$f":"IF(SUMIF(week3!$AB:$AB,all_cars!$D11,week3!$AG:$AG)=0,\"\",VLOOKUP(all_cars!$D11,week3!$AB:$AJ,6,FALSE))","v":98.539236779526661},{"$f":"IF(SUMIF(week4!$AB:$AB,all_cars!$D11,week4!$AG:$AG)=0,\"\",VLOOKUP(all_cars!$D11,week4!$AB:$AJ,6,FALSE))","v":""},{"$f":"IF(SUMIF(week5!$AB:$AB,all_cars!$D11,week5!$AG:$AG)=0,\"\",VLOOKUP(all_cars!$D11,week5!$AB:$AJ,6,FALSE))","v":""},null,{"$f":"IF(SUMIF(week1!$AB:$AB,all_cars!$D11,week1!$AH:$AH)=0,\"\",VLOOKUP(all_cars!$D11,week1!$AB:$AJ,7,FALSE))","v":98.417243549402144},{"$f":"IF(SUMIF(week2!$AB:$AB,all_cars!$D11,week2!$AH:$AH)=0,\"\",VLOOKUP(all_cars!$D11,week2!$AB:$AJ,7,FALSE))","v":""},{"$f":"IF(SUMIF(week3!$AB:$AB,all_cars!$D11,week3!$AH:$AH)=0,\"\",VLOOKUP(all_cars!$D11,week3!$AB:$AJ,7,FALSE))","v":98.441644562334204},{"$f":"IF(SUMIF(week4!$AB:$AB,all_cars!$D11,week4!$AH:$AH)=0,\"\",VLOOKUP(all_cars!$D11,week4!$AB:$AJ,7,FALSE))","v":""},{"$f":"IF(SUMIF(week5!$AB:$AB,all_cars!$D11,week5!$AH:$AH)=0,\"\",VLOOKUP(all_cars!$D11,week5!$AB:$AJ,7,FALSE))","v":""},null,{"$f":"IF(SUMIF(week1!$AB:$AB,all_cars!$D11,week1!$AI:$AI)=0,\"\",VLOOKUP(all_cars!$D11,week1!$AB:$AJ,8,FALSE))","v":99.431907347540871},{"$f":"IF(SUMIF(week2!$AB:$AB,all_cars!$D11,week2!$AI:$AI)=0,\"\",VLOOKUP(all_cars!$D11,week2!$AB:$AJ,8,FALSE))","v":96.121685374979663},{"$f":"IF(SUMIF(week3!$AB:$AB,all_cars!$D11,week3!$AI:$AI)=0,\"\",VLOOKUP(all_cars!$D11,week3!$AB:$AJ,8,FALSE))","v":98.393942870253525},{"$f":"IF(SUMIF(week4!$AB:$AB,all_cars!$D11,week4!$AI:$AI)=0,\"\",VLOOKUP(all_cars!$D11,week4!$AB:$AJ,8,FALSE))","v":""},{"$f":"IF(SUMIF(week5!$AB:$AB,all_cars!$D11,week5!$AI:$AI)=0,\"\",VLOOKUP(all_cars!$D11,week5!$AB:$AJ,8,FALSE))","v":""},null,{"$f":"IF(SUMIF(week1!$AB:$AB,all_cars!$D11,week1!$AJ:$AJ)=0,\"\",VLOOKUP(all_cars!$D11,week1!$AB:$AJ,9,FALSE))","v":96.926414149841477},{"$f":"IF(SUMIF(week2!$AB:$AB,all_cars!$D11,week2!$AJ:$AJ)=0,\"\",VLOOKUP(all_cars!$D11,week2!$AB:$AJ,9,FALSE))","v":""},{"$f":"IF(SUMIF(week3!$AB:$AB,all_cars!$D11,week3!$AJ:$AJ)=0,\"\",VLOOKUP(all_cars!$D11,week3!$AB:$AJ,9,FALSE))","v":97.875776397515523},{"$f":"IF(SUMIF(week4!$AB:$AB,all_cars!$D11,week4!$AJ:$AJ)=0,\"\",VLOOKUP(all_cars!$D11,week4!$AB:$AJ,9,FALSE))","v":""},{"$f":"IF(SUMIF(week5!$AB:$AB,all_cars!$D11,week5!$AJ:$AJ)=0,\"\",VLOOKUP(all_cars!$D11,week5!$AB:$AJ,9,FALSE))","v":""},null,null,null,"[fS]Hevonen               ","[fS]Hevonen               "]
[null,null,6,"Kyna_Musti                ",null,99.58757618891201,96.221837088388213,null,98.420083616737841,null,{"$f":"IF(SUMIF(week1!$AB:$AB,all_cars!$D12,week1!$AF:$AF)=0,\"\",VLOOKUP(all_cars!$D12,week1!$AB:$AJ,5,FALSE))","v":98.443337484433371},{"$f":"IF(SUMIF(week2!$AB:$AB,all_cars!$D12,week2!$AF:$AF)=0,\"\",VLOOKUP(all_cars!$D12,week2!$AB:$AJ,5,FALSE))","v":99.189632545931758},{"$f":"IF(SUMIF(week3!$AB:$AB,all_cars!$D12,week3!$AF:$AF)=0,\"\",VLOOKUP(all_cars!$D12,week3!$AB:$AJ,5,FALSE))","v":99.521693281108767},{"$f":"IF(SUMIF(week4!$AB:$AB,all_cars!$D12,week4!$AF:$AF)=0,\"\",VLOOKUP(all_cars!$D12,week4!$AB:$AJ,5,FALSE))","v":99.074143209139109},{"$f":"IF(SUMIF(week5!$AB:$AB,all_cars!$D12,week5!$AF:$AF)=0,\"\",VLOOKUP(all_cars!$D12,week5!$AB:$AJ,5,FALSE))","v":99.58757618891201},null,{"$f":"IF(SUMIF(week1!$AB:$AB,all_cars!$D12,week1!$AG:$AG)=0,\"\",VLOOKUP(all_cars!$D12,week1!$AB:$AJ,6,FALSE))","v":97.150453550203309},{"$f":"IF(SUMIF(week2!$AB:$AB,all_cars!$D12,week2!$AG:$AG)=0,\"\",VLOOKUP(all_cars!$D12,week2!$AB:$AJ,6,FALSE))","v":97.584681455649203},{"$f":"IF(SUMIF(week3!$AB:$AB,all_cars!$D12,week3!$AG:$AG)=0,\"\",VLOOKUP(all_cars!$D12,week3!$AB:$AJ,6,FALSE))","v":98.441097648435431},{"$f":"IF(SUMIF(week4!$AB:$AB,all_cars!$D12,week4!$AG:$AG)=0,\"\",VLOOKUP(all_cars!$D12,week4!$AB:$AJ,6,FALSE))","v":""},{"$f":"IF(SUMIF(week5!$AB:$AB,all_cars!$D12,week5!$AG:$AG)=0,\"\",VLOOKUP(all_cars!$D12,week5!$AB:$AJ,6,FALSE))","v":98.185137457044675},null,{"$f":"IF(SUMIF(week1!$AB:$AB,all_cars!$D12,week1!$AH:$AH)=0,\"\",VLOOKUP(all_cars!$D12,week1!$AB:$AJ,7,FALSE))","v":""},{"$f":"IF(SUMIF(week2!$AB:$AB,all_cars!$D12,week2!$AH:$AH)=0,\"\",VLOOKUP(all_cars!$D12,week2!$AB:$AJ,7,FALSE))","v":98.220017508024512},{"$f":"IF(SUMIF(week3!$AB:$AB,all_cars!$D12,week3!$AH:$AH)=0,\"\",VLOOKUP(all_cars!$D12,week3!$AB:$AJ,7,FALSE))","v":98.673740053050381},{"$f":"IF(SUMIF(week4!$AB:$AB,all_cars!$D12,week4!$AH:$AH)=0,\"\",VLOOKUP(all_cars!$D12,week4!$AB:$AJ,7,FALSE))","v":""},{"$f":"IF(SUMIF(week5!$AB:$AB,all_cars!$D12,week5!$AH:$AH)=0,\"\",VLOOKUP(all_cars!$D12,week5!$AB:$AJ,7,FALSE))","v":98.843040332402026},null,{"$f":"IF(SUMIF(week1!$AB:$AB,all_cars!$D12,week1!$AI:$AI)=0,\"\",VLOOKUP(all_cars!$D12,week1!$AB:$AJ,8,FALSE))","v":99.378550579077881},{"$f":"IF(SUMIF(week2!$AB:$AB,all_cars!$D12,week2!$AI:$AI)=0,\"\",VLOOKUP(all_cars!$D12,week2!$AB:$AJ,8,FALSE))","v":99.248413860419717},{"$f":"IF(SUMIF(week3!$AB:$AB,all_cars!$D12,week3!$AI:$AI)=0,\"\",VLOOKUP(all_cars!$D12,week3!$AB:$AJ,8,FALSE))","v":99.365225039195437},{"$f":"IF(SUMIF(week4!$AB:$AB,all_cars!$D12,week4!$AI:$AI)=0,\"\",VLOOKUP(all_cars!$D12,week4!$AB:$AJ,8,FALSE))","v":98.420020339968048},{"$f":"IF(SUMIF(week5!$AB:$AB,all_cars!$D12,week5!$AI:$AI)=0,\"\",VLOOKUP(all_cars!$D12,week5!$AB:$AJ,8,FALSE))","v":99.508131978601952},null,{"$f":"IF(SUMIF(week1!$AB:$AB,all_cars!$D12,week1!$AJ:$AJ)=0,\"\",VLOOKUP(all_cars!$D12,week1!$AB:$AJ,9,FALSE))","v":96.893041882195888},{"$f":"IF(SUMIF(week2!$AB:$AB,all_cars!$D12,week2!$AJ:$AJ)=0,\"\",VLOOKUP(all_cars!$D12,week2!$AB:$AJ,9,FALSE))","v":96.681508278836787},{"$f":"IF(SUMIF(week3!$AB:$AB,all_cars!$D12,week3!$AJ:$AJ)=0,\"\",VLOOKUP(all_cars!$D12,week3!$AB:$AJ,9,FALSE))","v":98.19047619047619},{"$f":"IF(SUMIF(week4!$AB:$AB,all_cars!$D12,week4!$AJ:$AJ)=0,\"\",VLOOKUP(all_cars!$D12,week4!$AB:$AJ,9,FALSE))","v":""},{"$f":"IF(SUMIF(week5!$AB:$AB,all_cars!$D12,week5!$AJ:$AJ)=0,\"\",VLOOKUP(all_cars!$D12,week5!$AB:$AJ,9,FALSE))","v":96.221837088388213},null,null,null,"Kyna_Musti                ","Kyna_Musti                "]
[null,null,7,"[+] Iziwýn                ",null,98.958785249457691,94.150766343446961,null,96.832155269095637,null,{"$f":"IF(SUMIF(week1!$AB:$AB,all_cars!$D13,week1!$AF:$AF)=0,\"\",VLOOKUP(all_cars!$D13,week1!$AB:$AJ,5,FALSE))","v":""},{"$f":"IF(SUMIF(week2!$AB:$AB,all_cars!$D13,week2!$AF:$AF)=0,\"\",VLOOKUP(all_cars!$D13,week2!$AB:$AJ,5,FALSE))","v":""},{"$f":"IF(SUMIF(week3!$AB:$AB,all_cars!$D13,week3!$AF:$AF)=0,\"\",VLOOKUP(all_cars!$D13,week3!$AB:$AJ,5,FALSE))","v":""},{"$f":"IF(SUMIF(week4!$AB:$AB,all_cars!$D13,week4!$AF:$AF)=0,\"\",VLOOKUP(all_cars!$D13,week4!$AB:$AJ,5,FALSE))","v":""},{"$f":"IF(SUMIF(week5!$AB:$AB,all_cars!$D13,week5!$AF:$AF)=0,\"\",VLOOKUP(all_cars!$D13,week5!$AB:$AJ,5,FALSE))","v":""},null,{"$f":"IF(SUMIF(week1!$AB:$AB,all_cars!$D13,week1!$AG:$AG)=0,\"\",VLOOKUP(all_cars!$D13,week1!$AB:$AJ,6,FALSE))","v":94.150766343446961},{"$f":"IF(SUMIF(week2!$AB:$AB,all_cars!$D13,week2!$AG:$AG)=0,\"\",VLOOKUP(all_cars!$D13,week2!$AB:$AJ,6,FALSE))","v":""},{"$f":"IF(SUMIF(week3!$AB:$AB,all_cars!$D13,week3!$AG:$AG)=0,\"\",VLOOKUP(all_cars!$D13,week3!$AB:$AJ,6,FALSE))","v":""},{"$f":"IF(SUMIF(week4!$AB:$AB,all_cars!$D13,week4!$AG:$AG)=0,\"\",VLOOKUP(all_cars!$D13,week4!$AB:$AJ,6,FALSE))","v":""},{"$f":"IF(SUMIF(week5!$AB:$AB,all_cars!$D13,week5!$AG:$AG)=0,\"\",VLOOKUP(all_cars!$D13,week5!$AB:$AJ,6,FALSE))","v":""},null,{"$f":"IF(SUMIF(week1!$AB:$AB,all_cars!$D13,week1!$AH:$AH)=0,\"\",VLOOKUP(all_cars!$D13,week1!$AB:$AJ,7,FALSE))","v":96.466331025802404},{"$f":"IF(SUMIF(week2!$AB:$AB,all_cars!$D13,week2!$AH:$AH)=0,\"\",VLOOKUP(all_cars!$D13,week2!$AB:$AJ,7,FALSE))","v":""},{"$f":"IF(SUMIF(week3!$AB:$AB,all_cars!$D13,week3!$AH:$AH)=0,\"\",VLOOKUP(all_cars!$D13,week3!$AB:$AJ,7,FALSE))","v":""},{"$f":"IF(SUMIF(week4!$AB:$AB,all_cars!$D13,week4!$AH:$AH)=0,\"\",VLOOKUP(all_cars!$D13,week4!$AB:$AJ,7,FALSE))","v":""},{"$f":"IF(SUMIF(week5!$AB:$AB,all_cars!$D13,week5!$AH:$AH)=0,\"\",VLOOKUP(all_cars!$D13,week5!$AB:$AJ,7,FALSE))","v":""},null,{"$f":"IF(SUMIF(week1!$AB:$AB,all_cars!$D13,week1!$AI:$AI)=0,\"\",VLOOKUP(all_cars!$D13,week1!$AB:$AJ,8,FALSE))","v":97.752738457675534},{"$f":"IF(SUMIF(week2!$AB:$AB,all_cars!$D13,week2!$AI:$AI)=0,\"\",VLOOKUP(all_cars!$D13,week2!$AB:$AJ,8,FALSE))","v":""},{"$f":"IF(SUMIF(week3!$AB:$AB,all_cars!$D13,week3!$AI:$AI)=0,\"\",VLOOKUP(all_cars!$D13,week3!$AB:$AJ,8,FALSE))","v":""},{"$f":"IF(SUMIF(week4!$AB:$AB,all_cars!$D13,week4!$AI:$AI)=0,\"\",VLOOKUP(all_cars!$D13,week4!$AB:$AJ,8,FALSE))","v":""},{"$f":"IF(SUMIF(week5!$AB:$AB,all_cars!$D13,week5!$AI:$AI)=0,\"\",VLOOKUP(all_cars!$D13,week5!$AB:$AJ,8,FALSE))","v":""},null,{"$f":"IF(SUMIF(week1!$AB:$AB,all_cars!$D13,week1!$AJ:$AJ)=0,\"\",VLOOKUP(all_cars!$D13,week1!$AB:$AJ,9,FALSE))","v":98.958785249457691},{"$f":"IF(SUMIF(week2!$AB:$AB,all_cars!$D13,week2!$AJ:$AJ)=0,\"\",VLOOKUP(all_cars!$D13,week2!$AB:$AJ,9,FALSE))","v":""},{"$f":"IF(SUMIF(week3!$AB:$AB,all_cars!$D13,week3!$AJ:$AJ)=0,\"\",VLOOKUP(all_cars!$D13,week3!$AB:$AJ,9,FALSE))","v":""},{"$f":"IF(SUMIF(week4!$AB:$AB,all_cars!$D13,week4!$AJ:$AJ)=0,\"\",VLOOKUP(all_cars!$D13,week4!$AB:$AJ,9,FALSE))","v":""},{"$f":"IF(SUMIF(week5!$AB:$AB,all_cars!$D13,week5!$AJ:$AJ)=0,\"\",VLOOKUP(all_cars!$D13,week5!$AB:$AJ,9,FALSE))","v":""},null,null,null,"[+] Iziwýn                ","[+] Iziwýn                "]
[null,null,8,"mc65532                   ",null,99.514160891834891,90.815951943934593,null,95.839084986677889,null,{"$f":"IF(SUMIF(week1!$AB:$AB,all_cars!$D14,week1!$AF:$AF)=0,\"\",VLOOKUP(all_cars!$D14,week1!$AB:$AJ,5,FALSE))","v":96.56551091302353},{"$f":"IF(SUMIF(week2!$AB:$AB,all_cars!$D14,week2!$AF:$AF)=0,\"\",VLOOKUP(all_cars!$D14,week2!$AB:$AJ,5,FALSE))","v":97.841207349081358},{"$f":"IF(SUMIF(week3!$AB:$AB,all_cars!$D14,week3!$AF:$AF)=0,\"\",VLOOKUP(all_cars!$D14,week3!$AB:$AJ,5,FALSE))","v":99.514160891834891},{"$f":"IF(SUMIF(week4!$AB:$AB,all_cars!$D14,week4!$AF:$AF)=0,\"\",VLOOKUP(all_cars!$D14,week4!$AB:$AJ,5,FALSE))","v":""},{"$f":"IF(SUMIF(week5!$AB:$AB,all_cars!$D14,week5!$AF:$AF)=0,\"\",VLOOKUP(all_cars!$D14,week5!$AB:$AJ,5,FALSE))","v":""},null,{"$f":"IF(SUMIF(week1!$AB:$AB,all_cars!$D14,week1!$AG:$AG)=0,\"\",VLOOKUP(all_cars!$D14,week1!$AB:$AJ,6,FALSE))","v":96.409133562715041},{"$f":"IF(SUMIF(week2!$AB:$AB,all_cars!$D14,week2!$AG:$AG)=0,\"\",VLOOKUP(all_cars!$D14,week2!$AB:$AJ,6,FALSE))","v":93.677548516258199},{"$f":"IF(SUMIF(week3!$AB:$AB,all_cars!$D14,week3!$AG:$AG)=0,\"\",VLOOKUP(all_cars!$D14,week3!$AB:$AJ,6,FALSE))","v":95.776242781111989},{"$f":"IF(SUMIF(week4!$AB:$AB,all_cars!$D14,week4!$AG:$AG)=0,\"\",VLOOKUP(all_cars!$D14,week4!$AB:$AJ,6,FALSE))","v":""},{"$f":"IF(SUMIF(week5!$AB:$AB,all_cars!$D14,week5!$AG:$AG)=0,\"\",VLOOKUP(all_cars!$D14,week5!$AB:$AJ,6,FALSE))","v":""},null,{"$f":"IF(SUMIF(week1!$AB:$AB,all_cars!$D14,week1!$AH:$AH)=0,\"\",VLOOKUP(all_cars!$D14,week1!$AB:$AJ,7,FALSE))","v":97.10509754562618},{"$f":"IF(SUMIF(week2!$AB:$AB,all_cars!$D14,week2!$AH:$AH)=0,\"\",VLOOKUP(all_cars!$D14,week2!$AB:$AJ,7,FALSE))","v":96.018545537074871},{"$f":"IF(SUMIF(week3!$AB:$AB,all_cars!$D14,week3!$AH:$AH)=0,\"\",VLOOKUP(all_cars!$D14,week3!$AB:$AJ,7,FALSE))","v":97.86693191865605},{"$f":"IF(SUMIF(week4!$AB:$AB,all_cars!$D14,week4!$AH:$AH)=0,\"\",VLOOKUP(all_cars!$D14,week4!$AB:$AJ,7,FALSE))","v":""},{"$f":"IF(SUMIF(week5!$AB:$AB,all_cars!$D14,week5!$AH:$AH)=0,\"\",VLOOKUP(all_cars!$D14,week5!$AB:$AJ,7,FALSE))","v":""},null,{"$f":"IF(SUMIF(week1!$AB:$AB,all_cars!$D14,week1!$AI:$AI)=0,\"\",VLOOKUP(all_cars!$D14,week1!$AB:$AJ,8,FALSE))","v":93.393176610903609},{"$f":"IF(SUMIF(week2!$AB:$AB,all_cars!$D14,week2!$AI:$AI)=0,\"\",VLOOKUP(all_cars!$D14,week2!$AB:$AJ,8,FALSE))","v":""},{"$f":"IF(SUMIF(week3!$AB:$AB,all_cars!$D14,week3!$AI:$AI)=0,\"\",VLOOKUP(all_cars!$D14,week3!$AB:$AJ,8,FALSE))","v":96.937019616840644},{"$f":"IF(SUMIF(week4!$AB:$AB,all_cars!$D14,week4!$AI:$AI)=0,\"\",VLOOKUP(all_cars!$D14,week4!$AB:$AJ,8,FALSE))","v":""},{"$f":"IF(SUMIF(week5!$AB:$AB,all_cars!$D14,week5!$AI:$AI)=0,\"\",VLOOKUP(all_cars!$D14,week5!$AB:$AJ,8,FALSE))","v":""},null,{"$f":"IF(SUMIF(week1!$AB:$AB,all_cars!$D14,week1!$AJ:$AJ)=0,\"\",VLOOKUP(all_cars!$D14,week1!$AB:$AJ,9,FALSE))","v":90.815951943934593},{"$f":"IF(SUMIF(week2!$AB:$AB,all_cars!$D14,week2!$AJ:$AJ)=0,\"\",VLOOKUP(all_cars!$D14,week2!$AB:$AJ,9,FALSE))","v":""},{"$f":"IF(SUMIF(week3!$AB:$AB,all_cars!$D14,week3!$AJ:$AJ)=0,\"\",VLOOKUP(all_cars!$D14,week3!$AB:$AJ,9,FALSE))","v":93.987577639751549},{"$f":"IF(SUMIF(week4!$AB:$AB,all_cars!$D14,week4!$AJ:$AJ)=0,\"\",VLOOKUP(all_cars!$D14,week4!$AB:$AJ,9,FALSE))","v":""},{"$f":"IF(SUMIF(week5!$AB:$AB,all_cars!$D14,week5!$AJ:$AJ)=0,\"\",VLOOKUP(all_cars!$D14,week5!$AB:$AJ,9,FALSE))","v":""},null,null,null,"mc65532                   ","mc65532                   "]
[null,null,9,"[+] Badeend               ",null,99.879481771617961,96.247860763989806,null,98.376194758810314,null,{"$f":"IF(SUMIF(week1!$AB:$AB,all_cars!$D15,week1!$AF:$AF)=0,\"\",VLOOKUP(all_cars!$D15,week1!$AB:$AJ,5,FALSE))","v":99.413384020449627},{"$f":"IF(SUMIF(week2!$AB:$AB,all_cars!$D15,week2!$AF:$AF)=0,\"\",VLOOKUP(all_cars!$D15,week2!$AB:$AJ,5,FALSE))","v":99.645669291338578},{"$f":"IF(SUMIF(week3!$AB:$AB,all_cars!$D15,week3!$AF:$AF)=0,\"\",VLOOKUP(all_cars!$D15,week3!$AB:$AJ,5,FALSE))","v":99.879481771617961},{"$f":"IF(SUMIF(week4!$AB:$AB,all_cars!$D15,week4!$AF:$AF)=0,\"\",VLOOKUP(all_cars!$D15,week4!$AB:$AJ,5,FALSE))","v":99.514671843500338},{"$f":"IF(SUMIF(week5!$AB:$AB,all_cars!$D15,week5!$AF:$AF)=0,\"\",VLOOKUP(all_cars!$D15,week5!$AB:$AJ,5,FALSE))","v":99.441585459323335},null,{"$f":"IF(SUMIF(week1!$AB:$AB,all_cars!$D15,week1!$AG:$AG)=0,\"\",VLOOKUP(all_cars!$D15,week1!$AB:$AJ,6,FALSE))","v":96.859555833594001},{"$f":"IF(SUMIF(week2!$AB:$AB,all_cars!$D15,week2!$AG:$AG)=0,\"\",VLOOKUP(all_cars!$D15,week2!$AB:$AJ,6,FALSE))","v":96.247860763989806},{"$f":"IF(SUMIF(week3!$AB:$AB,all_cars!$D15,week3!$AG:$AG)=0,\"\",VLOOKUP(all_cars!$D15,week3!$AB:$AJ,6,FALSE))","v":97.523874230928911},{"$f":"IF(SUMIF(week4!$AB:$AB,all_cars!$D15,week4!$AG:$AG)=0,\"\",VLOOKUP(all_cars!$D15,week4!$AB:$AJ,6,FALSE))","v":""},{"$f":"IF(SUMIF(week5!$AB:$AB,all_cars!$D15,week5!$AG:$AG)=0,\"\",VLOOKUP(all_cars!$D15,week5!$AB:$AJ,6,FALSE))","v":""},null,{"$f":"IF(SUMIF(week1!$AB:$AB,all_cars!$D15,week1!$AH:$AH)=0,\"\",VLOOKUP(all_cars!$D15,week1!$AB:$AJ,7,FALSE))","v":""},{"$f":"IF(SUMIF(week2!$AB:$AB,all_cars!$D15,week2!$AH:$AH)=0,\"\",VLOOKUP(all_cars!$D15,week2!$AB:$AJ,7,FALSE))","v":""},{"$f":"IF(SUMIF(week3!$AB:$AB,all_cars!$D15,week3!$AH:$AH)=0,\"\",VLOOKUP(all_cars!$D15,week3!$AB:$AJ,7,FALSE))","v":""},{"$f":"IF(SUMIF(week4!$AB:$AB,all_cars!$D15,week4!$AH:$AH)=0,\"\",VLOOKUP(all_cars!$D15,week4!$AB:$AJ,7,FALSE))","v":""},{"$f":"IF(SUMIF(week5!$AB:$AB,all_cars!$D15,week5!$AH:$AH)=0,\"\",VLOOKUP(all_cars!$D15,week5!$AB:$AJ,7,FALSE))","v":""},null,{"$f":"IF(SUMIF(week1!$AB:$AB,all_cars!$D15,week1!$AI:$AI)=0,\"\",VLOOKUP(all_cars!$D15,week1!$AB:$AJ,8,FALSE))","v":""},{"$f":"IF(SUMIF(week2!$AB:$AB,all_cars!$D15,week2!$AI:$AI)=0,\"\",VLOOKUP(all_cars!$D15,week2!$AB:$AJ,8,FALSE))","v":""},{"$f":"IF(SUMIF(week3!$AB:$AB,all_cars!$D15,week3!$AI:$AI)=0,\"\",VLOOKUP(all_cars!$D15,week3!$AB:$AJ,8,FALSE))","v":""},{"$f":"IF(SUMIF(week4!$AB:$AB,all_cars!$D15,week4!$AI:$AI)=0,\"\",VLOOKUP(all_cars!$D15,week4!$AB:$AJ,8,FALSE))","v":""},{"$f":"IF(SUMIF(week5!$AB:$AB,all_cars!$D15,week5!$AI:$AI)=0,\"\",VLOOKUP(all_cars!$D15,week5!$AB:$AJ,8,FALSE))","v":""},null,{"$f":"IF(SUMIF(week1!$AB:$AB,all_cars!$D15,week1!$AJ:$AJ)=0,\"\",VLOOKUP(all_cars!$D15,week1!$AB:$AJ,9,FALSE))","v":96.859669614550313},{"$f":"IF(SUMIF(week2!$AB:$AB,all_cars!$D15,week2!$AJ:$AJ)=0,\"\",VLOOKUP(all_cars!$D15,week2!$AB:$AJ,9,FALSE))","v":""},{"$f":"IF(SUMIF(week3!$AB:$AB,all_cars!$D15,week3!$AJ:$AJ)=0,\"\",VLOOKUP(all_cars!$D15,week3!$AB:$AJ,9,FALSE))","v":""},{"$f":"IF(SUMIF(week4!$AB:$AB,all_cars!$D15,week4!$AJ:$AJ)=0,\"\",VLOOKUP(all_cars!$D15,week4!$AB:$AJ,9,FALSE))","v":""},{"$f":"IF(SUMIF(week5!$AB:$AB,all_cars!$D15,week5!$AJ:$AJ)=0,\"\",VLOOKUP(all_cars!$D15,week5!$AB:$AJ,9,FALSE))","v":""},null,null,null,"[+] Badeend               ","[+] Badeend               "]
[null,null,10,"Poisonous                 ",null,98.39895013123359,90.635870321413663,null,94.732026658971421,null,{"$f":"IF(SUMIF(week1!$AB:$AB,all_cars!$D16,week1!$AF:$AF)=0,\"\",VLOOKUP(all_cars!$D16,week1!$AB:$AJ,5,FALSE))","v":97.473290948417116},{"$f":"IF(SUMIF(week2!$AB:$AB,all_cars!$D16,week2!$AF:$AF)=0,\"\",VLOOKUP(all_cars!$D16,week2!$AB:$AJ,5,FALSE))","v":98.39895013123359},{"$f":"IF(SUMIF(week3!$AB:$AB,all_cars!$D16,week3!$AF:$AF)=0,\"\",VLOOKUP(all_cars!$D16,week3!$AB:$AJ,5,FALSE))","v":""},{"$f":"IF(SUMIF(week4!$AB:$AB,all_cars!$D16,week4!$AF:$AF)=0,\"\",VLOOKUP(all_cars!$D16,week4!$AB:$AJ,5,FALSE))","v":""},{"$f":"IF(SUMIF(week5!$AB:$AB,all_cars!$D16,week5!$AF:$AF)=0,\"\",VLOOKUP(all_cars!$D16,week5!$AB:$AJ,5,FALSE))","v":""},null,{"$f":"IF(SUMIF(week1!$AB:$AB,all_cars!$D16,week1!$AG:$AG)=0,\"\",VLOOKUP(all_cars!$D16,week1!$AB:$AJ,6,FALSE))","v":94.497966843916174},{"$f":"IF(SUMIF(week2!$AB:$AB,all_cars!$D16,week2!$AG:$AG)=0,\"\",VLOOKUP(all_cars!$D16,week2!$AB:$AJ,6,FALSE))","v":92.437598889211799},{"$f":"IF(SUMIF(week3!$AB:$AB,all_cars!$D16,week3!$AG:$AG)=0,\"\",VLOOKUP(all_cars!$D16,week3!$AB:$AJ,6,FALSE))","v":""},{"$f":"IF(SUMIF(week4!$AB:$AB,all_cars!$D16,week4!$AG:$AG)=0,\"\",VLOOKUP(all_cars!$D16,week4!$AB:$AJ,6,FALSE))","v":""},{"$f":"IF(SUMIF(week5!$AB:$AB,all_cars!$D16,week5!$AG:$AG)=0,\"\",VLOOKUP(all_cars!$D16,week5!$AB:$AJ,6,FALSE))","v":""},null,{"$f":"IF(SUMIF(week1!$AB:$AB,all_cars!$D16,week1!$AH:$AH)=0,\"\",VLOOKUP(all_cars!$D16,week1!$AB:$AJ,7,FALSE))","v":""},{"$f":"IF(SUMIF(week2!$AB:$AB,all_cars!$D16,week2!$AH:$AH)=0,\"\",VLOOKUP(all_cars!$D16,week2!$AB:$AJ,7,FALSE))","v":""},{"$f":"IF(SUMIF(week3!$AB:$AB,all_cars!$D16,week3!$AH:$AH)=0,\"\",VLOOKUP(all_cars!$D16,week3!$AB:$AJ,7,FALSE))","v":""},{"$f":"IF(SUMIF(week4!$AB:$AB,all_cars!$D16,week4!$AH:$AH)=0,\"\",VLOOKUP(all_cars!$D16,week4!$AB:$AJ,7,FALSE))","v":""},{"$f":"IF(SUMIF(week5!$AB:$AB,all_cars!$D16,week5!$AH:$AH)=0,\"\",VLOOKUP(all_cars!$D16,week5!$AB:$AJ,7,FALSE))","v":""},null,{"$f":"IF(SUMIF(week1!$AB:$AB,all_cars!$D16,week1!$AI:$AI)=0,\"\",VLOOKUP(all_cars!$D16,week1!$AB:$AJ,8,FALSE))","v":95.687517654813092},{"$f":"IF(SUMIF(week2!$AB:$AB,all_cars!$D16,week2!$AI:$AI)=0,\"\",VLOOKUP(all_cars!$D16,week2!$AB:$AJ,8,FALSE))","v":""},{"$f":"IF(SUMIF(week3!$AB:$AB,all_cars!$D16,week3!$AI:$AI)=0,\"\",VLOOKUP(all_cars!$D16,week3!$AB:$AJ,8,FALSE))","v":""},{"$f":"IF(SUMIF(week4!$AB:$AB,all_cars!$D16,week4!$AI:$AI)=0,\"\",VLOOKUP(all_cars!$D16,week4!$AB:$AJ,8,FALSE))","v":""},{"$f":"IF(SUMIF(week5!$AB:$AB,all_cars!$D16,week5!$AI:$AI)=0,\"\",VLOOKUP(all_cars!$D16,week5!$AB:$AJ,8,FALSE))","v":""},null,{"$f":"IF(SUMIF(week1!$AB:$AB,all_cars!$D16,week1!$AJ:$AJ)=0,\"\",VLOOKUP(all_cars!$D16,week1!$AB:$AJ,9,FALSE))","v":93.992991823794426},{"$f":"IF(SUMIF(week2!$AB:$AB,all_cars!$D16,week2!$AJ:$AJ)=0,\"\",VLOOKUP(all_cars!$D16,week2!$AB:$AJ,9,FALSE))","v":90.635870321413663},{"$f":"IF(SUMIF(week3!$AB:$AB,all_cars!$D16,week3!$AJ:$AJ)=0,\"\",VLOOKUP(all_cars!$D16,week3!$AB:$AJ,9,FALSE))","v":""},{"$f":"IF(SUMIF(week4!$AB:$AB,all_cars!$D16,week4!$AJ:$AJ)=0,\"\",VLOOKUP(all_cars!$D16,week4!$AB:$AJ,9,FALSE))","v":""},{"$f":"IF(SUMIF(week5!$AB:$AB,all_cars!$D16,week5!$AJ:$AJ)=0,\"\",VLOOKUP(all_cars!$D16,week5!$AB:$AJ,9,FALSE))","v":""},null,null,null,"Poisonous                 ","Poisonous                 "]
[null,null,11,"Chukie                    ",null,98.163899438184629,93.235891721832587,null,96.577300745013886,null,{"$f":"IF(SUMIF(week1!$AB:$AB,all_cars!$D17,week1!$AF:$AF)=0,\"\",VLOOKUP(all_cars!$D17,week1!$AB:$AJ,5,FALSE))","v":93.235891721832587},{"$f":"IF(SUMIF(week2!$AB:$AB,all_cars!$D17,week2!$AF:$AF)=0,\"\",VLOOKUP(all_cars!$D17,week2!$AB:$AJ,5,FALSE))","v":""},{"$f":"IF(SUMIF(week3!$AB:$AB,all_cars!$D17,week3!$AF:$AF)=0,\"\",VLOOKUP(all_cars!$D17,week3!$AB:$AJ,5,FALSE))","v":""},{"$f":"IF(SUMIF(week4!$AB:$AB,all_cars!$D17,week4!$AF:$AF)=0,\"\",VLOOKUP(all_cars!$D17,week4!$AB:$AJ,5,FALSE))","v":""},{"$f":"IF(SUMIF(week5!$AB:$AB,all_cars!$D17,week5!$AF:$AF)=0,\"\",VLOOKUP(all_cars!$D17,week5!$AB:$AJ,5,FALSE))","v":""},null,{"$f":"IF(SUMIF(week1!$AB:$AB,all_cars!$D17,week1!$AG:$AG)=0,\"\",VLOOKUP(all_cars!$D17,week1!$AB:$AJ,6,FALSE))","v":96.061933062245856},{"$f":"IF(SUMIF(week2!$AB:$AB,all_cars!$D17,week2!$AG:$AG)=0,\"\",VLOOKUP(all_cars!$D17,week2!$AB:$AJ,6,FALSE))","v":""},{"$f":"IF(SUMIF(week3!$AB:$AB,all_cars!$D17,week3!$AG:$AG)=0,\"\",VLOOKUP(all_cars!$D17,week3!$AB:$AJ,6,FALSE))","v":97.116219378703803},{"$f":"IF(SUMIF(week4!$AB:$AB,all_cars!$D17,week4!$AG:$AG)=0,\"\",VLOOKUP(all_cars!$D17,week4!$AB:$AJ,6,FALSE))","v":""},{"$f":"IF(SUMIF(week5!$AB:$AB,all_cars!$D17,week5!$AG:$AG)=0,\"\",VLOOKUP(all_cars!$D17,week5!$AB:$AJ,6,FALSE))","v":""},null,{"$f":"IF(SUMIF(week1!$AB:$AB,all_cars!$D17,week1!$AH:$AH)=0,\"\",VLOOKUP(all_cars!$D17,week1!$AB:$AJ,7,FALSE))","v":""},{"$f":"IF(SUMIF(week2!$AB:$AB,all_cars!$D17,week2!$AH:$AH)=0,\"\",VLOOKUP(all_cars!$D17,week2!$AB:$AJ,7,FALSE))","v":""},{"$f":"IF(SUMIF(week3!$AB:$AB,all_cars!$D17,week3!$AH:$AH)=0,\"\",VLOOKUP(all_cars!$D17,week3!$AB:$AJ,7,FALSE))","v":""},{"$f":"IF(SUMIF(week4!$AB:$AB,all_cars!$D17,week4!$AH:$AH)=0,\"\",VLOOKUP(all_cars!$D17,week4!$AB:$AJ,7,FALSE))","v":""},{"$f":"IF(SUMIF(week5!$AB:$AB,all_cars!$D17,week5!$AH:$AH)=0,\"\",VLOOKUP(all_cars!$D17,week5!$AB:$AJ,7,FALSE))","v":""},null,{"$f":"IF(SUMIF(week1!$AB:$AB,all_cars!$D17,week1!$AI:$AI)=0,\"\",VLOOKUP(all_cars!$D17,week1!$AB:$AJ,8,FALSE))","v":98.163899438184629},{"$f":"IF(SUMIF(week2!$AB:$AB,all_cars!$D17,week2!$AI:$AI)=0,\"\",VLOOKUP(all_cars!$D17,week2!$AB:$AJ,8,FALSE))","v":97.006669920286313},{"$f":"IF(SUMIF(week3!$AB:$AB,all_cars!$D17,week3!$AI:$AI)=0,\"\",VLOOKUP(all_cars!$D17,week3!$AB:$AJ,8,FALSE))","v":97.938893350158693},{"$f":"IF(SUMIF(week4!$AB:$AB,all_cars!$D17,week4!$AI:$AI)=0,\"\",VLOOKUP(all_cars!$D17,week4!$AB:$AJ,8,FALSE))","v":""},{"$f":"IF(SUMIF(week5!$AB:$AB,all_cars!$D17,week5!$AI:$AI)=0,\"\",VLOOKUP(all_cars!$D17,week5!$AB:$AJ,8,FALSE))","v":""},null,{"$f":"IF(SUMIF(week1!$AB:$AB,all_cars!$D17,week1!$AJ:$AJ)=0,\"\",VLOOKUP(all_cars!$D17,week1!$AB:$AJ,9,FALSE))","v":""},{"$f":"IF(SUMIF(week2!$AB:$AB,all_cars!$D17,week2!$AJ:$AJ)=0,\"\",VLOOKUP(all_cars!$D17,week2!$AB:$AJ,9,FALSE))","v":""},{"$f":"IF(SUMIF(week3!$AB:$AB,all_cars!$D17,week3!$AJ:$AJ)=0,\"\",VLOOKUP(all_cars!$D17,week3!$AB:$AJ,9,FALSE))","v":96.517598343685293},{"$f":"IF(SUMIF(week4!$AB:$AB,all_cars!$D17,week4!$AJ:$AJ)=0,\"\",VLOOKUP(all_cars!$D17,week4!$AB:$AJ,9,FALSE))","v":""},{"$f":"IF(SUMIF(week5!$AB:$AB,all_cars!$D17,week5!$AJ:$AJ)=0,\"\",VLOOKUP(all_cars!$D17,week5!$AB:$AJ,9,FALSE))","v":""},null,null,null,"Chukie                    ","Chukie                    "]
[null,null,12,"Jurgen-NL                 ",null,99.626670648846414,93.412314366761223,null,97.096899883205467,null,{"$f":"IF(SUMIF(week1!$AB:$AB,all_cars!$D18,week1!$AF:$AF)=0,\"\",VLOOKUP(all_cars!$D18,week1!$AB:$AJ,5,FALSE))","v":97.201284656223379},{"$f":"IF(SUMIF(week2!$AB:$AB,all_cars!$D18,week2!$AF:$AF)=0,\"\",VLOOKUP(all_cars!$D18,week2!$AB:$AJ,5,FALSE))","v":98.914041994750662},{"$f":"IF(SUMIF(week3!$AB:$AB,all_cars!$D18,week3!$AF:$AF)=0,\"\",VLOOKUP(all_cars!$D18,week3!$AB:$AJ,5,FALSE))","v":99.461434166917741},{"$f":"IF(SUMIF(week4!$AB:$AB,all_cars!$D18,week4!$AF:$AF)=0,\"\",VLOOKUP(all_cars!$D18,week4!$AB:$AJ,5,FALSE))","v":99.626670648846414},{"$f":"IF(SUMIF(week5!$AB:$AB,all_cars!$D18,week5!$AF:$AF)=0,\"\",VLOOKUP(all_cars!$D18,week5!$AB:$AJ,5,FALSE))","v":99.248147742618343},null,{"$f":"IF(SUMIF(week1!$AB:$AB,all_cars!$D18,week1!$AG:$AG)=0,\"\",VLOOKUP(all_cars!$D18,week1!$AB:$AJ,6,FALSE))","v":96.212073819205514},{"$f":"IF(SUMIF(week2!$AB:$AB,all_cars!$D18,week2!$AG:$AG)=0,\"\",VLOOKUP(all_cars!$D18,week2!$AB:$AJ,6,FALSE))","v":96.829087151667792},{"$f":"IF(SUMIF(week3!$AB:$AB,all_cars!$D18,week3!$AG:$AG)=0,\"\",VLOOKUP(all_cars!$D18,week3!$AB:$AJ,6,FALSE))","v":98.267466878043251},{"$f":"IF(SUMIF(week4!$AB:$AB,all_cars!$D18,week4!$AG:$AG)=0,\"\",VLOOKUP(all_cars!$D18,week4!$AB:$AJ,6,FALSE))","v":96.932272350844343},{"$f":"IF(SUMIF(week5!$AB:$AB,all_cars!$D18,week5!$AG:$AG)=0,\"\",VLOOKUP(all_cars!$D18,week5!$AB:$AJ,6,FALSE))","v":96.588631156930134},null,{"$f":"IF(SUMIF(week1!$AB:$AB,all_cars!$D18,week1!$AH:$AH)=0,\"\",VLOOKUP(all_cars!$D18,week1!$AB:$AJ,7,FALSE))","v":""},{"$f":"IF(SUMIF(week2!$AB:$AB,all_cars!$D18,week2!$AH:$AH)=0,\"\",VLOOKUP(all_cars!$D18,week2!$AB:$AJ,7,FALSE))","v":96.832344454171121},{"$f":"IF(SUMIF(week3!$AB:$AB,all_cars!$D18,week3!$AH:$AH)=0,\"\",VLOOKUP(all_cars!$D18,week3!$AB:$AJ,7,FALSE))","v":97.933244916003531},{"$f":"IF(SUMIF(week4!$AB:$AB,all_cars!$D18,week4!$AH:$AH)=0,\"\",VLOOKUP(all_cars!$D18,week4!$AB:$AJ,7,FALSE))","v":97.555207916469598},{"$f":"IF(SUMIF(week5!$AB:$AB,all_cars!$D18,week5!$AH:$AH)=0,\"\",VLOOKUP(all_cars!$D18,week5!$AB:$AJ,7,FALSE))","v":""},null,{"$f":"IF(SUMIF(week1!$AB:$AB,all_cars!$D18,week1!$AI:$AI)=0,\"\",VLOOKUP(all_cars!$D18,week1!$AB:$AJ,8,FALSE))","v":""},{"$f":"IF(SUMIF(week2!$AB:$AB,all_cars!$D18,week2!$AI:$AI)=0,\"\",VLOOKUP(all_cars!$D18,week2!$AB:$AJ,8,FALSE))","v":94.999186595087039},{"$f":"IF(SUMIF(week3!$AB:$AB,all_cars!$D18,week3!$AI:$AI)=0,\"\",VLOOKUP(all_cars!$D18,week3!$AB:$AJ,8,FALSE))","v":98.321287904860242},{"$f":"IF(SUMIF(week4!$AB:$AB,all_cars!$D18,week4!$AI:$AI)=0,\"\",VLOOKUP(all_cars!$D18,week4!$AB:$AJ,8,FALSE))","v":97.123347377596971},{"$f":"IF(SUMIF(week5!$AB:$AB,all_cars!$D18,week5!$AI:$AI)=0,\"\",VLOOKUP(all_cars!$D18,week5!$AB:$AJ,8,FALSE))","v":95.081319786019463},null,{"$f":"IF(SUMIF(week1!$AB:$AB,all_cars!$D18,week1!$AJ:$AJ)=0,\"\",VLOOKUP(all_cars!$D18,week1!$AB:$AJ,9,FALSE))","v":93.412314366761223},{"$f":"IF(SUMIF(week2!$AB:$AB,all_cars!$D18,week2!$AJ:$AJ)=0,\"\",VLOOKUP(all_cars!$D18,week2!$AB:$AJ,9,FALSE))","v":94.848337275636567},{"$f":"IF(SUMIF(week3!$AB:$AB,all_cars!$D18,week3!$AJ:$AJ)=0,\"\",VLOOKUP(all_cars!$D18,week3!$AB:$AJ,9,FALSE))","v":97.246376811594189},{"$f":"IF(SUMIF(week4!$AB:$AB,all_cars!$D18,week4!$AJ:$AJ)=0,\"\",VLOOKUP(all_cars!$D18,week4!$AB:$AJ,9,FALSE))","v":96.40081957706731},{"$f":"IF(SUMIF(week5!$AB:$AB,all_cars!$D18,week5!$AJ:$AJ)=0,\"\",VLOOKUP(all_cars!$D18,week5!$AB:$AJ,9,FALSE))","v":""},null,null,null,"Jurgen-NL                 ","Jurgen-NL                 "]
[null,null,13,"KyNa                      ",null,96.814576915514181,93.058568329718,null,95.256645226489184,null,{"$f":"IF(SUMIF(week1!$AB:$AB,all_cars!$D19,week1!$AF:$AF)=0,\"\",VLOOKUP(all_cars!$D19,week1!$AB:$AJ,5,FALSE))","v":96.814576915514181},{"$f":"IF(SUMIF(week2!$AB:$AB,all_cars!$D19,week2!$AF:$AF)=0,\"\",VLOOKUP(all_cars!$D19,week2!$AB:$AJ,5,FALSE))","v":""},{"$f":"IF(SUMIF(week3!$AB:$AB,all_cars!$D19,week3!$AF:$AF)=0,\"\",VLOOKUP(all_cars!$D19,week3!$AB:$AJ,5,FALSE))","v":""},{"$f":"IF(SUMIF(week4!$AB:$AB,all_cars!$D19,week4!$AF:$AF)=0,\"\",VLOOKUP(all_cars!$D19,week4!$AB:$AJ,5,FALSE))","v":""},{"$f":"IF(SUMIF(week5!$AB:$AB,all_cars!$D19,week5!$AF:$AF)=0,\"\",VLOOKUP(all_cars!$D19,week5!$AB:$AJ,5,FALSE))","v":""},null,{"$f":"IF(SUMIF(week1!$AB:$AB,all_cars!$D19,week1!$AG:$AG)=0,\"\",VLOOKUP(all_cars!$D19,week1!$AB:$AJ,6,FALSE))","v":""},{"$f":"IF(SUMIF(week2!$AB:$AB,all_cars!$D19,week2!$AG:$AG)=0,\"\",VLOOKUP(all_cars!$D19,week2!$AB:$AJ,6,FALSE))","v":""},{"$f":"IF(SUMIF(week3!$AB:$AB,all_cars!$D19,week3!$AG:$AG)=0,\"\",VLOOKUP(all_cars!$D19,week3!$AB:$AJ,6,FALSE))","v":""},{"$f":"IF(SUMIF(week4!$AB:$AB,all_cars!$D19,week4!$AG:$AG)=0,\"\",VLOOKUP(all_cars!$D19,week4!$AB:$AJ,6,FALSE))","v":""},{"$f":"IF(SUMIF(week5!$AB:$AB,all_cars!$D19,week5!$AG:$AG)=0,\"\",VLOOKUP(all_cars!$D19,week5!$AB:$AJ,6,FALSE))","v":""},null,{"$f":"IF(SUMIF(week1!$AB:$AB,all_cars!$D19,week1!$AH:$AH)=0,\"\",VLOOKUP(all_cars!$D19,week1!$AB:$AJ,7,FALSE))","v":95.896790434235356},{"$f":"IF(SUMIF(week2!$AB:$AB,all_cars!$D19,week2!$AH:$AH)=0,\"\",VLOOKUP(all_cars!$D19,week2!$AB:$AJ,7,FALSE))","v":""},{"$f":"IF(SUMIF(week3!$AB:$AB,all_cars!$D19,week3!$AH:$AH)=0,\"\",VLOOKUP(all_cars!$D19,week3!$AB:$AJ,7,FALSE))","v":""},{"$f":"IF(SUMIF(week4!$AB:$AB,all_cars!$D19,week4!$AH:$AH)=0,\"\",VLOOKUP(all_cars!$D19,week4!$AB:$AJ,7,FALSE))","v":""},{"$f":"IF(SUMIF(week5!$AB:$AB,all_cars!$D19,week5!$AH:$AH)=0,\"\",VLOOKUP(all_cars!$D19,week5!$AB:$AJ,7,FALSE))","v":""},null,{"$f":"IF(SUMIF(week1!$AB:$AB,all_cars!$D19,week1!$AI:$AI)=0,\"\",VLOOKUP(all_cars!$D19,week1!$AB:$AJ,8,FALSE))","v":""},{"$f":"IF(SUMIF(week2!$AB:$AB,all_cars!$D19,week2!$AI:$AI)=0,\"\",VLOOKUP(all_cars!$D19,week2!$AB:$AJ,8,FALSE))","v":""},{"$f":"IF(SUMIF(week3!$AB:$AB,all_cars!$D19,week3!$AI:$AI)=0,\"\",VLOOKUP(all_cars!$D19,week3!$AB:$AJ,8,FALSE))","v":""},{"$f":"IF(SUMIF(week4!$AB:$AB,all_cars!$D19,week4!$AI:$AI)=0,\"\",VLOOKUP(all_cars!$D19,week4!$AB:$AJ,8,FALSE))","v":""},{"$f":"IF(SUMIF(week5!$AB:$AB,all_cars!$D19,week5!$AI:$AI)=0,\"\",VLOOKUP(all_cars!$D19,week5!$AB:$AJ,8,FALSE))","v":""},null,{"$f":"IF(SUMIF(week1!$AB:$AB,all_cars!$D19,week1!$AJ:$AJ)=0,\"\",VLOOKUP(all_cars!$D19,week1!$AB:$AJ,9,FALSE))","v":93.058568329718},{"$f":"IF(SUMIF(week2!$AB:$AB,all_cars!$D19,week2!$AJ:$AJ)=0,\"\",VLOOKUP(all_cars!$D19,week2!$AB:$AJ,9,FALSE))","v":""},{"$f":"IF(SUMIF(week3!$AB:$AB,all_cars!$D19,week3!$AJ:$AJ)=0,\"\",VLOOKUP(all_cars!$D19,week3!$AB:$AJ,9,FALSE))","v":""},{"$f":"IF(SUMIF(week4!$AB:$AB,all_cars!$D19,week4!$AJ:$AJ)=0,\"\",VLOOKUP(all_cars!$D19,week4!$AB:$AJ,9,FALSE))","v":""},{"$f":"IF(SUMIF(week5!$AB:$AB,all_cars!$D19,week5!$AJ:$AJ)=0,\"\",VLOOKUP(all_cars!$D19,week5!$AB:$AJ,9,FALSE))","v":""},null,null,null,"KyNa                      ","KyNa                      "]
[null,null,14,"fatty                     ",null,98.105604097619761,54.10303796647537,null,90.593106109556544,null,{"$f":"IF(SUMIF(week1!$AB:$AB,all_cars!$D20,week1!$AF:$AF)=0,\"\",VLOOKUP(all_cars!$D20,week1!$AB:$AJ,5,FALSE))","v":97.41102444779446},{"$f":"IF(SUMIF(week2!$AB:$AB,all_cars!$D20,week2!$AF:$AF)=0,\"\",VLOOKUP(all_cars!$D20,week2!$AB:$AJ,5,FALSE))","v":96.935695538057743},{"$f":"IF(SUMIF(week3!$AB:$AB,all_cars!$D20,week3!$AF:$AF)=0,\"\",VLOOKUP(all_cars!$D20,week3!$AB:$AJ,5,FALSE))","v":98.105604097619761},{"$f":"IF(SUMIF(week4!$AB:$AB,all_cars!$D20,week4!$AF:$AF)=0,\"\",VLOOKUP(all_cars!$D20,week4!$AB:$AJ,5,FALSE))","v":""},{"$f":"IF(SUMIF(week5!$AB:$AB,all_cars!$D20,week5!$AF:$AF)=0,\"\",VLOOKUP(all_cars!$D20,week5!$AB:$AJ,5,FALSE))","v":""},null,{"$f":"IF(SUMIF(week1!$AB:$AB,all_cars!$D20,week1!$AG:$AG)=0,\"\",VLOOKUP(all_cars!$D20,week1!$AB:$AJ,6,FALSE))","v":92.29590240850797},{"$f":"IF(SUMIF(week2!$AB:$AB,all_cars!$D20,week2!$AG:$AG)=0,\"\",VLOOKUP(all_cars!$D20,week2!$AB:$AJ,6,FALSE))","v":90.028738415835193},{"$f":"IF(SUMIF(week3!$AB:$AB,all_cars!$D20,week3!$AG:$AG)=0,\"\",VLOOKUP(all_cars!$D20,week3!$AB:$AJ,6,FALSE))","v":96.153700977616722},{"$f":"IF(SUMIF(week4!$AB:$AB,all_cars!$D20,week4!$AG:$AG)=0,\"\",VLOOKUP(all_cars!$D20,week4!$AB:$AJ,6,FALSE))","v":""},{"$f":"IF(SUMIF(week5!$AB:$AB,all_cars!$D20,week5!$AG:$AG)=0,\"\",VLOOKUP(all_cars!$D20,week5!$AB:$AJ,6,FALSE))","v":""},null,{"$f":"IF(SUMIF(week1!$AB:$AB,all_cars!$D20,week1!$AH:$AH)=0,\"\",VLOOKUP(all_cars!$D20,week1!$AB:$AJ,7,FALSE))","v":""},{"$f":"IF(SUMIF(week2!$AB:$AB,all_cars!$D20,week2!$AH:$AH)=0,\"\",VLOOKUP(all_cars!$D20,week2!$AB:$AJ,7,FALSE))","v":54.10303796647537},{"$f":"IF(SUMIF(week3!$AB:$AB,all_cars!$D20,week3!$AH:$AH)=0,\"\",VLOOKUP(all_cars!$D20,week3!$AB:$AJ,7,FALSE))","v":94.680223990568805},{"$f":"IF(SUMIF(week4!$AB:$AB,all_cars!$D20,week4!$AH:$AH)=0,\"\",VLOOKUP(all_cars!$D20,week4!$AB:$AJ,7,FALSE))","v":""},{"$f":"IF(SUMIF(week5!$AB:$AB,all_cars!$D20,week5!$AH:$AH)=0,\"\",VLOOKUP(all_cars!$D20,week5!$AB:$AJ,7,FALSE))","v":""},null,{"$f":"IF(SUMIF(week1!$AB:$AB,all_cars!$D20,week1!$AI:$AI)=0,\"\",VLOOKUP(all_cars!$D20,week1!$AB:$AJ,8,FALSE))","v":82.276136969963275},{"$f":"IF(SUMIF(week2!$AB:$AB,all_cars!$D20,week2!$AI:$AI)=0,\"\",VLOOKUP(all_cars!$D20,week2!$AB:$AJ,8,FALSE))","v":92.331218480559627},{"$f":"IF(SUMIF(week3!$AB:$AB,all_cars!$D20,week3!$AI:$AI)=0,\"\",VLOOKUP(all_cars!$D20,week3!$AB:$AJ,8,FALSE))","v":97.977132805628855},{"$f":"IF(SUMIF(week4!$AB:$AB,all_cars!$D20,week4!$AI:$AI)=0,\"\",VLOOKUP(all_cars!$D20,week4!$AB:$AJ,8,FALSE))","v":""},{"$f":"IF(SUMIF(week5!$AB:$AB,all_cars!$D20,week5!$AI:$AI)=0,\"\",VLOOKUP(all_cars!$D20,week5!$AB:$AJ,8,FALSE))","v":""},null,{"$f":"IF(SUMIF(week1!$AB:$AB,all_cars!$D20,week1!$AJ:$AJ)=0,\"\",VLOOKUP(all_cars!$D20,week1!$AB:$AJ,9,FALSE))","v":89.467712331052894},{"$f":"IF(SUMIF(week2!$AB:$AB,all_cars!$D20,week2!$AJ:$AJ)=0,\"\",VLOOKUP(all_cars!$D20,week2!$AB:$AJ,9,FALSE))","v":91.175038263531377},{"$f":"IF(SUMIF(week3!$AB:$AB,all_cars!$D20,week3!$AJ:$AJ)=0,\"\",VLOOKUP(all_cars!$D20,week3!$AB:$AJ,9,FALSE))","v":95.362318840579704},{"$f":"IF(SUMIF(week4!$AB:$AB,all_cars!$D20,week4!$AJ:$AJ)=0,\"\",VLOOKUP(all_cars!$D20,week4!$AB:$AJ,9,FALSE))","v":""},{"$f":"IF(SUMIF(week5!$AB:$AB,all_cars!$D20,week5!$AJ:$AJ)=0,\"\",VLOOKUP(all_cars!$D20,week5!$AB:$AJ,9,FALSE))","v":""},null,null,null,"fatty                     ","Kyna_Musti                "]
[null,null,15,"AnnicK                    ",null,98.462773890099797,89.024709969194461,null,96.538526209581505,null,{"$f":"IF(SUMIF(week1!$AB:$AB,all_cars!$D21,week1!$AF:$AF)=0,\"\",VLOOKUP(all_cars!$D21,week1!$AB:$AJ,5,FALSE))","v":89.024709969194461},{"$f":"IF(SUMIF(week2!$AB:$AB,all_cars!$D21,week2!$AF:$AF)=0,\"\",VLOOKUP(all_cars!$D21,week2!$AB:$AJ,5,FALSE))","v":96.896325459317595},{"$f":"IF(SUMIF(week3!$AB:$AB,all_cars!$D21,week3!$AF:$AF)=0,\"\",VLOOKUP(all_cars!$D21,week3!$AB:$AJ,5,FALSE))","v":98.267550467008135},{"$f":"IF(SUMIF(week4!$AB:$AB,all_cars!$D21,week4!$AF:$AF)=0,\"\",VLOOKUP(all_cars!$D21,week4!$AB:$AJ,5,FALSE))","v":97.117897409094311},{"$f":"IF(SUMIF(week5!$AB:$AB,all_cars!$D21,week5!$AF:$AF)=0,\"\",VLOOKUP(all_cars!$D21,week5!$AB:$AJ,5,FALSE))","v":""},null,{"$f":"IF(SUMIF(week1!$AB:$AB,all_cars!$D21,week1!$AG:$AG)=0,\"\",VLOOKUP(all_cars!$D21,week1!$AB:$AJ,6,FALSE))","v":""},{"$f":"IF(SUMIF(week2!$AB:$AB,all_cars!$D21,week2!$AG:$AG)=0,\"\",VLOOKUP(all_cars!$D21,week2!$AB:$AJ,6,FALSE))","v":96.338273757628599},{"$f":"IF(SUMIF(week3!$AB:$AB,all_cars!$D21,week3!$AG:$AG)=0,\"\",VLOOKUP(all_cars!$D21,week3!$AB:$AJ,6,FALSE))","v":95.897029403993514},{"$f":"IF(SUMIF(week4!$AB:$AB,all_cars!$D21,week4!$AG:$AG)=0,\"\",VLOOKUP(all_cars!$D21,week4!$AB:$AJ,6,FALSE))","v":95.920498325712032},{"$f":"IF(SUMIF(week5!$AB:$AB,all_cars!$D21,week5!$AG:$AG)=0,\"\",VLOOKUP(all_cars!$D21,week5!$AB:$AJ,6,FALSE))","v":""},null,{"$f":"IF(SUMIF(week1!$AB:$AB,all_cars!$D21,week1!$AH:$AH)=0,\"\",VLOOKUP(all_cars!$D21,week1!$AB:$AJ,7,FALSE))","v":""},{"$f":"IF(SUMIF(week2!$AB:$AB,all_cars!$D21,week2!$AH:$AH)=0,\"\",VLOOKUP(all_cars!$D21,week2!$AB:$AJ,7,FALSE))","v":97.552118795188534},{"$f":"IF(SUMIF(week3!$AB:$AB,all_cars!$D21,week3!$AH:$AH)=0,\"\",VLOOKUP(all_cars!$D21,week3!$AB:$AJ,7,FALSE))","v":96.831712348953715},{"$f":"IF(SUMIF(week4!$AB:$AB,all_cars!$D21,week4!$AH:$AH)=0,\"\",VLOOKUP(all_cars!$D21,week4!$AB:$AJ,7,FALSE))","v":97.387856077418419},{"$f":"IF(SUMIF(week5!$AB:$AB,all_cars!$D21,week5!$AH:$AH)=0,\"\",VLOOKUP(all_cars!$D21,week5!$AB:$AJ,7,FALSE))","v":""},null,{"$f":"IF(SUMIF(week1!$AB:$AB,all_cars!$D21,week1!$AI:$AI)=0,\"\",VLOOKUP(all_cars!$D21,week1!$AB:$AJ,8,FALSE))","v":97.332161576849444},{"$f":"IF(SUMIF(week2!$AB:$AB,all_cars!$D21,week2!$AI:$AI)=0,\"\",VLOOKUP(all_cars!$D21,week2!$AB:$AJ,8,FALSE))","v":97.628111273792101},{"$f":"IF(SUMIF(week3!$AB:$AB,all_cars!$D21,week3!$AI:$AI)=0,\"\",VLOOKUP(all_cars!$D21,week3!$AB:$AJ,8,FALSE))","v":98.462773890099797},{"$f":"IF(SUMIF(week4!$AB:$AB,all_cars!$D21,week4!$AI:$AI)=0,\"\",VLOOKUP(all_cars!$D21,week4!$AB:$AJ,8,FALSE))","v":98.031381664971661},{"$f":"IF(SUMIF(week5!$AB:$AB,all_cars!$D21,week5!$AI:$AI)=0,\"\",VLOOKUP(all_cars!$D21,week5!$AB:$AJ,8,FALSE))","v":98.168958460489009},null,{"$f":"IF(SUMIF(week1!$AB:$AB,all_cars!$D21,week1!$AJ:$AJ)=0,\"\",VLOOKUP(all_cars!$D21,week1!$AB:$AJ,9,FALSE))","v":94.016352411146343},{"$f":"IF(SUMIF(week2!$AB:$AB,all_cars!$D21,week2!$AJ:$AJ)=0,\"\",VLOOKUP(all_cars!$D21,week2!$AB:$AJ,9,FALSE))","v":95.411854737720887},{"$f":"IF(SUMIF(week3!$AB:$AB,all_cars!$D21,week3!$AJ:$AJ)=0,\"\",VLOOKUP(all_cars!$D21,week3!$AB:$AJ,9,FALSE))","v":97.242236024844715},{"$f":"IF(SUMIF(week4!$AB:$AB,all_cars!$D21,week4!$AJ:$AJ)=0,\"\",VLOOKUP(all_cars!$D21,week4!$AB:$AJ,9,FALSE))","v":96.40081957706731},{"$f":"IF(SUMIF(week5!$AB:$AB,all_cars!$D21,week5!$AJ:$AJ)=0,\"\",VLOOKUP(all_cars!$D21,week5!$AB:$AJ,9,FALSE))","v":96.841902561139989},null,null,null,"AnnicK                    ","fatty                     "]
[null,null,16,"[FN] Pornfest             ",null,98.417120010486983,94.720050046918985,null,96.568585028702984,null,{"$f":"IF(SUMIF(week1!$AB:$AB,all_cars!$D22,week1!$AF:$AF)=0,\"\",VLOOKUP(all_cars!$D22,week1!$AB:$AJ,5,FALSE))","v":98.417120010486983},{"$f":"IF(SUMIF(week2!$AB:$AB,all_cars!$D22,week2!$AF:$AF)=0,\"\",VLOOKUP(all_cars!$D22,week2!$AB:$AJ,5,FALSE))","v":""},{"$f":"IF(SUMIF(week3!$AB:$AB,all_cars!$D22,week3!$AF:$AF)=0,\"\",VLOOKUP(all_cars!$D22,week3!$AB:$AJ,5,FALSE))","v":""},{"$f":"IF(SUMIF(week4!$AB:$AB,all_cars!$D22,week4!$AF:$AF)=0,\"\",VLOOKUP(all_cars!$D22,week4!$AB:$AJ,5,FALSE))","v":""},{"$f":"IF(SUMIF(week5!$AB:$AB,all_cars!$D22,week5!$AF:$AF)=0,\"\",VLOOKUP(all_cars!$D22,week5!$AB:$AJ,5,FALSE))","v":""},null,{"$f":"IF(SUMIF(week1!$AB:$AB,all_cars!$D22,week1!$AG:$AG)=0,\"\",VLOOKUP(all_cars!$D22,week1!$AB:$AJ,6,FALSE))","v":94.720050046918985},{"$f":"IF(SUMIF(week2!$AB:$AB,all_cars!$D22,week2!$AG:$AG)=0,\"\",VLOOKUP(all_cars!$D22,week2!$AB:$AJ,6,FALSE))","v":""},{"$f":"IF(SUMIF(week3!$AB:$AB,all_cars!$D22,week3!$AG:$AG)=0,\"\",VLOOKUP(all_cars!$D22,week3!$AB:$AJ,6,FALSE))","v":""},{"$f":"IF(SUMIF(week4!$AB:$AB,all_cars!$D22,week4!$AG:$AG)=0,\"\",VLOOKUP(all_cars!$D22,week4!$AB:$AJ,6,FALSE))","v":""},{"$f":"IF(SUMIF(week5!$AB:$AB,all_cars!$D22,week5!$AG:$AG)=0,\"\",VLOOKUP(all_cars!$D22,week5!$AB:$AJ,6,FALSE))","v":""},null,{"$f":"IF(SUMIF(week1!$AB:$AB,all_cars!$D22,week1!$AH:$AH)=0,\"\",VLOOKUP(all_cars!$D22,week1!$AB:$AJ,7,FALSE))","v":""},{"$f":"IF(SUMIF(week2!$AB:$AB,all_cars!$D22,week2!$AH:$AH)=0,\"\",VLOOKUP(all_cars!$D22,week2!$AB:$AJ,7,FALSE))","v":""},{"$f":"IF(SUMIF(week3!$AB:$AB,all_cars!$D22,week3!$AH:$AH)=0,\"\",VLOOKUP(all_cars!$D22,week3!$AB:$AJ,7,FALSE))","v":""},{"$f":"IF(SUMIF(week4!$AB:$AB,all_cars!$D22,week4!$AH:$AH)=0,\"\",VLOOKUP(all_cars!$D22,week4!$AB:$AJ,7,FALSE))","v":""},{"$f":"IF(SUMIF(week5!$AB:$AB,all_cars!$D22,week5!$AH:$AH)=0,\"\",VLOOKUP(all_cars!$D22,week5!$AB:$AJ,7,FALSE))","v":""},null,{"$f":"IF(SUMIF(week1!$AB:$AB,all_cars!$D22,week1!$AI:$AI)=0,\"\",VLOOKUP(all_cars!$D22,week1!$AB:$AJ,8,FALSE))","v":""},{"$f":"IF(SUMIF(week2!$AB:$AB,all_cars!$D22,week2!$AI:$AI)=0,\"\",VLOOKUP(all_cars!$D22,week2!$AB:$AJ,8,FALSE))","v":""},{"$f":"IF(SUMIF(week3!$AB:$AB,all_cars!$D22,week3!$AI:$AI)=0,\"\",VLOOKUP(all_cars!$D22,week3!$AB:$AJ,8,FALSE))","v":""},{"$f":"IF(SUMIF(week4!$AB:$AB,all_cars!$D22,week4!$AI:$AI)=0,\"\",VLOOKUP(all_cars!$D22,week4!$AB:$AJ,8,FALSE))","v":""},{"$f":"IF(SUMIF(week5!$AB:$AB,all_cars!$D22,week5!$AI:$AI)=0,\"\",VLOOKUP(all_cars!$D22,week5!$AB:$AJ,8,FALSE))","v":""},null,{"$f":"IF(SUMIF(week1!$AB:$AB,all_cars!$D22,week1!$AJ:$AJ)=0,\"\",VLOOKUP(all_cars!$D22,week1!$AB:$AJ,9,FALSE))","v":""},{"$f":"IF(SUMIF(week2!$AB:$AB,all_cars!$D22,week2!$AJ:$AJ)=0,\"\",VLOOKUP(all_cars!$D22,week2!$AB:$AJ,9,FALSE))","v":""},{"$f":"IF(SUMIF(week3!$AB:$AB,all_cars!$D22,week3!$AJ:$AJ)=0,\"\",VLOOKUP(all_cars!$D22,week3!$AB:$AJ,9,FALSE))","v":""},{"$f":"IF(SUMIF(week4!$AB:$AB,all_cars!$D22,week4!$AJ:$AJ)=0,\"\",VLOOKUP(all_cars!$D22,week4!$AB:$AJ,9,FALSE))","v":""},{"$f":"IF(SUMIF(week5!$AB:$AB,all_cars!$D22,week5!$AJ:$AJ)=0,\"\",VLOOKUP(all_cars!$D22,week5!$AB:$AJ,9,FALSE))","v":""},null,null,null,"[FN] Pornfest             ","AnnicK                    "]
[null,null,17,"Double O Seven            ",null,99.518253916235167,91.717234907725981,null,97.242525631269672,null,{"$f":"IF(SUMIF(week1!$AB:$AB,all_cars!$D23,week1!$AF:$AF)=0,\"\",VLOOKUP(all_cars!$D23,week1!$AB:$AJ,5,FALSE))","v":99.518253916235167},{"$f":"IF(SUMIF(week2!$AB:$AB,all_cars!$D23,week2!$AF:$AF)=0,\"\",VLOOKUP(all_cars!$D23,week2!$AB:$AJ,5,FALSE))","v":99.176509186351709},{"$f":"IF(SUMIF(week3!$AB:$AB,all_cars!$D23,week3!$AF:$AF)=0,\"\",VLOOKUP(all_cars!$D23,week3!$AB:$AJ,5,FALSE))","v":99.404941247363652},{"$f":"IF(SUMIF(week4!$AB:$AB,all_cars!$D23,week4!$AF:$AF)=0,\"\",VLOOKUP(all_cars!$D23,week4!$AB:$AJ,5,FALSE))","v":98.555215411035633},{"$f":"IF(SUMIF(week5!$AB:$AB,all_cars!$D23,week5!$AF:$AF)=0,\"\",VLOOKUP(all_cars!$D23,week5!$AB:$AJ,5,FALSE))","v":98.726230884338847},null,{"$f":"IF(SUMIF(week1!$AB:$AB,all_cars!$D23,week1!$AG:$AG)=0,\"\",VLOOKUP(all_cars!$D23,week1!$AB:$AJ,6,FALSE))","v":91.717234907725981},{"$f":"IF(SUMIF(week2!$AB:$AB,all_cars!$D23,week2!$AG:$AG)=0,\"\",VLOOKUP(all_cars!$D23,week2!$AB:$AJ,6,FALSE))","v":95.02405631437891},{"$f":"IF(SUMIF(week3!$AB:$AB,all_cars!$D23,week3!$AG:$AG)=0,\"\",VLOOKUP(all_cars!$D23,week3!$AB:$AJ,6,FALSE))","v":95.817763182727504},{"$f":"IF(SUMIF(week4!$AB:$AB,all_cars!$D23,week4!$AG:$AG)=0,\"\",VLOOKUP(all_cars!$D23,week4!$AB:$AJ,6,FALSE))","v":""},{"$f":"IF(SUMIF(week5!$AB:$AB,all_cars!$D23,week5!$AG:$AG)=0,\"\",VLOOKUP(all_cars!$D23,week5!$AB:$AJ,6,FALSE))","v":""},null,{"$f":"IF(SUMIF(week1!$AB:$AB,all_cars!$D23,week1!$AH:$AH)=0,\"\",VLOOKUP(all_cars!$D23,week1!$AB:$AJ,7,FALSE))","v":""},{"$f":"IF(SUMIF(week2!$AB:$AB,all_cars!$D23,week2!$AH:$AH)=0,\"\",VLOOKUP(all_cars!$D23,week2!$AB:$AJ,7,FALSE))","v":""},{"$f":"IF(SUMIF(week3!$AB:$AB,all_cars!$D23,week3!$AH:$AH)=0,\"\",VLOOKUP(all_cars!$D23,week3!$AB:$AJ,7,FALSE))","v":""},{"$f":"IF(SUMIF(week4!$AB:$AB,all_cars!$D23,week4!$AH:$AH)=0,\"\",VLOOKUP(all_cars!$D23,week4!$AB:$AJ,7,FALSE))","v":""},{"$f":"IF(SUMIF(week5!$AB:$AB,all_cars!$D23,week5!$AH:$AH)=0,\"\",VLOOKUP(all_cars!$D23,week5!$AB:$AJ,7,FALSE))","v":""},null,{"$f":"IF(SUMIF(week1!$AB:$AB,all_cars!$D23,week1!$AI:$AI)=0,\"\",VLOOKUP(all_cars!$D23,week1!$AB:$AJ,8,FALSE))","v":""},{"$f":"IF(SUMIF(week2!$AB:$AB,all_cars!$D23,week2!$AI:$AI)=0,\"\",VLOOKUP(all_cars!$D23,week2!$AB:$AJ,8,FALSE))","v":""},{"$f":"IF(SUMIF(week3!$AB:$AB,all_cars!$D23,week3!$AI:$AI)=0,\"\",VLOOKUP(all_cars!$D23,week3!$AB:$AJ,8,FALSE))","v":""},{"$f":"IF(SUMIF(week4!$AB:$AB,all_cars!$D23,week4!$AI:$AI)=0,\"\",VLOOKUP(all_cars!$D23,week4!$AB:$AJ,8,FALSE))","v":""},{"$f":"IF(SUMIF(week5!$AB:$AB,all_cars!$D23,week5!$AI:$AI)=0,\"\",VLOOKUP(all_cars!$D23,week5!$AB:$AJ,8,FALSE))","v":""},null,{"$f":"IF(SUMIF(week1!$AB:$AB,all_cars!$D23,week1!$AJ:$AJ)=0,\"\",VLOOKUP(all_cars!$D23,week1!$AB:$AJ,9,FALSE))","v":""},{"$f":"IF(SUMIF(week2!$AB:$AB,all_cars!$D23,week2!$AJ:$AJ)=0,\"\",VLOOKUP(all_cars!$D23,week2!$AB:$AJ,9,FALSE))","v":""},{"$f":"IF(SUMIF(week3!$AB:$AB,all_cars!$D23,week3!$AJ:$AJ)=0,\"\",VLOOKUP(all_cars!$D23,week3!$AB:$AJ,9,FALSE))","v":""},{"$f":"IF(SUMIF(week4!$AB:$AB,all_cars!$D23,week4!$AJ:$AJ)=0,\"\",VLOOKUP(all_cars!$D23,week4!$AB:$AJ,9,FALSE))","v":""},{"$f":"IF(SUMIF(week5!$AB:$AB,all_cars!$D23,week5!$AJ:$AJ)=0,\"\",VLOOKUP(all_cars!$D23,week5!$AB:$AJ,9,FALSE))","v":""},null,null,null,"Double O Seven            ","[FN] Pornfest             "]
[null,null,18,"chill                     ",null,98.195992768906294,95.103886740512536,null,97.031420148198791,null,{"$f":"IF(SUMIF(week1!$AB:$AB,all_cars!$D24,week1!$AF:$AF)=0,\"\",VLOOKUP(all_cars!$D24,week1!$AB:$AJ,5,FALSE))","v":95.103886740512536},{"$f":"IF(SUMIF(week2!$AB:$AB,all_cars!$D24,week2!$AF:$AF)=0,\"\",VLOOKUP(all_cars!$D24,week2!$AB:$AJ,5,FALSE))","v":""},{"$f":"IF(SUMIF(week3!$AB:$AB,all_cars!$D24,week3!$AF:$AF)=0,\"\",VLOOKUP(all_cars!$D24,week3!$AB:$AJ,5,FALSE))","v":98.195992768906294},{"$f":"IF(SUMIF(week4!$AB:$AB,all_cars!$D24,week4!$AF:$AF)=0,\"\",VLOOKUP(all_cars!$D24,week4!$AB:$AJ,5,FALSE))","v":""},{"$f":"IF(SUMIF(week5!$AB:$AB,all_cars!$D24,week5!$AF:$AF)=0,\"\",VLOOKUP(all_cars!$D24,week5!$AB:$AJ,5,FALSE))","v":""},null,{"$f":"IF(SUMIF(week1!$AB:$AB,all_cars!$D24,week1!$AG:$AG)=0,\"\",VLOOKUP(all_cars!$D24,week1!$AB:$AJ,6,FALSE))","v":""},{"$f":"IF(SUMIF(week2!$AB:$AB,all_cars!$D24,week2!$AG:$AG)=0,\"\",VLOOKUP(all_cars!$D24,week2!$AB:$AJ,6,FALSE))","v":""},{"$f":"IF(SUMIF(week3!$AB:$AB,all_cars!$D24,week3!$AG:$AG)=0,\"\",VLOOKUP(all_cars!$D24,week3!$AB:$AJ,6,FALSE))","v":96.504737100366128},{"$f":"IF(SUMIF(week4!$AB:$AB,all_cars!$D24,week4!$AG:$AG)=0,\"\",VLOOKUP(all_cars!$D24,week4!$AB:$AJ,6,FALSE))","v":""},{"$f":"IF(SUMIF(week5!$AB:$AB,all_cars!$D24,week5!$AG:$AG)=0,\"\",VLOOKUP(all_cars!$D24,week5!$AB:$AJ,6,FALSE))","v":""},null,{"$f":"IF(SUMIF(week1!$AB:$AB,all_cars!$D24,week1!$AH:$AH)=0,\"\",VLOOKUP(all_cars!$D24,week1!$AB:$AJ,7,FALSE))","v":""},{"$f":"IF(SUMIF(week2!$AB:$AB,all_cars!$D24,week2!$AH:$AH)=0,\"\",VLOOKUP(all_cars!$D24,week2!$AB:$AJ,7,FALSE))","v":""},{"$f":"IF(SUMIF(week3!$AB:$AB,all_cars!$D24,week3!$AH:$AH)=0,\"\",VLOOKUP(all_cars!$D24,week3!$AB:$AJ,7,FALSE))","v":96.916445623342156},{"$f":"IF(SUMIF(week4!$AB:$AB,all_cars!$D24,week4!$AH:$AH)=0,\"\",VLOOKUP(all_cars!$D24,week4!$AB:$AJ,7,FALSE))","v":""},{"$f":"IF(SUMIF(week5!$AB:$AB,all_cars!$D24,week5!$AH:$AH)=0,\"\",VLOOKUP(all_cars!$D24,week5!$AB:$AJ,7,FALSE))","v":""},null,{"$f":"IF(SUMIF(week1!$AB:$AB,all_cars!$D24,week1!$AI:$AI)=0,\"\",VLOOKUP(all_cars!$D24,week1!$AB:$AJ,8,FALSE))","v":97.658579454505514},{"$f":"IF(SUMIF(week2!$AB:$AB,all_cars!$D24,week2!$AI:$AI)=0,\"\",VLOOKUP(all_cars!$D24,week2!$AB:$AJ,8,FALSE))","v":""},{"$f":"IF(SUMIF(week3!$AB:$AB,all_cars!$D24,week3!$AI:$AI)=0,\"\",VLOOKUP(all_cars!$D24,week3!$AB:$AJ,8,FALSE))","v":97.808879201560174},{"$f":"IF(SUMIF(week4!$AB:$AB,all_cars!$D24,week4!$AI:$AI)=0,\"\",VLOOKUP(all_cars!$D24,week4!$AB:$AJ,8,FALSE))","v":""},{"$f":"IF(SUMIF(week5!$AB:$AB,all_cars!$D24,week5!$AI:$AI)=0,\"\",VLOOKUP(all_cars!$D24,week5!$AB:$AJ,8,FALSE))","v":""},null,{"$f":"IF(SUMIF(week1!$AB:$AB,all_cars!$D24,week1!$AJ:$AJ)=0,\"\",VLOOKUP(all_cars!$D24,week1!$AB:$AJ,9,FALSE))","v":""},{"$f":"IF(SUMIF(week2!$AB:$AB,all_cars!$D24,week2!$AJ:$AJ)=0,\"\",VLOOKUP(all_cars!$D24,week2!$AB:$AJ,9,FALSE))","v":""},{"$f":"IF(SUMIF(week3!$AB:$AB,all_cars!$D24,week3!$AJ:$AJ)=0,\"\",VLOOKUP(all_cars!$D24,week3!$AB:$AJ,9,FALSE))","v":""},{"$f":"IF(SUMIF(week4!$AB:$AB,all_cars!$D24,week4!$AJ:$AJ)=0,\"\",VLOOKUP(all_cars!$D24,week4!$AB:$AJ,9,FALSE))","v":""},{"$f":"IF(SUMIF(week5!$AB:$AB,all_cars!$D24,week5!$AJ:$AJ)=0,\"\",VLOOKUP(all_cars!$D24,week5!$AB:$AJ,9,FALSE))","v":""},null,null,null,"chill                     ","Double O Seven            "]
[null,null,19,"Guillo                    ",null,96.531810049904266,96.136199777151461,null,96.334004913527863,null,{"$f":"IF(SUMIF(week1!$AB:$AB,all_cars!$D25,week1!$AF:$AF)=0,\"\",VLOOKUP(all_cars!$D25,week1!$AB:$AJ,5,FALSE))","v":96.136199777151461},{"$f":"IF(SUMIF(week2!$AB:$AB,all_cars!$D25,week2!$AF:$AF)=0,\"\",VLOOKUP(all_cars!$D25,week2!$AB:$AJ,5,FALSE))","v":""},{"$f":"IF(SUMIF(week3!$AB:$AB,all_cars!$D25,week3!$AF:$AF)=0,\"\",VLOOKUP(all_cars!$D25,week3!$AB:$AJ,5,FALSE))","v":""},{"$f":"IF(SUMIF(week4!$AB:$AB,all_cars!$D25,week4!$AF:$AF)=0,\"\",VLOOKUP(all_cars!$D25,week4!$AB:$AJ,5,FALSE))","v":""},{"$f":"IF(SUMIF(week5!$AB:$AB,all_cars!$D25,week5!$AF:$AF)=0,\"\",VLOOKUP(all_cars!$D25,week5!$AB:$AJ,5,FALSE))","v":""},null,{"$f":"IF(SUMIF(week1!$AB:$AB,all_cars!$D25,week1!$AG:$AG)=0,\"\",VLOOKUP(all_cars!$D25,week1!$AB:$AJ,6,FALSE))","v":""},{"$f":"IF(SUMIF(week2!$AB:$AB,all_cars!$D25,week2!$AG:$AG)=0,\"\",VLOOKUP(all_cars!$D25,week2!$AB:$AJ,6,FALSE))","v":""},{"$f":"IF(SUMIF(week3!$AB:$AB,all_cars!$D25,week3!$AG:$AG)=0,\"\",VLOOKUP(all_cars!$D25,week3!$AB:$AJ,6,FALSE))","v":""},{"$f":"IF(SUMIF(week4!$AB:$AB,all_cars!$D25,week4!$AG:$AG)=0,\"\",VLOOKUP(all_cars!$D25,week4!$AB:$AJ,6,FALSE))","v":""},{"$f":"IF(SUMIF(week5!$AB:$AB,all_cars!$D25,week5!$AG:$AG)=0,\"\",VLOOKUP(all_cars!$D25,week5!$AB:$AJ,6,FALSE))","v":""},null,{"$f":"IF(SUMIF(week1!$AB:$AB,all_cars!$D25,week1!$AH:$AH)=0,\"\",VLOOKUP(all_cars!$D25,week1!$AB:$AJ,7,FALSE))","v":""},{"$f":"IF(SUMIF(week2!$AB:$AB,all_cars!$D25,week2!$AH:$AH)=0,\"\",VLOOKUP(all_cars!$D25,week2!$AB:$AJ,7,FALSE))","v":""},{"$f":"IF(SUMIF(week3!$AB:$AB,all_cars!$D25,week3!$AH:$AH)=0,\"\",VLOOKUP(all_cars!$D25,week3!$AB:$AJ,7,FALSE))","v":""},{"$f":"IF(SUMIF(week4!$AB:$AB,all_cars!$D25,week4!$AH:$AH)=0,\"\",VLOOKUP(all_cars!$D25,week4!$AB:$AJ,7,FALSE))","v":""},{"$f":"IF(SUMIF(week5!$AB:$AB,all_cars!$D25,week5!$AH:$AH)=0,\"\",VLOOKUP(all_cars!$D25,week5!$AB:$AJ,7,FALSE))","v":""},null,{"$f":"IF(SUMIF(week1!$AB:$AB,all_cars!$D25,week1!$AI:$AI)=0,\"\",VLOOKUP(all_cars!$D25,week1!$AB:$AJ,8,FALSE))","v":96.531810049904266},{"$f":"IF(SUMIF(week2!$AB:$AB,all_cars!$D25,week2!$AI:$AI)=0,\"\",VLOOKUP(all_cars!$D25,week2!$AB:$AJ,8,FALSE))","v":""},{"$f":"IF(SUMIF(week3!$AB:$AB,all_cars!$D25,week3!$AI:$AI)=0,\"\",VLOOKUP(all_cars!$D25,week3!$AB:$AJ,8,FALSE))","v":""},{"$f":"IF(SUMIF(week4!$AB:$AB,all_cars!$D25,week4!$AI:$AI)=0,\"\",VLOOKUP(all_cars!$D25,week4!$AB:$AJ,8,FALSE))","v":""},{"$f":"IF(SUMIF(week5!$AB:$AB,all_cars!$D25,week5!$AI:$AI)=0,\"\",VLOOKUP(all_cars!$D25,week5!$AB:$AJ,8,FALSE))","v":""},null,{"$f":"IF(SUMIF(week1!$AB:$AB,all_cars!$D25,week1!$AJ:$AJ)=0,\"\",VLOOKUP(all_cars!$D25,week1!$AB:$AJ,9,FALSE))","v":""},{"$f":"IF(SUMIF(week2!$AB:$AB,all_cars!$D25,week2!$AJ:$AJ)=0,\"\",VLOOKUP(all_cars!$D25,week2!$AB:$AJ,9,FALSE))","v":""},{"$f":"IF(SUMIF(week3!$AB:$AB,all_cars!$D25,week3!$AJ:$AJ)=0,\"\",VLOOKUP(all_cars!$D25,week3!$AB:$AJ,9,FALSE))","v":""},{"$f":"IF(SUMIF(week4!$AB:$AB,all_cars!$D25,week4!$AJ:$AJ)=0,\"\",VLOOKUP(all_cars!$D25,week4!$AB:$AJ,9,FALSE))","v":""},{"$f":"IF(SUMIF(week5!$AB:$AB,all_cars!$D25,week5!$AJ:$AJ)=0,\"\",VLOOKUP(all_cars!$D25,week5!$AB:$AJ,9,FALSE))","v":""},null,null,null,"Guillo                    ","chill                     "]
[null,null,20,"Ande                      ",null,97.020393606328824,89.497747371933912,null,94.307824062843736,null,{"$f":"IF(SUMIF(week1!$AB:$AB,all_cars!$D26,week1!$AF:$AF)=0,\"\",VLOOKUP(all_cars!$D26,week1!$AB:$AJ,5,FALSE))","v":93.704529068624225},{"$f":"IF(SUMIF(week2!$AB:$AB,all_cars!$D26,week2!$AF:$AF)=0,\"\",VLOOKUP(all_cars!$D26,week2!$AB:$AJ,5,FALSE))","v":95.052493438320212},{"$f":"IF(SUMIF(week3!$AB:$AB,all_cars!$D26,week3!$AF:$AF)=0,\"\",VLOOKUP(all_cars!$D26,week3!$AB:$AJ,5,FALSE))","v":""},{"$f":"IF(SUMIF(week4!$AB:$AB,all_cars!$D26,week4!$AF:$AF)=0,\"\",VLOOKUP(all_cars!$D26,week4!$AB:$AJ,5,FALSE))","v":""},{"$f":"IF(SUMIF(week5!$AB:$AB,all_cars!$D26,week5!$AF:$AF)=0,\"\",VLOOKUP(all_cars!$D26,week5!$AB:$AJ,5,FALSE))","v":""},null,{"$f":"IF(SUMIF(week1!$AB:$AB,all_cars!$D26,week1!$AG:$AG)=0,\"\",VLOOKUP(all_cars!$D26,week1!$AB:$AJ,6,FALSE))","v":""},{"$f":"IF(SUMIF(week2!$AB:$AB,all_cars!$D26,week2!$AG:$AG)=0,\"\",VLOOKUP(all_cars!$D26,week2!$AB:$AJ,6,FALSE))","v":95.476121282572905},{"$f":"IF(SUMIF(week3!$AB:$AB,all_cars!$D26,week3!$AG:$AG)=0,\"\",VLOOKUP(all_cars!$D26,week3!$AB:$AJ,6,FALSE))","v":""},{"$f":"IF(SUMIF(week4!$AB:$AB,all_cars!$D26,week4!$AG:$AG)=0,\"\",VLOOKUP(all_cars!$D26,week4!$AB:$AJ,6,FALSE))","v":""},{"$f":"IF(SUMIF(week5!$AB:$AB,all_cars!$D26,week5!$AG:$AG)=0,\"\",VLOOKUP(all_cars!$D26,week5!$AB:$AJ,6,FALSE))","v":""},null,{"$f":"IF(SUMIF(week1!$AB:$AB,all_cars!$D26,week1!$AH:$AH)=0,\"\",VLOOKUP(all_cars!$D26,week1!$AB:$AJ,7,FALSE))","v":""},{"$f":"IF(SUMIF(week2!$AB:$AB,all_cars!$D26,week2!$AH:$AH)=0,\"\",VLOOKUP(all_cars!$D26,week2!$AB:$AJ,7,FALSE))","v":97.020393606328824},{"$f":"IF(SUMIF(week3!$AB:$AB,all_cars!$D26,week3!$AH:$AH)=0,\"\",VLOOKUP(all_cars!$D26,week3!$AB:$AJ,7,FALSE))","v":""},{"$f":"IF(SUMIF(week4!$AB:$AB,all_cars!$D26,week4!$AH:$AH)=0,\"\",VLOOKUP(all_cars!$D26,week4!$AB:$AJ,7,FALSE))","v":""},{"$f":"IF(SUMIF(week5!$AB:$AB,all_cars!$D26,week5!$AH:$AH)=0,\"\",VLOOKUP(all_cars!$D26,week5!$AB:$AJ,7,FALSE))","v":""},null,{"$f":"IF(SUMIF(week1!$AB:$AB,all_cars!$D26,week1!$AI:$AI)=0,\"\",VLOOKUP(all_cars!$D26,week1!$AB:$AJ,8,FALSE))","v":95.944885596811162},{"$f":"IF(SUMIF(week2!$AB:$AB,all_cars!$D26,week2!$AI:$AI)=0,\"\",VLOOKUP(all_cars!$D26,week2!$AB:$AJ,8,FALSE))","v":95.41564991052546},{"$f":"IF(SUMIF(week3!$AB:$AB,all_cars!$D26,week3!$AI:$AI)=0,\"\",VLOOKUP(all_cars!$D26,week3!$AB:$AJ,8,FALSE))","v":""},{"$f":"IF(SUMIF(week4!$AB:$AB,all_cars!$D26,week4!$AI:$AI)=0,\"\",VLOOKUP(all_cars!$D26,week4!$AB:$AJ,8,FALSE))","v":""},{"$f":"IF(SUMIF(week5!$AB:$AB,all_cars!$D26,week5!$AI:$AI)=0,\"\",VLOOKUP(all_cars!$D26,week5!$AB:$AJ,8,FALSE))","v":""},null,{"$f":"IF(SUMIF(week1!$AB:$AB,all_cars!$D26,week1!$AJ:$AJ)=0,\"\",VLOOKUP(all_cars!$D26,week1!$AB:$AJ,9,FALSE))","v":89.497747371933912},{"$f":"IF(SUMIF(week2!$AB:$AB,all_cars!$D26,week2!$AJ:$AJ)=0,\"\",VLOOKUP(all_cars!$D26,week2!$AB:$AJ,9,FALSE))","v":92.350772227633229},{"$f":"IF(SUMIF(week3!$AB:$AB,all_cars!$D26,week3!$AJ:$AJ)=0,\"\",VLOOKUP(all_cars!$D26,week3!$AB:$AJ,9,FALSE))","v":""},{"$f":"IF(SUMIF(week4!$AB:$AB,all_cars!$D26,week4!$AJ:$AJ)=0,\"\",VLOOKUP(all_cars!$D26,week4!$AB:$AJ,9,FALSE))","v":""},{"$f":"IF(SUMIF(week5!$AB:$AB,all_cars!$D26,week5!$AJ:$AJ)=0,\"\",VLOOKUP(all_cars!$D26,week5!$AB:$AJ,9,FALSE))","v":""},null,null,null,"Ande                      ","Guillo                    "]
[null,null,21,"Scud                      ",null,96.784776902887131,92.712536524279955,null,94.864012593163849,null,{"$f":"IF(SUMIF(week1!$AB:$AB,all_cars!$D27,week1!$AF:$AF)=0,\"\",VLOOKUP(all_cars!$D27,week1!$AB:$AJ,5,FALSE))","v":96.486858491184378},{"$f":"IF(SUMIF(week2!$AB:$AB,all_cars!$D27,week2!$AF:$AF)=0,\"\",VLOOKUP(all_cars!$D27,week2!$AB:$AJ,5,FALSE))","v":96.784776902887131},{"$f":"IF(SUMIF(week3!$AB:$AB,all_cars!$D27,week3!$AF:$AF)=0,\"\",VLOOKUP(all_cars!$D27,week3!$AB:$AJ,5,FALSE))","v":""},{"$f":"IF(SUMIF(week4!$AB:$AB,all_cars!$D27,week4!$AF:$AF)=0,\"\",VLOOKUP(all_cars!$D27,week4!$AB:$AJ,5,FALSE))","v":""},{"$f":"IF(SUMIF(week5!$AB:$AB,all_cars!$D27,week5!$AF:$AF)=0,\"\",VLOOKUP(all_cars!$D27,week5!$AB:$AJ,5,FALSE))","v":""},null,{"$f":"IF(SUMIF(week1!$AB:$AB,all_cars!$D27,week1!$AG:$AG)=0,\"\",VLOOKUP(all_cars!$D27,week1!$AB:$AJ,6,FALSE))","v":""},{"$f":"IF(SUMIF(week2!$AB:$AB,all_cars!$D27,week2!$AG:$AG)=0,\"\",VLOOKUP(all_cars!$D27,week2!$AB:$AJ,6,FALSE))","v":93.800251864767986},{"$f":"IF(SUMIF(week3!$AB:$AB,all_cars!$D27,week3!$AG:$AG)=0,\"\",VLOOKUP(all_cars!$D27,week3!$AB:$AJ,6,FALSE))","v":""},{"$f":"IF(SUMIF(week4!$AB:$AB,all_cars!$D27,week4!$AG:$AG)=0,\"\",VLOOKUP(all_cars!$D27,week4!$AB:$AJ,6,FALSE))","v":""},{"$f":"IF(SUMIF(week5!$AB:$AB,all_cars!$D27,week5!$AG:$AG)=0,\"\",VLOOKUP(all_cars!$D27,week5!$AB:$AJ,6,FALSE))","v":""},null,{"$f":"IF(SUMIF(week1!$AB:$AB,all_cars!$D27,week1!$AH:$AH)=0,\"\",VLOOKUP(all_cars!$D27,week1!$AB:$AJ,7,FALSE))","v":""},{"$f":"IF(SUMIF(week2!$AB:$AB,all_cars!$D27,week2!$AH:$AH)=0,\"\",VLOOKUP(all_cars!$D27,week2!$AB:$AJ,7,FALSE))","v":""},{"$f":"IF(SUMIF(week3!$AB:$AB,all_cars!$D27,week3!$AH:$AH)=0,\"\",VLOOKUP(all_cars!$D27,week3!$AB:$AJ,7,FALSE))","v":""},{"$f":"IF(SUMIF(week4!$AB:$AB,all_cars!$D27,week4!$AH:$AH)=0,\"\",VLOOKUP(all_cars!$D27,week4!$AB:$AJ,7,FALSE))","v":""},{"$f":"IF(SUMIF(week5!$AB:$AB,all_cars!$D27,week5!$AH:$AH)=0,\"\",VLOOKUP(all_cars!$D27,week5!$AB:$AJ,7,FALSE))","v":""},null,{"$f":"IF(SUMIF(week1!$AB:$AB,all_cars!$D27,week1!$AI:$AI)=0,\"\",VLOOKUP(all_cars!$D27,week1!$AB:$AJ,8,FALSE))","v":94.535639182699867},{"$f":"IF(SUMIF(week2!$AB:$AB,all_cars!$D27,week2!$AI:$AI)=0,\"\",VLOOKUP(all_cars!$D27,week2!$AB:$AJ,8,FALSE))","v":""},{"$f":"IF(SUMIF(week3!$AB:$AB,all_cars!$D27,week3!$AI:$AI)=0,\"\",VLOOKUP(all_cars!$D27,week3!$AB:$AJ,8,FALSE))","v":""},{"$f":"IF(SUMIF(week4!$AB:$AB,all_cars!$D27,week4!$AI:$AI)=0,\"\",VLOOKUP(all_cars!$D27,week4!$AB:$AJ,8,FALSE))","v":""},{"$f":"IF(SUMIF(week5!$AB:$AB,all_cars!$D27,week5!$AI:$AI)=0,\"\",VLOOKUP(all_cars!$D27,week5!$AB:$AJ,8,FALSE))","v":""},null,{"$f":"IF(SUMIF(week1!$AB:$AB,all_cars!$D27,week1!$AJ:$AJ)=0,\"\",VLOOKUP(all_cars!$D27,week1!$AB:$AJ,9,FALSE))","v":""},{"$f":"IF(SUMIF(week2!$AB:$AB,all_cars!$D27,week2!$AJ:$AJ)=0,\"\",VLOOKUP(all_cars!$D27,week2!$AB:$AJ,9,FALSE))","v":92.712536524279955},{"$f":"IF(SUMIF(week3!$AB:$AB,all_cars!$D27,week3!$AJ:$AJ)=0,\"\",VLOOKUP(all_cars!$D27,week3!$AB:$AJ,9,FALSE))","v":""},{"$f":"IF(SUMIF(week4!$AB:$AB,all_cars!$D27,week4!$AJ:$AJ)=0,\"\",VLOOKUP(all_cars!$D27,week4!$AB:$AJ,9,FALSE))","v":""},{"$f":"IF(SUMIF(week5!$AB:$AB,all_cars!$D27,week5!$AJ:$AJ)=0,\"\",VLOOKUP(all_cars!$D27,week5!$AB:$AJ,9,FALSE))","v":""},null,null,null,"Scud                      ","Ande                      "]
[null,null,22,"Diego Armando             ",null,98.505603985056041,-223.22645225871025,null,15.733691847823536,null,{"$f":"IF(SUMIF(week1!$AB:$AB,all_cars!$D28,week1!$AF:$AF)=0,\"\",VLOOKUP(all_cars!$D28,week1!$AB:$AJ,5,FALSE))","v":98.505603985056041},{"$f":"IF(SUMIF(week2!$AB:$AB,all_cars!$D28,week2!$AF:$AF)=0,\"\",VLOOKUP(all_cars!$D28,week2!$AB:$AJ,5,FALSE))","v":98.087270341207358},{"$f":"IF(SUMIF(week3!$AB:$AB,all_cars!$D28,week3!$AF:$AF)=0,\"\",VLOOKUP(all_cars!$D28,week3!$AB:$AJ,5,FALSE))","v":""},{"$f":"IF(SUMIF(week4!$AB:$AB,all_cars!$D28,week4!$AF:$AF)=0,\"\",VLOOKUP(all_cars!$D28,week4!$AB:$AJ,5,FALSE))","v":""},{"$f":"IF(SUMIF(week5!$AB:$AB,all_cars!$D28,week5!$AF:$AF)=0,\"\",VLOOKUP(all_cars!$D28,week5!$AB:$AJ,5,FALSE))","v":""},null,{"$f":"IF(SUMIF(week1!$AB:$AB,all_cars!$D28,week1!$AG:$AG)=0,\"\",VLOOKUP(all_cars!$D28,week1!$AB:$AJ,6,FALSE))","v":89.568345323740999},{"$f":"IF(SUMIF(week2!$AB:$AB,all_cars!$D28,week2!$AG:$AG)=0,\"\",VLOOKUP(all_cars!$D28,week2!$AB:$AJ,6,FALSE))","v":-223.22645225871025},{"$f":"IF(SUMIF(week3!$AB:$AB,all_cars!$D28,week3!$AG:$AG)=0,\"\",VLOOKUP(all_cars!$D28,week3!$AB:$AJ,6,FALSE))","v":""},{"$f":"IF(SUMIF(week4!$AB:$AB,all_cars!$D28,week4!$AG:$AG)=0,\"\",VLOOKUP(all_cars!$D28,week4!$AB:$AJ,6,FALSE))","v":""},{"$f":"IF(SUMIF(week5!$AB:$AB,all_cars!$D28,week5!$AG:$AG)=0,\"\",VLOOKUP(all_cars!$D28,week5!$AB:$AJ,6,FALSE))","v":""},null,{"$f":"IF(SUMIF(week1!$AB:$AB,all_cars!$D28,week1!$AH:$AH)=0,\"\",VLOOKUP(all_cars!$D28,week1!$AB:$AJ,7,FALSE))","v":""},{"$f":"IF(SUMIF(week2!$AB:$AB,all_cars!$D28,week2!$AH:$AH)=0,\"\",VLOOKUP(all_cars!$D28,week2!$AB:$AJ,7,FALSE))","v":""},{"$f":"IF(SUMIF(week3!$AB:$AB,all_cars!$D28,week3!$AH:$AH)=0,\"\",VLOOKUP(all_cars!$D28,week3!$AB:$AJ,7,FALSE))","v":""},{"$f":"IF(SUMIF(week4!$AB:$AB,all_cars!$D28,week4!$AH:$AH)=0,\"\",VLOOKUP(all_cars!$D28,week4!$AB:$AJ,7,FALSE))","v":""},{"$f":"IF(SUMIF(week5!$AB:$AB,all_cars!$D28,week5!$AH:$AH)=0,\"\",VLOOKUP(all_cars!$D28,week5!$AB:$AJ,7,FALSE))","v":""},null,{"$f":"IF(SUMIF(week1!$AB:$AB,all_cars!$D28,week1!$AI:$AI)=0,\"\",VLOOKUP(all_cars!$D28,week1!$AB:$AJ,8,FALSE))","v":""},{"$f":"IF(SUMIF(week2!$AB:$AB,all_cars!$D28,week2!$AI:$AI)=0,\"\",VLOOKUP(all_cars!$D28,week2!$AB:$AJ,8,FALSE))","v":""},{"$f":"IF(SUMIF(week3!$AB:$AB,all_cars!$D28,week3!$AI:$AI)=0,\"\",VLOOKUP(all_cars!$D28,week3!$AB:$AJ,8,FALSE))","v":""},{"$f":"IF(SUMIF(week4!$AB:$AB,all_cars!$D28,week4!$AI:$AI)=0,\"\",VLOOKUP(all_cars!$D28,week4!$AB:$AJ,8,FALSE))","v":""},{"$f":"IF(SUMIF(week5!$AB:$AB,all_cars!$D28,week5!$AI:$AI)=0,\"\",VLOOKUP(all_cars!$D28,week5!$AB:$AJ,8,FALSE))","v":""},null,{"$f":"IF(SUMIF(week1!$AB:$AB,all_cars!$D28,week1!$AJ:$AJ)=0,\"\",VLOOKUP(all_cars!$D28,week1!$AB:$AJ,9,FALSE))","v":""},{"$f":"IF(SUMIF(week2!$AB:$AB,all_cars!$D28,week2!$AJ:$AJ)=0,\"\",VLOOKUP(all_cars!$D28,week2!$AB:$AJ,9,FALSE))","v":""},{"$f":"IF(SUMIF(week3!$AB:$AB,all_cars!$D28,week3!$AJ:$AJ)=0,\"\",VLOOKUP(all_cars!$D28,week3!$AB:$AJ,9,FALSE))","v":""},{"$f":"IF(SUMIF(week4!$AB:$AB,all_cars!$D28,week4!$AJ:$AJ)=0,\"\",VLOOKUP(all_cars!$D28,week4!$AB:$AJ,9,FALSE))","v":""},{"$f":"IF(SUMIF(week5!$AB:$AB,all_cars!$D28,week5!$AJ:$AJ)=0,\"\",VLOOKUP(all_cars!$D28,week5!$AB:$AJ,9,FALSE))","v":""},null,null,null,"Diego Armando             ","Scud                      "]
[null,null,23,"lds                       ",null,98.320277191925271,92.679776550744307,null,96.362638516527923,null,{"$f":"IF(SUMIF(week1!$AB:$AB,all_cars!$D29,week1!$AF:$AF)=0,\"\",VLOOKUP(all_cars!$D29,week1!$AB:$AJ,5,FALSE))","v":96.352493937209147},{"$f":"IF(SUMIF(week2!$AB:$AB,all_cars!$D29,week2!$AF:$AF)=0,\"\",VLOOKUP(all_cars!$D29,week2!$AB:$AJ,5,FALSE))","v":98.179133858267718},{"$f":"IF(SUMIF(week3!$AB:$AB,all_cars!$D29,week3!$AF:$AF)=0,\"\",VLOOKUP(all_cars!$D29,week3!$AB:$AJ,5,FALSE))","v":98.320277191925271},{"$f":"IF(SUMIF(week4!$AB:$AB,all_cars!$D29,week4!$AF:$AF)=0,\"\",VLOOKUP(all_cars!$D29,week4!$AB:$AJ,5,FALSE))","v":98.249085343089689},{"$f":"IF(SUMIF(week5!$AB:$AB,all_cars!$D29,week5!$AF:$AF)=0,\"\",VLOOKUP(all_cars!$D29,week5!$AB:$AJ,5,FALSE))","v":98.124019124785576},null,{"$f":"IF(SUMIF(week1!$AB:$AB,all_cars!$D29,week1!$AG:$AG)=0,\"\",VLOOKUP(all_cars!$D29,week1!$AB:$AJ,6,FALSE))","v":95.877385048482964},{"$f":"IF(SUMIF(week2!$AB:$AB,all_cars!$D29,week2!$AG:$AG)=0,\"\",VLOOKUP(all_cars!$D29,week2!$AB:$AJ,6,FALSE))","v":92.679776550744307},{"$f":"IF(SUMIF(week3!$AB:$AB,all_cars!$D29,week3!$AG:$AG)=0,\"\",VLOOKUP(all_cars!$D29,week3!$AB:$AJ,6,FALSE))","v":93.118937077718641},{"$f":"IF(SUMIF(week4!$AB:$AB,all_cars!$D29,week4!$AG:$AG)=0,\"\",VLOOKUP(all_cars!$D29,week4!$AB:$AJ,6,FALSE))","v":""},{"$f":"IF(SUMIF(week5!$AB:$AB,all_cars!$D29,week5!$AG:$AG)=0,\"\",VLOOKUP(all_cars!$D29,week5!$AB:$AJ,6,FALSE))","v":""},null,{"$f":"IF(SUMIF(week1!$AB:$AB,all_cars!$D29,week1!$AH:$AH)=0,\"\",VLOOKUP(all_cars!$D29,week1!$AB:$AJ,7,FALSE))","v":""},{"$f":"IF(SUMIF(week2!$AB:$AB,all_cars!$D29,week2!$AH:$AH)=0,\"\",VLOOKUP(all_cars!$D29,week2!$AB:$AJ,7,FALSE))","v":""},{"$f":"IF(SUMIF(week3!$AB:$AB,all_cars!$D29,week3!$AH:$AH)=0,\"\",VLOOKUP(all_cars!$D29,week3!$AB:$AJ,7,FALSE))","v":""},{"$f":"IF(SUMIF(week4!$AB:$AB,all_cars!$D29,week4!$AH:$AH)=0,\"\",VLOOKUP(all_cars!$D29,week4!$AB:$AJ,7,FALSE))","v":""},{"$f":"IF(SUMIF(week5!$AB:$AB,all_cars!$D29,week5!$AH:$AH)=0,\"\",VLOOKUP(all_cars!$D29,week5!$AB:$AJ,7,FALSE))","v":""},null,{"$f":"IF(SUMIF(week1!$AB:$AB,all_cars!$D29,week1!$AI:$AI)=0,\"\",VLOOKUP(all_cars!$D29,week1!$AB:$AJ,8,FALSE))","v":""},{"$f":"IF(SUMIF(week2!$AB:$AB,all_cars!$D29,week2!$AI:$AI)=0,\"\",VLOOKUP(all_cars!$D29,week2!$AB:$AJ,8,FALSE))","v":""},{"$f":"IF(SUMIF(week3!$AB:$AB,all_cars!$D29,week3!$AI:$AI)=0,\"\",VLOOKUP(all_cars!$D29,week3!$AB:$AJ,8,FALSE))","v":""},{"$f":"IF(SUMIF(week4!$AB:$AB,all_cars!$D29,week4!$AI:$AI)=0,\"\",VLOOKUP(all_cars!$D29,week4!$AB:$AJ,8,FALSE))","v":""},{"$f":"IF(SUMIF(week5!$AB:$AB,all_cars!$D29,week5!$AI:$AI)=0,\"\",VLOOKUP(all_cars!$D29,week5!$AB:$AJ,8,FALSE))","v":""},null,{"$f":"IF(SUMIF(week1!$AB:$AB,all_cars!$D29,week1!$AJ:$AJ)=0,\"\",VLOOKUP(all_cars!$D29,week1!$AB:$AJ,9,FALSE))","v":""},{"$f":"IF(SUMIF(week2!$AB:$AB,all_cars!$D29,week2!$AJ:$AJ)=0,\"\",VLOOKUP(all_cars!$D29,week2!$AB:$AJ,9,FALSE))","v":""},{"$f":"IF(SUMIF(week3!$AB:$AB,all_cars!$D29,week3!$AJ:$AJ)=0,\"\",VLOOKUP(all_cars!$D29,week3!$AB:$AJ,9,FALSE))","v":""},{"$f":"IF(SUMIF(week4!$AB:$AB,all_cars!$D29,week4!$AJ:$AJ)=0,\"\",VLOOKUP(all_cars!$D29,week4!$AB:$AJ,9,FALSE))","v":""},{"$f":"IF(SUMIF(week5!$AB:$AB,all_cars!$D29,week5!$AJ:$AJ)=0,\"\",VLOOKUP(all_cars!$D29,week5!$AB:$AJ,9,FALSE))","v":""},null,null,null,"lds                       ","Diego Armando             "]
[null,null,24,"[PahaJori] Ender          ",null,99.678936758007922,94.662045060658585,null,97.912772790203832,null,{"$f":"IF(SUMIF(week1!$AB:$AB,all_cars!$D30,week1!$AF:$AF)=0,\"\",VLOOKUP(all_cars!$D30,week1!$AB:$AJ,5,FALSE))","v":99.662450022940291},{"$f":"IF(SUMIF(week2!$AB:$AB,all_cars!$D30,week2!$AF:$AF)=0,\"\",VLOOKUP(all_cars!$D30,week2!$AB:$AJ,5,FALSE))","v":99.274934383202094},{"$f":"IF(SUMIF(week3!$AB:$AB,all_cars!$D30,week3!$AF:$AF)=0,\"\",VLOOKUP(all_cars!$D30,week3!$AB:$AJ,5,FALSE))","v":99.585718589936732},{"$f":"IF(SUMIF(week4!$AB:$AB,all_cars!$D30,week4!$AF:$AF)=0,\"\",VLOOKUP(all_cars!$D30,week4!$AB:$AJ,5,FALSE))","v":99.678936758007922},{"$f":"IF(SUMIF(week5!$AB:$AB,all_cars!$D30,week5!$AF:$AF)=0,\"\",VLOOKUP(all_cars!$D30,week5!$AB:$AJ,5,FALSE))","v":99.277345888536075},null,{"$f":"IF(SUMIF(week1!$AB:$AB,all_cars!$D30,week1!$AG:$AG)=0,\"\",VLOOKUP(all_cars!$D30,week1!$AB:$AJ,6,FALSE))","v":""},{"$f":"IF(SUMIF(week2!$AB:$AB,all_cars!$D30,week2!$AG:$AG)=0,\"\",VLOOKUP(all_cars!$D30,week2!$AB:$AJ,6,FALSE))","v":""},{"$f":"IF(SUMIF(week3!$AB:$AB,all_cars!$D30,week3!$AG:$AG)=0,\"\",VLOOKUP(all_cars!$D30,week3!$AB:$AJ,6,FALSE))","v":97.127543124598944},{"$f":"IF(SUMIF(week4!$AB:$AB,all_cars!$D30,week4!$AG:$AG)=0,\"\",VLOOKUP(all_cars!$D30,week4!$AB:$AJ,6,FALSE))","v":96.817052533035678},{"$f":"IF(SUMIF(week5!$AB:$AB,all_cars!$D30,week5!$AG:$AG)=0,\"\",VLOOKUP(all_cars!$D30,week5!$AB:$AJ,6,FALSE))","v":""},null,{"$f":"IF(SUMIF(week1!$AB:$AB,all_cars!$D30,week1!$AH:$AH)=0,\"\",VLOOKUP(all_cars!$D30,week1!$AB:$AJ,7,FALSE))","v":""},{"$f":"IF(SUMIF(week2!$AB:$AB,all_cars!$D30,week2!$AH:$AH)=0,\"\",VLOOKUP(all_cars!$D30,week2!$AB:$AJ,7,FALSE))","v":""},{"$f":"IF(SUMIF(week3!$AB:$AB,all_cars!$D30,week3!$AH:$AH)=0,\"\",VLOOKUP(all_cars!$D30,week3!$AB:$AJ,7,FALSE))","v":""},{"$f":"IF(SUMIF(week4!$AB:$AB,all_cars!$D30,week4!$AH:$AH)=0,\"\",VLOOKUP(all_cars!$D30,week4!$AB:$AJ,7,FALSE))","v":""},{"$f":"IF(SUMIF(week5!$AB:$AB,all_cars!$D30,week5!$AH:$AH)=0,\"\",VLOOKUP(all_cars!$D30,week5!$AB:$AJ,7,FALSE))","v":""},null,{"$f":"IF(SUMIF(week1!$AB:$AB,all_cars!$D30,week1!$AI:$AI)=0,\"\",VLOOKUP(all_cars!$D30,week1!$AB:$AJ,8,FALSE))","v":""},{"$f":"IF(SUMIF(week2!$AB:$AB,all_cars!$D30,week2!$AI:$AI)=0,\"\",VLOOKUP(all_cars!$D30,week2!$AB:$AJ,8,FALSE))","v":""},{"$f":"IF(SUMIF(week3!$AB:$AB,all_cars!$D30,week3!$AI:$AI)=0,\"\",VLOOKUP(all_cars!$D30,week3!$AB:$AJ,8,FALSE))","v":""},{"$f":"IF(SUMIF(week4!$AB:$AB,all_cars!$D30,week4!$AI:$AI)=0,\"\",VLOOKUP(all_cars!$D30,week4!$AB:$AJ,8,FALSE))","v":""},{"$f":"IF(SUMIF(week5!$AB:$AB,all_cars!$D30,week5!$AI:$AI)=0,\"\",VLOOKUP(all_cars!$D30,week5!$AB:$AJ,8,FALSE))","v":""},null,{"$f":"IF(SUMIF(week1!$AB:$AB,all_cars!$D30,week1!$AJ:$AJ)=0,\"\",VLOOKUP(all_cars!$D30,week1!$AB:$AJ,9,FALSE))","v":""},{"$f":"IF(SUMIF(week2!$AB:$AB,all_cars!$D30,week2!$AJ:$AJ)=0,\"\",VLOOKUP(all_cars!$D30,week2!$AB:$AJ,9,FALSE))","v":""},{"$f":"IF(SUMIF(week3!$AB:$AB,all_cars!$D30,week3!$AJ:$AJ)=0,\"\",VLOOKUP(all_cars!$D30,week3!$AB:$AJ,9,FALSE))","v":""},{"$f":"IF(SUMIF(week4!$AB:$AB,all_cars!$D30,week4!$AJ:$AJ)=0,\"\",VLOOKUP(all_cars!$D30,week4!$AB:$AJ,9,FALSE))","v":95.128928750918163},{"$f":"IF(SUMIF(week5!$AB:$AB,all_cars!$D30,week5!$AJ:$AJ)=0,\"\",VLOOKUP(all_cars!$D30,week5!$AB:$AJ,9,FALSE))","v":94.662045060658585},null,null,null,"[PahaJori] Ender          ","lds                       "]
[null,null,25,"laf                       ",null,96.012842529679688,87.518771900550647,null,92.259532030154332,null,{"$f":"IF(SUMIF(week1!$AB:$AB,all_cars!$D31,week1!$AF:$AF)=0,\"\",VLOOKUP(all_cars!$D31,week1!$AB:$AJ,5,FALSE))","v":93.389919381267617},{"$f":"IF(SUMIF(week2!$AB:$AB,all_cars!$D31,week2!$AF:$AF)=0,\"\",VLOOKUP(all_cars!$D31,week2!$AB:$AJ,5,FALSE))","v":94.49475065616798},{"$f":"IF(SUMIF(week3!$AB:$AB,all_cars!$D31,week3!$AF:$AF)=0,\"\",VLOOKUP(all_cars!$D31,week3!$AB:$AJ,5,FALSE))","v":""},{"$f":"IF(SUMIF(week4!$AB:$AB,all_cars!$D31,week4!$AF:$AF)=0,\"\",VLOOKUP(all_cars!$D31,week4!$AB:$AJ,5,FALSE))","v":96.012842529679688},{"$f":"IF(SUMIF(week5!$AB:$AB,all_cars!$D31,week5!$AF:$AF)=0,\"\",VLOOKUP(all_cars!$D31,week5!$AB:$AJ,5,FALSE))","v":""},null,{"$f":"IF(SUMIF(week1!$AB:$AB,all_cars!$D31,week1!$AG:$AG)=0,\"\",VLOOKUP(all_cars!$D31,week1!$AB:$AJ,6,FALSE))","v":""},{"$f":"IF(SUMIF(week2!$AB:$AB,all_cars!$D31,week2!$AG:$AG)=0,\"\",VLOOKUP(all_cars!$D31,week2!$AB:$AJ,6,FALSE))","v":""},{"$f":"IF(SUMIF(week3!$AB:$AB,all_cars!$D31,week3!$AG:$AG)=0,\"\",VLOOKUP(all_cars!$D31,week3!$AB:$AJ,6,FALSE))","v":""},{"$f":"IF(SUMIF(week4!$AB:$AB,all_cars!$D31,week4!$AG:$AG)=0,\"\",VLOOKUP(all_cars!$D31,week4!$AB:$AJ,6,FALSE))","v":""},{"$f":"IF(SUMIF(week5!$AB:$AB,all_cars!$D31,week5!$AG:$AG)=0,\"\",VLOOKUP(all_cars!$D31,week5!$AB:$AJ,6,FALSE))","v":""},null,{"$f":"IF(SUMIF(week1!$AB:$AB,all_cars!$D31,week1!$AH:$AH)=0,\"\",VLOOKUP(all_cars!$D31,week1!$AB:$AJ,7,FALSE))","v":93.882945248584036},{"$f":"IF(SUMIF(week2!$AB:$AB,all_cars!$D31,week2!$AH:$AH)=0,\"\",VLOOKUP(all_cars!$D31,week2!$AB:$AJ,7,FALSE))","v":""},{"$f":"IF(SUMIF(week3!$AB:$AB,all_cars!$D31,week3!$AH:$AH)=0,\"\",VLOOKUP(all_cars!$D31,week3!$AB:$AJ,7,FALSE))","v":""},{"$f":"IF(SUMIF(week4!$AB:$AB,all_cars!$D31,week4!$AH:$AH)=0,\"\",VLOOKUP(all_cars!$D31,week4!$AB:$AJ,7,FALSE))","v":""},{"$f":"IF(SUMIF(week5!$AB:$AB,all_cars!$D31,week5!$AH:$AH)=0,\"\",VLOOKUP(all_cars!$D31,week5!$AB:$AJ,7,FALSE))","v":""},null,{"$f":"IF(SUMIF(week1!$AB:$AB,all_cars!$D31,week1!$AI:$AI)=0,\"\",VLOOKUP(all_cars!$D31,week1!$AB:$AJ,8,FALSE))","v":""},{"$f":"IF(SUMIF(week2!$AB:$AB,all_cars!$D31,week2!$AI:$AI)=0,\"\",VLOOKUP(all_cars!$D31,week2!$AB:$AJ,8,FALSE))","v":""},{"$f":"IF(SUMIF(week3!$AB:$AB,all_cars!$D31,week3!$AI:$AI)=0,\"\",VLOOKUP(all_cars!$D31,week3!$AB:$AJ,8,FALSE))","v":""},{"$f":"IF(SUMIF(week4!$AB:$AB,all_cars!$D31,week4!$AI:$AI)=0,\"\",VLOOKUP(all_cars!$D31,week4!$AB:$AJ,8,FALSE))","v":""},{"$f":"IF(SUMIF(week5!$AB:$AB,all_cars!$D31,week5!$AI:$AI)=0,\"\",VLOOKUP(all_cars!$D31,week5!$AB:$AJ,8,FALSE))","v":""},null,{"$f":"IF(SUMIF(week1!$AB:$AB,all_cars!$D31,week1!$AJ:$AJ)=0,\"\",VLOOKUP(all_cars!$D31,week1!$AB:$AJ,9,FALSE))","v":87.518771900550647},{"$f":"IF(SUMIF(week2!$AB:$AB,all_cars!$D31,week2!$AJ:$AJ)=0,\"\",VLOOKUP(all_cars!$D31,week2!$AB:$AJ,9,FALSE))","v":""},{"$f":"IF(SUMIF(week3!$AB:$AB,all_cars!$D31,week3!$AJ:$AJ)=0,\"\",VLOOKUP(all_cars!$D31,week3!$AB:$AJ,9,FALSE))","v":91.79710144927536},{"$f":"IF(SUMIF(week4!$AB:$AB,all_cars!$D31,week4!$AJ:$AJ)=0,\"\",VLOOKUP(all_cars!$D31,week4!$AB:$AJ,9,FALSE))","v":90.242393783585271},{"$f":"IF(SUMIF(week5!$AB:$AB,all_cars!$D31,week5!$AJ:$AJ)=0,\"\",VLOOKUP(all_cars!$D31,week5!$AB:$AJ,9,FALSE))","v":90.737531292124004},null,null,null,"laf                       ","[PahaJori] Ender          "]
[null,null,26,"REIROM                    ",null,98.467158782765893,76.180643187640996,null,90.89057545527794,null,{"$f":"IF(SUMIF(week1!$AB:$AB,all_cars!$D32,week1!$AF:$AF)=0,\"\",VLOOKUP(all_cars!$D32,week1!$AB:$AJ,5,FALSE))","v":95.510257586681519},{"$f":"IF(SUMIF(week2!$AB:$AB,all_cars!$D32,week2!$AF:$AF)=0,\"\",VLOOKUP(all_cars!$D32,week2!$AB:$AJ,5,FALSE))","v":95.728346456692918},{"$f":"IF(SUMIF(week3!$AB:$AB,all_cars!$D32,week3!$AF:$AF)=0,\"\",VLOOKUP(all_cars!$D32,week3!$AB:$AJ,5,FALSE))","v":98.467158782765893},{"$f":"IF(SUMIF(week4!$AB:$AB,all_cars!$D32,week4!$AF:$AF)=0,\"\",VLOOKUP(all_cars!$D32,week4!$AB:$AJ,5,FALSE))","v":""},{"$f":"IF(SUMIF(week5!$AB:$AB,all_cars!$D32,week5!$AF:$AF)=0,\"\",VLOOKUP(all_cars!$D32,week5!$AB:$AJ,5,FALSE))","v":""},null,{"$f":"IF(SUMIF(week1!$AB:$AB,all_cars!$D32,week1!$AG:$AG)=0,\"\",VLOOKUP(all_cars!$D32,week1!$AB:$AJ,6,FALSE))","v":83.769158586174541},{"$f":"IF(SUMIF(week2!$AB:$AB,all_cars!$D32,week2!$AG:$AG)=0,\"\",VLOOKUP(all_cars!$D32,week2!$AB:$AJ,6,FALSE))","v":""},{"$f":"IF(SUMIF(week3!$AB:$AB,all_cars!$D32,week3!$AG:$AG)=0,\"\",VLOOKUP(all_cars!$D32,week3!$AB:$AJ,6,FALSE))","v":90.193636054806916},{"$f":"IF(SUMIF(week4!$AB:$AB,all_cars!$D32,week4!$AG:$AG)=0,\"\",VLOOKUP(all_cars!$D32,week4!$AB:$AJ,6,FALSE))","v":""},{"$f":"IF(SUMIF(week5!$AB:$AB,all_cars!$D32,week5!$AG:$AG)=0,\"\",VLOOKUP(all_cars!$D32,week5!$AB:$AJ,6,FALSE))","v":""},null,{"$f":"IF(SUMIF(week1!$AB:$AB,all_cars!$D32,week1!$AH:$AH)=0,\"\",VLOOKUP(all_cars!$D32,week1!$AB:$AJ,7,FALSE))","v":91.526117054751424},{"$f":"IF(SUMIF(week2!$AB:$AB,all_cars!$D32,week2!$AH:$AH)=0,\"\",VLOOKUP(all_cars!$D32,week2!$AB:$AJ,7,FALSE))","v":""},{"$f":"IF(SUMIF(week3!$AB:$AB,all_cars!$D32,week3!$AH:$AH)=0,\"\",VLOOKUP(all_cars!$D32,week3!$AB:$AJ,7,FALSE))","v":93.302387267904507},{"$f":"IF(SUMIF(week4!$AB:$AB,all_cars!$D32,week4!$AH:$AH)=0,\"\",VLOOKUP(all_cars!$D32,week4!$AB:$AJ,7,FALSE))","v":""},{"$f":"IF(SUMIF(week5!$AB:$AB,all_cars!$D32,week5!$AH:$AH)=0,\"\",VLOOKUP(all_cars!$D32,week5!$AB:$AJ,7,FALSE))","v":""},null,{"$f":"IF(SUMIF(week1!$AB:$AB,all_cars!$D32,week1!$AI:$AI)=0,\"\",VLOOKUP(all_cars!$D32,week1!$AB:$AJ,8,FALSE))","v":""},{"$f":"IF(SUMIF(week2!$AB:$AB,all_cars!$D32,week2!$AI:$AI)=0,\"\",VLOOKUP(all_cars!$D32,week2!$AB:$AJ,8,FALSE))","v":""},{"$f":"IF(SUMIF(week3!$AB:$AB,all_cars!$D32,week3!$AI:$AI)=0,\"\",VLOOKUP(all_cars!$D32,week3!$AB:$AJ,8,FALSE))","v":76.180643187640996},{"$f":"IF(SUMIF(week4!$AB:$AB,all_cars!$D32,week4!$AI:$AI)=0,\"\",VLOOKUP(all_cars!$D32,week4!$AB:$AJ,8,FALSE))","v":""},{"$f":"IF(SUMIF(week5!$AB:$AB,all_cars!$D32,week5!$AI:$AI)=0,\"\",VLOOKUP(all_cars!$D32,week5!$AB:$AJ,8,FALSE))","v":""},null,{"$f":"IF(SUMIF(week1!$AB:$AB,all_cars!$D32,week1!$AJ:$AJ)=0,\"\",VLOOKUP(all_cars!$D32,week1!$AB:$AJ,9,FALSE))","v":""},{"$f":"IF(SUMIF(week2!$AB:$AB,all_cars!$D32,week2!$AJ:$AJ)=0,\"\",VLOOKUP(all_cars!$D32,week2!$AB:$AJ,9,FALSE))","v":""},{"$f":"IF(SUMIF(week3!$AB:$AB,all_cars!$D32,week3!$AJ:$AJ)=0,\"\",VLOOKUP(all_cars!$D32,week3!$AB:$AJ,9,FALSE))","v":93.337474120082803},{"$f":"IF(SUMIF(week4!$AB:$AB,all_cars!$D32,week4!$AJ:$AJ)=0,\"\",VLOOKUP(all_cars!$D32,week4!$AB:$AJ,9,FALSE))","v":""},{"$f":"IF(SUMIF(week5!$AB:$AB,all_cars!$D32,week5!$AJ:$AJ)=0,\"\",VLOOKUP(all_cars!$D32,week5!$AB:$AJ,9,FALSE))","v":""},null,null,null,"REIROM                    ","laf                       "]
[null,null,27,"Janneosaursrex            ",null,98.986549890522369,98.986549890522369,null,98.986549890522369,null,{"$f":"IF(SUMIF(week1!$AB:$AB,all_cars!$D33,week1!$AF:$AF)=0,\"\",VLOOKUP(all_cars!$D33,week1!$AB:$AJ,5,FALSE))","v":""},{"$f":"IF(SUMIF(week2!$AB:$AB,all_cars!$D33,week2!$AF:$AF)=0,\"\",VLOOKUP(all_cars!$D33,week2!$AB:$AJ,5,FALSE))","v":""},{"$f":"IF(SUMIF(week3!$AB:$AB,all_cars!$D33,week3!$AF:$AF)=0,\"\",VLOOKUP(all_cars!$D33,week3!$AB:$AJ,5,FALSE))","v":""},{"$f":"IF(SUMIF(week4!$AB:$AB,all_cars!$D33,week4!$AF:$AF)=0,\"\",VLOOKUP(all_cars!$D33,week4!$AB:$AJ,5,FALSE))","v":""},{"$f":"IF(SUMIF(week5!$AB:$AB,all_cars!$D33,week5!$AF:$AF)=0,\"\",VLOOKUP(all_cars!$D33,week5!$AB:$AJ,5,FALSE))","v":""},null,{"$f":"IF(SUMIF(week1!$AB:$AB,all_cars!$D33,week1!$AG:$AG)=0,\"\",VLOOKUP(all_cars!$D33,week1!$AB:$AJ,6,FALSE))","v":98.986549890522369},{"$f":"IF(SUMIF(week2!$AB:$AB,all_cars!$D33,week2!$AG:$AG)=0,\"\",VLOOKUP(all_cars!$D33,week2!$AB:$AJ,6,FALSE))","v":""},{"$f":"IF(SUMIF(week3!$AB:$AB,all_cars!$D33,week3!$AG:$AG)=0,\"\",VLOOKUP(all_cars!$D33,week3!$AB:$AJ,6,FALSE))","v":""},{"$f":"IF(SUMIF(week4!$AB:$AB,all_cars!$D33,week4!$AG:$AG)=0,\"\",VLOOKUP(all_cars!$D33,week4!$AB:$AJ,6,FALSE))","v":""},{"$f":"IF(SUMIF(week5!$AB:$AB,all_cars!$D33,week5!$AG:$AG)=0,\"\",VLOOKUP(all_cars!$D33,week5!$AB:$AJ,6,FALSE))","v":""},null,{"$f":"IF(SUMIF(week1!$AB:$AB,all_cars!$D33,week1!$AH:$AH)=0,\"\",VLOOKUP(all_cars!$D33,week1!$AB:$AJ,7,FALSE))","v":""},{"$f":"IF(SUMIF(week2!$AB:$AB,all_cars!$D33,week2!$AH:$AH)=0,\"\",VLOOKUP(all_cars!$D33,week2!$AB:$AJ,7,FALSE))","v":""},{"$f":"IF(SUMIF(week3!$AB:$AB,all_cars!$D33,week3!$AH:$AH)=0,\"\",VLOOKUP(all_cars!$D33,week3!$AB:$AJ,7,FALSE))","v":""},{"$f":"IF(SUMIF(week4!$AB:$AB,all_cars!$D33,week4!$AH:$AH)=0,\"\",VLOOKUP(all_cars!$D33,week4!$AB:$AJ,7,FALSE))","v":""},{"$f":"IF(SUMIF(week5!$AB:$AB,all_cars!$D33,week5!$AH:$AH)=0,\"\",VLOOKUP(all_cars!$D33,week5!$AB:$AJ,7,FALSE))","v":""},null,{"$f":"IF(SUMIF(week1!$AB:$AB,all_cars!$D33,week1!$AI:$AI)=0,\"\",VLOOKUP(all_cars!$D33,week1!$AB:$AJ,8,FALSE))","v":""},{"$f":"IF(SUMIF(week2!$AB:$AB,all_cars!$D33,week2!$AI:$AI)=0,\"\",VLOOKUP(all_cars!$D33,week2!$AB:$AJ,8,FALSE))","v":""},{"$f":"IF(SUMIF(week3!$AB:$AB,all_cars!$D33,week3!$AI:$AI)=0,\"\",VLOOKUP(all_cars!$D33,week3!$AB:$AJ,8,FALSE))","v":""},{"$f":"IF(SUMIF(week4!$AB:$AB,all_cars!$D33,week4!$AI:$AI)=0,\"\",VLOOKUP(all_cars!$D33,week4!$AB:$AJ,8,FALSE))","v":""},{"$f":"IF(SUMIF(week5!$AB:$AB,all_cars!$D33,week5!$AI:$AI)=0,\"\",VLOOKUP(all_cars!$D33,week5!$AB:$AJ,8,FALSE))","v":""},null,{"$f":"IF(SUMIF(week1!$AB:$AB,all_cars!$D33,week1!$AJ:$AJ)=0,\"\",VLOOKUP(all_cars!$D33,week1!$AB:$AJ,9,FALSE))","v":""},{"$f":"IF(SUMIF(week2!$AB:$AB,all_cars!$D33,week2!$AJ:$AJ)=0,\"\",VLOOKUP(all_cars!$D33,week2!$AB:$AJ,9,FALSE))","v":""},{"$f":"IF(SUMIF(week3!$AB:$AB,all_cars!$D33,week3!$AJ:$AJ)=0,\"\",VLOOKUP(all_cars!$D33,week3!$AB:$AJ,9,FALSE))","v":""},{"$f":"IF(SUMIF(week4!$AB:$AB,all_cars!$D33,week4!$AJ:$AJ)=0,\"\",VLOOKUP(all_cars!$D33,week4!$AB:$AJ,9,FALSE))","v":""},{"$f":"IF(SUMIF(week5!$AB:$AB,all_cars!$D33,week5!$AJ:$AJ)=0,\"\",VLOOKUP(all_cars!$D33,week5!$AB:$AJ,9,FALSE))","v":""},null,null,null,"Janneosaursrex            ","REIROM                    "]
[null,null,28,"R.E.I.R.O.M               ",null,97.696139476961392,86.922114482327174,null,92.508964785962078,null,{"$f":"IF(SUMIF(week1!$AB:$AB,all_cars!$D34,week1!$AF:$AF)=0,\"\",VLOOKUP(all_cars!$D34,week1!$AB:$AJ,5,FALSE))","v":97.696139476961392},{"$f":"IF(SUMIF(week2!$AB:$AB,all_cars!$D34,week2!$AF:$AF)=0,\"\",VLOOKUP(all_cars!$D34,week2!$AB:$AJ,5,FALSE))","v":97.132545931758528},{"$f":"IF(SUMIF(week3!$AB:$AB,all_cars!$D34,week3!$AF:$AF)=0,\"\",VLOOKUP(all_cars!$D34,week3!$AB:$AJ,5,FALSE))","v":""},{"$f":"IF(SUMIF(week4!$AB:$AB,all_cars!$D34,week4!$AF:$AF)=0,\"\",VLOOKUP(all_cars!$D34,week4!$AB:$AJ,5,FALSE))","v":""},{"$f":"IF(SUMIF(week5!$AB:$AB,all_cars!$D34,week5!$AF:$AF)=0,\"\",VLOOKUP(all_cars!$D34,week5!$AB:$AJ,5,FALSE))","v":""},null,{"$f":"IF(SUMIF(week1!$AB:$AB,all_cars!$D34,week1!$AG:$AG)=0,\"\",VLOOKUP(all_cars!$D34,week1!$AB:$AJ,6,FALSE))","v":86.922114482327174},{"$f":"IF(SUMIF(week2!$AB:$AB,all_cars!$D34,week2!$AG:$AG)=0,\"\",VLOOKUP(all_cars!$D34,week2!$AB:$AJ,6,FALSE))","v":88.28505925280119},{"$f":"IF(SUMIF(week3!$AB:$AB,all_cars!$D34,week3!$AG:$AG)=0,\"\",VLOOKUP(all_cars!$D34,week3!$AB:$AJ,6,FALSE))","v":""},{"$f":"IF(SUMIF(week4!$AB:$AB,all_cars!$D34,week4!$AG:$AG)=0,\"\",VLOOKUP(all_cars!$D34,week4!$AB:$AJ,6,FALSE))","v":""},{"$f":"IF(SUMIF(week5!$AB:$AB,all_cars!$D34,week5!$AG:$AG)=0,\"\",VLOOKUP(all_cars!$D34,week5!$AB:$AJ,6,FALSE))","v":""},null,{"$f":"IF(SUMIF(week1!$AB:$AB,all_cars!$D34,week1!$AH:$AH)=0,\"\",VLOOKUP(all_cars!$D34,week1!$AB:$AJ,7,FALSE))","v":""},{"$f":"IF(SUMIF(week2!$AB:$AB,all_cars!$D34,week2!$AH:$AH)=0,\"\",VLOOKUP(all_cars!$D34,week2!$AB:$AJ,7,FALSE))","v":""},{"$f":"IF(SUMIF(week3!$AB:$AB,all_cars!$D34,week3!$AH:$AH)=0,\"\",VLOOKUP(all_cars!$D34,week3!$AB:$AJ,7,FALSE))","v":""},{"$f":"IF(SUMIF(week4!$AB:$AB,all_cars!$D34,week4!$AH:$AH)=0,\"\",VLOOKUP(all_cars!$D34,week4!$AB:$AJ,7,FALSE))","v":""},{"$f":"IF(SUMIF(week5!$AB:$AB,all_cars!$D34,week5!$AH:$AH)=0,\"\",VLOOKUP(all_cars!$D34,week5!$AB:$AJ,7,FALSE))","v":""},null,{"$f":"IF(SUMIF(week1!$AB:$AB,all_cars!$D34,week1!$AI:$AI)=0,\"\",VLOOKUP(all_cars!$D34,week1!$AB:$AJ,8,FALSE))","v":""},{"$f":"IF(SUMIF(week2!$AB:$AB,all_cars!$D34,week2!$AI:$AI)=0,\"\",VLOOKUP(all_cars!$D34,week2!$AB:$AJ,8,FALSE))","v":""},{"$f":"IF(SUMIF(week3!$AB:$AB,all_cars!$D34,week3!$AI:$AI)=0,\"\",VLOOKUP(all_cars!$D34,week3!$AB:$AJ,8,FALSE))","v":""},{"$f":"IF(SUMIF(week4!$AB:$AB,all_cars!$D34,week4!$AI:$AI)=0,\"\",VLOOKUP(all_cars!$D34,week4!$AB:$AJ,8,FALSE))","v":""},{"$f":"IF(SUMIF(week5!$AB:$AB,all_cars!$D34,week5!$AI:$AI)=0,\"\",VLOOKUP(all_cars!$D34,week5!$AB:$AJ,8,FALSE))","v":""},null,{"$f":"IF(SUMIF(week1!$AB:$AB,all_cars!$D34,week1!$AJ:$AJ)=0,\"\",VLOOKUP(all_cars!$D34,week1!$AB:$AJ,9,FALSE))","v":""},{"$f":"IF(SUMIF(week2!$AB:$AB,all_cars!$D34,week2!$AJ:$AJ)=0,\"\",VLOOKUP(all_cars!$D34,week2!$AB:$AJ,9,FALSE))","v":""},{"$f":"IF(SUMIF(week3!$AB:$AB,all_cars!$D34,week3!$AJ:$AJ)=0,\"\",VLOOKUP(all_cars!$D34,week3!$AB:$AJ,9,FALSE))","v":""},{"$f":"IF(SUMIF(week4!$AB:$AB,all_cars!$D34,week4!$AJ:$AJ)=0,\"\",VLOOKUP(all_cars!$D34,week4!$AB:$AJ,9,FALSE))","v":""},{"$f":"IF(SUMIF(week5!$AB:$AB,all_cars!$D34,week5!$AJ:$AJ)=0,\"\",VLOOKUP(all_cars!$D34,week5!$AB:$AJ,9,FALSE))","v":""},null,null,null,"R.E.I.R.O.M               ","Janneosaursrex            "]
[null,null,29,"Testaaja                  ",null,98.71206659238382,98.71206659238382,null,98.71206659238382,null,{"$f":"IF(SUMIF(week1!$AB:$AB,all_cars!$D35,week1!$AF:$AF)=0,\"\",VLOOKUP(all_cars!$D35,week1!$AB:$AJ,5,FALSE))","v":98.71206659238382},{"$f":"IF(SUMIF(week2!$AB:$AB,all_cars!$D35,week2!$AF:$AF)=0,\"\",VLOOKUP(all_cars!$D35,week2!$AB:$AJ,5,FALSE))","v":""},{"$f":"IF(SUMIF(week3!$AB:$AB,all_cars!$D35,week3!$AF:$AF)=0,\"\",VLOOKUP(all_cars!$D35,week3!$AB:$AJ,5,FALSE))","v":""},{"$f":"IF(SUMIF(week4!$AB:$AB,all_cars!$D35,week4!$AF:$AF)=0,\"\",VLOOKUP(all_cars!$D35,week4!$AB:$AJ,5,FALSE))","v":""},{"$f":"IF(SUMIF(week5!$AB:$AB,all_cars!$D35,week5!$AF:$AF)=0,\"\",VLOOKUP(all_cars!$D35,week5!$AB:$AJ,5,FALSE))","v":""},null,{"$f":"IF(SUMIF(week1!$AB:$AB,all_cars!$D35,week1!$AG:$AG)=0,\"\",VLOOKUP(all_cars!$D35,week1!$AB:$AJ,6,FALSE))","v":""},{"$f":"IF(SUMIF(week2!$AB:$AB,all_cars!$D35,week2!$AG:$AG)=0,\"\",VLOOKUP(all_cars!$D35,week2!$AB:$AJ,6,FALSE))","v":""},{"$f":"IF(SUMIF(week3!$AB:$AB,all_cars!$D35,week3!$AG:$AG)=0,\"\",VLOOKUP(all_cars!$D35,week3!$AB:$AJ,6,FALSE))","v":""},{"$f":"IF(SUMIF(week4!$AB:$AB,all_cars!$D35,week4!$AG:$AG)=0,\"\",VLOOKUP(all_cars!$D35,week4!$AB:$AJ,6,FALSE))","v":""},{"$f":"IF(SUMIF(week5!$AB:$AB,all_cars!$D35,week5!$AG:$AG)=0,\"\",VLOOKUP(all_cars!$D35,week5!$AB:$AJ,6,FALSE))","v":""},null,{"$f":"IF(SUMIF(week1!$AB:$AB,all_cars!$D35,week1!$AH:$AH)=0,\"\",VLOOKUP(all_cars!$D35,week1!$AB:$AJ,7,FALSE))","v":""},{"$f":"IF(SUMIF(week2!$AB:$AB,all_cars!$D35,week2!$AH:$AH)=0,\"\",VLOOKUP(all_cars!$D35,week2!$AB:$AJ,7,FALSE))","v":""},{"$f":"IF(SUMIF(week3!$AB:$AB,all_cars!$D35,week3!$AH:$AH)=0,\"\",VLOOKUP(all_cars!$D35,week3!$AB:$AJ,7,FALSE))","v":""},{"$f":"IF(SUMIF(week4!$AB:$AB,all_cars!$D35,week4!$AH:$AH)=0,\"\",VLOOKUP(all_cars!$D35,week4!$AB:$AJ,7,FALSE))","v":""},{"$f":"IF(SUMIF(week5!$AB:$AB,all_cars!$D35,week5!$AH:$AH)=0,\"\",VLOOKUP(all_cars!$D35,week5!$AB:$AJ,7,FALSE))","v":""},null,{"$f":"IF(SUMIF(week1!$AB:$AB,all_cars!$D35,week1!$AI:$AI)=0,\"\",VLOOKUP(all_cars!$D35,week1!$AB:$AJ,8,FALSE))","v":""},{"$f":"IF(SUMIF(week2!$AB:$AB,all_cars!$D35,week2!$AI:$AI)=0,\"\",VLOOKUP(all_cars!$D35,week2!$AB:$AJ,8,FALSE))","v":""},{"$f":"IF(SUMIF(week3!$AB:$AB,all_cars!$D35,week3!$AI:$AI)=0,\"\",VLOOKUP(all_cars!$D35,week3!$AB:$AJ,8,FALSE))","v":""},{"$f":"IF(SUMIF(week4!$AB:$AB,all_cars!$D35,week4!$AI:$AI)=0,\"\",VLOOKUP(all_cars!$D35,week4!$AB:$AJ,8,FALSE))","v":""},{"$f":"IF(SUMIF(week5!$AB:$AB,all_cars!$D35,week5!$AI:$AI)=0,\"\",VLOOKUP(all_cars!$D35,week5!$AB:$AJ,8,FALSE))","v":""},null,{"$f":"IF(SUMIF(week1!$AB:$AB,all_cars!$D35,week1!$AJ:$AJ)=0,\"\",VLOOKUP(all_cars!$D35,week1!$AB:$AJ,9,FALSE))","v":""},{"$f":"IF(SUMIF(week2!$AB:$AB,all_cars!$D35,week2!$AJ:$AJ)=0,\"\",VLOOKUP(all_cars!$D35,week2!$AB:$AJ,9,FALSE))","v":""},{"$f":"IF(SUMIF(week3!$AB:$AB,all_cars!$D35,week3!$AJ:$AJ)=0,\"\",VLOOKUP(all_cars!$D35,week3!$AB:$AJ,9,FALSE))","v":""},{"$f":"IF(SUMIF(week4!$AB:$AB,all_cars!$D35,week4!$AJ:$AJ)=0,\"\",VLOOKUP(all_cars!$D35,week4!$AB:$AJ,9,FALSE))","v":""},{"$f":"IF(SUMIF(week5!$AB:$AB,all_cars!$D35,week5!$AJ:$AJ)=0,\"\",VLOOKUP(all_cars!$D35,week5!$AB:$AJ,9,FALSE))","v":""},null,null,null,"Testaaja                  ","R.E.I.R.O.M               "]
[null,null,30,"[FUN] GR8 Arjen!          ",null,99.261825851159983,86.573316551290134,null,95.782306286241095,null,{"$f":"IF(SUMIF(week1!$AB:$AB,all_cars!$D36,week1!$AF:$AF)=0,\"\",VLOOKUP(all_cars!$D36,week1!$AB:$AJ,5,FALSE))","v":97.270105525332625},{"$f":"IF(SUMIF(week2!$AB:$AB,all_cars!$D36,week2!$AF:$AF)=0,\"\",VLOOKUP(all_cars!$D36,week2!$AB:$AJ,5,FALSE))","v":98.474409448818903},{"$f":"IF(SUMIF(week3!$AB:$AB,all_cars!$D36,week3!$AF:$AF)=0,\"\",VLOOKUP(all_cars!$D36,week3!$AB:$AJ,5,FALSE))","v":99.261825851159983},{"$f":"IF(SUMIF(week4!$AB:$AB,all_cars!$D36,week4!$AF:$AF)=0,\"\",VLOOKUP(all_cars!$D36,week4!$AB:$AJ,5,FALSE))","v":97.905622340028373},{"$f":"IF(SUMIF(week5!$AB:$AB,all_cars!$D36,week5!$AF:$AF)=0,\"\",VLOOKUP(all_cars!$D36,week5!$AB:$AJ,5,FALSE))","v":97.379466403883356},null,{"$f":"IF(SUMIF(week1!$AB:$AB,all_cars!$D36,week1!$AG:$AG)=0,\"\",VLOOKUP(all_cars!$D36,week1!$AB:$AJ,6,FALSE))","v":""},{"$f":"IF(SUMIF(week2!$AB:$AB,all_cars!$D36,week2!$AG:$AG)=0,\"\",VLOOKUP(all_cars!$D36,week2!$AB:$AJ,6,FALSE))","v":""},{"$f":"IF(SUMIF(week3!$AB:$AB,all_cars!$D36,week3!$AG:$AG)=0,\"\",VLOOKUP(all_cars!$D36,week3!$AB:$AJ,6,FALSE))","v":97.4030876080474},{"$f":"IF(SUMIF(week4!$AB:$AB,all_cars!$D36,week4!$AG:$AG)=0,\"\",VLOOKUP(all_cars!$D36,week4!$AB:$AJ,6,FALSE))","v":""},{"$f":"IF(SUMIF(week5!$AB:$AB,all_cars!$D36,week5!$AG:$AG)=0,\"\",VLOOKUP(all_cars!$D36,week5!$AB:$AJ,6,FALSE))","v":94.290521191294388},null,{"$f":"IF(SUMIF(week1!$AB:$AB,all_cars!$D36,week1!$AH:$AH)=0,\"\",VLOOKUP(all_cars!$D36,week1!$AB:$AJ,7,FALSE))","v":86.573316551290134},{"$f":"IF(SUMIF(week2!$AB:$AB,all_cars!$D36,week2!$AH:$AH)=0,\"\",VLOOKUP(all_cars!$D36,week2!$AB:$AJ,7,FALSE))","v":""},{"$f":"IF(SUMIF(week3!$AB:$AB,all_cars!$D36,week3!$AH:$AH)=0,\"\",VLOOKUP(all_cars!$D36,week3!$AB:$AJ,7,FALSE))","v":""},{"$f":"IF(SUMIF(week4!$AB:$AB,all_cars!$D36,week4!$AH:$AH)=0,\"\",VLOOKUP(all_cars!$D36,week4!$AB:$AJ,7,FALSE))","v":""},{"$f":"IF(SUMIF(week5!$AB:$AB,all_cars!$D36,week5!$AH:$AH)=0,\"\",VLOOKUP(all_cars!$D36,week5!$AB:$AJ,7,FALSE))","v":""},null,{"$f":"IF(SUMIF(week1!$AB:$AB,all_cars!$D36,week1!$AI:$AI)=0,\"\",VLOOKUP(all_cars!$D36,week1!$AB:$AJ,8,FALSE))","v":""},{"$f":"IF(SUMIF(week2!$AB:$AB,all_cars!$D36,week2!$AI:$AI)=0,\"\",VLOOKUP(all_cars!$D36,week2!$AB:$AJ,8,FALSE))","v":""},{"$f":"IF(SUMIF(week3!$AB:$AB,all_cars!$D36,week3!$AI:$AI)=0,\"\",VLOOKUP(all_cars!$D36,week3!$AB:$AJ,8,FALSE))","v":""},{"$f":"IF(SUMIF(week4!$AB:$AB,all_cars!$D36,week4!$AI:$AI)=0,\"\",VLOOKUP(all_cars!$D36,week4!$AB:$AJ,8,FALSE))","v":""},{"$f":"IF(SUMIF(week5!$AB:$AB,all_cars!$D36,week5!$AI:$AI)=0,\"\",VLOOKUP(all_cars!$D36,week5!$AB:$AJ,8,FALSE))","v":""},null,{"$f":"IF(SUMIF(week1!$AB:$AB,all_cars!$D36,week1!$AJ:$AJ)=0,\"\",VLOOKUP(all_cars!$D36,week1!$AB:$AJ,9,FALSE))","v":""},{"$f":"IF(SUMIF(week2!$AB:$AB,all_cars!$D36,week2!$AJ:$AJ)=0,\"\",VLOOKUP(all_cars!$D36,week2!$AB:$AJ,9,FALSE))","v":""},{"$f":"IF(SUMIF(week3!$AB:$AB,all_cars!$D36,week3!$AJ:$AJ)=0,\"\",VLOOKUP(all_cars!$D36,week3!$AB:$AJ,9,FALSE))","v":93.482401656314693},{"$f":"IF(SUMIF(week4!$AB:$AB,all_cars!$D36,week4!$AJ:$AJ)=0,\"\",VLOOKUP(all_cars!$D36,week4!$AB:$AJ,9,FALSE))","v":""},{"$f":"IF(SUMIF(week5!$AB:$AB,all_cars!$D36,week5!$AJ:$AJ)=0,\"\",VLOOKUP(all_cars!$D36,week5!$AB:$AJ,9,FALSE))","v":""},null,null,null,"[FUN] GR8 Arjen!          ","Testaaja                  "]
[null,null,31,"stoner                    ",null,96.990810485085873,74.726339242468285,null,91.170443627293693,null,{"$f":"IF(SUMIF(week1!$AB:$AB,all_cars!$D37,week1!$AF:$AF)=0,\"\",VLOOKUP(all_cars!$D37,week1!$AB:$AJ,5,FALSE))","v":95.369338664219697},{"$f":"IF(SUMIF(week2!$AB:$AB,all_cars!$D37,week2!$AF:$AF)=0,\"\",VLOOKUP(all_cars!$D37,week2!$AB:$AJ,5,FALSE))","v":95.314960629921259},{"$f":"IF(SUMIF(week3!$AB:$AB,all_cars!$D37,week3!$AF:$AF)=0,\"\",VLOOKUP(all_cars!$D37,week3!$AB:$AJ,5,FALSE))","v":96.990810485085873},{"$f":"IF(SUMIF(week4!$AB:$AB,all_cars!$D37,week4!$AF:$AF)=0,\"\",VLOOKUP(all_cars!$D37,week4!$AB:$AJ,5,FALSE))","v":""},{"$f":"IF(SUMIF(week5!$AB:$AB,all_cars!$D37,week5!$AF:$AF)=0,\"\",VLOOKUP(all_cars!$D37,week5!$AB:$AJ,5,FALSE))","v":""},null,{"$f":"IF(SUMIF(week1!$AB:$AB,all_cars!$D37,week1!$AG:$AG)=0,\"\",VLOOKUP(all_cars!$D37,week1!$AB:$AJ,6,FALSE))","v":""},{"$f":"IF(SUMIF(week2!$AB:$AB,all_cars!$D37,week2!$AG:$AG)=0,\"\",VLOOKUP(all_cars!$D37,week2!$AB:$AJ,6,FALSE))","v":74.726339242468285},{"$f":"IF(SUMIF(week3!$AB:$AB,all_cars!$D37,week3!$AG:$AG)=0,\"\",VLOOKUP(all_cars!$D37,week3!$AB:$AJ,6,FALSE))","v":92.91888423357112},{"$f":"IF(SUMIF(week4!$AB:$AB,all_cars!$D37,week4!$AG:$AG)=0,\"\",VLOOKUP(all_cars!$D37,week4!$AB:$AJ,6,FALSE))","v":""},{"$f":"IF(SUMIF(week5!$AB:$AB,all_cars!$D37,week5!$AG:$AG)=0,\"\",VLOOKUP(all_cars!$D37,week5!$AB:$AJ,6,FALSE))","v":""},null,{"$f":"IF(SUMIF(week1!$AB:$AB,all_cars!$D37,week1!$AH:$AH)=0,\"\",VLOOKUP(all_cars!$D37,week1!$AB:$AJ,7,FALSE))","v":91.70232850849591},{"$f":"IF(SUMIF(week2!$AB:$AB,all_cars!$D37,week2!$AH:$AH)=0,\"\",VLOOKUP(all_cars!$D37,week2!$AB:$AJ,7,FALSE))","v":""},{"$f":"IF(SUMIF(week3!$AB:$AB,all_cars!$D37,week3!$AH:$AH)=0,\"\",VLOOKUP(all_cars!$D37,week3!$AB:$AJ,7,FALSE))","v":""},{"$f":"IF(SUMIF(week4!$AB:$AB,all_cars!$D37,week4!$AH:$AH)=0,\"\",VLOOKUP(all_cars!$D37,week4!$AB:$AJ,7,FALSE))","v":""},{"$f":"IF(SUMIF(week5!$AB:$AB,all_cars!$D37,week5!$AH:$AH)=0,\"\",VLOOKUP(all_cars!$D37,week5!$AB:$AJ,7,FALSE))","v":""},null,{"$f":"IF(SUMIF(week1!$AB:$AB,all_cars!$D37,week1!$AI:$AI)=0,\"\",VLOOKUP(all_cars!$D37,week1!$AB:$AJ,8,FALSE))","v":""},{"$f":"IF(SUMIF(week2!$AB:$AB,all_cars!$D37,week2!$AI:$AI)=0,\"\",VLOOKUP(all_cars!$D37,week2!$AB:$AJ,8,FALSE))","v":""},{"$f":"IF(SUMIF(week3!$AB:$AB,all_cars!$D37,week3!$AI:$AI)=0,\"\",VLOOKUP(all_cars!$D37,week3!$AB:$AJ,8,FALSE))","v":""},{"$f":"IF(SUMIF(week4!$AB:$AB,all_cars!$D37,week4!$AI:$AI)=0,\"\",VLOOKUP(all_cars!$D37,week4!$AB:$AJ,8,FALSE))","v":""},{"$f":"IF(SUMIF(week5!$AB:$AB,all_cars!$D37,week5!$AI:$AI)=0,\"\",VLOOKUP(all_cars!$D37,week5!$AB:$AJ,8,FALSE))","v":""},null,{"$f":"IF(SUMIF(week1!$AB:$AB,all_cars!$D37,week1!$AJ:$AJ)=0,\"\",VLOOKUP(all_cars!$D37,week1!$AB:$AJ,9,FALSE))","v":""},{"$f":"IF(SUMIF(week2!$AB:$AB,all_cars!$D37,week2!$AJ:$AJ)=0,\"\",VLOOKUP(all_cars!$D37,week2!$AB:$AJ,9,FALSE))","v":""},{"$f":"IF(SUMIF(week3!$AB:$AB,all_cars!$D37,week3!$AJ:$AJ)=0,\"\",VLOOKUP(all_cars!$D37,week3!$AB:$AJ,9,FALSE))","v":""},{"$f":"IF(SUMIF(week4!$AB:$AB,all_cars!$D37,week4!$AJ:$AJ)=0,\"\",VLOOKUP(all_cars!$D37,week4!$AB:$AJ,9,FALSE))","v":""},{"$f":"IF(SUMIF(week5!$AB:$AB,all_cars!$D37,week5!$AJ:$AJ)=0,\"\",VLOOKUP(all_cars!$D37,week5!$AB:$AJ,9,FALSE))","v":""},null,null,null,"stoner                    ","[FUN] GR8 Arjen!          "]
[null,null,32,"[+] xzeal                 ",null,98.97331370550711,88.930418821958966,null,96.941792584708722,null,{"$f":"IF(SUMIF(week1!$AB:$AB,all_cars!$D38,week1!$AF:$AF)=0,\"\",VLOOKUP(all_cars!$D38,week1!$AB:$AJ,5,FALSE))","v":96.306613357802973},{"$f":"IF(SUMIF(week2!$AB:$AB,all_cars!$D38,week2!$AF:$AF)=0,\"\",VLOOKUP(all_cars!$D38,week2!$AB:$AJ,5,FALSE))","v":97.339238845144351},{"$f":"IF(SUMIF(week3!$AB:$AB,all_cars!$D38,week3!$AF:$AF)=0,\"\",VLOOKUP(all_cars!$D38,week3!$AB:$AJ,5,FALSE))","v":98.907803555287742},{"$f":"IF(SUMIF(week4!$AB:$AB,all_cars!$D38,week4!$AF:$AF)=0,\"\",VLOOKUP(all_cars!$D38,week4!$AB:$AJ,5,FALSE))","v":98.264018517135824},{"$f":"IF(SUMIF(week5!$AB:$AB,all_cars!$D38,week5!$AF:$AF)=0,\"\",VLOOKUP(all_cars!$D38,week5!$AB:$AJ,5,FALSE))","v":97.835687433847951},null,{"$f":"IF(SUMIF(week1!$AB:$AB,all_cars!$D38,week1!$AG:$AG)=0,\"\",VLOOKUP(all_cars!$D38,week1!$AB:$AJ,6,FALSE))","v":""},{"$f":"IF(SUMIF(week2!$AB:$AB,all_cars!$D38,week2!$AG:$AG)=0,\"\",VLOOKUP(all_cars!$D38,week2!$AB:$AJ,6,FALSE))","v":96.493267461009395},{"$f":"IF(SUMIF(week3!$AB:$AB,all_cars!$D38,week3!$AG:$AG)=0,\"\",VLOOKUP(all_cars!$D38,week3!$AB:$AJ,6,FALSE))","v":98.97331370550711},{"$f":"IF(SUMIF(week4!$AB:$AB,all_cars!$D38,week4!$AG:$AG)=0,\"\",VLOOKUP(all_cars!$D38,week4!$AB:$AJ,6,FALSE))","v":96.799049436503083},{"$f":"IF(SUMIF(week5!$AB:$AB,all_cars!$D38,week5!$AG:$AG)=0,\"\",VLOOKUP(all_cars!$D38,week5!$AB:$AJ,6,FALSE))","v":96.824885452462766},null,{"$f":"IF(SUMIF(week1!$AB:$AB,all_cars!$D38,week1!$AH:$AH)=0,\"\",VLOOKUP(all_cars!$D38,week1!$AB:$AJ,7,FALSE))","v":""},{"$f":"IF(SUMIF(week2!$AB:$AB,all_cars!$D38,week2!$AH:$AH)=0,\"\",VLOOKUP(all_cars!$D38,week2!$AB:$AJ,7,FALSE))","v":96.540544045650549},{"$f":"IF(SUMIF(week3!$AB:$AB,all_cars!$D38,week3!$AH:$AH)=0,\"\",VLOOKUP(all_cars!$D38,week3!$AB:$AJ,7,FALSE))","v":98.017978190391986},{"$f":"IF(SUMIF(week4!$AB:$AB,all_cars!$D38,week4!$AH:$AH)=0,\"\",VLOOKUP(all_cars!$D38,week4!$AB:$AJ,7,FALSE))","v":97.904463928402521},{"$f":"IF(SUMIF(week5!$AB:$AB,all_cars!$D38,week5!$AH:$AH)=0,\"\",VLOOKUP(all_cars!$D38,week5!$AB:$AJ,7,FALSE))","v":96.955369295794824},null,{"$f":"IF(SUMIF(week1!$AB:$AB,all_cars!$D38,week1!$AI:$AI)=0,\"\",VLOOKUP(all_cars!$D38,week1!$AB:$AJ,8,FALSE))","v":""},{"$f":"IF(SUMIF(week2!$AB:$AB,all_cars!$D38,week2!$AI:$AI)=0,\"\",VLOOKUP(all_cars!$D38,week2!$AB:$AJ,8,FALSE))","v":95.62388156824467},{"$f":"IF(SUMIF(week3!$AB:$AB,all_cars!$D38,week3!$AI:$AI)=0,\"\",VLOOKUP(all_cars!$D38,week3!$AB:$AJ,8,FALSE))","v":98.7342740239379},{"$f":"IF(SUMIF(week4!$AB:$AB,all_cars!$D38,week4!$AI:$AI)=0,\"\",VLOOKUP(all_cars!$D38,week4!$AB:$AJ,8,FALSE))","v":97.733546418712777},{"$f":"IF(SUMIF(week5!$AB:$AB,all_cars!$D38,week5!$AI:$AI)=0,\"\",VLOOKUP(all_cars!$D38,week5!$AB:$AJ,8,FALSE))","v":98.76494453021219},null,{"$f":"IF(SUMIF(week1!$AB:$AB,all_cars!$D38,week1!$AJ:$AJ)=0,\"\",VLOOKUP(all_cars!$D38,week1!$AB:$AJ,9,FALSE))","v":88.930418821958966},{"$f":"IF(SUMIF(week2!$AB:$AB,all_cars!$D38,week2!$AJ:$AJ)=0,\"\",VLOOKUP(all_cars!$D38,week2!$AB:$AJ,9,FALSE))","v":95.157924029497707},{"$f":"IF(SUMIF(week3!$AB:$AB,all_cars!$D38,week3!$AJ:$AJ)=0,\"\",VLOOKUP(all_cars!$D38,week3!$AB:$AJ,9,FALSE))","v":97.291925465838503},{"$f":"IF(SUMIF(week4!$AB:$AB,all_cars!$D38,week4!$AJ:$AJ)=0,\"\",VLOOKUP(all_cars!$D38,week4!$AB:$AJ,9,FALSE))","v":96.543858970889559},{"$f":"IF(SUMIF(week5!$AB:$AB,all_cars!$D38,week5!$AJ:$AJ)=0,\"\",VLOOKUP(all_cars!$D38,week5!$AB:$AJ,9,FALSE))","v":96.776429809358746},null,null,null,"[+] xzeal                 ","stoner                    "]
[null,null,33,"Matic                     ",null,{"$f":"IF($I39=\"\",0,MAX($K39:$AM39))","v":97.811840915938532},{"$f":"IF($I39=\"\",0,MIN($K39:$AM39))","v":96.028985507246361},null,{"$f":"IF(COUNT(K39:AM39)=0,0,SUM(K39:AM39)/COUNT(K39:AM39))","v":97.257574551614141},null,{"$f":"IF(SUMIF(week1!$AB:$AB,all_cars!$D39,week1!$AF:$AF)=0,\"\",VLOOKUP(all_cars!$D39,week1!$AB:$AJ,5,FALSE))","v":97.79117782001704},{"$f":"IF(SUMIF(week2!$AB:$AB,all_cars!$D39,week2!$AF:$AF)=0,\"\",VLOOKUP(all_cars!$D39,week2!$AB:$AJ,5,FALSE))","v":97.398293963254602},{"$f":"IF(SUMIF(week3!$AB:$AB,all_cars!$D39,week3!$AF:$AF)=0,\"\",VLOOKUP(all_cars!$D39,week3!$AB:$AJ,5,FALSE))","v":97.811840915938532},{"$f":"IF(SUMIF(week4!$AB:$AB,all_cars!$D39,week4!$AF:$AF)=0,\"\",VLOOKUP(all_cars!$D39,week4!$AB:$AJ,5,FALSE))","v":""},{"$f":"IF(SUMIF(week5!$AB:$AB,all_cars!$D39,week5!$AF:$AF)=0,\"\",VLOOKUP(all_cars!$D39,week5!$AB:$AJ,5,FALSE))","v":""},null,{"$f":"IF(SUMIF(week1!$AB:$AB,all_cars!$D39,week1!$AG:$AG)=0,\"\",VLOOKUP(all_cars!$D39,week1!$AB:$AJ,6,FALSE))","v":""},{"$f":"IF(SUMIF(week2!$AB:$AB,all_cars!$D39,week2!$AG:$AG)=0,\"\",VLOOKUP(all_cars!$D39,week2!$AB:$AJ,6,FALSE))","v":""},{"$f":"IF(SUMIF(week3!$AB:$AB,all_cars!$D39,week3!$AG:$AG)=0,\"\",VLOOKUP(all_cars!$D39,week3!$AB:$AJ,6,FALSE))","v":""},{"$f":"IF(SUMIF(week4!$AB:$AB,all_cars!$D39,week4!$AG:$AG)=0,\"\",VLOOKUP(all_cars!$D39,week4!$AB:$AJ,6,FALSE))","v":""},{"$f":"IF(SUMIF(week5!$AB:$AB,all_cars!$D39,week5!$AG:$AG)=0,\"\",VLOOKUP(all_cars!$D39,week5!$AB:$AJ,6,FALSE))","v":""},null,{"$f":"IF(SUMIF(week1!$AB:$AB,all_cars!$D39,week1!$AH:$AH)=0,\"\",VLOOKUP(all_cars!$D39,week1!$AB:$AJ,7,FALSE))","v":""},{"$f":"IF(SUMIF(week2!$AB:$AB,all_cars!$D39,week2!$AH:$AH)=0,\"\",VLOOKUP(all_cars!$D39,week2!$AB:$AJ,7,FALSE))","v":""},{"$f":"IF(SUMIF(week3!$AB:$AB,all_cars!$D39,week3!$AH:$AH)=0,\"\",VLOOKUP(all_cars!$D39,week3!$AB:$AJ,7,FALSE))","v":""},{"$f":"IF(SUMIF(week4!$AB:$AB,all_cars!$D39,week4!$AH:$AH)=0,\"\",VLOOKUP(all_cars!$D39,week4!$AB:$AJ,7,FALSE))","v":""},{"$f":"IF(SUMIF(week5!$AB:$AB,all_cars!$D39,week5!$AH:$AH)=0,\"\",VLOOKUP(all_cars!$D39,week5!$AB:$AJ,7,FALSE))","v":""},null,{"$f":"IF(SUMIF(week1!$AB:$AB,all_cars!$D39,week1!$AI:$AI)=0,\"\",VLOOKUP(all_cars!$D39,week1!$AB:$AJ,8,FALSE))","v":""},{"$f":"IF(SUMIF(week2!$AB:$AB,all_cars!$D39,week2!$AI:$AI)=0,\"\",VLOOKUP(all_cars!$D39,week2!$AB:$AJ,8,FALSE))","v":""},{"$f":"IF(SUMIF(week3!$AB:$AB,all_cars!$D39,week3!$AI:$AI)=0,\"\",VLOOKUP(all_cars!$D39,week3!$AB:$AJ,8,FALSE))","v":""},{"$f":"IF(SUMIF(week4!$AB:$AB,all_cars!$D39,week4!$AI:$AI)=0,\"\",VLOOKUP(all_cars!$D39,week4!$AB:$AJ,8,FALSE))","v":""},{"$f":"IF(SUMIF(week5!$AB:$AB,all_cars!$D39,week5!$AI:$AI)=0,\"\",VLOOKUP(all_cars!$D39,week5!$AB:$AJ,8,FALSE))","v":""},null,{"$f":"IF(SUMIF(week1!$AB:$AB,all_cars!$D39,week1!$AJ:$AJ)=0,\"\",VLOOKUP(all_cars!$D39,week1!$AB:$AJ,9,FALSE))","v":""},{"$f":"IF(SUMIF(week2!$AB:$AB,all_cars!$D39,week2!$AJ:$AJ)=0,\"\",VLOOKUP(all_cars!$D39,week2!$AB:$AJ,9,FALSE))","v":""},{"$f":"IF(SUMIF(week3!$AB:$AB,all_cars!$D39,week3!$AJ:$AJ)=0,\"\",VLOOKUP(all_cars!$D39,week3!$AB:$AJ,9,FALSE))","v":96.028985507246361},{"$f":"IF(SUMIF(week4!$AB:$AB,all_cars!$D39,week4!$AJ:$AJ)=0,\"\",VLOOKUP(all_cars!$D39,week4!$AB:$AJ,9,FALSE))","v":""},{"$f":"IF(SUMIF(week5!$AB:$AB,all_cars!$D39,week5!$AJ:$AJ)=0,\"\",VLOOKUP(all_cars!$D39,week5!$AB:$AJ,9,FALSE))","v":""},null,null,null,"Matic                     ","Chukie                    "]
[null,null,34,"Serif                     ",null,94.710624631316776,90.772417689338056,null,92.741521160327409,null,{"$f":"IF(SUMIF(week1!$AB:$AB,all_cars!$D40,week1!$AF:$AF)=0,\"\",VLOOKUP(all_cars!$D40,week1!$AB:$AJ,5,FALSE))","v":94.710624631316776},{"$f":"IF(SUMIF(week2!$AB:$AB,all_cars!$D40,week2!$AF:$AF)=0,\"\",VLOOKUP(all_cars!$D40,week2!$AB:$AJ,5,FALSE))","v":""},{"$f":"IF(SUMIF(week3!$AB:$AB,all_cars!$D40,week3!$AF:$AF)=0,\"\",VLOOKUP(all_cars!$D40,week3!$AB:$AJ,5,FALSE))","v":""},{"$f":"IF(SUMIF(week4!$AB:$AB,all_cars!$D40,week4!$AF:$AF)=0,\"\",VLOOKUP(all_cars!$D40,week4!$AB:$AJ,5,FALSE))","v":""},{"$f":"IF(SUMIF(week5!$AB:$AB,all_cars!$D40,week5!$AF:$AF)=0,\"\",VLOOKUP(all_cars!$D40,week5!$AB:$AJ,5,FALSE))","v":""},null,{"$f":"IF(SUMIF(week1!$AB:$AB,all_cars!$D40,week1!$AG:$AG)=0,\"\",VLOOKUP(all_cars!$D40,week1!$AB:$AJ,6,FALSE))","v":""},{"$f":"IF(SUMIF(week2!$AB:$AB,all_cars!$D40,week2!$AG:$AG)=0,\"\",VLOOKUP(all_cars!$D40,week2!$AB:$AJ,6,FALSE))","v":""},{"$f":"IF(SUMIF(week3!$AB:$AB,all_cars!$D40,week3!$AG:$AG)=0,\"\",VLOOKUP(all_cars!$D40,week3!$AB:$AJ,6,FALSE))","v":""},{"$f":"IF(SUMIF(week4!$AB:$AB,all_cars!$D40,week4!$AG:$AG)=0,\"\",VLOOKUP(all_cars!$D40,week4!$AB:$AJ,6,FALSE))","v":""},{"$f":"IF(SUMIF(week5!$AB:$AB,all_cars!$D40,week5!$AG:$AG)=0,\"\",VLOOKUP(all_cars!$D40,week5!$AB:$AJ,6,FALSE))","v":""},null,{"$f":"IF(SUMIF(week1!$AB:$AB,all_cars!$D40,week1!$AH:$AH)=0,\"\",VLOOKUP(all_cars!$D40,week1!$AB:$AJ,7,FALSE))","v":""},{"$f":"IF(SUMIF(week2!$AB:$AB,all_cars!$D40,week2!$AH:$AH)=0,\"\",VLOOKUP(all_cars!$D40,week2!$AB:$AJ,7,FALSE))","v":""},{"$f":"IF(SUMIF(week3!$AB:$AB,all_cars!$D40,week3!$AH:$AH)=0,\"\",VLOOKUP(all_cars!$D40,week3!$AB:$AJ,7,FALSE))","v":""},{"$f":"IF(SUMIF(week4!$AB:$AB,all_cars!$D40,week4!$AH:$AH)=0,\"\",VLOOKUP(all_cars!$D40,week4!$AB:$AJ,7,FALSE))","v":""},{"$f":"IF(SUMIF(week5!$AB:$AB,all_cars!$D40,week5!$AH:$AH)=0,\"\",VLOOKUP(all_cars!$D40,week5!$AB:$AJ,7,FALSE))","v":""},null,{"$f":"IF(SUMIF(week1!$AB:$AB,all_cars!$D40,week1!$AI:$AI)=0,\"\",VLOOKUP(all_cars!$D40,week1!$AB:$AJ,8,FALSE))","v":90.772417689338056},{"$f":"IF(SUMIF(week2!$AB:$AB,all_cars!$D40,week2!$AI:$AI)=0,\"\",VLOOKUP(all_cars!$D40,week2!$AB:$AJ,8,FALSE))","v":""},{"$f":"IF(SUMIF(week3!$AB:$AB,all_cars!$D40,week3!$AI:$AI)=0,\"\",VLOOKUP(all_cars!$D40,week3!$AB:$AJ,8,FALSE))","v":""},{"$f":"IF(SUMIF(week4!$AB:$AB,all_cars!$D40,week4!$AI:$AI)=0,\"\",VLOOKUP(all_cars!$D40,week4!$AB:$AJ,8,FALSE))","v":""},{"$f":"IF(SUMIF(week5!$AB:$AB,all_cars!$D40,week5!$AI:$AI)=0,\"\",VLOOKUP(all_cars!$D40,week5!$AB:$AJ,8,FALSE))","v":""},null,{"$f":"IF(SUMIF(week1!$AB:$AB,all_cars!$D40,week1!$AJ:$AJ)=0,\"\",VLOOKUP(all_cars!$D40,week1!$AB:$AJ,9,FALSE))","v":""},{"$f":"IF(SUMIF(week2!$AB:$AB,all_cars!$D40,week2!$AJ:$AJ)=0,\"\",VLOOKUP(all_cars!$D40,week2!$AB:$AJ,9,FALSE))","v":""},{"$f":"IF(SUMIF(week3!$AB:$AB,all_cars!$D40,week3!$AJ:$AJ)=0,\"\",VLOOKUP(all_cars!$D40,week3!$AB:$AJ,9,FALSE))","v":""},{"$f":"IF(SUMIF(week4!$AB:$AB,all_cars!$D40,week4!$AJ:$AJ)=0,\"\",VLOOKUP(all_cars!$D40,week4!$AB:$AJ,9,FALSE))","v":""},{"$f":"IF(SUMIF(week5!$AB:$AB,all_cars!$D40,week5!$AJ:$AJ)=0,\"\",VLOOKUP(all_cars!$D40,week5!$AB:$AJ,9,FALSE))","v":""},null,null,null,"Serif                     ","[+] xzeal                 "]
[null,null,35,"Augusto                   ",null,97.939891533594448,53.297671491504097,null,91.377198466051695,null,{"$f":"IF(SUMIF(week1!$AB:$AB,all_cars!$D41,week1!$AF:$AF)=0,\"\",VLOOKUP(all_cars!$D41,week1!$AB:$AJ,5,FALSE))","v":97.204561840466667},{"$f":"IF(SUMIF(week2!$AB:$AB,all_cars!$D41,week2!$AF:$AF)=0,\"\",VLOOKUP(all_cars!$D41,week2!$AB:$AJ,5,FALSE))","v":""},{"$f":"IF(SUMIF(week3!$AB:$AB,all_cars!$D41,week3!$AF:$AF)=0,\"\",VLOOKUP(all_cars!$D41,week3!$AB:$AJ,5,FALSE))","v":97.939891533594448},{"$f":"IF(SUMIF(week4!$AB:$AB,all_cars!$D41,week4!$AF:$AF)=0,\"\",VLOOKUP(all_cars!$D41,week4!$AB:$AJ,5,FALSE))","v":96.408571641902483},{"$f":"IF(SUMIF(week5!$AB:$AB,all_cars!$D41,week5!$AF:$AF)=0,\"\",VLOOKUP(all_cars!$D41,week5!$AB:$AJ,5,FALSE))","v":""},null,{"$f":"IF(SUMIF(week1!$AB:$AB,all_cars!$D41,week1!$AG:$AG)=0,\"\",VLOOKUP(all_cars!$D41,week1!$AB:$AJ,6,FALSE))","v":""},{"$f":"IF(SUMIF(week2!$AB:$AB,all_cars!$D41,week2!$AG:$AG)=0,\"\",VLOOKUP(all_cars!$D41,week2!$AB:$AJ,6,FALSE))","v":""},{"$f":"IF(SUMIF(week3!$AB:$AB,all_cars!$D41,week3!$AG:$AG)=0,\"\",VLOOKUP(all_cars!$D41,week3!$AB:$AJ,6,FALSE))","v":94.859019363605469},{"$f":"IF(SUMIF(week4!$AB:$AB,all_cars!$D41,week4!$AG:$AG)=0,\"\",VLOOKUP(all_cars!$D41,week4!$AB:$AJ,6,FALSE))","v":94.253411586792922},{"$f":"IF(SUMIF(week5!$AB:$AB,all_cars!$D41,week5!$AG:$AG)=0,\"\",VLOOKUP(all_cars!$D41,week5!$AB:$AJ,6,FALSE))","v":""},null,{"$f":"IF(SUMIF(week1!$AB:$AB,all_cars!$D41,week1!$AH:$AH)=0,\"\",VLOOKUP(all_cars!$D41,week1!$AB:$AJ,7,FALSE))","v":53.297671491504097},{"$f":"IF(SUMIF(week2!$AB:$AB,all_cars!$D41,week2!$AH:$AH)=0,\"\",VLOOKUP(all_cars!$D41,week2!$AB:$AJ,7,FALSE))","v":""},{"$f":"IF(SUMIF(week3!$AB:$AB,all_cars!$D41,week3!$AH:$AH)=0,\"\",VLOOKUP(all_cars!$D41,week3!$AB:$AJ,7,FALSE))","v":""},{"$f":"IF(SUMIF(week4!$AB:$AB,all_cars!$D41,week4!$AH:$AH)=0,\"\",VLOOKUP(all_cars!$D41,week4!$AB:$AJ,7,FALSE))","v":""},{"$f":"IF(SUMIF(week5!$AB:$AB,all_cars!$D41,week5!$AH:$AH)=0,\"\",VLOOKUP(all_cars!$D41,week5!$AB:$AJ,7,FALSE))","v":""},null,{"$f":"IF(SUMIF(week1!$AB:$AB,all_cars!$D41,week1!$AI:$AI)=0,\"\",VLOOKUP(all_cars!$D41,week1!$AB:$AJ,8,FALSE))","v":96.073569567810168},{"$f":"IF(SUMIF(week2!$AB:$AB,all_cars!$D41,week2!$AI:$AI)=0,\"\",VLOOKUP(all_cars!$D41,week2!$AB:$AJ,8,FALSE))","v":""},{"$f":"IF(SUMIF(week3!$AB:$AB,all_cars!$D41,week3!$AI:$AI)=0,\"\",VLOOKUP(all_cars!$D41,week3!$AB:$AJ,8,FALSE))","v":95.820427517112151},{"$f":"IF(SUMIF(week4!$AB:$AB,all_cars!$D41,week4!$AI:$AI)=0,\"\",VLOOKUP(all_cars!$D41,week4!$AB:$AJ,8,FALSE))","v":92.543222432079034},{"$f":"IF(SUMIF(week5!$AB:$AB,all_cars!$D41,week5!$AI:$AI)=0,\"\",VLOOKUP(all_cars!$D41,week5!$AB:$AJ,8,FALSE))","v":94.198111514020042},null,{"$f":"IF(SUMIF(week1!$AB:$AB,all_cars!$D41,week1!$AJ:$AJ)=0,\"\",VLOOKUP(all_cars!$D41,week1!$AB:$AJ,9,FALSE))","v":""},{"$f":"IF(SUMIF(week2!$AB:$AB,all_cars!$D41,week2!$AJ:$AJ)=0,\"\",VLOOKUP(all_cars!$D41,week2!$AB:$AJ,9,FALSE))","v":""},{"$f":"IF(SUMIF(week3!$AB:$AB,all_cars!$D41,week3!$AJ:$AJ)=0,\"\",VLOOKUP(all_cars!$D41,week3!$AB:$AJ,9,FALSE))","v":92.550724637681142},{"$f":"IF(SUMIF(week4!$AB:$AB,all_cars!$D41,week4!$AJ:$AJ)=0,\"\",VLOOKUP(all_cars!$D41,week4!$AB:$AJ,9,FALSE))","v":""},{"$f":"IF(SUMIF(week5!$AB:$AB,all_cars!$D41,week5!$AJ:$AJ)=0,\"\",VLOOKUP(all_cars!$D41,week5!$AB:$AJ,9,FALSE))","v":""},null,null,null,"Augusto                   ","Matic                     "]
[null,null,36,"NBA                       ",null,96.817585301837269,85.85861745386299,null,91.438596206127386,null,{"$f":"IF(SUMIF(week1!$AB:$AB,all_cars!$D42,week1!$AF:$AF)=0,\"\",VLOOKUP(all_cars!$D42,week1!$AB:$AJ,5,FALSE))","v":95.490594481221734},{"$f":"IF(SUMIF(week2!$AB:$AB,all_cars!$D42,week2!$AF:$AF)=0,\"\",VLOOKUP(all_cars!$D42,week2!$AB:$AJ,5,FALSE))","v":96.817585301837269},{"$f":"IF(SUMIF(week3!$AB:$AB,all_cars!$D42,week3!$AF:$AF)=0,\"\",VLOOKUP(all_cars!$D42,week3!$AB:$AJ,5,FALSE))","v":""},{"$f":"IF(SUMIF(week4!$AB:$AB,all_cars!$D42,week4!$AF:$AF)=0,\"\",VLOOKUP(all_cars!$D42,week4!$AB:$AJ,5,FALSE))","v":""},{"$f":"IF(SUMIF(week5!$AB:$AB,all_cars!$D42,week5!$AF:$AF)=0,\"\",VLOOKUP(all_cars!$D42,week5!$AB:$AJ,5,FALSE))","v":""},null,{"$f":"IF(SUMIF(week1!$AB:$AB,all_cars!$D42,week1!$AG:$AG)=0,\"\",VLOOKUP(all_cars!$D42,week1!$AB:$AJ,6,FALSE))","v":85.85861745386299},{"$f":"IF(SUMIF(week2!$AB:$AB,all_cars!$D42,week2!$AG:$AG)=0,\"\",VLOOKUP(all_cars!$D42,week2!$AB:$AJ,6,FALSE))","v":87.587587587587592},{"$f":"IF(SUMIF(week3!$AB:$AB,all_cars!$D42,week3!$AG:$AG)=0,\"\",VLOOKUP(all_cars!$D42,week3!$AB:$AJ,6,FALSE))","v":""},{"$f":"IF(SUMIF(week4!$AB:$AB,all_cars!$D42,week4!$AG:$AG)=0,\"\",VLOOKUP(all_cars!$D42,week4!$AB:$AJ,6,FALSE))","v":""},{"$f":"IF(SUMIF(week5!$AB:$AB,all_cars!$D42,week5!$AG:$AG)=0,\"\",VLOOKUP(all_cars!$D42,week5!$AB:$AJ,6,FALSE))","v":""},null,{"$f":"IF(SUMIF(week1!$AB:$AB,all_cars!$D42,week1!$AH:$AH)=0,\"\",VLOOKUP(all_cars!$D42,week1!$AB:$AJ,7,FALSE))","v":""},{"$f":"IF(SUMIF(week2!$AB:$AB,all_cars!$D42,week2!$AH:$AH)=0,\"\",VLOOKUP(all_cars!$D42,week2!$AB:$AJ,7,FALSE))","v":""},{"$f":"IF(SUMIF(week3!$AB:$AB,all_cars!$D42,week3!$AH:$AH)=0,\"\",VLOOKUP(all_cars!$D42,week3!$AB:$AJ,7,FALSE))","v":""},{"$f":"IF(SUMIF(week4!$AB:$AB,all_cars!$D42,week4!$AH:$AH)=0,\"\",VLOOKUP(all_cars!$D42,week4!$AB:$AJ,7,FALSE))","v":""},{"$f":"IF(SUMIF(week5!$AB:$AB,all_cars!$D42,week5!$AH:$AH)=0,\"\",VLOOKUP(all_cars!$D42,week5!$AB:$AJ,7,FALSE))","v":""},null,{"$f":"IF(SUMIF(week1!$AB:$AB,all_cars!$D42,week1!$AI:$AI)=0,\"\",VLOOKUP(all_cars!$D42,week1!$AB:$AJ,8,FALSE))","v":""},{"$f":"IF(SUMIF(week2!$AB:$AB,all_cars!$D42,week2!$AI:$AI)=0,\"\",VLOOKUP(all_cars!$D42,week2!$AB:$AJ,8,FALSE))","v":""},{"$f":"IF(SUMIF(week3!$AB:$AB,all_cars!$D42,week3!$AI:$AI)=0,\"\",VLOOKUP(all_cars!$D42,week3!$AB:$AJ,8,FALSE))","v":""},{"$f":"IF(SUMIF(week4!$AB:$AB,all_cars!$D42,week4!$AI:$AI)=0,\"\",VLOOKUP(all_cars!$D42,week4!$AB:$AJ,8,FALSE))","v":""},{"$f":"IF(SUMIF(week5!$AB:$AB,all_cars!$D42,week5!$AI:$AI)=0,\"\",VLOOKUP(all_cars!$D42,week5!$AB:$AJ,8,FALSE))","v":""},null,{"$f":"IF(SUMIF(week1!$AB:$AB,all_cars!$D42,week1!$AJ:$AJ)=0,\"\",VLOOKUP(all_cars!$D42,week1!$AB:$AJ,9,FALSE))","v":""},{"$f":"IF(SUMIF(week2!$AB:$AB,all_cars!$D42,week2!$AJ:$AJ)=0,\"\",VLOOKUP(all_cars!$D42,week2!$AB:$AJ,9,FALSE))","v":""},{"$f":"IF(SUMIF(week3!$AB:$AB,all_cars!$D42,week3!$AJ:$AJ)=0,\"\",VLOOKUP(all_cars!$D42,week3!$AB:$AJ,9,FALSE))","v":""},{"$f":"IF(SUMIF(week4!$AB:$AB,all_cars!$D42,week4!$AJ:$AJ)=0,\"\",VLOOKUP(all_cars!$D42,week4!$AB:$AJ,9,FALSE))","v":""},{"$f":"IF(SUMIF(week5!$AB:$AB,all_cars!$D42,week5!$AJ:$AJ)=0,\"\",VLOOKUP(all_cars!$D42,week5!$AB:$AJ,9,FALSE))","v":""},null,null,null,"NBA                       ","Serif                     "]
[null,null,37,"Pro08                     ",null,95.893688143147401,95.893688143147401,null,95.893688143147401,null,{"$f":"IF(SUMIF(week1!$AB:$AB,all_cars!$D43,week1!$AF:$AF)=0,\"\",VLOOKUP(all_cars!$D43,week1!$AB:$AJ,5,FALSE))","v":95.893688143147401},{"$f":"IF(SUMIF(week2!$AB:$AB,all_cars!$D43,week2!$AF:$AF)=0,\"\",VLOOKUP(all_cars!$D43,week2!$AB:$AJ,5,FALSE))","v":""},{"$f":"IF(SUMIF(week3!$AB:$AB,all_cars!$D43,week3!$AF:$AF)=0,\"\",VLOOKUP(all_cars!$D43,week3!$AB:$AJ,5,FALSE))","v":""},{"$f":"IF(SUMIF(week4!$AB:$AB,all_cars!$D43,week4!$AF:$AF)=0,\"\",VLOOKUP(all_cars!$D43,week4!$AB:$AJ,5,FALSE))","v":""},{"$f":"IF(SUMIF(week5!$AB:$AB,all_cars!$D43,week5!$AF:$AF)=0,\"\",VLOOKUP(all_cars!$D43,week5!$AB:$AJ,5,FALSE))","v":""},null,{"$f":"IF(SUMIF(week1!$AB:$AB,all_cars!$D43,week1!$AG:$AG)=0,\"\",VLOOKUP(all_cars!$D43,week1!$AB:$AJ,6,FALSE))","v":""},{"$f":"IF(SUMIF(week2!$AB:$AB,all_cars!$D43,week2!$AG:$AG)=0,\"\",VLOOKUP(all_cars!$D43,week2!$AB:$AJ,6,FALSE))","v":""},{"$f":"IF(SUMIF(week3!$AB:$AB,all_cars!$D43,week3!$AG:$AG)=0,\"\",VLOOKUP(all_cars!$D43,week3!$AB:$AJ,6,FALSE))","v":""},{"$f":"IF(SUMIF(week4!$AB:$AB,all_cars!$D43,week4!$AG:$AG)=0,\"\",VLOOKUP(all_cars!$D43,week4!$AB:$AJ,6,FALSE))","v":""},{"$f":"IF(SUMIF(week5!$AB:$AB,all_cars!$D43,week5!$AG:$AG)=0,\"\",VLOOKUP(all_cars!$D43,week5!$AB:$AJ,6,FALSE))","v":""},null,{"$f":"IF(SUMIF(week1!$AB:$AB,all_cars!$D43,week1!$AH:$AH)=0,\"\",VLOOKUP(all_cars!$D43,week1!$AB:$AJ,7,FALSE))","v":""},{"$f":"IF(SUMIF(week2!$AB:$AB,all_cars!$D43,week2!$AH:$AH)=0,\"\",VLOOKUP(all_cars!$D43,week2!$AB:$AJ,7,FALSE))","v":""},{"$f":"IF(SUMIF(week3!$AB:$AB,all_cars!$D43,week3!$AH:$AH)=0,\"\",VLOOKUP(all_cars!$D43,week3!$AB:$AJ,7,FALSE))","v":""},{"$f":"IF(SUMIF(week4!$AB:$AB,all_cars!$D43,week4!$AH:$AH)=0,\"\",VLOOKUP(all_cars!$D43,week4!$AB:$AJ,7,FALSE))","v":""},{"$f":"IF(SUMIF(week5!$AB:$AB,all_cars!$D43,week5!$AH:$AH)=0,\"\",VLOOKUP(all_cars!$D43,week5!$AB:$AJ,7,FALSE))","v":""},null,{"$f":"IF(SUMIF(week1!$AB:$AB,all_cars!$D43,week1!$AI:$AI)=0,\"\",VLOOKUP(all_cars!$D43,week1!$AB:$AJ,8,FALSE))","v":""},{"$f":"IF(SUMIF(week2!$AB:$AB,all_cars!$D43,week2!$AI:$AI)=0,\"\",VLOOKUP(all_cars!$D43,week2!$AB:$AJ,8,FALSE))","v":""},{"$f":"IF(SUMIF(week3!$AB:$AB,all_cars!$D43,week3!$AI:$AI)=0,\"\",VLOOKUP(all_cars!$D43,week3!$AB:$AJ,8,FALSE))","v":""},{"$f":"IF(SUMIF(week4!$AB:$AB,all_cars!$D43,week4!$AI:$AI)=0,\"\",VLOOKUP(all_cars!$D43,week4!$AB:$AJ,8,FALSE))","v":""},{"$f":"IF(SUMIF(week5!$AB:$AB,all_cars!$D43,week5!$AI:$AI)=0,\"\",VLOOKUP(all_cars!$D43,week5!$AB:$AJ,8,FALSE))","v":""},null,{"$f":"IF(SUMIF(week1!$AB:$AB,all_cars!$D43,week1!$AJ:$AJ)=0,\"\",VLOOKUP(all_cars!$D43,week1!$AB:$AJ,9,FALSE))","v":""},{"$f":"IF(SUMIF(week2!$AB:$AB,all_cars!$D43,week2!$AJ:$AJ)=0,\"\",VLOOKUP(all_cars!$D43,week2!$AB:$AJ,9,FALSE))","v":""},{"$f":"IF(SUMIF(week3!$AB:$AB,all_cars!$D43,week3!$AJ:$AJ)=0,\"\",VLOOKUP(all_cars!$D43,week3!$AB:$AJ,9,FALSE))","v":""},{"$f":"IF(SUMIF(week4!$AB:$AB,all_cars!$D43,week4!$AJ:$AJ)=0,\"\",VLOOKUP(all_cars!$D43,week4!$AB:$AJ,9,FALSE))","v":""},{"$f":"IF(SUMIF(week5!$AB:$AB,all_cars!$D43,week5!$AJ:$AJ)=0,\"\",VLOOKUP(all_cars!$D43,week5!$AB:$AJ,9,FALSE))","v":""},null,null,null,"Pro08                     ","Augusto                   "]
[null,null,38,"RiantHoff                 ",null,97.691322687556493,75.420706912730665,null,89.337151951172814,null,{"$f":"IF(SUMIF(week1!$AB:$AB,all_cars!$D44,week1!$AF:$AF)=0,\"\",VLOOKUP(all_cars!$D44,week1!$AB:$AJ,5,FALSE))","v":94.854820738021886},{"$f":"IF(SUMIF(week2!$AB:$AB,all_cars!$D44,week2!$AF:$AF)=0,\"\",VLOOKUP(all_cars!$D44,week2!$AB:$AJ,5,FALSE))","v":""},{"$f":"IF(SUMIF(week3!$AB:$AB,all_cars!$D44,week3!$AF:$AF)=0,\"\",VLOOKUP(all_cars!$D44,week3!$AB:$AJ,5,FALSE))","v":97.691322687556493},{"$f":"IF(SUMIF(week4!$AB:$AB,all_cars!$D44,week4!$AF:$AF)=0,\"\",VLOOKUP(all_cars!$D44,week4!$AB:$AJ,5,FALSE))","v":97.610692152617048},{"$f":"IF(SUMIF(week5!$AB:$AB,all_cars!$D44,week5!$AF:$AF)=0,\"\",VLOOKUP(all_cars!$D44,week5!$AB:$AJ,5,FALSE))","v":""},null,{"$f":"IF(SUMIF(week1!$AB:$AB,all_cars!$D44,week1!$AG:$AG)=0,\"\",VLOOKUP(all_cars!$D44,week1!$AB:$AJ,6,FALSE))","v":75.420706912730665},{"$f":"IF(SUMIF(week2!$AB:$AB,all_cars!$D44,week2!$AG:$AG)=0,\"\",VLOOKUP(all_cars!$D44,week2!$AB:$AJ,6,FALSE))","v":""},{"$f":"IF(SUMIF(week3!$AB:$AB,all_cars!$D44,week3!$AG:$AG)=0,\"\",VLOOKUP(all_cars!$D44,week3!$AB:$AJ,6,FALSE))","v":81.108217264937906},{"$f":"IF(SUMIF(week4!$AB:$AB,all_cars!$D44,week4!$AG:$AG)=0,\"\",VLOOKUP(all_cars!$D44,week4!$AB:$AJ,6,FALSE))","v":""},{"$f":"IF(SUMIF(week5!$AB:$AB,all_cars!$D44,week5!$AG:$AG)=0,\"\",VLOOKUP(all_cars!$D44,week5!$AB:$AJ,6,FALSE))","v":""},null,{"$f":"IF(SUMIF(week1!$AB:$AB,all_cars!$D44,week1!$AH:$AH)=0,\"\",VLOOKUP(all_cars!$D44,week1!$AB:$AJ,7,FALSE))","v":""},{"$f":"IF(SUMIF(week2!$AB:$AB,all_cars!$D44,week2!$AH:$AH)=0,\"\",VLOOKUP(all_cars!$D44,week2!$AB:$AJ,7,FALSE))","v":""},{"$f":"IF(SUMIF(week3!$AB:$AB,all_cars!$D44,week3!$AH:$AH)=0,\"\",VLOOKUP(all_cars!$D44,week3!$AB:$AJ,7,FALSE))","v":""},{"$f":"IF(SUMIF(week4!$AB:$AB,all_cars!$D44,week4!$AH:$AH)=0,\"\",VLOOKUP(all_cars!$D44,week4!$AB:$AJ,7,FALSE))","v":""},{"$f":"IF(SUMIF(week5!$AB:$AB,all_cars!$D44,week5!$AH:$AH)=0,\"\",VLOOKUP(all_cars!$D44,week5!$AB:$AJ,7,FALSE))","v":""},null,{"$f":"IF(SUMIF(week1!$AB:$AB,all_cars!$D44,week1!$AI:$AI)=0,\"\",VLOOKUP(all_cars!$D44,week1!$AB:$AJ,8,FALSE))","v":""},{"$f":"IF(SUMIF(week2!$AB:$AB,all_cars!$D44,week2!$AI:$AI)=0,\"\",VLOOKUP(all_cars!$D44,week2!$AB:$AJ,8,FALSE))","v":""},{"$f":"IF(SUMIF(week3!$AB:$AB,all_cars!$D44,week3!$AI:$AI)=0,\"\",VLOOKUP(all_cars!$D44,week3!$AB:$AJ,8,FALSE))","v":""},{"$f":"IF(SUMIF(week4!$AB:$AB,all_cars!$D44,week4!$AI:$AI)=0,\"\",VLOOKUP(all_cars!$D44,week4!$AB:$AJ,8,FALSE))","v":""},{"$f":"IF(SUMIF(week5!$AB:$AB,all_cars!$D44,week5!$AI:$AI)=0,\"\",VLOOKUP(all_cars!$D44,week5!$AB:$AJ,8,FALSE))","v":""},null,{"$f":"IF(SUMIF(week1!$AB:$AB,all_cars!$D44,week1!$AJ:$AJ)=0,\"\",VLOOKUP(all_cars!$D44,week1!$AB:$AJ,9,FALSE))","v":""},{"$f":"IF(SUMIF(week2!$AB:$AB,all_cars!$D44,week2!$AJ:$AJ)=0,\"\",VLOOKUP(all_cars!$D44,week2!$AB:$AJ,9,FALSE))","v":""},{"$f":"IF(SUMIF(week3!$AB:$AB,all_cars!$D44,week3!$AJ:$AJ)=0,\"\",VLOOKUP(all_cars!$D44,week3!$AB:$AJ,9,FALSE))","v":""},{"$f":"IF(SUMIF(week4!$AB:$AB,all_cars!$D44,week4!$AJ:$AJ)=0,\"\",VLOOKUP(all_cars!$D44,week4!$AB:$AJ,9,FALSE))","v":""},{"$f":"IF(SUMIF(week5!$AB:$AB,all_cars!$D44,week5!$AJ:$AJ)=0,\"\",VLOOKUP(all_cars!$D44,week5!$AB:$AJ,9,FALSE))","v":""},null,null,null,"RiantHoff                 ","NBA                       "]
[null,null,39,"CrazybikE                 ",null,97.627952755905511,94.625417840991005,null,96.407194638053582,null,{"$f":"IF(SUMIF(week1!$AB:$AB,all_cars!$D45,week1!$AF:$AF)=0,\"\",VLOOKUP(all_cars!$D45,week1!$AB:$AJ,5,FALSE))","v":94.625417840991005},{"$f":"IF(SUMIF(week2!$AB:$AB,all_cars!$D45,week2!$AF:$AF)=0,\"\",VLOOKUP(all_cars!$D45,week2!$AB:$AJ,5,FALSE))","v":97.627952755905511},{"$f":"IF(SUMIF(week3!$AB:$AB,all_cars!$D45,week3!$AF:$AF)=0,\"\",VLOOKUP(all_cars!$D45,week3!$AB:$AJ,5,FALSE))","v":96.968213317264244},{"$f":"IF(SUMIF(week4!$AB:$AB,all_cars!$D45,week4!$AF:$AF)=0,\"\",VLOOKUP(all_cars!$D45,week4!$AB:$AJ,5,FALSE))","v":""},{"$f":"IF(SUMIF(week5!$AB:$AB,all_cars!$D45,week5!$AF:$AF)=0,\"\",VLOOKUP(all_cars!$D45,week5!$AB:$AJ,5,FALSE))","v":""},null,{"$f":"IF(SUMIF(week1!$AB:$AB,all_cars!$D45,week1!$AG:$AG)=0,\"\",VLOOKUP(all_cars!$D45,week1!$AB:$AJ,6,FALSE))","v":""},{"$f":"IF(SUMIF(week2!$AB:$AB,all_cars!$D45,week2!$AG:$AG)=0,\"\",VLOOKUP(all_cars!$D45,week2!$AB:$AJ,6,FALSE))","v":""},{"$f":"IF(SUMIF(week3!$AB:$AB,all_cars!$D45,week3!$AG:$AG)=0,\"\",VLOOKUP(all_cars!$D45,week3!$AB:$AJ,6,FALSE))","v":""},{"$f":"IF(SUMIF(week4!$AB:$AB,all_cars!$D45,week4!$AG:$AG)=0,\"\",VLOOKUP(all_cars!$D45,week4!$AB:$AJ,6,FALSE))","v":""},{"$f":"IF(SUMIF(week5!$AB:$AB,all_cars!$D45,week5!$AG:$AG)=0,\"\",VLOOKUP(all_cars!$D45,week5!$AB:$AJ,6,FALSE))","v":""},null,{"$f":"IF(SUMIF(week1!$AB:$AB,all_cars!$D45,week1!$AH:$AH)=0,\"\",VLOOKUP(all_cars!$D45,week1!$AB:$AJ,7,FALSE))","v":""},{"$f":"IF(SUMIF(week2!$AB:$AB,all_cars!$D45,week2!$AH:$AH)=0,\"\",VLOOKUP(all_cars!$D45,week2!$AB:$AJ,7,FALSE))","v":""},{"$f":"IF(SUMIF(week3!$AB:$AB,all_cars!$D45,week3!$AH:$AH)=0,\"\",VLOOKUP(all_cars!$D45,week3!$AB:$AJ,7,FALSE))","v":""},{"$f":"IF(SUMIF(week4!$AB:$AB,all_cars!$D45,week4!$AH:$AH)=0,\"\",VLOOKUP(all_cars!$D45,week4!$AB:$AJ,7,FALSE))","v":""},{"$f":"IF(SUMIF(week5!$AB:$AB,all_cars!$D45,week5!$AH:$AH)=0,\"\",VLOOKUP(all_cars!$D45,week5!$AB:$AJ,7,FALSE))","v":""},null,{"$f":"IF(SUMIF(week1!$AB:$AB,all_cars!$D45,week1!$AI:$AI)=0,\"\",VLOOKUP(all_cars!$D45,week1!$AB:$AJ,8,FALSE))","v":""},{"$f":"IF(SUMIF(week2!$AB:$AB,all_cars!$D45,week2!$AI:$AI)=0,\"\",VLOOKUP(all_cars!$D45,week2!$AB:$AJ,8,FALSE))","v":""},{"$f":"IF(SUMIF(week3!$AB:$AB,all_cars!$D45,week3!$AI:$AI)=0,\"\",VLOOKUP(all_cars!$D45,week3!$AB:$AJ,8,FALSE))","v":""},{"$f":"IF(SUMIF(week4!$AB:$AB,all_cars!$D45,week4!$AI:$AI)=0,\"\",VLOOKUP(all_cars!$D45,week4!$AB:$AJ,8,FALSE))","v":""},{"$f":"IF(SUMIF(week5!$AB:$AB,all_cars!$D45,week5!$AI:$AI)=0,\"\",VLOOKUP(all_cars!$D45,week5!$AB:$AJ,8,FALSE))","v":""},null,{"$f":"IF(SUMIF(week1!$AB:$AB,all_cars!$D45,week1!$AJ:$AJ)=0,\"\",VLOOKUP(all_cars!$D45,week1!$AB:$AJ,9,FALSE))","v":""},{"$f":"IF(SUMIF(week2!$AB:$AB,all_cars!$D45,week2!$AJ:$AJ)=0,\"\",VLOOKUP(all_cars!$D45,week2!$AB:$AJ,9,FALSE))","v":""},{"$f":"IF(SUMIF(week3!$AB:$AB,all_cars!$D45,week3!$AJ:$AJ)=0,\"\",VLOOKUP(all_cars!$D45,week3!$AB:$AJ,9,FALSE))","v":""},{"$f":"IF(SUMIF(week4!$AB:$AB,all_cars!$D45,week4!$AJ:$AJ)=0,\"\",VLOOKUP(all_cars!$D45,week4!$AB:$AJ,9,FALSE))","v":""},{"$f":"IF(SUMIF(week5!$AB:$AB,all_cars!$D45,week5!$AJ:$AJ)=0,\"\",VLOOKUP(all_cars!$D45,week5!$AB:$AJ,9,FALSE))","v":""},null,null,null,"CrazybikE                 ","Augusto                   "]
[null,null,40,"Sharp                     ",null,94.573302783967847,94.573302783967847,null,94.573302783967847,null,{"$f":"IF(SUMIF(week1!$AB:$AB,all_cars!$D46,week1!$AF:$AF)=0,\"\",VLOOKUP(all_cars!$D46,week1!$AB:$AJ,5,FALSE))","v":""},{"$f":"IF(SUMIF(week2!$AB:$AB,all_cars!$D46,week2!$AF:$AF)=0,\"\",VLOOKUP(all_cars!$D46,week2!$AB:$AJ,5,FALSE))","v":""},{"$f":"IF(SUMIF(week3!$AB:$AB,all_cars!$D46,week3!$AF:$AF)=0,\"\",VLOOKUP(all_cars!$D46,week3!$AB:$AJ,5,FALSE))","v":""},{"$f":"IF(SUMIF(week4!$AB:$AB,all_cars!$D46,week4!$AF:$AF)=0,\"\",VLOOKUP(all_cars!$D46,week4!$AB:$AJ,5,FALSE))","v":""},{"$f":"IF(SUMIF(week5!$AB:$AB,all_cars!$D46,week5!$AF:$AF)=0,\"\",VLOOKUP(all_cars!$D46,week5!$AB:$AJ,5,FALSE))","v":""},null,{"$f":"IF(SUMIF(week1!$AB:$AB,all_cars!$D46,week1!$AG:$AG)=0,\"\",VLOOKUP(all_cars!$D46,week1!$AB:$AJ,6,FALSE))","v":""},{"$f":"IF(SUMIF(week2!$AB:$AB,all_cars!$D46,week2!$AG:$AG)=0,\"\",VLOOKUP(all_cars!$D46,week2!$AB:$AJ,6,FALSE))","v":""},{"$f":"IF(SUMIF(week3!$AB:$AB,all_cars!$D46,week3!$AG:$AG)=0,\"\",VLOOKUP(all_cars!$D46,week3!$AB:$AJ,6,FALSE))","v":""},{"$f":"IF(SUMIF(week4!$AB:$AB,all_cars!$D46,week4!$AG:$AG)=0,\"\",VLOOKUP(all_cars!$D46,week4!$AB:$AJ,6,FALSE))","v":""},{"$f":"IF(SUMIF(week5!$AB:$AB,all_cars!$D46,week5!$AG:$AG)=0,\"\",VLOOKUP(all_cars!$D46,week5!$AB:$AJ,6,FALSE))","v":""},null,{"$f":"IF(SUMIF(week1!$AB:$AB,all_cars!$D46,week1!$AH:$AH)=0,\"\",VLOOKUP(all_cars!$D46,week1!$AB:$AJ,7,FALSE))","v":""},{"$f":"IF(SUMIF(week2!$AB:$AB,all_cars!$D46,week2!$AH:$AH)=0,\"\",VLOOKUP(all_cars!$D46,week2!$AB:$AJ,7,FALSE))","v":""},{"$f":"IF(SUMIF(week3!$AB:$AB,all_cars!$D46,week3!$AH:$AH)=0,\"\",VLOOKUP(all_cars!$D46,week3!$AB:$AJ,7,FALSE))","v":""},{"$f":"IF(SUMIF(week4!$AB:$AB,all_cars!$D46,week4!$AH:$AH)=0,\"\",VLOOKUP(all_cars!$D46,week4!$AB:$AJ,7,FALSE))","v":""},{"$f":"IF(SUMIF(week5!$AB:$AB,all_cars!$D46,week5!$AH:$AH)=0,\"\",VLOOKUP(all_cars!$D46,week5!$AB:$AJ,7,FALSE))","v":""},null,{"$f":"IF(SUMIF(week1!$AB:$AB,all_cars!$D46,week1!$AI:$AI)=0,\"\",VLOOKUP(all_cars!$D46,week1!$AB:$AJ,8,FALSE))","v":94.573302783967847},{"$f":"IF(SUMIF(week2!$AB:$AB,all_cars!$D46,week2!$AI:$AI)=0,\"\",VLOOKUP(all_cars!$D46,week2!$AB:$AJ,8,FALSE))","v":""},{"$f":"IF(SUMIF(week3!$AB:$AB,all_cars!$D46,week3!$AI:$AI)=0,\"\",VLOOKUP(all_cars!$D46,week3!$AB:$AJ,8,FALSE))","v":""},{"$f":"IF(SUMIF(week4!$AB:$AB,all_cars!$D46,week4!$AI:$AI)=0,\"\",VLOOKUP(all_cars!$D46,week4!$AB:$AJ,8,FALSE))","v":""},{"$f":"IF(SUMIF(week5!$AB:$AB,all_cars!$D46,week5!$AI:$AI)=0,\"\",VLOOKUP(all_cars!$D46,week5!$AB:$AJ,8,FALSE))","v":""},null,{"$f":"IF(SUMIF(week1!$AB:$AB,all_cars!$D46,week1!$AJ:$AJ)=0,\"\",VLOOKUP(all_cars!$D46,week1!$AB:$AJ,9,FALSE))","v":""},{"$f":"IF(SUMIF(week2!$AB:$AB,all_cars!$D46,week2!$AJ:$AJ)=0,\"\",VLOOKUP(all_cars!$D46,week2!$AB:$AJ,9,FALSE))","v":""},{"$f":"IF(SUMIF(week3!$AB:$AB,all_cars!$D46,week3!$AJ:$AJ)=0,\"\",VLOOKUP(all_cars!$D46,week3!$AB:$AJ,9,FALSE))","v":""},{"$f":"IF(SUMIF(week4!$AB:$AB,all_cars!$D46,week4!$AJ:$AJ)=0,\"\",VLOOKUP(all_cars!$D46,week4!$AB:$AJ,9,FALSE))","v":""},{"$f":"IF(SUMIF(week5!$AB:$AB,all_cars!$D46,week5!$AJ:$AJ)=0,\"\",VLOOKUP(all_cars!$D46,week5!$AB:$AJ,9,FALSE))","v":""},null,null,null,"Sharp                     ","Pro08                     "]
[null,null,41,"[+] Eddie                 ",null,94.253295511429997,94.253295511429997,null,94.253295511429997,null,{"$f":"IF(SUMIF(week1!$AB:$AB,all_cars!$D47,week1!$AF:$AF)=0,\"\",VLOOKUP(all_cars!$D47,week1!$AB:$AJ,5,FALSE))","v":""},{"$f":"IF(SUMIF(week2!$AB:$AB,all_cars!$D47,week2!$AF:$AF)=0,\"\",VLOOKUP(all_cars!$D47,week2!$AB:$AJ,5,FALSE))","v":""},{"$f":"IF(SUMIF(week3!$AB:$AB,all_cars!$D47,week3!$AF:$AF)=0,\"\",VLOOKUP(all_cars!$D47,week3!$AB:$AJ,5,FALSE))","v":""},{"$f":"IF(SUMIF(week4!$AB:$AB,all_cars!$D47,week4!$AF:$AF)=0,\"\",VLOOKUP(all_cars!$D47,week4!$AB:$AJ,5,FALSE))","v":""},{"$f":"IF(SUMIF(week5!$AB:$AB,all_cars!$D47,week5!$AF:$AF)=0,\"\",VLOOKUP(all_cars!$D47,week5!$AB:$AJ,5,FALSE))","v":""},null,{"$f":"IF(SUMIF(week1!$AB:$AB,all_cars!$D47,week1!$AG:$AG)=0,\"\",VLOOKUP(all_cars!$D47,week1!$AB:$AJ,6,FALSE))","v":""},{"$f":"IF(SUMIF(week2!$AB:$AB,all_cars!$D47,week2!$AG:$AG)=0,\"\",VLOOKUP(all_cars!$D47,week2!$AB:$AJ,6,FALSE))","v":""},{"$f":"IF(SUMIF(week3!$AB:$AB,all_cars!$D47,week3!$AG:$AG)=0,\"\",VLOOKUP(all_cars!$D47,week3!$AB:$AJ,6,FALSE))","v":""},{"$f":"IF(SUMIF(week4!$AB:$AB,all_cars!$D47,week4!$AG:$AG)=0,\"\",VLOOKUP(all_cars!$D47,week4!$AB:$AJ,6,FALSE))","v":""},{"$f":"IF(SUMIF(week5!$AB:$AB,all_cars!$D47,week5!$AG:$AG)=0,\"\",VLOOKUP(all_cars!$D47,week5!$AB:$AJ,6,FALSE))","v":""},null,{"$f":"IF(SUMIF(week1!$AB:$AB,all_cars!$D47,week1!$AH:$AH)=0,\"\",VLOOKUP(all_cars!$D47,week1!$AB:$AJ,7,FALSE))","v":""},{"$f":"IF(SUMIF(week2!$AB:$AB,all_cars!$D47,week2!$AH:$AH)=0,\"\",VLOOKUP(all_cars!$D47,week2!$AB:$AJ,7,FALSE))","v":""},{"$f":"IF(SUMIF(week3!$AB:$AB,all_cars!$D47,week3!$AH:$AH)=0,\"\",VLOOKUP(all_cars!$D47,week3!$AB:$AJ,7,FALSE))","v":""},{"$f":"IF(SUMIF(week4!$AB:$AB,all_cars!$D47,week4!$AH:$AH)=0,\"\",VLOOKUP(all_cars!$D47,week4!$AB:$AJ,7,FALSE))","v":""},{"$f":"IF(SUMIF(week5!$AB:$AB,all_cars!$D47,week5!$AH:$AH)=0,\"\",VLOOKUP(all_cars!$D47,week5!$AB:$AJ,7,FALSE))","v":""},null,{"$f":"IF(SUMIF(week1!$AB:$AB,all_cars!$D47,week1!$AI:$AI)=0,\"\",VLOOKUP(all_cars!$D47,week1!$AB:$AJ,8,FALSE))","v":""},{"$f":"IF(SUMIF(week2!$AB:$AB,all_cars!$D47,week2!$AI:$AI)=0,\"\",VLOOKUP(all_cars!$D47,week2!$AB:$AJ,8,FALSE))","v":""},{"$f":"IF(SUMIF(week3!$AB:$AB,all_cars!$D47,week3!$AI:$AI)=0,\"\",VLOOKUP(all_cars!$D47,week3!$AB:$AJ,8,FALSE))","v":""},{"$f":"IF(SUMIF(week4!$AB:$AB,all_cars!$D47,week4!$AI:$AI)=0,\"\",VLOOKUP(all_cars!$D47,week4!$AB:$AJ,8,FALSE))","v":""},{"$f":"IF(SUMIF(week5!$AB:$AB,all_cars!$D47,week5!$AI:$AI)=0,\"\",VLOOKUP(all_cars!$D47,week5!$AB:$AJ,8,FALSE))","v":""},null,{"$f":"IF(SUMIF(week1!$AB:$AB,all_cars!$D47,week1!$AJ:$AJ)=0,\"\",VLOOKUP(all_cars!$D47,week1!$AB:$AJ,9,FALSE))","v":94.253295511429997},{"$f":"IF(SUMIF(week2!$AB:$AB,all_cars!$D47,week2!$AJ:$AJ)=0,\"\",VLOOKUP(all_cars!$D47,week2!$AB:$AJ,9,FALSE))","v":""},{"$f":"IF(SUMIF(week3!$AB:$AB,all_cars!$D47,week3!$AJ:$AJ)=0,\"\",VLOOKUP(all_cars!$D47,week3!$AB:$AJ,9,FALSE))","v":""},{"$f":"IF(SUMIF(week4!$AB:$AB,all_cars!$D47,week4!$AJ:$AJ)=0,\"\",VLOOKUP(all_cars!$D47,week4!$AB:$AJ,9,FALSE))","v":""},{"$f":"IF(SUMIF(week5!$AB:$AB,all_cars!$D47,week5!$AJ:$AJ)=0,\"\",VLOOKUP(all_cars!$D47,week5!$AB:$AJ,9,FALSE))","v":""},null,null,null,"[+] Eddie                 ","lds                       "]
[null,null,42,"Fama                      ",null,92.631233595800524,87.388620056732861,null,90.83628085152813,null,{"$f":"IF(SUMIF(week1!$AB:$AB,all_cars!$D48,week1!$AF:$AF)=0,\"\",VLOOKUP(all_cars!$D48,week1!$AB:$AJ,5,FALSE))","v":90.866487513928021},{"$f":"IF(SUMIF(week2!$AB:$AB,all_cars!$D48,week2!$AF:$AF)=0,\"\",VLOOKUP(all_cars!$D48,week2!$AB:$AJ,5,FALSE))","v":92.631233595800524},{"$f":"IF(SUMIF(week3!$AB:$AB,all_cars!$D48,week3!$AF:$AF)=0,\"\",VLOOKUP(all_cars!$D48,week3!$AB:$AJ,5,FALSE))","v":""},{"$f":"IF(SUMIF(week4!$AB:$AB,all_cars!$D48,week4!$AF:$AF)=0,\"\",VLOOKUP(all_cars!$D48,week4!$AB:$AJ,5,FALSE))","v":""},{"$f":"IF(SUMIF(week5!$AB:$AB,all_cars!$D48,week5!$AF:$AF)=0,\"\",VLOOKUP(all_cars!$D48,week5!$AB:$AJ,5,FALSE))","v":""},null,{"$f":"IF(SUMIF(week1!$AB:$AB,all_cars!$D48,week1!$AG:$AG)=0,\"\",VLOOKUP(all_cars!$D48,week1!$AB:$AJ,6,FALSE))","v":""},{"$f":"IF(SUMIF(week2!$AB:$AB,all_cars!$D48,week2!$AG:$AG)=0,\"\",VLOOKUP(all_cars!$D48,week2!$AB:$AJ,6,FALSE))","v":91.510865704414101},{"$f":"IF(SUMIF(week3!$AB:$AB,all_cars!$D48,week3!$AG:$AG)=0,\"\",VLOOKUP(all_cars!$D48,week3!$AB:$AJ,6,FALSE))","v":""},{"$f":"IF(SUMIF(week4!$AB:$AB,all_cars!$D48,week4!$AG:$AG)=0,\"\",VLOOKUP(all_cars!$D48,week4!$AB:$AJ,6,FALSE))","v":""},{"$f":"IF(SUMIF(week5!$AB:$AB,all_cars!$D48,week5!$AG:$AG)=0,\"\",VLOOKUP(all_cars!$D48,week5!$AB:$AJ,6,FALSE))","v":""},null,{"$f":"IF(SUMIF(week1!$AB:$AB,all_cars!$D48,week1!$AH:$AH)=0,\"\",VLOOKUP(all_cars!$D48,week1!$AB:$AJ,7,FALSE))","v":""},{"$f":"IF(SUMIF(week2!$AB:$AB,all_cars!$D48,week2!$AH:$AH)=0,\"\",VLOOKUP(all_cars!$D48,week2!$AB:$AJ,7,FALSE))","v":91.784197386765214},{"$f":"IF(SUMIF(week3!$AB:$AB,all_cars!$D48,week3!$AH:$AH)=0,\"\",VLOOKUP(all_cars!$D48,week3!$AB:$AJ,7,FALSE))","v":""},{"$f":"IF(SUMIF(week4!$AB:$AB,all_cars!$D48,week4!$AH:$AH)=0,\"\",VLOOKUP(all_cars!$D48,week4!$AB:$AJ,7,FALSE))","v":""},{"$f":"IF(SUMIF(week5!$AB:$AB,all_cars!$D48,week5!$AH:$AH)=0,\"\",VLOOKUP(all_cars!$D48,week5!$AB:$AJ,7,FALSE))","v":""},null,{"$f":"IF(SUMIF(week1!$AB:$AB,all_cars!$D48,week1!$AI:$AI)=0,\"\",VLOOKUP(all_cars!$D48,week1!$AB:$AJ,8,FALSE))","v":""},{"$f":"IF(SUMIF(week2!$AB:$AB,all_cars!$D48,week2!$AI:$AI)=0,\"\",VLOOKUP(all_cars!$D48,week2!$AB:$AJ,8,FALSE))","v":""},{"$f":"IF(SUMIF(week3!$AB:$AB,all_cars!$D48,week3!$AI:$AI)=0,\"\",VLOOKUP(all_cars!$D48,week3!$AB:$AJ,8,FALSE))","v":""},{"$f":"IF(SUMIF(week4!$AB:$AB,all_cars!$D48,week4!$AI:$AI)=0,\"\",VLOOKUP(all_cars!$D48,week4!$AB:$AJ,8,FALSE))","v":""},{"$f":"IF(SUMIF(week5!$AB:$AB,all_cars!$D48,week5!$AI:$AI)=0,\"\",VLOOKUP(all_cars!$D48,week5!$AB:$AJ,8,FALSE))","v":""},null,{"$f":"IF(SUMIF(week1!$AB:$AB,all_cars!$D48,week1!$AJ:$AJ)=0,\"\",VLOOKUP(all_cars!$D48,week1!$AB:$AJ,9,FALSE))","v":87.388620056732861},{"$f":"IF(SUMIF(week2!$AB:$AB,all_cars!$D48,week2!$AJ:$AJ)=0,\"\",VLOOKUP(all_cars!$D48,week2!$AB:$AJ,9,FALSE))","v":""},{"$f":"IF(SUMIF(week3!$AB:$AB,all_cars!$D48,week3!$AJ:$AJ)=0,\"\",VLOOKUP(all_cars!$D48,week3!$AB:$AJ,9,FALSE))","v":""},{"$f":"IF(SUMIF(week4!$AB:$AB,all_cars!$D48,week4!$AJ:$AJ)=0,\"\",VLOOKUP(all_cars!$D48,week4!$AB:$AJ,9,FALSE))","v":""},{"$f":"IF(SUMIF(week5!$AB:$AB,all_cars!$D48,week5!$AJ:$AJ)=0,\"\",VLOOKUP(all_cars!$D48,week5!$AB:$AJ,9,FALSE))","v":""},null,null,null,"Fama                      ","RiantHoff                 "]
[null,null,43,"Rubao                     ",null,92.77760400375351,92.77760400375351,null,92.77760400375351,null,{"$f":"IF(SUMIF(week1!$AB:$AB,all_cars!$D49,week1!$AF:$AF)=0,\"\",VLOOKUP(all_cars!$D49,week1!$AB:$AJ,5,FALSE))","v":""},{"$f":"IF(SUMIF(week2!$AB:$AB,all_cars!$D49,week2!$AF:$AF)=0,\"\",VLOOKUP(all_cars!$D49,week2!$AB:$AJ,5,FALSE))","v":""},{"$f":"IF(SUMIF(week3!$AB:$AB,all_cars!$D49,week3!$AF:$AF)=0,\"\",VLOOKUP(all_cars!$D49,week3!$AB:$AJ,5,FALSE))","v":""},{"$f":"IF(SUMIF(week4!$AB:$AB,all_cars!$D49,week4!$AF:$AF)=0,\"\",VLOOKUP(all_cars!$D49,week4!$AB:$AJ,5,FALSE))","v":""},{"$f":"IF(SUMIF(week5!$AB:$AB,all_cars!$D49,week5!$AF:$AF)=0,\"\",VLOOKUP(all_cars!$D49,week5!$AB:$AJ,5,FALSE))","v":""},null,{"$f":"IF(SUMIF(week1!$AB:$AB,all_cars!$D49,week1!$AG:$AG)=0,\"\",VLOOKUP(all_cars!$D49,week1!$AB:$AJ,6,FALSE))","v":92.77760400375351},{"$f":"IF(SUMIF(week2!$AB:$AB,all_cars!$D49,week2!$AG:$AG)=0,\"\",VLOOKUP(all_cars!$D49,week2!$AB:$AJ,6,FALSE))","v":""},{"$f":"IF(SUMIF(week3!$AB:$AB,all_cars!$D49,week3!$AG:$AG)=0,\"\",VLOOKUP(all_cars!$D49,week3!$AB:$AJ,6,FALSE))","v":""},{"$f":"IF(SUMIF(week4!$AB:$AB,all_cars!$D49,week4!$AG:$AG)=0,\"\",VLOOKUP(all_cars!$D49,week4!$AB:$AJ,6,FALSE))","v":""},{"$f":"IF(SUMIF(week5!$AB:$AB,all_cars!$D49,week5!$AG:$AG)=0,\"\",VLOOKUP(all_cars!$D49,week5!$AB:$AJ,6,FALSE))","v":""},null,{"$f":"IF(SUMIF(week1!$AB:$AB,all_cars!$D49,week1!$AH:$AH)=0,\"\",VLOOKUP(all_cars!$D49,week1!$AB:$AJ,7,FALSE))","v":""},{"$f":"IF(SUMIF(week2!$AB:$AB,all_cars!$D49,week2!$AH:$AH)=0,\"\",VLOOKUP(all_cars!$D49,week2!$AB:$AJ,7,FALSE))","v":""},{"$f":"IF(SUMIF(week3!$AB:$AB,all_cars!$D49,week3!$AH:$AH)=0,\"\",VLOOKUP(all_cars!$D49,week3!$AB:$AJ,7,FALSE))","v":""},{"$f":"IF(SUMIF(week4!$AB:$AB,all_cars!$D49,week4!$AH:$AH)=0,\"\",VLOOKUP(all_cars!$D49,week4!$AB:$AJ,7,FALSE))","v":""},{"$f":"IF(SUMIF(week5!$AB:$AB,all_cars!$D49,week5!$AH:$AH)=0,\"\",VLOOKUP(all_cars!$D49,week5!$AB:$AJ,7,FALSE))","v":""},null,{"$f":"IF(SUMIF(week1!$AB:$AB,all_cars!$D49,week1!$AI:$AI)=0,\"\",VLOOKUP(all_cars!$D49,week1!$AB:$AJ,8,FALSE))","v":""},{"$f":"IF(SUMIF(week2!$AB:$AB,all_cars!$D49,week2!$AI:$AI)=0,\"\",VLOOKUP(all_cars!$D49,week2!$AB:$AJ,8,FALSE))","v":""},{"$f":"IF(SUMIF(week3!$AB:$AB,all_cars!$D49,week3!$AI:$AI)=0,\"\",VLOOKUP(all_cars!$D49,week3!$AB:$AJ,8,FALSE))","v":""},{"$f":"IF(SUMIF(week4!$AB:$AB,all_cars!$D49,week4!$AI:$AI)=0,\"\",VLOOKUP(all_cars!$D49,week4!$AB:$AJ,8,FALSE))","v":""},{"$f":"IF(SUMIF(week5!$AB:$AB,all_cars!$D49,week5!$AI:$AI)=0,\"\",VLOOKUP(all_cars!$D49,week5!$AB:$AJ,8,FALSE))","v":""},null,{"$f":"IF(SUMIF(week1!$AB:$AB,all_cars!$D49,week1!$AJ:$AJ)=0,\"\",VLOOKUP(all_cars!$D49,week1!$AB:$AJ,9,FALSE))","v":""},{"$f":"IF(SUMIF(week2!$AB:$AB,all_cars!$D49,week2!$AJ:$AJ)=0,\"\",VLOOKUP(all_cars!$D49,week2!$AB:$AJ,9,FALSE))","v":""},{"$f":"IF(SUMIF(week3!$AB:$AB,all_cars!$D49,week3!$AJ:$AJ)=0,\"\",VLOOKUP(all_cars!$D49,week3!$AB:$AJ,9,FALSE))","v":""},{"$f":"IF(SUMIF(week4!$AB:$AB,all_cars!$D49,week4!$AJ:$AJ)=0,\"\",VLOOKUP(all_cars!$D49,week4!$AB:$AJ,9,FALSE))","v":""},{"$f":"IF(SUMIF(week5!$AB:$AB,all_cars!$D49,week5!$AJ:$AJ)=0,\"\",VLOOKUP(all_cars!$D49,week5!$AB:$AJ,9,FALSE))","v":""},null,null,null,"Rubao                     ","CrazybikE                 "]
[null,null,44,"Jim                       ",null,89.65392934390772,82.830778855176717,null,86.242354099542212,null,{"$f":"IF(SUMIF(week1!$AB:$AB,all_cars!$D50,week1!$AF:$AF)=0,\"\",VLOOKUP(all_cars!$D50,week1!$AB:$AJ,5,FALSE))","v":89.65392934390772},{"$f":"IF(SUMIF(week2!$AB:$AB,all_cars!$D50,week2!$AF:$AF)=0,\"\",VLOOKUP(all_cars!$D50,week2!$AB:$AJ,5,FALSE))","v":""},{"$f":"IF(SUMIF(week3!$AB:$AB,all_cars!$D50,week3!$AF:$AF)=0,\"\",VLOOKUP(all_cars!$D50,week3!$AB:$AJ,5,FALSE))","v":""},{"$f":"IF(SUMIF(week4!$AB:$AB,all_cars!$D50,week4!$AF:$AF)=0,\"\",VLOOKUP(all_cars!$D50,week4!$AB:$AJ,5,FALSE))","v":""},{"$f":"IF(SUMIF(week5!$AB:$AB,all_cars!$D50,week5!$AF:$AF)=0,\"\",VLOOKUP(all_cars!$D50,week5!$AB:$AJ,5,FALSE))","v":""},null,{"$f":"IF(SUMIF(week1!$AB:$AB,all_cars!$D50,week1!$AG:$AG)=0,\"\",VLOOKUP(all_cars!$D50,week1!$AB:$AJ,6,FALSE))","v":82.830778855176717},{"$f":"IF(SUMIF(week2!$AB:$AB,all_cars!$D50,week2!$AG:$AG)=0,\"\",VLOOKUP(all_cars!$D50,week2!$AB:$AJ,6,FALSE))","v":""},{"$f":"IF(SUMIF(week3!$AB:$AB,all_cars!$D50,week3!$AG:$AG)=0,\"\",VLOOKUP(all_cars!$D50,week3!$AB:$AJ,6,FALSE))","v":""},{"$f":"IF(SUMIF(week4!$AB:$AB,all_cars!$D50,week4!$AG:$AG)=0,\"\",VLOOKUP(all_cars!$D50,week4!$AB:$AJ,6,FALSE))","v":""},{"$f":"IF(SUMIF(week5!$AB:$AB,all_cars!$D50,week5!$AG:$AG)=0,\"\",VLOOKUP(all_cars!$D50,week5!$AB:$AJ,6,FALSE))","v":""},null,{"$f":"IF(SUMIF(week1!$AB:$AB,all_cars!$D50,week1!$AH:$AH)=0,\"\",VLOOKUP(all_cars!$D50,week1!$AB:$AJ,7,FALSE))","v":""},{"$f":"IF(SUMIF(week2!$AB:$AB,all_cars!$D50,week2!$AH:$AH)=0,\"\",VLOOKUP(all_cars!$D50,week2!$AB:$AJ,7,FALSE))","v":""},{"$f":"IF(SUMIF(week3!$AB:$AB,all_cars!$D50,week3!$AH:$AH)=0,\"\",VLOOKUP(all_cars!$D50,week3!$AB:$AJ,7,FALSE))","v":""},{"$f":"IF(SUMIF(week4!$AB:$AB,all_cars!$D50,week4!$AH:$AH)=0,\"\",VLOOKUP(all_cars!$D50,week4!$AB:$AJ,7,FALSE))","v":""},{"$f":"IF(SUMIF(week5!$AB:$AB,all_cars!$D50,week5!$AH:$AH)=0,\"\",VLOOKUP(all_cars!$D50,week5!$AB:$AJ,7,FALSE))","v":""},null,{"$f":"IF(SUMIF(week1!$AB:$AB,all_cars!$D50,week1!$AI:$AI)=0,\"\",VLOOKUP(all_cars!$D50,week1!$AB:$AJ,8,FALSE))","v":""},{"$f":"IF(SUMIF(week2!$AB:$AB,all_cars!$D50,week2!$AI:$AI)=0,\"\",VLOOKUP(all_cars!$D50,week2!$AB:$AJ,8,FALSE))","v":""},{"$f":"IF(SUMIF(week3!$AB:$AB,all_cars!$D50,week3!$AI:$AI)=0,\"\",VLOOKUP(all_cars!$D50,week3!$AB:$AJ,8,FALSE))","v":""},{"$f":"IF(SUMIF(week4!$AB:$AB,all_cars!$D50,week4!$AI:$AI)=0,\"\",VLOOKUP(all_cars!$D50,week4!$AB:$AJ,8,FALSE))","v":""},{"$f":"IF(SUMIF(week5!$AB:$AB,all_cars!$D50,week5!$AI:$AI)=0,\"\",VLOOKUP(all_cars!$D50,week5!$AB:$AJ,8,FALSE))","v":""},null,{"$f":"IF(SUMIF(week1!$AB:$AB,all_cars!$D50,week1!$AJ:$AJ)=0,\"\",VLOOKUP(all_cars!$D50,week1!$AB:$AJ,9,FALSE))","v":""},{"$f":"IF(SUMIF(week2!$AB:$AB,all_cars!$D50,week2!$AJ:$AJ)=0,\"\",VLOOKUP(all_cars!$D50,week2!$AB:$AJ,9,FALSE))","v":""},{"$f":"IF(SUMIF(week3!$AB:$AB,all_cars!$D50,week3!$AJ:$AJ)=0,\"\",VLOOKUP(all_cars!$D50,week3!$AB:$AJ,9,FALSE))","v":""},{"$f":"IF(SUMIF(week4!$AB:$AB,all_cars!$D50,week4!$AJ:$AJ)=0,\"\",VLOOKUP(all_cars!$D50,week4!$AB:$AJ,9,FALSE))","v":""},{"$f":"IF(SUMIF(week5!$AB:$AB,all_cars!$D50,week5!$AJ:$AJ)=0,\"\",VLOOKUP(all_cars!$D50,week5!$AB:$AJ,9,FALSE))","v":""},null,null,null,"Jim                       ","Sharp                     "]
[null,null,45,"#5 Burnout                ",null,91.299708107090169,91.299708107090169,null,91.299708107090169,null,{"$f":"IF(SUMIF(week1!$AB:$AB,all_cars!$D51,week1!$AF:$AF)=0,\"\",VLOOKUP(all_cars!$D51,week1!$AB:$AJ,5,FALSE))","v":""},{"$f":"IF(SUMIF(week2!$AB:$AB,all_cars!$D51,week2!$AF:$AF)=0,\"\",VLOOKUP(all_cars!$D51,week2!$AB:$AJ,5,FALSE))","v":""},{"$f":"IF(SUMIF(week3!$AB:$AB,all_cars!$D51,week3!$AF:$AF)=0,\"\",VLOOKUP(all_cars!$D51,week3!$AB:$AJ,5,FALSE))","v":""},{"$f":"IF(SUMIF(week4!$AB:$AB,all_cars!$D51,week4!$AF:$AF)=0,\"\",VLOOKUP(all_cars!$D51,week4!$AB:$AJ,5,FALSE))","v":""},{"$f":"IF(SUMIF(week5!$AB:$AB,all_cars!$D51,week5!$AF:$AF)=0,\"\",VLOOKUP(all_cars!$D51,week5!$AB:$AJ,5,FALSE))","v":""},null,{"$f":"IF(SUMIF(week1!$AB:$AB,all_cars!$D51,week1!$AG:$AG)=0,\"\",VLOOKUP(all_cars!$D51,week1!$AB:$AJ,6,FALSE))","v":""},{"$f":"IF(SUMIF(week2!$AB:$AB,all_cars!$D51,week2!$AG:$AG)=0,\"\",VLOOKUP(all_cars!$D51,week2!$AB:$AJ,6,FALSE))","v":""},{"$f":"IF(SUMIF(week3!$AB:$AB,all_cars!$D51,week3!$AG:$AG)=0,\"\",VLOOKUP(all_cars!$D51,week3!$AB:$AJ,6,FALSE))","v":""},{"$f":"IF(SUMIF(week4!$AB:$AB,all_cars!$D51,week4!$AG:$AG)=0,\"\",VLOOKUP(all_cars!$D51,week4!$AB:$AJ,6,FALSE))","v":""},{"$f":"IF(SUMIF(week5!$AB:$AB,all_cars!$D51,week5!$AG:$AG)=0,\"\",VLOOKUP(all_cars!$D51,week5!$AB:$AJ,6,FALSE))","v":""},null,{"$f":"IF(SUMIF(week1!$AB:$AB,all_cars!$D51,week1!$AH:$AH)=0,\"\",VLOOKUP(all_cars!$D51,week1!$AB:$AJ,7,FALSE))","v":""},{"$f":"IF(SUMIF(week2!$AB:$AB,all_cars!$D51,week2!$AH:$AH)=0,\"\",VLOOKUP(all_cars!$D51,week2!$AB:$AJ,7,FALSE))","v":""},{"$f":"IF(SUMIF(week3!$AB:$AB,all_cars!$D51,week3!$AH:$AH)=0,\"\",VLOOKUP(all_cars!$D51,week3!$AB:$AJ,7,FALSE))","v":""},{"$f":"IF(SUMIF(week4!$AB:$AB,all_cars!$D51,week4!$AH:$AH)=0,\"\",VLOOKUP(all_cars!$D51,week4!$AB:$AJ,7,FALSE))","v":""},{"$f":"IF(SUMIF(week5!$AB:$AB,all_cars!$D51,week5!$AH:$AH)=0,\"\",VLOOKUP(all_cars!$D51,week5!$AB:$AJ,7,FALSE))","v":""},null,{"$f":"IF(SUMIF(week1!$AB:$AB,all_cars!$D51,week1!$AI:$AI)=0,\"\",VLOOKUP(all_cars!$D51,week1!$AB:$AJ,8,FALSE))","v":91.299708107090169},{"$f":"IF(SUMIF(week2!$AB:$AB,all_cars!$D51,week2!$AI:$AI)=0,\"\",VLOOKUP(all_cars!$D51,week2!$AB:$AJ,8,FALSE))","v":""},{"$f":"IF(SUMIF(week3!$AB:$AB,all_cars!$D51,week3!$AI:$AI)=0,\"\",VLOOKUP(all_cars!$D51,week3!$AB:$AJ,8,FALSE))","v":""},{"$f":"IF(SUMIF(week4!$AB:$AB,all_cars!$D51,week4!$AI:$AI)=0,\"\",VLOOKUP(all_cars!$D51,week4!$AB:$AJ,8,FALSE))","v":""},{"$f":"IF(SUMIF(week5!$AB:$AB,all_cars!$D51,week5!$AI:$AI)=0,\"\",VLOOKUP(all_cars!$D51,week5!$AB:$AJ,8,FALSE))","v":""},null,{"$f":"IF(SUMIF(week1!$AB:$AB,all_cars!$D51,week1!$AJ:$AJ)=0,\"\",VLOOKUP(all_cars!$D51,week1!$AB:$AJ,9,FALSE))","v":""},{"$f":"IF(SUMIF(week2!$AB:$AB,all_cars!$D51,week2!$AJ:$AJ)=0,\"\",VLOOKUP(all_cars!$D51,week2!$AB:$AJ,9,FALSE))","v":""},{"$f":"IF(SUMIF(week3!$AB:$AB,all_cars!$D51,week3!$AJ:$AJ)=0,\"\",VLOOKUP(all_cars!$D51,week3!$AB:$AJ,9,FALSE))","v":""},{"$f":"IF(SUMIF(week4!$AB:$AB,all_cars!$D51,week4!$AJ:$AJ)=0,\"\",VLOOKUP(all_cars!$D51,week4!$AB:$AJ,9,FALSE))","v":""},{"$f":"IF(SUMIF(week5!$AB:$AB,all_cars!$D51,week5!$AJ:$AJ)=0,\"\",VLOOKUP(all_cars!$D51,week5!$AB:$AJ,9,FALSE))","v":""},null,null,null,"#5 Burnout                ","[+] Eddie                 "]
[null,null,46,"suzuck                    ",null,85.415355569540594,81.995661605206067,null,83.369161456710799,null,{"$f":"IF(SUMIF(week1!$AB:$AB,all_cars!$D52,week1!$AF:$AF)=0,\"\",VLOOKUP(all_cars!$D52,week1!$AB:$AJ,5,FALSE))","v":82.696467195385736},{"$f":"IF(SUMIF(week2!$AB:$AB,all_cars!$D52,week2!$AF:$AF)=0,\"\",VLOOKUP(all_cars!$D52,week2!$AB:$AJ,5,FALSE))","v":""},{"$f":"IF(SUMIF(week3!$AB:$AB,all_cars!$D52,week3!$AF:$AF)=0,\"\",VLOOKUP(all_cars!$D52,week3!$AB:$AJ,5,FALSE))","v":""},{"$f":"IF(SUMIF(week4!$AB:$AB,all_cars!$D52,week4!$AF:$AF)=0,\"\",VLOOKUP(all_cars!$D52,week4!$AB:$AJ,5,FALSE))","v":""},{"$f":"IF(SUMIF(week5!$AB:$AB,all_cars!$D52,week5!$AF:$AF)=0,\"\",VLOOKUP(all_cars!$D52,week5!$AB:$AJ,5,FALSE))","v":""},null,{"$f":"IF(SUMIF(week1!$AB:$AB,all_cars!$D52,week1!$AG:$AG)=0,\"\",VLOOKUP(all_cars!$D52,week1!$AB:$AJ,6,FALSE))","v":""},{"$f":"IF(SUMIF(week2!$AB:$AB,all_cars!$D52,week2!$AG:$AG)=0,\"\",VLOOKUP(all_cars!$D52,week2!$AB:$AJ,6,FALSE))","v":""},{"$f":"IF(SUMIF(week3!$AB:$AB,all_cars!$D52,week3!$AG:$AG)=0,\"\",VLOOKUP(all_cars!$D52,week3!$AB:$AJ,6,FALSE))","v":""},{"$f":"IF(SUMIF(week4!$AB:$AB,all_cars!$D52,week4!$AG:$AG)=0,\"\",VLOOKUP(all_cars!$D52,week4!$AB:$AJ,6,FALSE))","v":""},{"$f":"IF(SUMIF(week5!$AB:$AB,all_cars!$D52,week5!$AG:$AG)=0,\"\",VLOOKUP(all_cars!$D52,week5!$AB:$AJ,6,FALSE))","v":""},null,{"$f":"IF(SUMIF(week1!$AB:$AB,all_cars!$D52,week1!$AH:$AH)=0,\"\",VLOOKUP(all_cars!$D52,week1!$AB:$AJ,7,FALSE))","v":85.415355569540594},{"$f":"IF(SUMIF(week2!$AB:$AB,all_cars!$D52,week2!$AH:$AH)=0,\"\",VLOOKUP(all_cars!$D52,week2!$AB:$AJ,7,FALSE))","v":""},{"$f":"IF(SUMIF(week3!$AB:$AB,all_cars!$D52,week3!$AH:$AH)=0,\"\",VLOOKUP(all_cars!$D52,week3!$AB:$AJ,7,FALSE))","v":""},{"$f":"IF(SUMIF(week4!$AB:$AB,all_cars!$D52,week4!$AH:$AH)=0,\"\",VLOOKUP(all_cars!$D52,week4!$AB:$AJ,7,FALSE))","v":""},{"$f":"IF(SUMIF(week5!$AB:$AB,all_cars!$D52,week5!$AH:$AH)=0,\"\",VLOOKUP(all_cars!$D52,week5!$AB:$AJ,7,FALSE))","v":""},null,{"$f":"IF(SUMIF(week1!$AB:$AB,all_cars!$D52,week1!$AI:$AI)=0,\"\",VLOOKUP(all_cars!$D52,week1!$AB:$AJ,8,FALSE))","v":""},{"$f":"IF(SUMIF(week2!$AB:$AB,all_cars!$D52,week2!$AI:$AI)=0,\"\",VLOOKUP(all_cars!$D52,week2!$AB:$AJ,8,FALSE))","v":""},{"$f":"IF(SUMIF(week3!$AB:$AB,all_cars!$D52,week3!$AI:$AI)=0,\"\",VLOOKUP(all_cars!$D52,week3!$AB:$AJ,8,FALSE))","v":""},{"$f":"IF(SUMIF(week4!$AB:$AB,all_cars!$D52,week4!$AI:$AI)=0,\"\",VLOOKUP(all_cars!$D52,week4!$AB:$AJ,8,FALSE))","v":""},{"$f":"IF(SUMIF(week5!$AB:$AB,all_cars!$D52,week5!$AI:$AI)=0,\"\",VLOOKUP(all_cars!$D52,week5!$AB:$AJ,8,FALSE))","v":""},null,{"$f":"IF(SUMIF(week1!$AB:$AB,all_cars!$D52,week1!$AJ:$AJ)=0,\"\",VLOOKUP(all_cars!$D52,week1!$AB:$AJ,9,FALSE))","v":81.995661605206067},{"$f":"IF(SUMIF(week2!$AB:$AB,all_cars!$D52,week2!$AJ:$AJ)=0,\"\",VLOOKUP(all_cars!$D52,week2!$AB:$AJ,9,FALSE))","v":""},{"$f":"IF(SUMIF(week3!$AB:$AB,all_cars!$D52,week3!$AJ:$AJ)=0,\"\",VLOOKUP(all_cars!$D52,week3!$AB:$AJ,9,FALSE))","v":""},{"$f":"IF(SUMIF(week4!$AB:$AB,all_cars!$D52,week4!$AJ:$AJ)=0,\"\",VLOOKUP(all_cars!$D52,week4!$AB:$AJ,9,FALSE))","v":""},{"$f":"IF(SUMIF(week5!$AB:$AB,all_cars!$D52,week5!$AJ:$AJ)=0,\"\",VLOOKUP(all_cars!$D52,week5!$AB:$AJ,9,FALSE))","v":""},null,null,null,"suzuck                    ","Fama                      "]
[null,null,47,"Brian                     ",null,90.13450109477634,77.577602711779292,null,83.856051903277816,null,{"$f":"IF(SUMIF(week1!$AB:$AB,all_cars!$D53,week1!$AF:$AF)=0,\"\",VLOOKUP(all_cars!$D53,week1!$AB:$AJ,5,FALSE))","v":""},{"$f":"IF(SUMIF(week2!$AB:$AB,all_cars!$D53,week2!$AF:$AF)=0,\"\",VLOOKUP(all_cars!$D53,week2!$AB:$AJ,5,FALSE))","v":""},{"$f":"IF(SUMIF(week3!$AB:$AB,all_cars!$D53,week3!$AF:$AF)=0,\"\",VLOOKUP(all_cars!$D53,week3!$AB:$AJ,5,FALSE))","v":""},{"$f":"IF(SUMIF(week4!$AB:$AB,all_cars!$D53,week4!$AF:$AF)=0,\"\",VLOOKUP(all_cars!$D53,week4!$AB:$AJ,5,FALSE))","v":""},{"$f":"IF(SUMIF(week5!$AB:$AB,all_cars!$D53,week5!$AF:$AF)=0,\"\",VLOOKUP(all_cars!$D53,week5!$AB:$AJ,5,FALSE))","v":""},null,{"$f":"IF(SUMIF(week1!$AB:$AB,all_cars!$D53,week1!$AG:$AG)=0,\"\",VLOOKUP(all_cars!$D53,week1!$AB:$AJ,6,FALSE))","v":90.13450109477634},{"$f":"IF(SUMIF(week2!$AB:$AB,all_cars!$D53,week2!$AG:$AG)=0,\"\",VLOOKUP(all_cars!$D53,week2!$AB:$AJ,6,FALSE))","v":""},{"$f":"IF(SUMIF(week3!$AB:$AB,all_cars!$D53,week3!$AG:$AG)=0,\"\",VLOOKUP(all_cars!$D53,week3!$AB:$AJ,6,FALSE))","v":""},{"$f":"IF(SUMIF(week4!$AB:$AB,all_cars!$D53,week4!$AG:$AG)=0,\"\",VLOOKUP(all_cars!$D53,week4!$AB:$AJ,6,FALSE))","v":""},{"$f":"IF(SUMIF(week5!$AB:$AB,all_cars!$D53,week5!$AG:$AG)=0,\"\",VLOOKUP(all_cars!$D53,week5!$AB:$AJ,6,FALSE))","v":""},null,{"$f":"IF(SUMIF(week1!$AB:$AB,all_cars!$D53,week1!$AH:$AH)=0,\"\",VLOOKUP(all_cars!$D53,week1!$AB:$AJ,7,FALSE))","v":""},{"$f":"IF(SUMIF(week2!$AB:$AB,all_cars!$D53,week2!$AH:$AH)=0,\"\",VLOOKUP(all_cars!$D53,week2!$AB:$AJ,7,FALSE))","v":""},{"$f":"IF(SUMIF(week3!$AB:$AB,all_cars!$D53,week3!$AH:$AH)=0,\"\",VLOOKUP(all_cars!$D53,week3!$AB:$AJ,7,FALSE))","v":""},{"$f":"IF(SUMIF(week4!$AB:$AB,all_cars!$D53,week4!$AH:$AH)=0,\"\",VLOOKUP(all_cars!$D53,week4!$AB:$AJ,7,FALSE))","v":""},{"$f":"IF(SUMIF(week5!$AB:$AB,all_cars!$D53,week5!$AH:$AH)=0,\"\",VLOOKUP(all_cars!$D53,week5!$AB:$AJ,7,FALSE))","v":""},null,{"$f":"IF(SUMIF(week1!$AB:$AB,all_cars!$D53,week1!$AI:$AI)=0,\"\",VLOOKUP(all_cars!$D53,week1!$AB:$AJ,8,FALSE))","v":77.577602711779292},{"$f":"IF(SUMIF(week2!$AB:$AB,all_cars!$D53,week2!$AI:$AI)=0,\"\",VLOOKUP(all_cars!$D53,week2!$AB:$AJ,8,FALSE))","v":""},{"$f":"IF(SUMIF(week3!$AB:$AB,all_cars!$D53,week3!$AI:$AI)=0,\"\",VLOOKUP(all_cars!$D53,week3!$AB:$AJ,8,FALSE))","v":""},{"$f":"IF(SUMIF(week4!$AB:$AB,all_cars!$D53,week4!$AI:$AI)=0,\"\",VLOOKUP(all_cars!$D53,week4!$AB:$AJ,8,FALSE))","v":""},{"$f":"IF(SUMIF(week5!$AB:$AB,all_cars!$D53,week5!$AI:$AI)=0,\"\",VLOOKUP(all_cars!$D53,week5!$AB:$AJ,8,FALSE))","v":""},null,{"$f":"IF(SUMIF(week1!$AB:$AB,all_cars!$D53,week1!$AJ:$AJ)=0,\"\",VLOOKUP(all_cars!$D53,week1!$AB:$AJ,9,FALSE))","v":""},{"$f":"IF(SUMIF(week2!$AB:$AB,all_cars!$D53,week2!$AJ:$AJ)=0,\"\",VLOOKUP(all_cars!$D53,week2!$AB:$AJ,9,FALSE))","v":""},{"$f":"IF(SUMIF(week3!$AB:$AB,all_cars!$D53,week3!$AJ:$AJ)=0,\"\",VLOOKUP(all_cars!$D53,week3!$AB:$AJ,9,FALSE))","v":""},{"$f":"IF(SUMIF(week4!$AB:$AB,all_cars!$D53,week4!$AJ:$AJ)=0,\"\",VLOOKUP(all_cars!$D53,week4!$AB:$AJ,9,FALSE))","v":""},{"$f":"IF(SUMIF(week5!$AB:$AB,all_cars!$D53,week5!$AJ:$AJ)=0,\"\",VLOOKUP(all_cars!$D53,week5!$AB:$AJ,9,FALSE))","v":""},null,null,null,"Brian                     ","Rubao                     "]
[null,null,48,"Reinikainen               ",null,90.515049747340001,90.515049747340001,null,90.515049747340001,null,{"$f":"IF(SUMIF(week1!$AB:$AB,all_cars!$D54,week1!$AF:$AF)=0,\"\",VLOOKUP(all_cars!$D54,week1!$AB:$AJ,5,FALSE))","v":""},{"$f":"IF(SUMIF(week2!$AB:$AB,all_cars!$D54,week2!$AF:$AF)=0,\"\",VLOOKUP(all_cars!$D54,week2!$AB:$AJ,5,FALSE))","v":""},{"$f":"IF(SUMIF(week3!$AB:$AB,all_cars!$D54,week3!$AF:$AF)=0,\"\",VLOOKUP(all_cars!$D54,week3!$AB:$AJ,5,FALSE))","v":""},{"$f":"IF(SUMIF(week4!$AB:$AB,all_cars!$D54,week4!$AF:$AF)=0,\"\",VLOOKUP(all_cars!$D54,week4!$AB:$AJ,5,FALSE))","v":""},{"$f":"IF(SUMIF(week5!$AB:$AB,all_cars!$D54,week5!$AF:$AF)=0,\"\",VLOOKUP(all_cars!$D54,week5!$AB:$AJ,5,FALSE))","v":""},null,{"$f":"IF(SUMIF(week1!$AB:$AB,all_cars!$D54,week1!$AG:$AG)=0,\"\",VLOOKUP(all_cars!$D54,week1!$AB:$AJ,6,FALSE))","v":""},{"$f":"IF(SUMIF(week2!$AB:$AB,all_cars!$D54,week2!$AG:$AG)=0,\"\",VLOOKUP(all_cars!$D54,week2!$AB:$AJ,6,FALSE))","v":""},{"$f":"IF(SUMIF(week3!$AB:$AB,all_cars!$D54,week3!$AG:$AG)=0,\"\",VLOOKUP(all_cars!$D54,week3!$AB:$AJ,6,FALSE))","v":""},{"$f":"IF(SUMIF(week4!$AB:$AB,all_cars!$D54,week4!$AG:$AG)=0,\"\",VLOOKUP(all_cars!$D54,week4!$AB:$AJ,6,FALSE))","v":""},{"$f":"IF(SUMIF(week5!$AB:$AB,all_cars!$D54,week5!$AG:$AG)=0,\"\",VLOOKUP(all_cars!$D54,week5!$AB:$AJ,6,FALSE))","v":""},null,{"$f":"IF(SUMIF(week1!$AB:$AB,all_cars!$D54,week1!$AH:$AH)=0,\"\",VLOOKUP(all_cars!$D54,week1!$AB:$AJ,7,FALSE))","v":""},{"$f":"IF(SUMIF(week2!$AB:$AB,all_cars!$D54,week2!$AH:$AH)=0,\"\",VLOOKUP(all_cars!$D54,week2!$AB:$AJ,7,FALSE))","v":""},{"$f":"IF(SUMIF(week3!$AB:$AB,all_cars!$D54,week3!$AH:$AH)=0,\"\",VLOOKUP(all_cars!$D54,week3!$AB:$AJ,7,FALSE))","v":""},{"$f":"IF(SUMIF(week4!$AB:$AB,all_cars!$D54,week4!$AH:$AH)=0,\"\",VLOOKUP(all_cars!$D54,week4!$AB:$AJ,7,FALSE))","v":""},{"$f":"IF(SUMIF(week5!$AB:$AB,all_cars!$D54,week5!$AH:$AH)=0,\"\",VLOOKUP(all_cars!$D54,week5!$AB:$AJ,7,FALSE))","v":""},null,{"$f":"IF(SUMIF(week1!$AB:$AB,all_cars!$D54,week1!$AI:$AI)=0,\"\",VLOOKUP(all_cars!$D54,week1!$AB:$AJ,8,FALSE))","v":90.515049747340001},{"$f":"IF(SUMIF(week2!$AB:$AB,all_cars!$D54,week2!$AI:$AI)=0,\"\",VLOOKUP(all_cars!$D54,week2!$AB:$AJ,8,FALSE))","v":""},{"$f":"IF(SUMIF(week3!$AB:$AB,all_cars!$D54,week3!$AI:$AI)=0,\"\",VLOOKUP(all_cars!$D54,week3!$AB:$AJ,8,FALSE))","v":""},{"$f":"IF(SUMIF(week4!$AB:$AB,all_cars!$D54,week4!$AI:$AI)=0,\"\",VLOOKUP(all_cars!$D54,week4!$AB:$AJ,8,FALSE))","v":""},{"$f":"IF(SUMIF(week5!$AB:$AB,all_cars!$D54,week5!$AI:$AI)=0,\"\",VLOOKUP(all_cars!$D54,week5!$AB:$AJ,8,FALSE))","v":""},null,{"$f":"IF(SUMIF(week1!$AB:$AB,all_cars!$D54,week1!$AJ:$AJ)=0,\"\",VLOOKUP(all_cars!$D54,week1!$AB:$AJ,9,FALSE))","v":""},{"$f":"IF(SUMIF(week2!$AB:$AB,all_cars!$D54,week2!$AJ:$AJ)=0,\"\",VLOOKUP(all_cars!$D54,week2!$AB:$AJ,9,FALSE))","v":""},{"$f":"IF(SUMIF(week3!$AB:$AB,all_cars!$D54,week3!$AJ:$AJ)=0,\"\",VLOOKUP(all_cars!$D54,week3!$AB:$AJ,9,FALSE))","v":""},{"$f":"IF(SUMIF(week4!$AB:$AB,all_cars!$D54,week4!$AJ:$AJ)=0,\"\",VLOOKUP(all_cars!$D54,week4!$AB:$AJ,9,FALSE))","v":""},{"$f":"IF(SUMIF(week5!$AB:$AB,all_cars!$D54,week5!$AJ:$AJ)=0,\"\",VLOOKUP(all_cars!$D54,week5!$AB:$AJ,9,FALSE))","v":""},null,null,null,"Reinikainen               ","Jim                       "]
[null,null,49,"Niksi                     ",null,85.918048170159523,84.758796020212799,null,85.338422095186161,null,{"$f":"IF(SUMIF(week1!$AB:$AB,all_cars!$D55,week1!$AF:$AF)=0,\"\",VLOOKUP(all_cars!$D55,week1!$AB:$AJ,5,FALSE))","v":""},{"$f":"IF(SUMIF(week2!$AB:$AB,all_cars!$D55,week2!$AF:$AF)=0,\"\",VLOOKUP(all_cars!$D55,week2!$AB:$AJ,5,FALSE))","v":""},{"$f":"IF(SUMIF(week3!$AB:$AB,all_cars!$D55,week3!$AF:$AF)=0,\"\",VLOOKUP(all_cars!$D55,week3!$AB:$AJ,5,FALSE))","v":""},{"$f":"IF(SUMIF(week4!$AB:$AB,all_cars!$D55,week4!$AF:$AF)=0,\"\",VLOOKUP(all_cars!$D55,week4!$AB:$AJ,5,FALSE))","v":""},{"$f":"IF(SUMIF(week5!$AB:$AB,all_cars!$D55,week5!$AF:$AF)=0,\"\",VLOOKUP(all_cars!$D55,week5!$AB:$AJ,5,FALSE))","v":""},null,{"$f":"IF(SUMIF(week1!$AB:$AB,all_cars!$D55,week1!$AG:$AG)=0,\"\",VLOOKUP(all_cars!$D55,week1!$AB:$AJ,6,FALSE))","v":85.918048170159523},{"$f":"IF(SUMIF(week2!$AB:$AB,all_cars!$D55,week2!$AG:$AG)=0,\"\",VLOOKUP(all_cars!$D55,week2!$AB:$AJ,6,FALSE))","v":""},{"$f":"IF(SUMIF(week3!$AB:$AB,all_cars!$D55,week3!$AG:$AG)=0,\"\",VLOOKUP(all_cars!$D55,week3!$AB:$AJ,6,FALSE))","v":""},{"$f":"IF(SUMIF(week4!$AB:$AB,all_cars!$D55,week4!$AG:$AG)=0,\"\",VLOOKUP(all_cars!$D55,week4!$AB:$AJ,6,FALSE))","v":""},{"$f":"IF(SUMIF(week5!$AB:$AB,all_cars!$D55,week5!$AG:$AG)=0,\"\",VLOOKUP(all_cars!$D55,week5!$AB:$AJ,6,FALSE))","v":""},null,{"$f":"IF(SUMIF(week1!$AB:$AB,all_cars!$D55,week1!$AH:$AH)=0,\"\",VLOOKUP(all_cars!$D55,week1!$AB:$AJ,7,FALSE))","v":""},{"$f":"IF(SUMIF(week2!$AB:$AB,all_cars!$D55,week2!$AH:$AH)=0,\"\",VLOOKUP(all_cars!$D55,week2!$AB:$AJ,7,FALSE))","v":""},{"$f":"IF(SUMIF(week3!$AB:$AB,all_cars!$D55,week3!$AH:$AH)=0,\"\",VLOOKUP(all_cars!$D55,week3!$AB:$AJ,7,FALSE))","v":""},{"$f":"IF(SUMIF(week4!$AB:$AB,all_cars!$D55,week4!$AH:$AH)=0,\"\",VLOOKUP(all_cars!$D55,week4!$AB:$AJ,7,FALSE))","v":""},{"$f":"IF(SUMIF(week5!$AB:$AB,all_cars!$D55,week5!$AH:$AH)=0,\"\",VLOOKUP(all_cars!$D55,week5!$AB:$AJ,7,FALSE))","v":""},null,{"$f":"IF(SUMIF(week1!$AB:$AB,all_cars!$D55,week1!$AI:$AI)=0,\"\",VLOOKUP(all_cars!$D55,week1!$AB:$AJ,8,FALSE))","v":84.758796020212799},{"$f":"IF(SUMIF(week2!$AB:$AB,all_cars!$D55,week2!$AI:$AI)=0,\"\",VLOOKUP(all_cars!$D55,week2!$AB:$AJ,8,FALSE))","v":""},{"$f":"IF(SUMIF(week3!$AB:$AB,all_cars!$D55,week3!$AI:$AI)=0,\"\",VLOOKUP(all_cars!$D55,week3!$AB:$AJ,8,FALSE))","v":""},{"$f":"IF(SUMIF(week4!$AB:$AB,all_cars!$D55,week4!$AI:$AI)=0,\"\",VLOOKUP(all_cars!$D55,week4!$AB:$AJ,8,FALSE))","v":""},{"$f":"IF(SUMIF(week5!$AB:$AB,all_cars!$D55,week5!$AI:$AI)=0,\"\",VLOOKUP(all_cars!$D55,week5!$AB:$AJ,8,FALSE))","v":""},null,{"$f":"IF(SUMIF(week1!$AB:$AB,all_cars!$D55,week1!$AJ:$AJ)=0,\"\",VLOOKUP(all_cars!$D55,week1!$AB:$AJ,9,FALSE))","v":""},{"$f":"IF(SUMIF(week2!$AB:$AB,all_cars!$D55,week2!$AJ:$AJ)=0,\"\",VLOOKUP(all_cars!$D55,week2!$AB:$AJ,9,FALSE))","v":""},{"$f":"IF(SUMIF(week3!$AB:$AB,all_cars!$D55,week3!$AJ:$AJ)=0,\"\",VLOOKUP(all_cars!$D55,week3!$AB:$AJ,9,FALSE))","v":""},{"$f":"IF(SUMIF(week4!$AB:$AB,all_cars!$D55,week4!$AJ:$AJ)=0,\"\",VLOOKUP(all_cars!$D55,week4!$AB:$AJ,9,FALSE))","v":""},{"$f":"IF(SUMIF(week5!$AB:$AB,all_cars!$D55,week5!$AJ:$AJ)=0,\"\",VLOOKUP(all_cars!$D55,week5!$AB:$AJ,9,FALSE))","v":""},null,null,null,"Niksi                     ","#5 Burnout                "]
[null,null,50,"Lavon                     ",null,90.075519194461933,90.075519194461933,null,90.075519194461933,null,{"$f":"IF(SUMIF(week1!$AB:$AB,all_cars!$D56,week1!$AF:$AF)=0,\"\",VLOOKUP(all_cars!$D56,week1!$AB:$AJ,5,FALSE))","v":""},{"$f":"IF(SUMIF(week2!$AB:$AB,all_cars!$D56,week2!$AF:$AF)=0,\"\",VLOOKUP(all_cars!$D56,week2!$AB:$AJ,5,FALSE))","v":""},{"$f":"IF(SUMIF(week3!$AB:$AB,all_cars!$D56,week3!$AF:$AF)=0,\"\",VLOOKUP(all_cars!$D56,week3!$AB:$AJ,5,FALSE))","v":""},{"$f":"IF(SUMIF(week4!$AB:$AB,all_cars!$D56,week4!$AF:$AF)=0,\"\",VLOOKUP(all_cars!$D56,week4!$AB:$AJ,5,FALSE))","v":""},{"$f":"IF(SUMIF(week5!$AB:$AB,all_cars!$D56,week5!$AF:$AF)=0,\"\",VLOOKUP(all_cars!$D56,week5!$AB:$AJ,5,FALSE))","v":""},null,{"$f":"IF(SUMIF(week1!$AB:$AB,all_cars!$D56,week1!$AG:$AG)=0,\"\",VLOOKUP(all_cars!$D56,week1!$AB:$AJ,6,FALSE))","v":""},{"$f":"IF(SUMIF(week2!$AB:$AB,all_cars!$D56,week2!$AG:$AG)=0,\"\",VLOOKUP(all_cars!$D56,week2!$AB:$AJ,6,FALSE))","v":""},{"$f":"IF(SUMIF(week3!$AB:$AB,all_cars!$D56,week3!$AG:$AG)=0,\"\",VLOOKUP(all_cars!$D56,week3!$AB:$AJ,6,FALSE))","v":""},{"$f":"IF(SUMIF(week4!$AB:$AB,all_cars!$D56,week4!$AG:$AG)=0,\"\",VLOOKUP(all_cars!$D56,week4!$AB:$AJ,6,FALSE))","v":""},{"$f":"IF(SUMIF(week5!$AB:$AB,all_cars!$D56,week5!$AG:$AG)=0,\"\",VLOOKUP(all_cars!$D56,week5!$AB:$AJ,6,FALSE))","v":""},null,{"$f":"IF(SUMIF(week1!$AB:$AB,all_cars!$D56,week1!$AH:$AH)=0,\"\",VLOOKUP(all_cars!$D56,week1!$AB:$AJ,7,FALSE))","v":90.075519194461933},{"$f":"IF(SUMIF(week2!$AB:$AB,all_cars!$D56,week2!$AH:$AH)=0,\"\",VLOOKUP(all_cars!$D56,week2!$AB:$AJ,7,FALSE))","v":""},{"$f":"IF(SUMIF(week3!$AB:$AB,all_cars!$D56,week3!$AH:$AH)=0,\"\",VLOOKUP(all_cars!$D56,week3!$AB:$AJ,7,FALSE))","v":""},{"$f":"IF(SUMIF(week4!$AB:$AB,all_cars!$D56,week4!$AH:$AH)=0,\"\",VLOOKUP(all_cars!$D56,week4!$AB:$AJ,7,FALSE))","v":""},{"$f":"IF(SUMIF(week5!$AB:$AB,all_cars!$D56,week5!$AH:$AH)=0,\"\",VLOOKUP(all_cars!$D56,week5!$AB:$AJ,7,FALSE))","v":""},null,{"$f":"IF(SUMIF(week1!$AB:$AB,all_cars!$D56,week1!$AI:$AI)=0,\"\",VLOOKUP(all_cars!$D56,week1!$AB:$AJ,8,FALSE))","v":""},{"$f":"IF(SUMIF(week2!$AB:$AB,all_cars!$D56,week2!$AI:$AI)=0,\"\",VLOOKUP(all_cars!$D56,week2!$AB:$AJ,8,FALSE))","v":""},{"$f":"IF(SUMIF(week3!$AB:$AB,all_cars!$D56,week3!$AI:$AI)=0,\"\",VLOOKUP(all_cars!$D56,week3!$AB:$AJ,8,FALSE))","v":""},{"$f":"IF(SUMIF(week4!$AB:$AB,all_cars!$D56,week4!$AI:$AI)=0,\"\",VLOOKUP(all_cars!$D56,week4!$AB:$AJ,8,FALSE))","v":""},{"$f":"IF(SUMIF(week5!$AB:$AB,all_cars!$D56,week5!$AI:$AI)=0,\"\",VLOOKUP(all_cars!$D56,week5!$AB:$AJ,8,FALSE))","v":""},null,{"$f":"IF(SUMIF(week1!$AB:$AB,all_cars!$D56,week1!$AJ:$AJ)=0,\"\",VLOOKUP(all_cars!$D56,week1!$AB:$AJ,9,FALSE))","v":""},{"$f":"IF(SUMIF(week2!$AB:$AB,all_cars!$D56,week2!$AJ:$AJ)=0,\"\",VLOOKUP(all_cars!$D56,week2!$AB:$AJ,9,FALSE))","v":""},{"$f":"IF(SUMIF(week3!$AB:$AB,all_cars!$D56,week3!$AJ:$AJ)=0,\"\",VLOOKUP(all_cars!$D56,week3!$AB:$AJ,9,FALSE))","v":""},{"$f":"IF(SUMIF(week4!$AB:$AB,all_cars!$D56,week4!$AJ:$AJ)=0,\"\",VLOOKUP(all_cars!$D56,week4!$AB:$AJ,9,FALSE))","v":""},{"$f":"IF(SUMIF(week5!$AB:$AB,all_cars!$D56,week5!$AJ:$AJ)=0,\"\",VLOOKUP(all_cars!$D56,week5!$AB:$AJ,9,FALSE))","v":""},null,null,null,"Lavon                     ","suzuck                    "]
[null,null,51,"Gol_v8                    ",null,98.840579710144922,56.678054335448195,null,91.487551030624203,null,{"$f":"IF(SUMIF(week1!$AB:$AB,all_cars!$D57,week1!$AF:$AF)=0,\"\",VLOOKUP(all_cars!$D57,week1!$AB:$AJ,5,FALSE))","v":""},{"$f":"IF(SUMIF(week2!$AB:$AB,all_cars!$D57,week2!$AF:$AF)=0,\"\",VLOOKUP(all_cars!$D57,week2!$AB:$AJ,5,FALSE))","v":94.747375328083976},{"$f":"IF(SUMIF(week3!$AB:$AB,all_cars!$D57,week3!$AF:$AF)=0,\"\",VLOOKUP(all_cars!$D57,week3!$AB:$AJ,5,FALSE))","v":98.583910816510993},{"$f":"IF(SUMIF(week4!$AB:$AB,all_cars!$D57,week4!$AF:$AF)=0,\"\",VLOOKUP(all_cars!$D57,week4!$AB:$AJ,5,FALSE))","v":96.109908160979629},{"$f":"IF(SUMIF(week5!$AB:$AB,all_cars!$D57,week5!$AF:$AF)=0,\"\",VLOOKUP(all_cars!$D57,week5!$AB:$AJ,5,FALSE))","v":""},null,{"$f":"IF(SUMIF(week1!$AB:$AB,all_cars!$D57,week1!$AG:$AG)=0,\"\",VLOOKUP(all_cars!$D57,week1!$AB:$AJ,6,FALSE))","v":""},{"$f":"IF(SUMIF(week2!$AB:$AB,all_cars!$D57,week2!$AG:$AG)=0,\"\",VLOOKUP(all_cars!$D57,week2!$AB:$AJ,6,FALSE))","v":""},{"$f":"IF(SUMIF(week3!$AB:$AB,all_cars!$D57,week3!$AG:$AG)=0,\"\",VLOOKUP(all_cars!$D57,week3!$AB:$AJ,6,FALSE))","v":95.093043445438411},{"$f":"IF(SUMIF(week4!$AB:$AB,all_cars!$D57,week4!$AG:$AG)=0,\"\",VLOOKUP(all_cars!$D57,week4!$AB:$AJ,6,FALSE))","v":""},{"$f":"IF(SUMIF(week5!$AB:$AB,all_cars!$D57,week5!$AG:$AG)=0,\"\",VLOOKUP(all_cars!$D57,week5!$AB:$AJ,6,FALSE))","v":""},null,{"$f":"IF(SUMIF(week1!$AB:$AB,all_cars!$D57,week1!$AH:$AH)=0,\"\",VLOOKUP(all_cars!$D57,week1!$AB:$AJ,7,FALSE))","v":""},{"$f":"IF(SUMIF(week2!$AB:$AB,all_cars!$D57,week2!$AH:$AH)=0,\"\",VLOOKUP(all_cars!$D57,week2!$AB:$AJ,7,FALSE))","v":""},{"$f":"IF(SUMIF(week3!$AB:$AB,all_cars!$D57,week3!$AH:$AH)=0,\"\",VLOOKUP(all_cars!$D57,week3!$AB:$AJ,7,FALSE))","v":""},{"$f":"IF(SUMIF(week4!$AB:$AB,all_cars!$D57,week4!$AH:$AH)=0,\"\",VLOOKUP(all_cars!$D57,week4!$AB:$AJ,7,FALSE))","v":""},{"$f":"IF(SUMIF(week5!$AB:$AB,all_cars!$D57,week5!$AH:$AH)=0,\"\",VLOOKUP(all_cars!$D57,week5!$AB:$AJ,7,FALSE))","v":""},null,{"$f":"IF(SUMIF(week1!$AB:$AB,all_cars!$D57,week1!$AI:$AI)=0,\"\",VLOOKUP(all_cars!$D57,week1!$AB:$AJ,8,FALSE))","v":""},{"$f":"IF(SUMIF(week2!$AB:$AB,all_cars!$D57,week2!$AI:$AI)=0,\"\",VLOOKUP(all_cars!$D57,week2!$AB:$AJ,8,FALSE))","v":56.678054335448195},{"$f":"IF(SUMIF(week3!$AB:$AB,all_cars!$D57,week3!$AI:$AI)=0,\"\",VLOOKUP(all_cars!$D57,week3!$AB:$AJ,8,FALSE))","v":""},{"$f":"IF(SUMIF(week4!$AB:$AB,all_cars!$D57,week4!$AI:$AI)=0,\"\",VLOOKUP(all_cars!$D57,week4!$AB:$AJ,8,FALSE))","v":""},{"$f":"IF(SUMIF(week5!$AB:$AB,all_cars!$D57,week5!$AI:$AI)=0,\"\",VLOOKUP(all_cars!$D57,week5!$AB:$AJ,8,FALSE))","v":""},null,{"$f":"IF(SUMIF(week1!$AB:$AB,all_cars!$D57,week1!$AJ:$AJ)=0,\"\",VLOOKUP(all_cars!$D57,week1!$AB:$AJ,9,FALSE))","v":89.093942933422341},{"$f":"IF(SUMIF(week2!$AB:$AB,all_cars!$D57,week2!$AJ:$AJ)=0,\"\",VLOOKUP(all_cars!$D57,week2!$AB:$AJ,9,FALSE))","v":95.857103102824553},{"$f":"IF(SUMIF(week3!$AB:$AB,all_cars!$D57,week3!$AJ:$AJ)=0,\"\",VLOOKUP(all_cars!$D57,week3!$AB:$AJ,9,FALSE))","v":98.840579710144922},{"$f":"IF(SUMIF(week4!$AB:$AB,all_cars!$D57,week4!$AJ:$AJ)=0,\"\",VLOOKUP(all_cars!$D57,week4!$AB:$AJ,9,FALSE))","v":98.384041442764911},{"$f":"IF(SUMIF(week5!$AB:$AB,all_cars!$D57,week5!$AJ:$AJ)=0,\"\",VLOOKUP(all_cars!$D57,week5!$AB:$AJ,9,FALSE))","v":""},null,null,null,"Gol_v8                    ","Brian                     "]
[null,null,52,"BIXOMAU                   ",null,88.939503178868705,88.939503178868705,null,88.939503178868705,null,{"$f":"IF(SUMIF(week1!$AB:$AB,all_cars!$D58,week1!$AF:$AF)=0,\"\",VLOOKUP(all_cars!$D58,week1!$AB:$AJ,5,FALSE))","v":88.939503178868705},{"$f":"IF(SUMIF(week2!$AB:$AB,all_cars!$D58,week2!$AF:$AF)=0,\"\",VLOOKUP(all_cars!$D58,week2!$AB:$AJ,5,FALSE))","v":""},{"$f":"IF(SUMIF(week3!$AB:$AB,all_cars!$D58,week3!$AF:$AF)=0,\"\",VLOOKUP(all_cars!$D58,week3!$AB:$AJ,5,FALSE))","v":""},{"$f":"IF(SUMIF(week4!$AB:$AB,all_cars!$D58,week4!$AF:$AF)=0,\"\",VLOOKUP(all_cars!$D58,week4!$AB:$AJ,5,FALSE))","v":""},{"$f":"IF(SUMIF(week5!$AB:$AB,all_cars!$D58,week5!$AF:$AF)=0,\"\",VLOOKUP(all_cars!$D58,week5!$AB:$AJ,5,FALSE))","v":""},null,{"$f":"IF(SUMIF(week1!$AB:$AB,all_cars!$D58,week1!$AG:$AG)=0,\"\",VLOOKUP(all_cars!$D58,week1!$AB:$AJ,6,FALSE))","v":""},{"$f":"IF(SUMIF(week2!$AB:$AB,all_cars!$D58,week2!$AG:$AG)=0,\"\",VLOOKUP(all_cars!$D58,week2!$AB:$AJ,6,FALSE))","v":""},{"$f":"IF(SUMIF(week3!$AB:$AB,all_cars!$D58,week3!$AG:$AG)=0,\"\",VLOOKUP(all_cars!$D58,week3!$AB:$AJ,6,FALSE))","v":""},{"$f":"IF(SUMIF(week4!$AB:$AB,all_cars!$D58,week4!$AG:$AG)=0,\"\",VLOOKUP(all_cars!$D58,week4!$AB:$AJ,6,FALSE))","v":""},{"$f":"IF(SUMIF(week5!$AB:$AB,all_cars!$D58,week5!$AG:$AG)=0,\"\",VLOOKUP(all_cars!$D58,week5!$AB:$AJ,6,FALSE))","v":""},null,{"$f":"IF(SUMIF(week1!$AB:$AB,all_cars!$D58,week1!$AH:$AH)=0,\"\",VLOOKUP(all_cars!$D58,week1!$AB:$AJ,7,FALSE))","v":""},{"$f":"IF(SUMIF(week2!$AB:$AB,all_cars!$D58,week2!$AH:$AH)=0,\"\",VLOOKUP(all_cars!$D58,week2!$AB:$AJ,7,FALSE))","v":""},{"$f":"IF(SUMIF(week3!$AB:$AB,all_cars!$D58,week3!$AH:$AH)=0,\"\",VLOOKUP(all_cars!$D58,week3!$AB:$AJ,7,FALSE))","v":""},{"$f":"IF(SUMIF(week4!$AB:$AB,all_cars!$D58,week4!$AH:$AH)=0,\"\",VLOOKUP(all_cars!$D58,week4!$AB:$AJ,7,FALSE))","v":""},{"$f":"IF(SUMIF(week5!$AB:$AB,all_cars!$D58,week5!$AH:$AH)=0,\"\",VLOOKUP(all_cars!$D58,week5!$AB:$AJ,7,FALSE))","v":""},null,{"$f":"IF(SUMIF(week1!$AB:$AB,all_cars!$D58,week1!$AI:$AI)=0,\"\",VLOOKUP(all_cars!$D58,week1!$AB:$AJ,8,FALSE))","v":""},{"$f":"IF(SUMIF(week2!$AB:$AB,all_cars!$D58,week2!$AI:$AI)=0,\"\",VLOOKUP(all_cars!$D58,week2!$AB:$AJ,8,FALSE))","v":""},{"$f":"IF(SUMIF(week3!$AB:$AB,all_cars!$D58,week3!$AI:$AI)=0,\"\",VLOOKUP(all_cars!$D58,week3!$AB:$AJ,8,FALSE))","v":""},{"$f":"IF(SUMIF(week4!$AB:$AB,all_cars!$D58,week4!$AI:$AI)=0,\"\",VLOOKUP(all_cars!$D58,week4!$AB:$AJ,8,FALSE))","v":""},{"$f":"IF(SUMIF(week5!$AB:$AB,all_cars!$D58,week5!$AI:$AI)=0,\"\",VLOOKUP(all_cars!$D58,week5!$AB:$AJ,8,FALSE))","v":""},null,{"$f":"IF(SUMIF(week1!$AB:$AB,all_cars!$D58,week1!$AJ:$AJ)=0,\"\",VLOOKUP(all_cars!$D58,week1!$AB:$AJ,9,FALSE))","v":""},{"$f":"IF(SUMIF(week2!$AB:$AB,all_cars!$D58,week2!$AJ:$AJ)=0,\"\",VLOOKUP(all_cars!$D58,week2!$AB:$AJ,9,FALSE))","v":""},{"$f":"IF(SUMIF(week3!$AB:$AB,all_cars!$D58,week3!$AJ:$AJ)=0,\"\",VLOOKUP(all_cars!$D58,week3!$AB:$AJ,9,FALSE))","v":""},{"$f":"IF(SUMIF(week4!$AB:$AB,all_cars!$D58,week4!$AJ:$AJ)=0,\"\",VLOOKUP(all_cars!$D58,week4!$AB:$AJ,9,FALSE))","v":""},{"$f":"IF(SUMIF(week5!$AB:$AB,all_cars!$D58,week5!$AJ:$AJ)=0,\"\",VLOOKUP(all_cars!$D58,week5!$AB:$AJ,9,FALSE))","v":""},null,null,null,"BIXOMAU                   ","Reinikainen               "]
[null,null,53,"Reiska                    ",null,88.603621982988614,88.603621982988614,null,88.603621982988614,null,{"$f":"IF(SUMIF(week1!$AB:$AB,all_cars!$D59,week1!$AF:$AF)=0,\"\",VLOOKUP(all_cars!$D59,week1!$AB:$AJ,5,FALSE))","v":""},{"$f":"IF(SUMIF(week2!$AB:$AB,all_cars!$D59,week2!$AF:$AF)=0,\"\",VLOOKUP(all_cars!$D59,week2!$AB:$AJ,5,FALSE))","v":""},{"$f":"IF(SUMIF(week3!$AB:$AB,all_cars!$D59,week3!$AF:$AF)=0,\"\",VLOOKUP(all_cars!$D59,week3!$AB:$AJ,5,FALSE))","v":""},{"$f":"IF(SUMIF(week4!$AB:$AB,all_cars!$D59,week4!$AF:$AF)=0,\"\",VLOOKUP(all_cars!$D59,week4!$AB:$AJ,5,FALSE))","v":""},{"$f":"IF(SUMIF(week5!$AB:$AB,all_cars!$D59,week5!$AF:$AF)=0,\"\",VLOOKUP(all_cars!$D59,week5!$AB:$AJ,5,FALSE))","v":""},null,{"$f":"IF(SUMIF(week1!$AB:$AB,all_cars!$D59,week1!$AG:$AG)=0,\"\",VLOOKUP(all_cars!$D59,week1!$AB:$AJ,6,FALSE))","v":""},{"$f":"IF(SUMIF(week2!$AB:$AB,all_cars!$D59,week2!$AG:$AG)=0,\"\",VLOOKUP(all_cars!$D59,week2!$AB:$AJ,6,FALSE))","v":""},{"$f":"IF(SUMIF(week3!$AB:$AB,all_cars!$D59,week3!$AG:$AG)=0,\"\",VLOOKUP(all_cars!$D59,week3!$AB:$AJ,6,FALSE))","v":""},{"$f":"IF(SUMIF(week4!$AB:$AB,all_cars!$D59,week4!$AG:$AG)=0,\"\",VLOOKUP(all_cars!$D59,week4!$AB:$AJ,6,FALSE))","v":""},{"$f":"IF(SUMIF(week5!$AB:$AB,all_cars!$D59,week5!$AG:$AG)=0,\"\",VLOOKUP(all_cars!$D59,week5!$AB:$AJ,6,FALSE))","v":""},null,{"$f":"IF(SUMIF(week1!$AB:$AB,all_cars!$D59,week1!$AH:$AH)=0,\"\",VLOOKUP(all_cars!$D59,week1!$AB:$AJ,7,FALSE))","v":""},{"$f":"IF(SUMIF(week2!$AB:$AB,all_cars!$D59,week2!$AH:$AH)=0,\"\",VLOOKUP(all_cars!$D59,week2!$AB:$AJ,7,FALSE))","v":""},{"$f":"IF(SUMIF(week3!$AB:$AB,all_cars!$D59,week3!$AH:$AH)=0,\"\",VLOOKUP(all_cars!$D59,week3!$AB:$AJ,7,FALSE))","v":""},{"$f":"IF(SUMIF(week4!$AB:$AB,all_cars!$D59,week4!$AH:$AH)=0,\"\",VLOOKUP(all_cars!$D59,week4!$AB:$AJ,7,FALSE))","v":""},{"$f":"IF(SUMIF(week5!$AB:$AB,all_cars!$D59,week5!$AH:$AH)=0,\"\",VLOOKUP(all_cars!$D59,week5!$AB:$AJ,7,FALSE))","v":""},null,{"$f":"IF(SUMIF(week1!$AB:$AB,all_cars!$D59,week1!$AI:$AI)=0,\"\",VLOOKUP(all_cars!$D59,week1!$AB:$AJ,8,FALSE))","v":88.603621982988614},{"$f":"IF(SUMIF(week2!$AB:$AB,all_cars!$D59,week2!$AI:$AI)=0,\"\",VLOOKUP(all_cars!$D59,week2!$AB:$AJ,8,FALSE))","v":""},{"$f":"IF(SUMIF(week3!$AB:$AB,all_cars!$D59,week3!$AI:$AI)=0,\"\",VLOOKUP(all_cars!$D59,week3!$AB:$AJ,8,FALSE))","v":""},{"$f":"IF(SUMIF(week4!$AB:$AB,all_cars!$D59,week4!$AI:$AI)=0,\"\",VLOOKUP(all_cars!$D59,week4!$AB:$AJ,8,FALSE))","v":""},{"$f":"IF(SUMIF(week5!$AB:$AB,all_cars!$D59,week5!$AI:$AI)=0,\"\",VLOOKUP(all_cars!$D59,week5!$AB:$AJ,8,FALSE))","v":""},null,{"$f":"IF(SUMIF(week1!$AB:$AB,all_cars!$D59,week1!$AJ:$AJ)=0,\"\",VLOOKUP(all_cars!$D59,week1!$AB:$AJ,9,FALSE))","v":""},{"$f":"IF(SUMIF(week2!$AB:$AB,all_cars!$D59,week2!$AJ:$AJ)=0,\"\",VLOOKUP(all_cars!$D59,week2!$AB:$AJ,9,FALSE))","v":""},{"$f":"IF(SUMIF(week3!$AB:$AB,all_cars!$D59,week3!$AJ:$AJ)=0,\"\",VLOOKUP(all_cars!$D59,week3!$AB:$AJ,9,FALSE))","v":""},{"$f":"IF(SUMIF(week4!$AB:$AB,all_cars!$D59,week4!$AJ:$AJ)=0,\"\",VLOOKUP(all_cars!$D59,week4!$AB:$AJ,9,FALSE))","v":""},{"$f":"IF(SUMIF(week5!$AB:$AB,all_cars!$D59,week5!$AJ:$AJ)=0,\"\",VLOOKUP(all_cars!$D59,week5!$AB:$AJ,9,FALSE))","v":""},null,null,null,"Reiska                    ","Niksi                     "]
[null,null,54,"DustyBadSkillz            ",null,88.057499764602511,88.057499764602511,null,88.057499764602511,null,{"$f":"IF(SUMIF(week1!$AB:$AB,all_cars!$D60,week1!$AF:$AF)=0,\"\",VLOOKUP(all_cars!$D60,week1!$AB:$AJ,5,FALSE))","v":""},{"$f":"IF(SUMIF(week2!$AB:$AB,all_cars!$D60,week2!$AF:$AF)=0,\"\",VLOOKUP(all_cars!$D60,week2!$AB:$AJ,5,FALSE))","v":""},{"$f":"IF(SUMIF(week3!$AB:$AB,all_cars!$D60,week3!$AF:$AF)=0,\"\",VLOOKUP(all_cars!$D60,week3!$AB:$AJ,5,FALSE))","v":""},{"$f":"IF(SUMIF(week4!$AB:$AB,all_cars!$D60,week4!$AF:$AF)=0,\"\",VLOOKUP(all_cars!$D60,week4!$AB:$AJ,5,FALSE))","v":""},{"$f":"IF(SUMIF(week5!$AB:$AB,all_cars!$D60,week5!$AF:$AF)=0,\"\",VLOOKUP(all_cars!$D60,week5!$AB:$AJ,5,FALSE))","v":""},null,{"$f":"IF(SUMIF(week1!$AB:$AB,all_cars!$D60,week1!$AG:$AG)=0,\"\",VLOOKUP(all_cars!$D60,week1!$AB:$AJ,6,FALSE))","v":""},{"$f":"IF(SUMIF(week2!$AB:$AB,all_cars!$D60,week2!$AG:$AG)=0,\"\",VLOOKUP(all_cars!$D60,week2!$AB:$AJ,6,FALSE))","v":""},{"$f":"IF(SUMIF(week3!$AB:$AB,all_cars!$D60,week3!$AG:$AG)=0,\"\",VLOOKUP(all_cars!$D60,week3!$AB:$AJ,6,FALSE))","v":""},{"$f":"IF(SUMIF(week4!$AB:$AB,all_cars!$D60,week4!$AG:$AG)=0,\"\",VLOOKUP(all_cars!$D60,week4!$AB:$AJ,6,FALSE))","v":""},{"$f":"IF(SUMIF(week5!$AB:$AB,all_cars!$D60,week5!$AG:$AG)=0,\"\",VLOOKUP(all_cars!$D60,week5!$AB:$AJ,6,FALSE))","v":""},null,{"$f":"IF(SUMIF(week1!$AB:$AB,all_cars!$D60,week1!$AH:$AH)=0,\"\",VLOOKUP(all_cars!$D60,week1!$AB:$AJ,7,FALSE))","v":""},{"$f":"IF(SUMIF(week2!$AB:$AB,all_cars!$D60,week2!$AH:$AH)=0,\"\",VLOOKUP(all_cars!$D60,week2!$AB:$AJ,7,FALSE))","v":""},{"$f":"IF(SUMIF(week3!$AB:$AB,all_cars!$D60,week3!$AH:$AH)=0,\"\",VLOOKUP(all_cars!$D60,week3!$AB:$AJ,7,FALSE))","v":""},{"$f":"IF(SUMIF(week4!$AB:$AB,all_cars!$D60,week4!$AH:$AH)=0,\"\",VLOOKUP(all_cars!$D60,week4!$AB:$AJ,7,FALSE))","v":""},{"$f":"IF(SUMIF(week5!$AB:$AB,all_cars!$D60,week5!$AH:$AH)=0,\"\",VLOOKUP(all_cars!$D60,week5!$AB:$AJ,7,FALSE))","v":""},null,{"$f":"IF(SUMIF(week1!$AB:$AB,all_cars!$D60,week1!$AI:$AI)=0,\"\",VLOOKUP(all_cars!$D60,week1!$AB:$AJ,8,FALSE))","v":88.057499764602511},{"$f":"IF(SUMIF(week2!$AB:$AB,all_cars!$D60,week2!$AI:$AI)=0,\"\",VLOOKUP(all_cars!$D60,week2!$AB:$AJ,8,FALSE))","v":""},{"$f":"IF(SUMIF(week3!$AB:$AB,all_cars!$D60,week3!$AI:$AI)=0,\"\",VLOOKUP(all_cars!$D60,week3!$AB:$AJ,8,FALSE))","v":""},{"$f":"IF(SUMIF(week4!$AB:$AB,all_cars!$D60,week4!$AI:$AI)=0,\"\",VLOOKUP(all_cars!$D60,week4!$AB:$AJ,8,FALSE))","v":""},{"$f":"IF(SUMIF(week5!$AB:$AB,all_cars!$D60,week5!$AI:$AI)=0,\"\",VLOOKUP(all_cars!$D60,week5!$AB:$AJ,8,FALSE))","v":""},null,{"$f":"IF(SUMIF(week1!$AB:$AB,all_cars!$D60,week1!$AJ:$AJ)=0,\"\",VLOOKUP(all_cars!$D60,week1!$AB:$AJ,9,FALSE))","v":""},{"$f":"IF(SUMIF(week2!$AB:$AB,all_cars!$D60,week2!$AJ:$AJ)=0,\"\",VLOOKUP(all_cars!$D60,week2!$AB:$AJ,9,FALSE))","v":""},{"$f":"IF(SUMIF(week3!$AB:$AB,all_cars!$D60,week3!$AJ:$AJ)=0,\"\",VLOOKUP(all_cars!$D60,week3!$AB:$AJ,9,FALSE))","v":""},{"$f":"IF(SUMIF(week4!$AB:$AB,all_cars!$D60,week4!$AJ:$AJ)=0,\"\",VLOOKUP(all_cars!$D60,week4!$AB:$AJ,9,FALSE))","v":""},{"$f":"IF(SUMIF(week5!$AB:$AB,all_cars!$D60,week5!$AJ:$AJ)=0,\"\",VLOOKUP(all_cars!$D60,week5!$AB:$AJ,9,FALSE))","v":""},null,null,null,"DustyBadSkillz            ","Lavon                     "]
[null,null,55,"Kiki                      ",null,86.18054396796262,86.18054396796262,null,86.18054396796262,null,{"$f":"IF(SUMIF(week1!$AB:$AB,all_cars!$D61,week1!$AF:$AF)=0,\"\",VLOOKUP(all_cars!$D61,week1!$AB:$AJ,5,FALSE))","v":""},{"$f":"IF(SUMIF(week2!$AB:$AB,all_cars!$D61,week2!$AF:$AF)=0,\"\",VLOOKUP(all_cars!$D61,week2!$AB:$AJ,5,FALSE))","v":""},{"$f":"IF(SUMIF(week3!$AB:$AB,all_cars!$D61,week3!$AF:$AF)=0,\"\",VLOOKUP(all_cars!$D61,week3!$AB:$AJ,5,FALSE))","v":""},{"$f":"IF(SUMIF(week4!$AB:$AB,all_cars!$D61,week4!$AF:$AF)=0,\"\",VLOOKUP(all_cars!$D61,week4!$AB:$AJ,5,FALSE))","v":""},{"$f":"IF(SUMIF(week5!$AB:$AB,all_cars!$D61,week5!$AF:$AF)=0,\"\",VLOOKUP(all_cars!$D61,week5!$AB:$AJ,5,FALSE))","v":""},null,{"$f":"IF(SUMIF(week1!$AB:$AB,all_cars!$D61,week1!$AG:$AG)=0,\"\",VLOOKUP(all_cars!$D61,week1!$AB:$AJ,6,FALSE))","v":""},{"$f":"IF(SUMIF(week2!$AB:$AB,all_cars!$D61,week2!$AG:$AG)=0,\"\",VLOOKUP(all_cars!$D61,week2!$AB:$AJ,6,FALSE))","v":""},{"$f":"IF(SUMIF(week3!$AB:$AB,all_cars!$D61,week3!$AG:$AG)=0,\"\",VLOOKUP(all_cars!$D61,week3!$AB:$AJ,6,FALSE))","v":""},{"$f":"IF(SUMIF(week4!$AB:$AB,all_cars!$D61,week4!$AG:$AG)=0,\"\",VLOOKUP(all_cars!$D61,week4!$AB:$AJ,6,FALSE))","v":""},{"$f":"IF(SUMIF(week5!$AB:$AB,all_cars!$D61,week5!$AG:$AG)=0,\"\",VLOOKUP(all_cars!$D61,week5!$AB:$AJ,6,FALSE))","v":""},null,{"$f":"IF(SUMIF(week1!$AB:$AB,all_cars!$D61,week1!$AH:$AH)=0,\"\",VLOOKUP(all_cars!$D61,week1!$AB:$AJ,7,FALSE))","v":""},{"$f":"IF(SUMIF(week2!$AB:$AB,all_cars!$D61,week2!$AH:$AH)=0,\"\",VLOOKUP(all_cars!$D61,week2!$AB:$AJ,7,FALSE))","v":""},{"$f":"IF(SUMIF(week3!$AB:$AB,all_cars!$D61,week3!$AH:$AH)=0,\"\",VLOOKUP(all_cars!$D61,week3!$AB:$AJ,7,FALSE))","v":""},{"$f":"IF(SUMIF(week4!$AB:$AB,all_cars!$D61,week4!$AH:$AH)=0,\"\",VLOOKUP(all_cars!$D61,week4!$AB:$AJ,7,FALSE))","v":""},{"$f":"IF(SUMIF(week5!$AB:$AB,all_cars!$D61,week5!$AH:$AH)=0,\"\",VLOOKUP(all_cars!$D61,week5!$AB:$AJ,7,FALSE))","v":""},null,{"$f":"IF(SUMIF(week1!$AB:$AB,all_cars!$D61,week1!$AI:$AI)=0,\"\",VLOOKUP(all_cars!$D61,week1!$AB:$AJ,8,FALSE))","v":""},{"$f":"IF(SUMIF(week2!$AB:$AB,all_cars!$D61,week2!$AI:$AI)=0,\"\",VLOOKUP(all_cars!$D61,week2!$AB:$AJ,8,FALSE))","v":""},{"$f":"IF(SUMIF(week3!$AB:$AB,all_cars!$D61,week3!$AI:$AI)=0,\"\",VLOOKUP(all_cars!$D61,week3!$AB:$AJ,8,FALSE))","v":""},{"$f":"IF(SUMIF(week4!$AB:$AB,all_cars!$D61,week4!$AI:$AI)=0,\"\",VLOOKUP(all_cars!$D61,week4!$AB:$AJ,8,FALSE))","v":""},{"$f":"IF(SUMIF(week5!$AB:$AB,all_cars!$D61,week5!$AI:$AI)=0,\"\",VLOOKUP(all_cars!$D61,week5!$AB:$AJ,8,FALSE))","v":""},null,{"$f":"IF(SUMIF(week1!$AB:$AB,all_cars!$D61,week1!$AJ:$AJ)=0,\"\",VLOOKUP(all_cars!$D61,week1!$AB:$AJ,9,FALSE))","v":86.18054396796262},{"$f":"IF(SUMIF(week2!$AB:$AB,all_cars!$D61,week2!$AJ:$AJ)=0,\"\",VLOOKUP(all_cars!$D61,week2!$AB:$AJ,9,FALSE))","v":""},{"$f":"IF(SUMIF(week3!$AB:$AB,all_cars!$D61,week3!$AJ:$AJ)=0,\"\",VLOOKUP(all_cars!$D61,week3!$AB:$AJ,9,FALSE))","v":""},{"$f":"IF(SUMIF(week4!$AB:$AB,all_cars!$D61,week4!$AJ:$AJ)=0,\"\",VLOOKUP(all_cars!$D61,week4!$AB:$AJ,9,FALSE))","v":""},{"$f":"IF(SUMIF(week5!$AB:$AB,all_cars!$D61,week5!$AJ:$AJ)=0,\"\",VLOOKUP(all_cars!$D61,week5!$AB:$AJ,9,FALSE))","v":""},null,null,null,"Kiki                      ","Gol_v8                    "]
[null,null,56,"Rahim                     ",null,85.964967156709406,85.964967156709406,null,85.964967156709406,null,{"$f":"IF(SUMIF(week1!$AB:$AB,all_cars!$D62,week1!$AF:$AF)=0,\"\",VLOOKUP(all_cars!$D62,week1!$AB:$AJ,5,FALSE))","v":""},{"$f":"IF(SUMIF(week2!$AB:$AB,all_cars!$D62,week2!$AF:$AF)=0,\"\",VLOOKUP(all_cars!$D62,week2!$AB:$AJ,5,FALSE))","v":""},{"$f":"IF(SUMIF(week3!$AB:$AB,all_cars!$D62,week3!$AF:$AF)=0,\"\",VLOOKUP(all_cars!$D62,week3!$AB:$AJ,5,FALSE))","v":""},{"$f":"IF(SUMIF(week4!$AB:$AB,all_cars!$D62,week4!$AF:$AF)=0,\"\",VLOOKUP(all_cars!$D62,week4!$AB:$AJ,5,FALSE))","v":""},{"$f":"IF(SUMIF(week5!$AB:$AB,all_cars!$D62,week5!$AF:$AF)=0,\"\",VLOOKUP(all_cars!$D62,week5!$AB:$AJ,5,FALSE))","v":""},null,{"$f":"IF(SUMIF(week1!$AB:$AB,all_cars!$D62,week1!$AG:$AG)=0,\"\",VLOOKUP(all_cars!$D62,week1!$AB:$AJ,6,FALSE))","v":85.964967156709406},{"$f":"IF(SUMIF(week2!$AB:$AB,all_cars!$D62,week2!$AG:$AG)=0,\"\",VLOOKUP(all_cars!$D62,week2!$AB:$AJ,6,FALSE))","v":""},{"$f":"IF(SUMIF(week3!$AB:$AB,all_cars!$D62,week3!$AG:$AG)=0,\"\",VLOOKUP(all_cars!$D62,week3!$AB:$AJ,6,FALSE))","v":""},{"$f":"IF(SUMIF(week4!$AB:$AB,all_cars!$D62,week4!$AG:$AG)=0,\"\",VLOOKUP(all_cars!$D62,week4!$AB:$AJ,6,FALSE))","v":""},{"$f":"IF(SUMIF(week5!$AB:$AB,all_cars!$D62,week5!$AG:$AG)=0,\"\",VLOOKUP(all_cars!$D62,week5!$AB:$AJ,6,FALSE))","v":""},null,{"$f":"IF(SUMIF(week1!$AB:$AB,all_cars!$D62,week1!$AH:$AH)=0,\"\",VLOOKUP(all_cars!$D62,week1!$AB:$AJ,7,FALSE))","v":""},{"$f":"IF(SUMIF(week2!$AB:$AB,all_cars!$D62,week2!$AH:$AH)=0,\"\",VLOOKUP(all_cars!$D62,week2!$AB:$AJ,7,FALSE))","v":""},{"$f":"IF(SUMIF(week3!$AB:$AB,all_cars!$D62,week3!$AH:$AH)=0,\"\",VLOOKUP(all_cars!$D62,week3!$AB:$AJ,7,FALSE))","v":""},{"$f":"IF(SUMIF(week4!$AB:$AB,all_cars!$D62,week4!$AH:$AH)=0,\"\",VLOOKUP(all_cars!$D62,week4!$AB:$AJ,7,FALSE))","v":""},{"$f":"IF(SUMIF(week5!$AB:$AB,all_cars!$D62,week5!$AH:$AH)=0,\"\",VLOOKUP(all_cars!$D62,week5!$AB:$AJ,7,FALSE))","v":""},null,{"$f":"IF(SUMIF(week1!$AB:$AB,all_cars!$D62,week1!$AI:$AI)=0,\"\",VLOOKUP(all_cars!$D62,week1!$AB:$AJ,8,FALSE))","v":""},{"$f":"IF(SUMIF(week2!$AB:$AB,all_cars!$D62,week2!$AI:$AI)=0,\"\",VLOOKUP(all_cars!$D62,week2!$AB:$AJ,8,FALSE))","v":""},{"$f":"IF(SUMIF(week3!$AB:$AB,all_cars!$D62,week3!$AI:$AI)=0,\"\",VLOOKUP(all_cars!$D62,week3!$AB:$AJ,8,FALSE))","v":""},{"$f":"IF(SUMIF(week4!$AB:$AB,all_cars!$D62,week4!$AI:$AI)=0,\"\",VLOOKUP(all_cars!$D62,week4!$AB:$AJ,8,FALSE))","v":""},{"$f":"IF(SUMIF(week5!$AB:$AB,all_cars!$D62,week5!$AI:$AI)=0,\"\",VLOOKUP(all_cars!$D62,week5!$AB:$AJ,8,FALSE))","v":""},null,{"$f":"IF(SUMIF(week1!$AB:$AB,all_cars!$D62,week1!$AJ:$AJ)=0,\"\",VLOOKUP(all_cars!$D62,week1!$AB:$AJ,9,FALSE))","v":""},{"$f":"IF(SUMIF(week2!$AB:$AB,all_cars!$D62,week2!$AJ:$AJ)=0,\"\",VLOOKUP(all_cars!$D62,week2!$AB:$AJ,9,FALSE))","v":""},{"$f":"IF(SUMIF(week3!$AB:$AB,all_cars!$D62,week3!$AJ:$AJ)=0,\"\",VLOOKUP(all_cars!$D62,week3!$AB:$AJ,9,FALSE))","v":""},{"$f":"IF(SUMIF(week4!$AB:$AB,all_cars!$D62,week4!$AJ:$AJ)=0,\"\",VLOOKUP(all_cars!$D62,week4!$AB:$AJ,9,FALSE))","v":""},{"$f":"IF(SUMIF(week5!$AB:$AB,all_cars!$D62,week5!$AJ:$AJ)=0,\"\",VLOOKUP(all_cars!$D62,week5!$AB:$AJ,9,FALSE))","v":""},null,null,null,"Rahim                     ","BIXOMAU                   "]
[null,null,57,"Iron Man                  ",null,82.828823159219638,53.081928917069909,null,69.153838553406075,null,{"$f":"IF(SUMIF(week1!$AB:$AB,all_cars!$D63,week1!$AF:$AF)=0,\"\",VLOOKUP(all_cars!$D63,week1!$AB:$AJ,5,FALSE))","v":71.550763583928685},{"$f":"IF(SUMIF(week2!$AB:$AB,all_cars!$D63,week2!$AF:$AF)=0,\"\",VLOOKUP(all_cars!$D63,week2!$AB:$AJ,5,FALSE))","v":""},{"$f":"IF(SUMIF(week3!$AB:$AB,all_cars!$D63,week3!$AF:$AF)=0,\"\",VLOOKUP(all_cars!$D63,week3!$AB:$AJ,5,FALSE))","v":""},{"$f":"IF(SUMIF(week4!$AB:$AB,all_cars!$D63,week4!$AF:$AF)=0,\"\",VLOOKUP(all_cars!$D63,week4!$AB:$AJ,5,FALSE))","v":""},{"$f":"IF(SUMIF(week5!$AB:$AB,all_cars!$D63,week5!$AF:$AF)=0,\"\",VLOOKUP(all_cars!$D63,week5!$AB:$AJ,5,FALSE))","v":""},null,{"$f":"IF(SUMIF(week1!$AB:$AB,all_cars!$D63,week1!$AG:$AG)=0,\"\",VLOOKUP(all_cars!$D63,week1!$AB:$AJ,6,FALSE))","v":""},{"$f":"IF(SUMIF(week2!$AB:$AB,all_cars!$D63,week2!$AG:$AG)=0,\"\",VLOOKUP(all_cars!$D63,week2!$AB:$AJ,6,FALSE))","v":""},{"$f":"IF(SUMIF(week3!$AB:$AB,all_cars!$D63,week3!$AG:$AG)=0,\"\",VLOOKUP(all_cars!$D63,week3!$AB:$AJ,6,FALSE))","v":""},{"$f":"IF(SUMIF(week4!$AB:$AB,all_cars!$D63,week4!$AG:$AG)=0,\"\",VLOOKUP(all_cars!$D63,week4!$AB:$AJ,6,FALSE))","v":""},{"$f":"IF(SUMIF(week5!$AB:$AB,all_cars!$D63,week5!$AG:$AG)=0,\"\",VLOOKUP(all_cars!$D63,week5!$AB:$AJ,6,FALSE))","v":""},null,{"$f":"IF(SUMIF(week1!$AB:$AB,all_cars!$D63,week1!$AH:$AH)=0,\"\",VLOOKUP(all_cars!$D63,week1!$AB:$AJ,7,FALSE))","v":82.828823159219638},{"$f":"IF(SUMIF(week2!$AB:$AB,all_cars!$D63,week2!$AH:$AH)=0,\"\",VLOOKUP(all_cars!$D63,week2!$AB:$AJ,7,FALSE))","v":""},{"$f":"IF(SUMIF(week3!$AB:$AB,all_cars!$D63,week3!$AH:$AH)=0,\"\",VLOOKUP(all_cars!$D63,week3!$AB:$AJ,7,FALSE))","v":""},{"$f":"IF(SUMIF(week4!$AB:$AB,all_cars!$D63,week4!$AH:$AH)=0,\"\",VLOOKUP(all_cars!$D63,week4!$AB:$AJ,7,FALSE))","v":""},{"$f":"IF(SUMIF(week5!$AB:$AB,all_cars!$D63,week5!$AH:$AH)=0,\"\",VLOOKUP(all_cars!$D63,week5!$AB:$AJ,7,FALSE))","v":""},null,{"$f":"IF(SUMIF(week1!$AB:$AB,all_cars!$D63,week1!$AI:$AI)=0,\"\",VLOOKUP(all_cars!$D63,week1!$AB:$AJ,8,FALSE))","v":""},{"$f":"IF(SUMIF(week2!$AB:$AB,all_cars!$D63,week2!$AI:$AI)=0,\"\",VLOOKUP(all_cars!$D63,week2!$AB:$AJ,8,FALSE))","v":""},{"$f":"IF(SUMIF(week3!$AB:$AB,all_cars!$D63,week3!$AI:$AI)=0,\"\",VLOOKUP(all_cars!$D63,week3!$AB:$AJ,8,FALSE))","v":""},{"$f":"IF(SUMIF(week4!$AB:$AB,all_cars!$D63,week4!$AI:$AI)=0,\"\",VLOOKUP(all_cars!$D63,week4!$AB:$AJ,8,FALSE))","v":""},{"$f":"IF(SUMIF(week5!$AB:$AB,all_cars!$D63,week5!$AI:$AI)=0,\"\",VLOOKUP(all_cars!$D63,week5!$AB:$AJ,8,FALSE))","v":""},null,{"$f":"IF(SUMIF(week1!$AB:$AB,all_cars!$D63,week1!$AJ:$AJ)=0,\"\",VLOOKUP(all_cars!$D63,week1!$AB:$AJ,9,FALSE))","v":53.081928917069909},{"$f":"IF(SUMIF(week2!$AB:$AB,all_cars!$D63,week2!$AJ:$AJ)=0,\"\",VLOOKUP(all_cars!$D63,week2!$AB:$AJ,9,FALSE))","v":""},{"$f":"IF(SUMIF(week3!$AB:$AB,all_cars!$D63,week3!$AJ:$AJ)=0,\"\",VLOOKUP(all_cars!$D63,week3!$AB:$AJ,9,FALSE))","v":""},{"$f":"IF(SUMIF(week4!$AB:$AB,all_cars!$D63,week4!$AJ:$AJ)=0,\"\",VLOOKUP(all_cars!$D63,week4!$AB:$AJ,9,FALSE))","v":""},{"$f":"IF(SUMIF(week5!$AB:$AB,all_cars!$D63,week5!$AJ:$AJ)=0,\"\",VLOOKUP(all_cars!$D63,week5!$AB:$AJ,9,FALSE))","v":""},null,null,null,"Iron Man                  ","Reiska                    "]
[null,null,58,"Sig                       ",null,99.420110565585503,81.641915568162858,null,95.401694612836593,null,{"$f":"IF(SUMIF(week1!$AB:$AB,all_cars!$D64,week1!$AF:$AF)=0,\"\",VLOOKUP(all_cars!$D64,week1!$AB:$AJ,5,FALSE))","v":""},{"$f":"IF(SUMIF(week2!$AB:$AB,all_cars!$D64,week2!$AF:$AF)=0,\"\",VLOOKUP(all_cars!$D64,week2!$AB:$AJ,5,FALSE))","v":99.104330708661422},{"$f":"IF(SUMIF(week3!$AB:$AB,all_cars!$D64,week3!$AF:$AF)=0,\"\",VLOOKUP(all_cars!$D64,week3!$AB:$AJ,5,FALSE))","v":""},{"$f":"IF(SUMIF(week4!$AB:$AB,all_cars!$D64,week4!$AF:$AF)=0,\"\",VLOOKUP(all_cars!$D64,week4!$AB:$AJ,5,FALSE))","v":97.722690957963124},{"$f":"IF(SUMIF(week5!$AB:$AB,all_cars!$D64,week5!$AF:$AF)=0,\"\",VLOOKUP(all_cars!$D64,week5!$AB:$AJ,5,FALSE))","v":98.711631811379988},null,{"$f":"IF(SUMIF(week1!$AB:$AB,all_cars!$D64,week1!$AG:$AG)=0,\"\",VLOOKUP(all_cars!$D64,week1!$AB:$AJ,6,FALSE))","v":""},{"$f":"IF(SUMIF(week2!$AB:$AB,all_cars!$D64,week2!$AG:$AG)=0,\"\",VLOOKUP(all_cars!$D64,week2!$AB:$AJ,6,FALSE))","v":98.101327133585201},{"$f":"IF(SUMIF(week3!$AB:$AB,all_cars!$D64,week3!$AG:$AG)=0,\"\",VLOOKUP(all_cars!$D64,week3!$AB:$AJ,6,FALSE))","v":""},{"$f":"IF(SUMIF(week4!$AB:$AB,all_cars!$D64,week4!$AG:$AG)=0,\"\",VLOOKUP(all_cars!$D64,week4!$AB:$AJ,6,FALSE))","v":""},{"$f":"IF(SUMIF(week5!$AB:$AB,all_cars!$D64,week5!$AG:$AG)=0,\"\",VLOOKUP(all_cars!$D64,week5!$AB:$AJ,6,FALSE))","v":85.91781214203894},null,{"$f":"IF(SUMIF(week1!$AB:$AB,all_cars!$D64,week1!$AH:$AH)=0,\"\",VLOOKUP(all_cars!$D64,week1!$AB:$AJ,7,FALSE))","v":""},{"$f":"IF(SUMIF(week2!$AB:$AB,all_cars!$D64,week2!$AH:$AH)=0,\"\",VLOOKUP(all_cars!$D64,week2!$AB:$AJ,7,FALSE))","v":""},{"$f":"IF(SUMIF(week3!$AB:$AB,all_cars!$D64,week3!$AH:$AH)=0,\"\",VLOOKUP(all_cars!$D64,week3!$AB:$AJ,7,FALSE))","v":97.63483642793986},{"$f":"IF(SUMIF(week4!$AB:$AB,all_cars!$D64,week4!$AH:$AH)=0,\"\",VLOOKUP(all_cars!$D64,week4!$AB:$AJ,7,FALSE))","v":""},{"$f":"IF(SUMIF(week5!$AB:$AB,all_cars!$D64,week5!$AH:$AH)=0,\"\",VLOOKUP(all_cars!$D64,week5!$AB:$AJ,7,FALSE))","v":""},null,{"$f":"IF(SUMIF(week1!$AB:$AB,all_cars!$D64,week1!$AI:$AI)=0,\"\",VLOOKUP(all_cars!$D64,week1!$AB:$AJ,8,FALSE))","v":""},{"$f":"IF(SUMIF(week2!$AB:$AB,all_cars!$D64,week2!$AI:$AI)=0,\"\",VLOOKUP(all_cars!$D64,week2!$AB:$AJ,8,FALSE))","v":""},{"$f":"IF(SUMIF(week3!$AB:$AB,all_cars!$D64,week3!$AI:$AI)=0,\"\",VLOOKUP(all_cars!$D64,week3!$AB:$AJ,8,FALSE))","v":""},{"$f":"IF(SUMIF(week4!$AB:$AB,all_cars!$D64,week4!$AI:$AI)=0,\"\",VLOOKUP(all_cars!$D64,week4!$AB:$AJ,8,FALSE))","v":""},{"$f":"IF(SUMIF(week5!$AB:$AB,all_cars!$D64,week5!$AI:$AI)=0,\"\",VLOOKUP(all_cars!$D64,week5!$AB:$AJ,8,FALSE))","v":""},null,{"$f":"IF(SUMIF(week1!$AB:$AB,all_cars!$D64,week1!$AJ:$AJ)=0,\"\",VLOOKUP(all_cars!$D64,week1!$AB:$AJ,9,FALSE))","v":81.641915568162858},{"$f":"IF(SUMIF(week2!$AB:$AB,all_cars!$D64,week2!$AJ:$AJ)=0,\"\",VLOOKUP(all_cars!$D64,week2!$AB:$AJ,9,FALSE))","v":96.855433421455402},{"$f":"IF(SUMIF(week3!$AB:$AB,all_cars!$D64,week3!$AJ:$AJ)=0,\"\",VLOOKUP(all_cars!$D64,week3!$AB:$AJ,9,FALSE))","v":98.414078674948229},{"$f":"IF(SUMIF(week4!$AB:$AB,all_cars!$D64,week4!$AJ:$AJ)=0,\"\",VLOOKUP(all_cars!$D64,week4!$AB:$AJ,9,FALSE))","v":99.420110565585503},{"$f":"IF(SUMIF(week5!$AB:$AB,all_cars!$D64,week5!$AJ:$AJ)=0,\"\",VLOOKUP(all_cars!$D64,week5!$AB:$AJ,9,FALSE))","v":95.894473329481997},null,null,null,"Sig                       ","DustyBadSkillz            "]
[null,null,59,"Waenoo                    ",null,81.06462446250903,81.06462446250903,null,81.06462446250903,null,{"$f":"IF(SUMIF(week1!$AB:$AB,all_cars!$D65,week1!$AF:$AF)=0,\"\",VLOOKUP(all_cars!$D65,week1!$AB:$AJ,5,FALSE))","v":""},{"$f":"IF(SUMIF(week2!$AB:$AB,all_cars!$D65,week2!$AF:$AF)=0,\"\",VLOOKUP(all_cars!$D65,week2!$AB:$AJ,5,FALSE))","v":""},{"$f":"IF(SUMIF(week3!$AB:$AB,all_cars!$D65,week3!$AF:$AF)=0,\"\",VLOOKUP(all_cars!$D65,week3!$AB:$AJ,5,FALSE))","v":""},{"$f":"IF(SUMIF(week4!$AB:$AB,all_cars!$D65,week4!$AF:$AF)=0,\"\",VLOOKUP(all_cars!$D65,week4!$AB:$AJ,5,FALSE))","v":""},{"$f":"IF(SUMIF(week5!$AB:$AB,all_cars!$D65,week5!$AF:$AF)=0,\"\",VLOOKUP(all_cars!$D65,week5!$AB:$AJ,5,FALSE))","v":""},null,{"$f":"IF(SUMIF(week1!$AB:$AB,all_cars!$D65,week1!$AG:$AG)=0,\"\",VLOOKUP(all_cars!$D65,week1!$AB:$AJ,6,FALSE))","v":""},{"$f":"IF(SUMIF(week2!$AB:$AB,all_cars!$D65,week2!$AG:$AG)=0,\"\",VLOOKUP(all_cars!$D65,week2!$AB:$AJ,6,FALSE))","v":""},{"$f":"IF(SUMIF(week3!$AB:$AB,all_cars!$D65,week3!$AG:$AG)=0,\"\",VLOOKUP(all_cars!$D65,week3!$AB:$AJ,6,FALSE))","v":""},{"$f":"IF(SUMIF(week4!$AB:$AB,all_cars!$D65,week4!$AG:$AG)=0,\"\",VLOOKUP(all_cars!$D65,week4!$AB:$AJ,6,FALSE))","v":""},{"$f":"IF(SUMIF(week5!$AB:$AB,all_cars!$D65,week5!$AG:$AG)=0,\"\",VLOOKUP(all_cars!$D65,week5!$AB:$AJ,6,FALSE))","v":""},null,{"$f":"IF(SUMIF(week1!$AB:$AB,all_cars!$D65,week1!$AH:$AH)=0,\"\",VLOOKUP(all_cars!$D65,week1!$AB:$AJ,7,FALSE))","v":""},{"$f":"IF(SUMIF(week2!$AB:$AB,all_cars!$D65,week2!$AH:$AH)=0,\"\",VLOOKUP(all_cars!$D65,week2!$AB:$AJ,7,FALSE))","v":""},{"$f":"IF(SUMIF(week3!$AB:$AB,all_cars!$D65,week3!$AH:$AH)=0,\"\",VLOOKUP(all_cars!$D65,week3!$AB:$AJ,7,FALSE))","v":""},{"$f":"IF(SUMIF(week4!$AB:$AB,all_cars!$D65,week4!$AH:$AH)=0,\"\",VLOOKUP(all_cars!$D65,week4!$AB:$AJ,7,FALSE))","v":""},{"$f":"IF(SUMIF(week5!$AB:$AB,all_cars!$D65,week5!$AH:$AH)=0,\"\",VLOOKUP(all_cars!$D65,week5!$AB:$AJ,7,FALSE))","v":""},null,{"$f":"IF(SUMIF(week1!$AB:$AB,all_cars!$D65,week1!$AI:$AI)=0,\"\",VLOOKUP(all_cars!$D65,week1!$AB:$AJ,8,FALSE))","v":81.06462446250903},{"$f":"IF(SUMIF(week2!$AB:$AB,all_cars!$D65,week2!$AI:$AI)=0,\"\",VLOOKUP(all_cars!$D65,week2!$AB:$AJ,8,FALSE))","v":""},{"$f":"IF(SUMIF(week3!$AB:$AB,all_cars!$D65,week3!$AI:$AI)=0,\"\",VLOOKUP(all_cars!$D65,week3!$AB:$AJ,8,FALSE))","v":""},{"$f":"IF(SUMIF(week4!$AB:$AB,all_cars!$D65,week4!$AI:$AI)=0,\"\",VLOOKUP(all_cars!$D65,week4!$AB:$AJ,8,FALSE))","v":""},{"$f":"IF(SUMIF(week5!$AB:$AB,all_cars!$D65,week5!$AI:$AI)=0,\"\",VLOOKUP(all_cars!$D65,week5!$AB:$AJ,8,FALSE))","v":""},null,{"$f":"IF(SUMIF(week1!$AB:$AB,all_cars!$D65,week1!$AJ:$AJ)=0,\"\",VLOOKUP(all_cars!$D65,week1!$AB:$AJ,9,FALSE))","v":""},{"$f":"IF(SUMIF(week2!$AB:$AB,all_cars!$D65,week2!$AJ:$AJ)=0,\"\",VLOOKUP(all_cars!$D65,week2!$AB:$AJ,9,FALSE))","v":""},{"$f":"IF(SUMIF(week3!$AB:$AB,all_cars!$D65,week3!$AJ:$AJ)=0,\"\",VLOOKUP(all_cars!$D65,week3!$AB:$AJ,9,FALSE))","v":""},{"$f":"IF(SUMIF(week4!$AB:$AB,all_cars!$D65,week4!$AJ:$AJ)=0,\"\",VLOOKUP(all_cars!$D65,week4!$AB:$AJ,9,FALSE))","v":""},{"$f":"IF(SUMIF(week5!$AB:$AB,all_cars!$D65,week5!$AJ:$AJ)=0,\"\",VLOOKUP(all_cars!$D65,week5!$AB:$AJ,9,FALSE))","v":""},null,null,null,"Waenoo                    ","Kiki                      "]
[null,null,60,"Jukra                     ",null,80.459806068188925,80.459806068188925,null,80.459806068188925,null,{"$f":"IF(SUMIF(week1!$AB:$AB,all_cars!$D66,week1!$AF:$AF)=0,\"\",VLOOKUP(all_cars!$D66,week1!$AB:$AJ,5,FALSE))","v":""},{"$f":"IF(SUMIF(week2!$AB:$AB,all_cars!$D66,week2!$AF:$AF)=0,\"\",VLOOKUP(all_cars!$D66,week2!$AB:$AJ,5,FALSE))","v":""},{"$f":"IF(SUMIF(week3!$AB:$AB,all_cars!$D66,week3!$AF:$AF)=0,\"\",VLOOKUP(all_cars!$D66,week3!$AB:$AJ,5,FALSE))","v":""},{"$f":"IF(SUMIF(week4!$AB:$AB,all_cars!$D66,week4!$AF:$AF)=0,\"\",VLOOKUP(all_cars!$D66,week4!$AB:$AJ,5,FALSE))","v":""},{"$f":"IF(SUMIF(week5!$AB:$AB,all_cars!$D66,week5!$AF:$AF)=0,\"\",VLOOKUP(all_cars!$D66,week5!$AB:$AJ,5,FALSE))","v":""},null,{"$f":"IF(SUMIF(week1!$AB:$AB,all_cars!$D66,week1!$AG:$AG)=0,\"\",VLOOKUP(all_cars!$D66,week1!$AB:$AJ,6,FALSE))","v":80.459806068188925},{"$f":"IF(SUMIF(week2!$AB:$AB,all_cars!$D66,week2!$AG:$AG)=0,\"\",VLOOKUP(all_cars!$D66,week2!$AB:$AJ,6,FALSE))","v":""},{"$f":"IF(SUMIF(week3!$AB:$AB,all_cars!$D66,week3!$AG:$AG)=0,\"\",VLOOKUP(all_cars!$D66,week3!$AB:$AJ,6,FALSE))","v":""},{"$f":"IF(SUMIF(week4!$AB:$AB,all_cars!$D66,week4!$AG:$AG)=0,\"\",VLOOKUP(all_cars!$D66,week4!$AB:$AJ,6,FALSE))","v":""},{"$f":"IF(SUMIF(week5!$AB:$AB,all_cars!$D66,week5!$AG:$AG)=0,\"\",VLOOKUP(all_cars!$D66,week5!$AB:$AJ,6,FALSE))","v":""},null,{"$f":"IF(SUMIF(week1!$AB:$AB,all_cars!$D66,week1!$AH:$AH)=0,\"\",VLOOKUP(all_cars!$D66,week1!$AB:$AJ,7,FALSE))","v":""},{"$f":"IF(SUMIF(week2!$AB:$AB,all_cars!$D66,week2!$AH:$AH)=0,\"\",VLOOKUP(all_cars!$D66,week2!$AB:$AJ,7,FALSE))","v":""},{"$f":"IF(SUMIF(week3!$AB:$AB,all_cars!$D66,week3!$AH:$AH)=0,\"\",VLOOKUP(all_cars!$D66,week3!$AB:$AJ,7,FALSE))","v":""},{"$f":"IF(SUMIF(week4!$AB:$AB,all_cars!$D66,week4!$AH:$AH)=0,\"\",VLOOKUP(all_cars!$D66,week4!$AB:$AJ,7,FALSE))","v":""},{"$f":"IF(SUMIF(week5!$AB:$AB,all_cars!$D66,week5!$AH:$AH)=0,\"\",VLOOKUP(all_cars!$D66,week5!$AB:$AJ,7,FALSE))","v":""},null,{"$f":"IF(SUMIF(week1!$AB:$AB,all_cars!$D66,week1!$AI:$AI)=0,\"\",VLOOKUP(all_cars!$D66,week1!$AB:$AJ,8,FALSE))","v":""},{"$f":"IF(SUMIF(week2!$AB:$AB,all_cars!$D66,week2!$AI:$AI)=0,\"\",VLOOKUP(all_cars!$D66,week2!$AB:$AJ,8,FALSE))","v":""},{"$f":"IF(SUMIF(week3!$AB:$AB,all_cars!$D66,week3!$AI:$AI)=0,\"\",VLOOKUP(all_cars!$D66,week3!$AB:$AJ,8,FALSE))","v":""},{"$f":"IF(SUMIF(week4!$AB:$AB,all_cars!$D66,week4!$AI:$AI)=0,\"\",VLOOKUP(all_cars!$D66,week4!$AB:$AJ,8,FALSE))","v":""},{"$f":"IF(SUMIF(week5!$AB:$AB,all_cars!$D66,week5!$AI:$AI)=0,\"\",VLOOKUP(all_cars!$D66,week5!$AB:$AJ,8,FALSE))","v":""},null,{"$f":"IF(SUMIF(week1!$AB:$AB,all_cars!$D66,week1!$AJ:$AJ)=0,\"\",VLOOKUP(all_cars!$D66,week1!$AB:$AJ,9,FALSE))","v":""},{"$f":"IF(SUMIF(week2!$AB:$AB,all_cars!$D66,week2!$AJ:$AJ)=0,\"\",VLOOKUP(all_cars!$D66,week2!$AB:$AJ,9,FALSE))","v":""},{"$f":"IF(SUMIF(week3!$AB:$AB,all_cars!$D66,week3!$AJ:$AJ)=0,\"\",VLOOKUP(all_cars!$D66,week3!$AB:$AJ,9,FALSE))","v":""},{"$f":"IF(SUMIF(week4!$AB:$AB,all_cars!$D66,week4!$AJ:$AJ)=0,\"\",VLOOKUP(all_cars!$D66,week4!$AB:$AJ,9,FALSE))","v":""},{"$f":"IF(SUMIF(week5!$AB:$AB,all_cars!$D66,week5!$AJ:$AJ)=0,\"\",VLOOKUP(all_cars!$D66,week5!$AB:$AJ,9,FALSE))","v":""},null,null,null,"Jukra                     ","Rahim                     "]
[null,null,61,"JJN                       ",null,77.497079926581023,77.497079926581023,null,77.497079926581023,null,{"$f":"IF(SUMIF(week1!$AB:$AB,all_cars!$D67,week1!$AF:$AF)=0,\"\",VLOOKUP(all_cars!$D67,week1!$AB:$AJ,5,FALSE))","v":""},{"$f":"IF(SUMIF(week2!$AB:$AB,all_cars!$D67,week2!$AF:$AF)=0,\"\",VLOOKUP(all_cars!$D67,week2!$AB:$AJ,5,FALSE))","v":""},{"$f":"IF(SUMIF(week3!$AB:$AB,all_cars!$D67,week3!$AF:$AF)=0,\"\",VLOOKUP(all_cars!$D67,week3!$AB:$AJ,5,FALSE))","v":""},{"$f":"IF(SUMIF(week4!$AB:$AB,all_cars!$D67,week4!$AF:$AF)=0,\"\",VLOOKUP(all_cars!$D67,week4!$AB:$AJ,5,FALSE))","v":""},{"$f":"IF(SUMIF(week5!$AB:$AB,all_cars!$D67,week5!$AF:$AF)=0,\"\",VLOOKUP(all_cars!$D67,week5!$AB:$AJ,5,FALSE))","v":""},null,{"$f":"IF(SUMIF(week1!$AB:$AB,all_cars!$D67,week1!$AG:$AG)=0,\"\",VLOOKUP(all_cars!$D67,week1!$AB:$AJ,6,FALSE))","v":""},{"$f":"IF(SUMIF(week2!$AB:$AB,all_cars!$D67,week2!$AG:$AG)=0,\"\",VLOOKUP(all_cars!$D67,week2!$AB:$AJ,6,FALSE))","v":""},{"$f":"IF(SUMIF(week3!$AB:$AB,all_cars!$D67,week3!$AG:$AG)=0,\"\",VLOOKUP(all_cars!$D67,week3!$AB:$AJ,6,FALSE))","v":""},{"$f":"IF(SUMIF(week4!$AB:$AB,all_cars!$D67,week4!$AG:$AG)=0,\"\",VLOOKUP(all_cars!$D67,week4!$AB:$AJ,6,FALSE))","v":""},{"$f":"IF(SUMIF(week5!$AB:$AB,all_cars!$D67,week5!$AG:$AG)=0,\"\",VLOOKUP(all_cars!$D67,week5!$AB:$AJ,6,FALSE))","v":""},null,{"$f":"IF(SUMIF(week1!$AB:$AB,all_cars!$D67,week1!$AH:$AH)=0,\"\",VLOOKUP(all_cars!$D67,week1!$AB:$AJ,7,FALSE))","v":""},{"$f":"IF(SUMIF(week2!$AB:$AB,all_cars!$D67,week2!$AH:$AH)=0,\"\",VLOOKUP(all_cars!$D67,week2!$AB:$AJ,7,FALSE))","v":""},{"$f":"IF(SUMIF(week3!$AB:$AB,all_cars!$D67,week3!$AH:$AH)=0,\"\",VLOOKUP(all_cars!$D67,week3!$AB:$AJ,7,FALSE))","v":""},{"$f":"IF(SUMIF(week4!$AB:$AB,all_cars!$D67,week4!$AH:$AH)=0,\"\",VLOOKUP(all_cars!$D67,week4!$AB:$AJ,7,FALSE))","v":""},{"$f":"IF(SUMIF(week5!$AB:$AB,all_cars!$D67,week5!$AH:$AH)=0,\"\",VLOOKUP(all_cars!$D67,week5!$AB:$AJ,7,FALSE))","v":""},null,{"$f":"IF(SUMIF(week1!$AB:$AB,all_cars!$D67,week1!$AI:$AI)=0,\"\",VLOOKUP(all_cars!$D67,week1!$AB:$AJ,8,FALSE))","v":""},{"$f":"IF(SUMIF(week2!$AB:$AB,all_cars!$D67,week2!$AI:$AI)=0,\"\",VLOOKUP(all_cars!$D67,week2!$AB:$AJ,8,FALSE))","v":""},{"$f":"IF(SUMIF(week3!$AB:$AB,all_cars!$D67,week3!$AI:$AI)=0,\"\",VLOOKUP(all_cars!$D67,week3!$AB:$AJ,8,FALSE))","v":""},{"$f":"IF(SUMIF(week4!$AB:$AB,all_cars!$D67,week4!$AI:$AI)=0,\"\",VLOOKUP(all_cars!$D67,week4!$AB:$AJ,8,FALSE))","v":""},{"$f":"IF(SUMIF(week5!$AB:$AB,all_cars!$D67,week5!$AI:$AI)=0,\"\",VLOOKUP(all_cars!$D67,week5!$AB:$AJ,8,FALSE))","v":""},null,{"$f":"IF(SUMIF(week1!$AB:$AB,all_cars!$D67,week1!$AJ:$AJ)=0,\"\",VLOOKUP(all_cars!$D67,week1!$AB:$AJ,9,FALSE))","v":77.497079926581023},{"$f":"IF(SUMIF(week2!$AB:$AB,all_cars!$D67,week2!$AJ:$AJ)=0,\"\",VLOOKUP(all_cars!$D67,week2!$AB:$AJ,9,FALSE))","v":""},{"$f":"IF(SUMIF(week3!$AB:$AB,all_cars!$D67,week3!$AJ:$AJ)=0,\"\",VLOOKUP(all_cars!$D67,week3!$AB:$AJ,9,FALSE))","v":""},{"$f":"IF(SUMIF(week4!$AB:$AB,all_cars!$D67,week4!$AJ:$AJ)=0,\"\",VLOOKUP(all_cars!$D67,week4!$AB:$AJ,9,FALSE))","v":""},{"$f":"IF(SUMIF(week5!$AB:$AB,all_cars!$D67,week5!$AJ:$AJ)=0,\"\",VLOOKUP(all_cars!$D67,week5!$AB:$AJ,9,FALSE))","v":""},null,null,null,"JJN                       ","Iron Man                  "]
[null,null,62,"Storm                     ",null,77.11869961329225,77.11869961329225,null,77.11869961329225,null,{"$f":"IF(SUMIF(week1!$AB:$AB,all_cars!$D68,week1!$AF:$AF)=0,\"\",VLOOKUP(all_cars!$D68,week1!$AB:$AJ,5,FALSE))","v":77.11869961329225},{"$f":"IF(SUMIF(week2!$AB:$AB,all_cars!$D68,week2!$AF:$AF)=0,\"\",VLOOKUP(all_cars!$D68,week2!$AB:$AJ,5,FALSE))","v":""},{"$f":"IF(SUMIF(week3!$AB:$AB,all_cars!$D68,week3!$AF:$AF)=0,\"\",VLOOKUP(all_cars!$D68,week3!$AB:$AJ,5,FALSE))","v":""},{"$f":"IF(SUMIF(week4!$AB:$AB,all_cars!$D68,week4!$AF:$AF)=0,\"\",VLOOKUP(all_cars!$D68,week4!$AB:$AJ,5,FALSE))","v":""},{"$f":"IF(SUMIF(week5!$AB:$AB,all_cars!$D68,week5!$AF:$AF)=0,\"\",VLOOKUP(all_cars!$D68,week5!$AB:$AJ,5,FALSE))","v":""},null,{"$f":"IF(SUMIF(week1!$AB:$AB,all_cars!$D68,week1!$AG:$AG)=0,\"\",VLOOKUP(all_cars!$D68,week1!$AB:$AJ,6,FALSE))","v":""},{"$f":"IF(SUMIF(week2!$AB:$AB,all_cars!$D68,week2!$AG:$AG)=0,\"\",VLOOKUP(all_cars!$D68,week2!$AB:$AJ,6,FALSE))","v":""},{"$f":"IF(SUMIF(week3!$AB:$AB,all_cars!$D68,week3!$AG:$AG)=0,\"\",VLOOKUP(all_cars!$D68,week3!$AB:$AJ,6,FALSE))","v":""},{"$f":"IF(SUMIF(week4!$AB:$AB,all_cars!$D68,week4!$AG:$AG)=0,\"\",VLOOKUP(all_cars!$D68,week4!$AB:$AJ,6,FALSE))","v":""},{"$f":"IF(SUMIF(week5!$AB:$AB,all_cars!$D68,week5!$AG:$AG)=0,\"\",VLOOKUP(all_cars!$D68,week5!$AB:$AJ,6,FALSE))","v":""},null,{"$f":"IF(SUMIF(week1!$AB:$AB,all_cars!$D68,week1!$AH:$AH)=0,\"\",VLOOKUP(all_cars!$D68,week1!$AB:$AJ,7,FALSE))","v":""},{"$f":"IF(SUMIF(week2!$AB:$AB,all_cars!$D68,week2!$AH:$AH)=0,\"\",VLOOKUP(all_cars!$D68,week2!$AB:$AJ,7,FALSE))","v":""},{"$f":"IF(SUMIF(week3!$AB:$AB,all_cars!$D68,week3!$AH:$AH)=0,\"\",VLOOKUP(all_cars!$D68,week3!$AB:$AJ,7,FALSE))","v":""},{"$f":"IF(SUMIF(week4!$AB:$AB,all_cars!$D68,week4!$AH:$AH)=0,\"\",VLOOKUP(all_cars!$D68,week4!$AB:$AJ,7,FALSE))","v":""},{"$f":"IF(SUMIF(week5!$AB:$AB,all_cars!$D68,week5!$AH:$AH)=0,\"\",VLOOKUP(all_cars!$D68,week5!$AB:$AJ,7,FALSE))","v":""},null,{"$f":"IF(SUMIF(week1!$AB:$AB,all_cars!$D68,week1!$AI:$AI)=0,\"\",VLOOKUP(all_cars!$D68,week1!$AB:$AJ,8,FALSE))","v":""},{"$f":"IF(SUMIF(week2!$AB:$AB,all_cars!$D68,week2!$AI:$AI)=0,\"\",VLOOKUP(all_cars!$D68,week2!$AB:$AJ,8,FALSE))","v":""},{"$f":"IF(SUMIF(week3!$AB:$AB,all_cars!$D68,week3!$AI:$AI)=0,\"\",VLOOKUP(all_cars!$D68,week3!$AB:$AJ,8,FALSE))","v":""},{"$f":"IF(SUMIF(week4!$AB:$AB,all_cars!$D68,week4!$AI:$AI)=0,\"\",VLOOKUP(all_cars!$D68,week4!$AB:$AJ,8,FALSE))","v":""},{"$f":"IF(SUMIF(week5!$AB:$AB,all_cars!$D68,week5!$AI:$AI)=0,\"\",VLOOKUP(all_cars!$D68,week5!$AB:$AJ,8,FALSE))","v":""},null,{"$f":"IF(SUMIF(week1!$AB:$AB,all_cars!$D68,week1!$AJ:$AJ)=0,\"\",VLOOKUP(all_cars!$D68,week1!$AB:$AJ,9,FALSE))","v":""},{"$f":"IF(SUMIF(week2!$AB:$AB,all_cars!$D68,week2!$AJ:$AJ)=0,\"\",VLOOKUP(all_cars!$D68,week2!$AB:$AJ,9,FALSE))","v":""},{"$f":"IF(SUMIF(week3!$AB:$AB,all_cars!$D68,week3!$AJ:$AJ)=0,\"\",VLOOKUP(all_cars!$D68,week3!$AB:$AJ,9,FALSE))","v":""},{"$f":"IF(SUMIF(week4!$AB:$AB,all_cars!$D68,week4!$AJ:$AJ)=0,\"\",VLOOKUP(all_cars!$D68,week4!$AB:$AJ,9,FALSE))","v":""},{"$f":"IF(SUMIF(week5!$AB:$AB,all_cars!$D68,week5!$AJ:$AJ)=0,\"\",VLOOKUP(all_cars!$D68,week5!$AB:$AJ,9,FALSE))","v":""},null,null,null,"Storm                     ","Sig                       "]
[null,null,63,"kikiriki                  ",null,99.383022774327117,68.966556191623965,null,90.699093741068793,null,{"$f":"IF(SUMIF(week1!$AB:$AB,all_cars!$D69,week1!$AF:$AF)=0,\"\",VLOOKUP(all_cars!$D69,week1!$AB:$AJ,5,FALSE))","v":""},{"$f":"IF(SUMIF(week2!$AB:$AB,all_cars!$D69,week2!$AF:$AF)=0,\"\",VLOOKUP(all_cars!$D69,week2!$AB:$AJ,5,FALSE))","v":98.769685039370074},{"$f":"IF(SUMIF(week3!$AB:$AB,all_cars!$D69,week3!$AF:$AF)=0,\"\",VLOOKUP(all_cars!$D69,week3!$AB:$AJ,5,FALSE))","v":68.966556191623965},{"$f":"IF(SUMIF(week4!$AB:$AB,all_cars!$D69,week4!$AF:$AF)=0,\"\",VLOOKUP(all_cars!$D69,week4!$AB:$AJ,5,FALSE))","v":88.583588441723293},{"$f":"IF(SUMIF(week5!$AB:$AB,all_cars!$D69,week5!$AF:$AF)=0,\"\",VLOOKUP(all_cars!$D69,week5!$AB:$AJ,5,FALSE))","v":""},null,{"$f":"IF(SUMIF(week1!$AB:$AB,all_cars!$D69,week1!$AG:$AG)=0,\"\",VLOOKUP(all_cars!$D69,week1!$AB:$AJ,6,FALSE))","v":""},{"$f":"IF(SUMIF(week2!$AB:$AB,all_cars!$D69,week2!$AG:$AG)=0,\"\",VLOOKUP(all_cars!$D69,week2!$AB:$AJ,6,FALSE))","v":97.662178307339602},{"$f":"IF(SUMIF(week3!$AB:$AB,all_cars!$D69,week3!$AG:$AG)=0,\"\",VLOOKUP(all_cars!$D69,week3!$AB:$AJ,6,FALSE))","v":""},{"$f":"IF(SUMIF(week4!$AB:$AB,all_cars!$D69,week4!$AG:$AG)=0,\"\",VLOOKUP(all_cars!$D69,week4!$AB:$AJ,6,FALSE))","v":""},{"$f":"IF(SUMIF(week5!$AB:$AB,all_cars!$D69,week5!$AG:$AG)=0,\"\",VLOOKUP(all_cars!$D69,week5!$AB:$AJ,6,FALSE))","v":""},null,{"$f":"IF(SUMIF(week1!$AB:$AB,all_cars!$D69,week1!$AH:$AH)=0,\"\",VLOOKUP(all_cars!$D69,week1!$AB:$AJ,7,FALSE))","v":""},{"$f":"IF(SUMIF(week2!$AB:$AB,all_cars!$D69,week2!$AH:$AH)=0,\"\",VLOOKUP(all_cars!$D69,week2!$AB:$AJ,7,FALSE))","v":98.028726129105465},{"$f":"IF(SUMIF(week3!$AB:$AB,all_cars!$D69,week3!$AH:$AH)=0,\"\",VLOOKUP(all_cars!$D69,week3!$AB:$AJ,7,FALSE))","v":""},{"$f":"IF(SUMIF(week4!$AB:$AB,all_cars!$D69,week4!$AH:$AH)=0,\"\",VLOOKUP(all_cars!$D69,week4!$AB:$AJ,7,FALSE))","v":""},{"$f":"IF(SUMIF(week5!$AB:$AB,all_cars!$D69,week5!$AH:$AH)=0,\"\",VLOOKUP(all_cars!$D69,week5!$AB:$AJ,7,FALSE))","v":""},null,{"$f":"IF(SUMIF(week1!$AB:$AB,all_cars!$D69,week1!$AI:$AI)=0,\"\",VLOOKUP(all_cars!$D69,week1!$AB:$AJ,8,FALSE))","v":""},{"$f":"IF(SUMIF(week2!$AB:$AB,all_cars!$D69,week2!$AI:$AI)=0,\"\",VLOOKUP(all_cars!$D69,week2!$AB:$AJ,8,FALSE))","v":96.980640963071409},{"$f":"IF(SUMIF(week3!$AB:$AB,all_cars!$D69,week3!$AI:$AI)=0,\"\",VLOOKUP(all_cars!$D69,week3!$AB:$AJ,8,FALSE))","v":""},{"$f":"IF(SUMIF(week4!$AB:$AB,all_cars!$D69,week4!$AI:$AI)=0,\"\",VLOOKUP(all_cars!$D69,week4!$AB:$AJ,8,FALSE))","v":""},{"$f":"IF(SUMIF(week5!$AB:$AB,all_cars!$D69,week5!$AI:$AI)=0,\"\",VLOOKUP(all_cars!$D69,week5!$AB:$AJ,8,FALSE))","v":""},null,{"$f":"IF(SUMIF(week1!$AB:$AB,all_cars!$D69,week1!$AJ:$AJ)=0,\"\",VLOOKUP(all_cars!$D69,week1!$AB:$AJ,9,FALSE))","v":69.851493408977134},{"$f":"IF(SUMIF(week2!$AB:$AB,all_cars!$D69,week2!$AJ:$AJ)=0,\"\",VLOOKUP(all_cars!$D69,week2!$AB:$AJ,9,FALSE))","v":98.065952414080982},{"$f":"IF(SUMIF(week3!$AB:$AB,all_cars!$D69,week3!$AJ:$AJ)=0,\"\",VLOOKUP(all_cars!$D69,week3!$AB:$AJ,9,FALSE))","v":99.383022774327117},{"$f":"IF(SUMIF(week4!$AB:$AB,all_cars!$D69,week4!$AJ:$AJ)=0,\"\",VLOOKUP(all_cars!$D69,week4!$AB:$AJ,9,FALSE))","v":""},{"$f":"IF(SUMIF(week5!$AB:$AB,all_cars!$D69,week5!$AJ:$AJ)=0,\"\",VLOOKUP(all_cars!$D69,week5!$AB:$AJ,9,FALSE))","v":""},null,null,null,"kikiriki                  ","Waenoo                    "]
[null,null,64,"{l}rard{l}                ",null,65.510913023530193,-80.528620581795451,null,-7.5088537791326289,null,{"$f":"IF(SUMIF(week1!$AB:$AB,all_cars!$D70,week1!$AF:$AF)=0,\"\",VLOOKUP(all_cars!$D70,week1!$AB:$AJ,5,FALSE))","v":65.510913023530193},{"$f":"IF(SUMIF(week2!$AB:$AB,all_cars!$D70,week2!$AF:$AF)=0,\"\",VLOOKUP(all_cars!$D70,week2!$AB:$AJ,5,FALSE))","v":""},{"$f":"IF(SUMIF(week3!$AB:$AB,all_cars!$D70,week3!$AF:$AF)=0,\"\",VLOOKUP(all_cars!$D70,week3!$AB:$AJ,5,FALSE))","v":""},{"$f":"IF(SUMIF(week4!$AB:$AB,all_cars!$D70,week4!$AF:$AF)=0,\"\",VLOOKUP(all_cars!$D70,week4!$AB:$AJ,5,FALSE))","v":""},{"$f":"IF(SUMIF(week5!$AB:$AB,all_cars!$D70,week5!$AF:$AF)=0,\"\",VLOOKUP(all_cars!$D70,week5!$AB:$AJ,5,FALSE))","v":""},null,{"$f":"IF(SUMIF(week1!$AB:$AB,all_cars!$D70,week1!$AG:$AG)=0,\"\",VLOOKUP(all_cars!$D70,week1!$AB:$AJ,6,FALSE))","v":-80.528620581795451},{"$f":"IF(SUMIF(week2!$AB:$AB,all_cars!$D70,week2!$AG:$AG)=0,\"\",VLOOKUP(all_cars!$D70,week2!$AB:$AJ,6,FALSE))","v":""},{"$f":"IF(SUMIF(week3!$AB:$AB,all_cars!$D70,week3!$AG:$AG)=0,\"\",VLOOKUP(all_cars!$D70,week3!$AB:$AJ,6,FALSE))","v":""},{"$f":"IF(SUMIF(week4!$AB:$AB,all_cars!$D70,week4!$AG:$AG)=0,\"\",VLOOKUP(all_cars!$D70,week4!$AB:$AJ,6,FALSE))","v":""},{"$f":"IF(SUMIF(week5!$AB:$AB,all_cars!$D70,week5!$AG:$AG)=0,\"\",VLOOKUP(all_cars!$D70,week5!$AB:$AJ,6,FALSE))","v":""},null,{"$f":"IF(SUMIF(week1!$AB:$AB,all_cars!$D70,week1!$AH:$AH)=0,\"\",VLOOKUP(all_cars!$D70,week1!$AB:$AJ,7,FALSE))","v":""},{"$f":"IF(SUMIF(week2!$AB:$AB,all_cars!$D70,week2!$AH:$AH)=0,\"\",VLOOKUP(all_cars!$D70,week2!$AB:$AJ,7,FALSE))","v":""},{"$f":"IF(SUMIF(week3!$AB:$AB,all_cars!$D70,week3!$AH:$AH)=0,\"\",VLOOKUP(all_cars!$D70,week3!$AB:$AJ,7,FALSE))","v":""},{"$f":"IF(SUMIF(week4!$AB:$AB,all_cars!$D70,week4!$AH:$AH)=0,\"\",VLOOKUP(all_cars!$D70,week4!$AB:$AJ,7,FALSE))","v":""},{"$f":"IF(SUMIF(week5!$AB:$AB,all_cars!$D70,week5!$AH:$AH)=0,\"\",VLOOKUP(all_cars!$D70,week5!$AB:$AJ,7,FALSE))","v":""},null,{"$f":"IF(SUMIF(week1!$AB:$AB,all_cars!$D70,week1!$AI:$AI)=0,\"\",VLOOKUP(all_cars!$D70,week1!$AB:$AJ,8,FALSE))","v":""},{"$f":"IF(SUMIF(week2!$AB:$AB,all_cars!$D70,week2!$AI:$AI)=0,\"\",VLOOKUP(all_cars!$D70,week2!$AB:$AJ,8,FALSE))","v":""},{"$f":"IF(SUMIF(week3!$AB:$AB,all_cars!$D70,week3!$AI:$AI)=0,\"\",VLOOKUP(all_cars!$D70,week3!$AB:$AJ,8,FALSE))","v":""},{"$f":"IF(SUMIF(week4!$AB:$AB,all_cars!$D70,week4!$AI:$AI)=0,\"\",VLOOKUP(all_cars!$D70,week4!$AB:$AJ,8,FALSE))","v":""},{"$f":"IF(SUMIF(week5!$AB:$AB,all_cars!$D70,week5!$AI:$AI)=0,\"\",VLOOKUP(all_cars!$D70,week5!$AB:$AJ,8,FALSE))","v":""},null,{"$f":"IF(SUMIF(week1!$AB:$AB,all_cars!$D70,week1!$AJ:$AJ)=0,\"\",VLOOKUP(all_cars!$D70,week1!$AB:$AJ,9,FALSE))","v":""},{"$f":"IF(SUMIF(week2!$AB:$AB,all_cars!$D70,week2!$AJ:$AJ)=0,\"\",VLOOKUP(all_cars!$D70,week2!$AB:$AJ,9,FALSE))","v":""},{"$f":"IF(SUMIF(week3!$AB:$AB,all_cars!$D70,week3!$AJ:$AJ)=0,\"\",VLOOKUP(all_cars!$D70,week3!$AB:$AJ,9,FALSE))","v":""},{"$f":"IF(SUMIF(week4!$AB:$AB,all_cars!$D70,week4!$AJ:$AJ)=0,\"\",VLOOKUP(all_cars!$D70,week4!$AB:$AJ,9,FALSE))","v":""},{"$f":"IF(SUMIF(week5!$AB:$AB,all_cars!$D70,week5!$AJ:$AJ)=0,\"\",VLOOKUP(all_cars!$D70,week5!$AB:$AJ,9,FALSE))","v":""},null,null,null,"{l}rard{l}                ","Jukra                     "]
[null,null,65,"shamino                   ",null,{"$f":"IF($I71=\"\",0,MAX($K71:$AM71))","v":44.527792599102369},{"$f":"IF($I71=\"\",0,MIN($K71:$AM71))","v":36.196434157022196},null,{"$f":"IF(COUNT(K71:AM71)=0,0,SUM(K71:AM71)/COUNT(K71:AM71))","v":40.362113378062283},null,{"$f":"IF(SUMIF(week1!$AB:$AB,all_cars!$D71,week1!$AF:$AF)=0,\"\",VLOOKUP(all_cars!$D71,week1!$AB:$AJ,5,FALSE))","v":""},{"$f":"IF(SUMIF(week2!$AB:$AB,all_cars!$D71,week2!$AF:$AF)=0,\"\",VLOOKUP(all_cars!$D71,week2!$AB:$AJ,5,FALSE))","v":""},{"$f":"IF(SUMIF(week3!$AB:$AB,all_cars!$D71,week3!$AF:$AF)=0,\"\",VLOOKUP(all_cars!$D71,week3!$AB:$AJ,5,FALSE))","v":""},{"$f":"IF(SUMIF(week4!$AB:$AB,all_cars!$D71,week4!$AF:$AF)=0,\"\",VLOOKUP(all_cars!$D71,week4!$AB:$AJ,5,FALSE))","v":""},{"$f":"IF(SUMIF(week5!$AB:$AB,all_cars!$D71,week5!$AF:$AF)=0,\"\",VLOOKUP(all_cars!$D71,week5!$AB:$AJ,5,FALSE))","v":""},null,{"$f":"IF(SUMIF(week1!$AB:$AB,all_cars!$D71,week1!$AG:$AG)=0,\"\",VLOOKUP(all_cars!$D71,week1!$AB:$AJ,6,FALSE))","v":36.196434157022196},{"$f":"IF(SUMIF(week2!$AB:$AB,all_cars!$D71,week2!$AG:$AG)=0,\"\",VLOOKUP(all_cars!$D71,week2!$AB:$AJ,6,FALSE))","v":""},{"$f":"IF(SUMIF(week3!$AB:$AB,all_cars!$D71,week3!$AG:$AG)=0,\"\",VLOOKUP(all_cars!$D71,week3!$AB:$AJ,6,FALSE))","v":""},{"$f":"IF(SUMIF(week4!$AB:$AB,all_cars!$D71,week4!$AG:$AG)=0,\"\",VLOOKUP(all_cars!$D71,week4!$AB:$AJ,6,FALSE))","v":""},{"$f":"IF(SUMIF(week5!$AB:$AB,all_cars!$D71,week5!$AG:$AG)=0,\"\",VLOOKUP(all_cars!$D71,week5!$AB:$AJ,6,FALSE))","v":""},null,{"$f":"IF(SUMIF(week1!$AB:$AB,all_cars!$D71,week1!$AH:$AH)=0,\"\",VLOOKUP(all_cars!$D71,week1!$AB:$AJ,7,FALSE))","v":""},{"$f":"IF(SUMIF(week2!$AB:$AB,all_cars!$D71,week2!$AH:$AH)=0,\"\",VLOOKUP(all_cars!$D71,week2!$AB:$AJ,7,FALSE))","v":""},{"$f":"IF(SUMIF(week3!$AB:$AB,all_cars!$D71,week3!$AH:$AH)=0,\"\",VLOOKUP(all_cars!$D71,week3!$AB:$AJ,7,FALSE))","v":""},{"$f":"IF(SUMIF(week4!$AB:$AB,all_cars!$D71,week4!$AH:$AH)=0,\"\",VLOOKUP(all_cars!$D71,week4!$AB:$AJ,7,FALSE))","v":""},{"$f":"IF(SUMIF(week5!$AB:$AB,all_cars!$D71,week5!$AH:$AH)=0,\"\",VLOOKUP(all_cars!$D71,week5!$AB:$AJ,7,FALSE))","v":""},null,{"$f":"IF(SUMIF(week1!$AB:$AB,all_cars!$D71,week1!$AI:$AI)=0,\"\",VLOOKUP(all_cars!$D71,week1!$AB:$AJ,8,FALSE))","v":44.527792599102369},{"$f":"IF(SUMIF(week2!$AB:$AB,all_cars!$D71,week2!$AI:$AI)=0,\"\",VLOOKUP(all_cars!$D71,week2!$AB:$AJ,8,FALSE))","v":""},{"$f":"IF(SUMIF(week3!$AB:$AB,all_cars!$D71,week3!$AI:$AI)=0,\"\",VLOOKUP(all_cars!$D71,week3!$AB:$AJ,8,FALSE))","v":""},{"$f":"IF(SUMIF(week4!$AB:$AB,all_cars!$D71,week4!$AI:$AI)=0,\"\",VLOOKUP(all_cars!$D71,week4!$AB:$AJ,8,FALSE))","v":""},{"$f":"IF(SUMIF(week5!$AB:$AB,all_cars!$D71,week5!$AI:$AI)=0,\"\",VLOOKUP(all_cars!$D71,week5!$AB:$AJ,8,FALSE))","v":""},null,{"$f":"IF(SUMIF(week1!$AB:$AB,all_cars!$D71,week1!$AJ:$AJ)=0,\"\",VLOOKUP(all_cars!$D71,week1!$AB:$AJ,9,FALSE))","v":""},{"$f":"IF(SUMIF(week2!$AB:$AB,all_cars!$D71,week2!$AJ:$AJ)=0,\"\",VLOOKUP(all_cars!$D71,week2!$AB:$AJ,9,FALSE))","v":""},{"$f":"IF(SUMIF(week3!$AB:$AB,all_cars!$D71,week3!$AJ:$AJ)=0,\"\",VLOOKUP(all_cars!$D71,week3!$AB:$AJ,9,FALSE))","v":""},{"$f":"IF(SUMIF(week4!$AB:$AB,all_cars!$D71,week4!$AJ:$AJ)=0,\"\",VLOOKUP(all_cars!$D71,week4!$AB:$AJ,9,FALSE))","v":""},{"$f":"IF(SUMIF(week5!$AB:$AB,all_cars!$D71,week5!$AJ:$AJ)=0,\"\",VLOOKUP(all_cars!$D71,week5!$AB:$AJ,9,FALSE))","v":""},null,null,null,"shamino                   ","JJN                       "]
[null,null,66,"[iR] iBlaze²              ",null,99.156372401325697,95.45982856312655,null,97.302697424206301,null,{"$f":"IF(SUMIF(week1!$AB:$AB,all_cars!$D72,week1!$AF:$AF)=0,\"\",VLOOKUP(all_cars!$D72,week1!$AB:$AJ,5,FALSE))","v":""},{"$f":"IF(SUMIF(week2!$AB:$AB,all_cars!$D72,week2!$AF:$AF)=0,\"\",VLOOKUP(all_cars!$D72,week2!$AB:$AJ,5,FALSE))","v":98.671259842519675},{"$f":"IF(SUMIF(week3!$AB:$AB,all_cars!$D72,week3!$AF:$AF)=0,\"\",VLOOKUP(all_cars!$D72,week3!$AB:$AJ,5,FALSE))","v":99.156372401325697},{"$f":"IF(SUMIF(week4!$AB:$AB,all_cars!$D72,week4!$AF:$AF)=0,\"\",VLOOKUP(all_cars!$D72,week4!$AB:$AJ,5,FALSE))","v":97.84215635033226},{"$f":"IF(SUMIF(week5!$AB:$AB,all_cars!$D72,week5!$AF:$AF)=0,\"\",VLOOKUP(all_cars!$D72,week5!$AB:$AJ,5,FALSE))","v":97.434212927479109},null,{"$f":"IF(SUMIF(week1!$AB:$AB,all_cars!$D72,week1!$AG:$AG)=0,\"\",VLOOKUP(all_cars!$D72,week1!$AB:$AJ,6,FALSE))","v":""},{"$f":"IF(SUMIF(week2!$AB:$AB,all_cars!$D72,week2!$AG:$AG)=0,\"\",VLOOKUP(all_cars!$D72,week2!$AB:$AJ,6,FALSE))","v":96.441602893215801},{"$f":"IF(SUMIF(week3!$AB:$AB,all_cars!$D72,week3!$AG:$AG)=0,\"\",VLOOKUP(all_cars!$D72,week3!$AB:$AJ,6,FALSE))","v":97.822066206167662},{"$f":"IF(SUMIF(week4!$AB:$AB,all_cars!$D72,week4!$AG:$AG)=0,\"\",VLOOKUP(all_cars!$D72,week4!$AB:$AJ,6,FALSE))","v":96.561408562272703},{"$f":"IF(SUMIF(week5!$AB:$AB,all_cars!$D72,week5!$AG:$AG)=0,\"\",VLOOKUP(all_cars!$D72,week5!$AB:$AJ,6,FALSE))","v":95.60423825887743},null,{"$f":"IF(SUMIF(week1!$AB:$AB,all_cars!$D72,week1!$AH:$AH)=0,\"\",VLOOKUP(all_cars!$D72,week1!$AB:$AJ,7,FALSE))","v":""},{"$f":"IF(SUMIF(week2!$AB:$AB,all_cars!$D72,week2!$AH:$AH)=0,\"\",VLOOKUP(all_cars!$D72,week2!$AB:$AJ,7,FALSE))","v":98.031968355866809},{"$f":"IF(SUMIF(week3!$AB:$AB,all_cars!$D72,week3!$AH:$AH)=0,\"\",VLOOKUP(all_cars!$D72,week3!$AB:$AJ,7,FALSE))","v":97.892720306513397},{"$f":"IF(SUMIF(week4!$AB:$AB,all_cars!$D72,week4!$AH:$AH)=0,\"\",VLOOKUP(all_cars!$D72,week4!$AB:$AJ,7,FALSE))","v":98.686651871793941},{"$f":"IF(SUMIF(week5!$AB:$AB,all_cars!$D72,week5!$AH:$AH)=0,\"\",VLOOKUP(all_cars!$D72,week5!$AB:$AJ,7,FALSE))","v":97.503402822551763},null,{"$f":"IF(SUMIF(week1!$AB:$AB,all_cars!$D72,week1!$AI:$AI)=0,\"\",VLOOKUP(all_cars!$D72,week1!$AB:$AJ,8,FALSE))","v":""},{"$f":"IF(SUMIF(week2!$AB:$AB,all_cars!$D72,week2!$AI:$AI)=0,\"\",VLOOKUP(all_cars!$D72,week2!$AB:$AJ,8,FALSE))","v":96.118431755327791},{"$f":"IF(SUMIF(week3!$AB:$AB,all_cars!$D72,week3!$AI:$AI)=0,\"\",VLOOKUP(all_cars!$D72,week3!$AB:$AJ,8,FALSE))","v":97.074681656533215},{"$f":"IF(SUMIF(week4!$AB:$AB,all_cars!$D72,week4!$AI:$AI)=0,\"\",VLOOKUP(all_cars!$D72,week4!$AB:$AJ,8,FALSE))","v":95.45982856312655},{"$f":"IF(SUMIF(week5!$AB:$AB,all_cars!$D72,week5!$AI:$AI)=0,\"\",VLOOKUP(all_cars!$D72,week5!$AB:$AJ,8,FALSE))","v":95.996840555774966},null,{"$f":"IF(SUMIF(week1!$AB:$AB,all_cars!$D72,week1!$AJ:$AJ)=0,\"\",VLOOKUP(all_cars!$D72,week1!$AB:$AJ,9,FALSE))","v":""},{"$f":"IF(SUMIF(week2!$AB:$AB,all_cars!$D72,week2!$AJ:$AJ)=0,\"\",VLOOKUP(all_cars!$D72,week2!$AB:$AJ,9,FALSE))","v":98.354668150827891},{"$f":"IF(SUMIF(week3!$AB:$AB,all_cars!$D72,week3!$AJ:$AJ)=0,\"\",VLOOKUP(all_cars!$D72,week3!$AB:$AJ,9,FALSE))","v":97.623188405797094},{"$f":"IF(SUMIF(week4!$AB:$AB,all_cars!$D72,week4!$AJ:$AJ)=0,\"\",VLOOKUP(all_cars!$D72,week4!$AB:$AJ,9,FALSE))","v":97.471682065952763},{"$f":"IF(SUMIF(week5!$AB:$AB,all_cars!$D72,week5!$AJ:$AJ)=0,\"\",VLOOKUP(all_cars!$D72,week5!$AB:$AJ,9,FALSE))","v":96.306566531869834},null,null,null,"[iR] iBlaze²              ","Storm                     "]
[null,null,67,"[x] Stylus                ",null,99.660270290450242,20.801446607898228,null,94.024293043959801,null,{"$f":"IF(SUMIF(week1!$AB:$AB,all_cars!$D73,week1!$AF:$AF)=0,\"\",VLOOKUP(all_cars!$D73,week1!$AB:$AJ,5,FALSE))","v":""},{"$f":"IF(SUMIF(week2!$AB:$AB,all_cars!$D73,week2!$AF:$AF)=0,\"\",VLOOKUP(all_cars!$D73,week2!$AB:$AJ,5,FALSE))","v":98.431758530183728},{"$f":"IF(SUMIF(week3!$AB:$AB,all_cars!$D73,week3!$AF:$AF)=0,\"\",VLOOKUP(all_cars!$D73,week3!$AB:$AJ,5,FALSE))","v":99.555589032841212},{"$f":"IF(SUMIF(week4!$AB:$AB,all_cars!$D73,week4!$AF:$AF)=0,\"\",VLOOKUP(all_cars!$D73,week4!$AB:$AJ,5,FALSE))","v":99.660270290450242},{"$f":"IF(SUMIF(week5!$AB:$AB,all_cars!$D73,week5!$AF:$AF)=0,\"\",VLOOKUP(all_cars!$D73,week5!$AB:$AJ,5,FALSE))","v":98.660535056023946},null,{"$f":"IF(SUMIF(week1!$AB:$AB,all_cars!$D73,week1!$AG:$AG)=0,\"\",VLOOKUP(all_cars!$D73,week1!$AB:$AJ,6,FALSE))","v":""},{"$f":"IF(SUMIF(week2!$AB:$AB,all_cars!$D73,week2!$AG:$AG)=0,\"\",VLOOKUP(all_cars!$D73,week2!$AB:$AJ,6,FALSE))","v":20.801446607898228},{"$f":"IF(SUMIF(week3!$AB:$AB,all_cars!$D73,week3!$AG:$AG)=0,\"\",VLOOKUP(all_cars!$D73,week3!$AB:$AJ,6,FALSE))","v":99.282829426641001},{"$f":"IF(SUMIF(week4!$AB:$AB,all_cars!$D73,week4!$AG:$AG)=0,\"\",VLOOKUP(all_cars!$D73,week4!$AB:$AJ,6,FALSE))","v":98.664170237280814},{"$f":"IF(SUMIF(week5!$AB:$AB,all_cars!$D73,week5!$AG:$AG)=0,\"\",VLOOKUP(all_cars!$D73,week5!$AB:$AJ,6,FALSE))","v":""},null,{"$f":"IF(SUMIF(week1!$AB:$AB,all_cars!$D73,week1!$AH:$AH)=0,\"\",VLOOKUP(all_cars!$D73,week1!$AB:$AJ,7,FALSE))","v":""},{"$f":"IF(SUMIF(week2!$AB:$AB,all_cars!$D73,week2!$AH:$AH)=0,\"\",VLOOKUP(all_cars!$D73,week2!$AB:$AJ,7,FALSE))","v":""},{"$f":"IF(SUMIF(week3!$AB:$AB,all_cars!$D73,week3!$AH:$AH)=0,\"\",VLOOKUP(all_cars!$D73,week3!$AB:$AJ,7,FALSE))","v":98.898467432950184},{"$f":"IF(SUMIF(week4!$AB:$AB,all_cars!$D73,week4!$AH:$AH)=0,\"\",VLOOKUP(all_cars!$D73,week4!$AB:$AJ,7,FALSE))","v":99.472477898642978},{"$f":"IF(SUMIF(week5!$AB:$AB,all_cars!$D73,week5!$AH:$AH)=0,\"\",VLOOKUP(all_cars!$D73,week5!$AB:$AJ,7,FALSE))","v":97.818611648398871},null,{"$f":"IF(SUMIF(week1!$AB:$AB,all_cars!$D73,week1!$AI:$AI)=0,\"\",VLOOKUP(all_cars!$D73,week1!$AB:$AJ,8,FALSE))","v":""},{"$f":"IF(SUMIF(week2!$AB:$AB,all_cars!$D73,week2!$AI:$AI)=0,\"\",VLOOKUP(all_cars!$D73,week2!$AB:$AJ,8,FALSE))","v":99.469659996746373},{"$f":"IF(SUMIF(week3!$AB:$AB,all_cars!$D73,week3!$AI:$AI)=0,\"\",VLOOKUP(all_cars!$D73,week3!$AB:$AJ,8,FALSE))","v":99.445527895682773},{"$f":"IF(SUMIF(week4!$AB:$AB,all_cars!$D73,week4!$AI:$AI)=0,\"\",VLOOKUP(all_cars!$D73,week4!$AB:$AJ,8,FALSE))","v":98.913990992299873},{"$f":"IF(SUMIF(week5!$AB:$AB,all_cars!$D73,week5!$AI:$AI)=0,\"\",VLOOKUP(all_cars!$D73,week5!$AB:$AJ,8,FALSE))","v":97.249847413205046},null,{"$f":"IF(SUMIF(week1!$AB:$AB,all_cars!$D73,week1!$AJ:$AJ)=0,\"\",VLOOKUP(all_cars!$D73,week1!$AB:$AJ,9,FALSE))","v":""},{"$f":"IF(SUMIF(week2!$AB:$AB,all_cars!$D73,week2!$AJ:$AJ)=0,\"\",VLOOKUP(all_cars!$D73,week2!$AB:$AJ,9,FALSE))","v":95.731877000139136},{"$f":"IF(SUMIF(week3!$AB:$AB,all_cars!$D73,week3!$AJ:$AJ)=0,\"\",VLOOKUP(all_cars!$D73,week3!$AB:$AJ,9,FALSE))","v":98.741200828157346},{"$f":"IF(SUMIF(week4!$AB:$AB,all_cars!$D73,week4!$AJ:$AJ)=0,\"\",VLOOKUP(all_cars!$D73,week4!$AB:$AJ,9,FALSE))","v":97.614721459774998},{"$f":"IF(SUMIF(week5!$AB:$AB,all_cars!$D73,week5!$AJ:$AJ)=0,\"\",VLOOKUP(all_cars!$D73,week5!$AB:$AJ,9,FALSE))","v":""},null,null,null,"[x] Stylus                ","kikiriki                  "]
[null,null,68,"Hazard                    ",null,96.184383202099738,93.710753212949413,null,95.374541481141094,null,{"$f":"IF(SUMIF(week1!$AB:$AB,all_cars!$D74,week1!$AF:$AF)=0,\"\",VLOOKUP(all_cars!$D74,week1!$AB:$AJ,5,FALSE))","v":""},{"$f":"IF(SUMIF(week2!$AB:$AB,all_cars!$D74,week2!$AF:$AF)=0,\"\",VLOOKUP(all_cars!$D74,week2!$AB:$AJ,5,FALSE))","v":96.184383202099738},{"$f":"IF(SUMIF(week3!$AB:$AB,all_cars!$D74,week3!$AF:$AF)=0,\"\",VLOOKUP(all_cars!$D74,week3!$AB:$AJ,5,FALSE))","v":""},{"$f":"IF(SUMIF(week4!$AB:$AB,all_cars!$D74,week4!$AF:$AF)=0,\"\",VLOOKUP(all_cars!$D74,week4!$AB:$AJ,5,FALSE))","v":""},{"$f":"IF(SUMIF(week5!$AB:$AB,all_cars!$D74,week5!$AF:$AF)=0,\"\",VLOOKUP(all_cars!$D74,week5!$AB:$AJ,5,FALSE))","v":""},null,{"$f":"IF(SUMIF(week1!$AB:$AB,all_cars!$D74,week1!$AG:$AG)=0,\"\",VLOOKUP(all_cars!$D74,week1!$AB:$AJ,6,FALSE))","v":""},{"$f":"IF(SUMIF(week2!$AB:$AB,all_cars!$D74,week2!$AG:$AG)=0,\"\",VLOOKUP(all_cars!$D74,week2!$AB:$AJ,6,FALSE))","v":""},{"$f":"IF(SUMIF(week3!$AB:$AB,all_cars!$D74,week3!$AG:$AG)=0,\"\",VLOOKUP(all_cars!$D74,week3!$AB:$AJ,6,FALSE))","v":""},{"$f":"IF(SUMIF(week4!$AB:$AB,all_cars!$D74,week4!$AG:$AG)=0,\"\",VLOOKUP(all_cars!$D74,week4!$AB:$AJ,6,FALSE))","v":""},{"$f":"IF(SUMIF(week5!$AB:$AB,all_cars!$D74,week5!$AG:$AG)=0,\"\",VLOOKUP(all_cars!$D74,week5!$AB:$AJ,6,FALSE))","v":""},null,{"$f":"IF(SUMIF(week1!$AB:$AB,all_cars!$D74,week1!$AH:$AH)=0,\"\",VLOOKUP(all_cars!$D74,week1!$AB:$AJ,7,FALSE))","v":""},{"$f":"IF(SUMIF(week2!$AB:$AB,all_cars!$D74,week2!$AH:$AH)=0,\"\",VLOOKUP(all_cars!$D74,week2!$AB:$AJ,7,FALSE))","v":""},{"$f":"IF(SUMIF(week3!$AB:$AB,all_cars!$D74,week3!$AH:$AH)=0,\"\",VLOOKUP(all_cars!$D74,week3!$AB:$AJ,7,FALSE))","v":""},{"$f":"IF(SUMIF(week4!$AB:$AB,all_cars!$D74,week4!$AH:$AH)=0,\"\",VLOOKUP(all_cars!$D74,week4!$AB:$AJ,7,FALSE))","v":""},{"$f":"IF(SUMIF(week5!$AB:$AB,all_cars!$D74,week5!$AH:$AH)=0,\"\",VLOOKUP(all_cars!$D74,week5!$AB:$AJ,7,FALSE))","v":""},null,{"$f":"IF(SUMIF(week1!$AB:$AB,all_cars!$D74,week1!$AI:$AI)=0,\"\",VLOOKUP(all_cars!$D74,week1!$AB:$AJ,8,FALSE))","v":""},{"$f":"IF(SUMIF(week2!$AB:$AB,all_cars!$D74,week2!$AI:$AI)=0,\"\",VLOOKUP(all_cars!$D74,week2!$AB:$AJ,8,FALSE))","v":93.710753212949413},{"$f":"IF(SUMIF(week3!$AB:$AB,all_cars!$D74,week3!$AI:$AI)=0,\"\",VLOOKUP(all_cars!$D74,week3!$AB:$AJ,8,FALSE))","v":""},{"$f":"IF(SUMIF(week4!$AB:$AB,all_cars!$D74,week4!$AI:$AI)=0,\"\",VLOOKUP(all_cars!$D74,week4!$AB:$AJ,8,FALSE))","v":""},{"$f":"IF(SUMIF(week5!$AB:$AB,all_cars!$D74,week5!$AI:$AI)=0,\"\",VLOOKUP(all_cars!$D74,week5!$AB:$AJ,8,FALSE))","v":""},null,{"$f":"IF(SUMIF(week1!$AB:$AB,all_cars!$D74,week1!$AJ:$AJ)=0,\"\",VLOOKUP(all_cars!$D74,week1!$AB:$AJ,9,FALSE))","v":""},{"$f":"IF(SUMIF(week2!$AB:$AB,all_cars!$D74,week2!$AJ:$AJ)=0,\"\",VLOOKUP(all_cars!$D74,week2!$AB:$AJ,9,FALSE))","v":95.93015166272437},{"$f":"IF(SUMIF(week3!$AB:$AB,all_cars!$D74,week3!$AJ:$AJ)=0,\"\",VLOOKUP(all_cars!$D74,week3!$AB:$AJ,9,FALSE))","v":95.672877846790882},{"$f":"IF(SUMIF(week4!$AB:$AB,all_cars!$D74,week4!$AJ:$AJ)=0,\"\",VLOOKUP(all_cars!$D74,week4!$AB:$AJ,9,FALSE))","v":""},{"$f":"IF(SUMIF(week5!$AB:$AB,all_cars!$D74,week5!$AJ:$AJ)=0,\"\",VLOOKUP(all_cars!$D74,week5!$AB:$AJ,9,FALSE))","v":""},null,null,null,"Hazard                    ","{l}rard{l}                "]
[null,null,69,"\\/\\/ | |_ |_              ",null,98.693130460982218,93.188232110410951,null,96.521524051250182,null,{"$f":"IF(SUMIF(week1!$AB:$AB,all_cars!$D75,week1!$AF:$AF)=0,\"\",VLOOKUP(all_cars!$D75,week1!$AB:$AJ,5,FALSE))","v":""},{"$f":"IF(SUMIF(week2!$AB:$AB,all_cars!$D75,week2!$AF:$AF)=0,\"\",VLOOKUP(all_cars!$D75,week2!$AB:$AJ,5,FALSE))","v":97.624671916010499},{"$f":"IF(SUMIF(week3!$AB:$AB,all_cars!$D75,week3!$AF:$AF)=0,\"\",VLOOKUP(all_cars!$D75,week3!$AB:$AJ,5,FALSE))","v":98.693130460982218},{"$f":"IF(SUMIF(week4!$AB:$AB,all_cars!$D75,week4!$AF:$AF)=0,\"\",VLOOKUP(all_cars!$D75,week4!$AB:$AJ,5,FALSE))","v":98.278951691181973},{"$f":"IF(SUMIF(week5!$AB:$AB,all_cars!$D75,week5!$AF:$AF)=0,\"\",VLOOKUP(all_cars!$D75,week5!$AB:$AJ,5,FALSE))","v":""},null,{"$f":"IF(SUMIF(week1!$AB:$AB,all_cars!$D75,week1!$AG:$AG)=0,\"\",VLOOKUP(all_cars!$D75,week1!$AB:$AJ,6,FALSE))","v":""},{"$f":"IF(SUMIF(week2!$AB:$AB,all_cars!$D75,week2!$AG:$AG)=0,\"\",VLOOKUP(all_cars!$D75,week2!$AB:$AJ,6,FALSE))","v":""},{"$f":"IF(SUMIF(week3!$AB:$AB,all_cars!$D75,week3!$AG:$AG)=0,\"\",VLOOKUP(all_cars!$D75,week3!$AB:$AJ,6,FALSE))","v":96.308458838183668},{"$f":"IF(SUMIF(week4!$AB:$AB,all_cars!$D75,week4!$AG:$AG)=0,\"\",VLOOKUP(all_cars!$D75,week4!$AB:$AJ,6,FALSE))","v":95.931300183631592},{"$f":"IF(SUMIF(week5!$AB:$AB,all_cars!$D75,week5!$AG:$AG)=0,\"\",VLOOKUP(all_cars!$D75,week5!$AB:$AJ,6,FALSE))","v":""},null,{"$f":"IF(SUMIF(week1!$AB:$AB,all_cars!$D75,week1!$AH:$AH)=0,\"\",VLOOKUP(all_cars!$D75,week1!$AB:$AJ,7,FALSE))","v":""},{"$f":"IF(SUMIF(week2!$AB:$AB,all_cars!$D75,week2!$AH:$AH)=0,\"\",VLOOKUP(all_cars!$D75,week2!$AB:$AJ,7,FALSE))","v":96.375190480822226},{"$f":"IF(SUMIF(week3!$AB:$AB,all_cars!$D75,week3!$AH:$AH)=0,\"\",VLOOKUP(all_cars!$D75,week3!$AB:$AJ,7,FALSE))","v":""},{"$f":"IF(SUMIF(week4!$AB:$AB,all_cars!$D75,week4!$AH:$AH)=0,\"\",VLOOKUP(all_cars!$D75,week4!$AB:$AJ,7,FALSE))","v":""},{"$f":"IF(SUMIF(week5!$AB:$AB,all_cars!$D75,week5!$AH:$AH)=0,\"\",VLOOKUP(all_cars!$D75,week5!$AB:$AJ,7,FALSE))","v":""},null,{"$f":"IF(SUMIF(week1!$AB:$AB,all_cars!$D75,week1!$AI:$AI)=0,\"\",VLOOKUP(all_cars!$D75,week1!$AB:$AJ,8,FALSE))","v":""},{"$f":"IF(SUMIF(week2!$AB:$AB,all_cars!$D75,week2!$AI:$AI)=0,\"\",VLOOKUP(all_cars!$D75,week2!$AB:$AJ,8,FALSE))","v":""},{"$f":"IF(SUMIF(week3!$AB:$AB,all_cars!$D75,week3!$AI:$AI)=0,\"\",VLOOKUP(all_cars!$D75,week3!$AB:$AJ,8,FALSE))","v":""},{"$f":"IF(SUMIF(week4!$AB:$AB,all_cars!$D75,week4!$AI:$AI)=0,\"\",VLOOKUP(all_cars!$D75,week4!$AB:$AJ,8,FALSE))","v":""},{"$f":"IF(SUMIF(week5!$AB:$AB,all_cars!$D75,week5!$AI:$AI)=0,\"\",VLOOKUP(all_cars!$D75,week5!$AB:$AJ,8,FALSE))","v":""},null,{"$f":"IF(SUMIF(week1!$AB:$AB,all_cars!$D75,week1!$AJ:$AJ)=0,\"\",VLOOKUP(all_cars!$D75,week1!$AB:$AJ,9,FALSE))","v":""},{"$f":"IF(SUMIF(week2!$AB:$AB,all_cars!$D75,week2!$AJ:$AJ)=0,\"\",VLOOKUP(all_cars!$D75,week2!$AB:$AJ,9,FALSE))","v":""},{"$f":"IF(SUMIF(week3!$AB:$AB,all_cars!$D75,week3!$AJ:$AJ)=0,\"\",VLOOKUP(all_cars!$D75,week3!$AB:$AJ,9,FALSE))","v":95.772256728778459},{"$f":"IF(SUMIF(week4!$AB:$AB,all_cars!$D75,week4!$AJ:$AJ)=0,\"\",VLOOKUP(all_cars!$D75,week4!$AB:$AJ,9,FALSE))","v":93.188232110410951},{"$f":"IF(SUMIF(week5!$AB:$AB,all_cars!$D75,week5!$AJ:$AJ)=0,\"\",VLOOKUP(all_cars!$D75,week5!$AB:$AJ,9,FALSE))","v":""},null,null,null,"\\/\\/ | |_ |_              ","shamino                   "]
[null,null,70,"Qpa                       ",null,98.888972582103037,89.357410118757116,null,95.239963373032793,null,{"$f":"IF(SUMIF(week1!$AB:$AB,all_cars!$D76,week1!$AF:$AF)=0,\"\",VLOOKUP(all_cars!$D76,week1!$AB:$AJ,5,FALSE))","v":""},{"$f":"IF(SUMIF(week2!$AB:$AB,all_cars!$D76,week2!$AF:$AF)=0,\"\",VLOOKUP(all_cars!$D76,week2!$AB:$AJ,5,FALSE))","v":98.047900262467195},{"$f":"IF(SUMIF(week3!$AB:$AB,all_cars!$D76,week3!$AF:$AF)=0,\"\",VLOOKUP(all_cars!$D76,week3!$AB:$AJ,5,FALSE))","v":98.888972582103037},{"$f":"IF(SUMIF(week4!$AB:$AB,all_cars!$D76,week4!$AF:$AF)=0,\"\",VLOOKUP(all_cars!$D76,week4!$AB:$AJ,5,FALSE))","v":98.3760173224819},{"$f":"IF(SUMIF(week5!$AB:$AB,all_cars!$D76,week5!$AF:$AF)=0,\"\",VLOOKUP(all_cars!$D76,week5!$AB:$AJ,5,FALSE))","v":98.043724223511816},null,{"$f":"IF(SUMIF(week1!$AB:$AB,all_cars!$D76,week1!$AG:$AG)=0,\"\",VLOOKUP(all_cars!$D76,week1!$AB:$AJ,6,FALSE))","v":""},{"$f":"IF(SUMIF(week2!$AB:$AB,all_cars!$D76,week2!$AG:$AG)=0,\"\",VLOOKUP(all_cars!$D76,week2!$AB:$AJ,6,FALSE))","v":""},{"$f":"IF(SUMIF(week3!$AB:$AB,all_cars!$D76,week3!$AG:$AG)=0,\"\",VLOOKUP(all_cars!$D76,week3!$AB:$AJ,6,FALSE))","v":96.029139772770151},{"$f":"IF(SUMIF(week4!$AB:$AB,all_cars!$D76,week4!$AG:$AG)=0,\"\",VLOOKUP(all_cars!$D76,week4!$AB:$AJ,6,FALSE))","v":97.227523133979048},{"$f":"IF(SUMIF(week5!$AB:$AB,all_cars!$D76,week5!$AG:$AG)=0,\"\",VLOOKUP(all_cars!$D76,week5!$AB:$AJ,6,FALSE))","v":95.761741122565866},null,{"$f":"IF(SUMIF(week1!$AB:$AB,all_cars!$D76,week1!$AH:$AH)=0,\"\",VLOOKUP(all_cars!$D76,week1!$AB:$AJ,7,FALSE))","v":""},{"$f":"IF(SUMIF(week2!$AB:$AB,all_cars!$D76,week2!$AH:$AH)=0,\"\",VLOOKUP(all_cars!$D76,week2!$AB:$AJ,7,FALSE))","v":""},{"$f":"IF(SUMIF(week3!$AB:$AB,all_cars!$D76,week3!$AH:$AH)=0,\"\",VLOOKUP(all_cars!$D76,week3!$AB:$AJ,7,FALSE))","v":""},{"$f":"IF(SUMIF(week4!$AB:$AB,all_cars!$D76,week4!$AH:$AH)=0,\"\",VLOOKUP(all_cars!$D76,week4!$AB:$AJ,7,FALSE))","v":""},{"$f":"IF(SUMIF(week5!$AB:$AB,all_cars!$D76,week5!$AH:$AH)=0,\"\",VLOOKUP(all_cars!$D76,week5!$AB:$AJ,7,FALSE))","v":93.516727559280739},null,{"$f":"IF(SUMIF(week1!$AB:$AB,all_cars!$D76,week1!$AI:$AI)=0,\"\",VLOOKUP(all_cars!$D76,week1!$AB:$AJ,8,FALSE))","v":""},{"$f":"IF(SUMIF(week2!$AB:$AB,all_cars!$D76,week2!$AI:$AI)=0,\"\",VLOOKUP(all_cars!$D76,week2!$AB:$AJ,8,FALSE))","v":89.357410118757116},{"$f":"IF(SUMIF(week3!$AB:$AB,all_cars!$D76,week3!$AI:$AI)=0,\"\",VLOOKUP(all_cars!$D76,week3!$AB:$AJ,8,FALSE))","v":96.734350502848841},{"$f":"IF(SUMIF(week4!$AB:$AB,all_cars!$D76,week4!$AI:$AI)=0,\"\",VLOOKUP(all_cars!$D76,week4!$AB:$AJ,8,FALSE))","v":93.520267325294213},{"$f":"IF(SUMIF(week5!$AB:$AB,all_cars!$D76,week5!$AI:$AI)=0,\"\",VLOOKUP(all_cars!$D76,week5!$AB:$AJ,8,FALSE))","v":96.607187735611973},null,{"$f":"IF(SUMIF(week1!$AB:$AB,all_cars!$D76,week1!$AJ:$AJ)=0,\"\",VLOOKUP(all_cars!$D76,week1!$AB:$AJ,9,FALSE))","v":""},{"$f":"IF(SUMIF(week2!$AB:$AB,all_cars!$D76,week2!$AJ:$AJ)=0,\"\",VLOOKUP(all_cars!$D76,week2!$AB:$AJ,9,FALSE))","v":91.773340754139426},{"$f":"IF(SUMIF(week3!$AB:$AB,all_cars!$D76,week3!$AJ:$AJ)=0,\"\",VLOOKUP(all_cars!$D76,week3!$AB:$AJ,9,FALSE))","v":94.600414078674945},{"$f":"IF(SUMIF(week4!$AB:$AB,all_cars!$D76,week4!$AJ:$AJ)=0,\"\",VLOOKUP(all_cars!$D76,week4!$AB:$AJ,9,FALSE))","v":93.211427687787534},{"$f":"IF(SUMIF(week5!$AB:$AB,all_cars!$D76,week5!$AJ:$AJ)=0,\"\",VLOOKUP(all_cars!$D76,week5!$AB:$AJ,9,FALSE))","v":92.143269786250727},null,null,null,"Qpa                       ","[+] Tinjovic              "]
[null,null,71,"Serif  v2.5.3W            ",null,98.591443205784884,93.199651264167386,null,96.610811017543142,null,{"$f":"IF(SUMIF(week1!$AB:$AB,all_cars!$D77,week1!$AF:$AF)=0,\"\",VLOOKUP(all_cars!$D77,week1!$AB:$AJ,5,FALSE))","v":""},{"$f":"IF(SUMIF(week2!$AB:$AB,all_cars!$D77,week2!$AF:$AF)=0,\"\",VLOOKUP(all_cars!$D77,week2!$AB:$AJ,5,FALSE))","v":98.041338582677156},{"$f":"IF(SUMIF(week3!$AB:$AB,all_cars!$D77,week3!$AF:$AF)=0,\"\",VLOOKUP(all_cars!$D77,week3!$AB:$AJ,5,FALSE))","v":98.591443205784884},{"$f":"IF(SUMIF(week4!$AB:$AB,all_cars!$D77,week4!$AF:$AF)=0,\"\",VLOOKUP(all_cars!$D77,week4!$AB:$AJ,5,FALSE))","v":""},{"$f":"IF(SUMIF(week5!$AB:$AB,all_cars!$D77,week5!$AF:$AF)=0,\"\",VLOOKUP(all_cars!$D77,week5!$AB:$AJ,5,FALSE))","v":""},null,{"$f":"IF(SUMIF(week1!$AB:$AB,all_cars!$D77,week1!$AG:$AG)=0,\"\",VLOOKUP(all_cars!$D77,week1!$AB:$AJ,6,FALSE))","v":""},{"$f":"IF(SUMIF(week2!$AB:$AB,all_cars!$D77,week2!$AG:$AG)=0,\"\",VLOOKUP(all_cars!$D77,week2!$AB:$AJ,6,FALSE))","v":93.199651264167386},{"$f":"IF(SUMIF(week3!$AB:$AB,all_cars!$D77,week3!$AG:$AG)=0,\"\",VLOOKUP(all_cars!$D77,week3!$AB:$AJ,6,FALSE))","v":""},{"$f":"IF(SUMIF(week4!$AB:$AB,all_cars!$D77,week4!$AG:$AG)=0,\"\",VLOOKUP(all_cars!$D77,week4!$AB:$AJ,6,FALSE))","v":""},{"$f":"IF(SUMIF(week5!$AB:$AB,all_cars!$D77,week5!$AG:$AG)=0,\"\",VLOOKUP(all_cars!$D77,week5!$AB:$AJ,6,FALSE))","v":""},null,{"$f":"IF(SUMIF(week1!$AB:$AB,all_cars!$D77,week1!$AH:$AH)=0,\"\",VLOOKUP(all_cars!$D77,week1!$AB:$AJ,7,FALSE))","v":""},{"$f":"IF(SUMIF(week2!$AB:$AB,all_cars!$D77,week2!$AH:$AH)=0,\"\",VLOOKUP(all_cars!$D77,week2!$AB:$AJ,7,FALSE))","v":""},{"$f":"IF(SUMIF(week3!$AB:$AB,all_cars!$D77,week3!$AH:$AH)=0,\"\",VLOOKUP(all_cars!$D77,week3!$AB:$AJ,7,FALSE))","v":""},{"$f":"IF(SUMIF(week4!$AB:$AB,all_cars!$D77,week4!$AH:$AH)=0,\"\",VLOOKUP(all_cars!$D77,week4!$AB:$AJ,7,FALSE))","v":""},{"$f":"IF(SUMIF(week5!$AB:$AB,all_cars!$D77,week5!$AH:$AH)=0,\"\",VLOOKUP(all_cars!$D77,week5!$AB:$AJ,7,FALSE))","v":""},null,{"$f":"IF(SUMIF(week1!$AB:$AB,all_cars!$D77,week1!$AI:$AI)=0,\"\",VLOOKUP(all_cars!$D77,week1!$AB:$AJ,8,FALSE))","v":""},{"$f":"IF(SUMIF(week2!$AB:$AB,all_cars!$D77,week2!$AI:$AI)=0,\"\",VLOOKUP(all_cars!$D77,week2!$AB:$AJ,8,FALSE))","v":""},{"$f":"IF(SUMIF(week3!$AB:$AB,all_cars!$D77,week3!$AI:$AI)=0,\"\",VLOOKUP(all_cars!$D77,week3!$AB:$AJ,8,FALSE))","v":""},{"$f":"IF(SUMIF(week4!$AB:$AB,all_cars!$D77,week4!$AI:$AI)=0,\"\",VLOOKUP(all_cars!$D77,week4!$AB:$AJ,8,FALSE))","v":""},{"$f":"IF(SUMIF(week5!$AB:$AB,all_cars!$D77,week5!$AI:$AI)=0,\"\",VLOOKUP(all_cars!$D77,week5!$AB:$AJ,8,FALSE))","v":""},null,{"$f":"IF(SUMIF(week1!$AB:$AB,all_cars!$D77,week1!$AJ:$AJ)=0,\"\",VLOOKUP(all_cars!$D77,week1!$AB:$AJ,9,FALSE))","v":""},{"$f":"IF(SUMIF(week2!$AB:$AB,all_cars!$D77,week2!$AJ:$AJ)=0,\"\",VLOOKUP(all_cars!$D77,week2!$AB:$AJ,9,FALSE))","v":""},{"$f":"IF(SUMIF(week3!$AB:$AB,all_cars!$D77,week3!$AJ:$AJ)=0,\"\",VLOOKUP(all_cars!$D77,week3!$AB:$AJ,9,FALSE))","v":""},{"$f":"IF(SUMIF(week4!$AB:$AB,all_cars!$D77,week4!$AJ:$AJ)=0,\"\",VLOOKUP(all_cars!$D77,week4!$AB:$AJ,9,FALSE))","v":""},{"$f":"IF(SUMIF(week5!$AB:$AB,all_cars!$D77,week5!$AJ:$AJ)=0,\"\",VLOOKUP(all_cars!$D77,week5!$AB:$AJ,9,FALSE))","v":""},null,null,null,"Serif  v2.5.3W            ","[x] Mike Nike             "]
[null,null,72,"Hengari                   ",null,96.303888075483982,95.265748031496074,null,95.784818053490028,null,{"$f":"IF(SUMIF(week1!$AB:$AB,all_cars!$D78,week1!$AF:$AF)=0,\"\",VLOOKUP(all_cars!$D78,week1!$AB:$AJ,5,FALSE))","v":""},{"$f":"IF(SUMIF(week2!$AB:$AB,all_cars!$D78,week2!$AF:$AF)=0,\"\",VLOOKUP(all_cars!$D78,week2!$AB:$AJ,5,FALSE))","v":95.265748031496074},{"$f":"IF(SUMIF(week3!$AB:$AB,all_cars!$D78,week3!$AF:$AF)=0,\"\",VLOOKUP(all_cars!$D78,week3!$AB:$AJ,5,FALSE))","v":""},{"$f":"IF(SUMIF(week4!$AB:$AB,all_cars!$D78,week4!$AF:$AF)=0,\"\",VLOOKUP(all_cars!$D78,week4!$AB:$AJ,5,FALSE))","v":""},{"$f":"IF(SUMIF(week5!$AB:$AB,all_cars!$D78,week5!$AF:$AF)=0,\"\",VLOOKUP(all_cars!$D78,week5!$AB:$AJ,5,FALSE))","v":""},null,{"$f":"IF(SUMIF(week1!$AB:$AB,all_cars!$D78,week1!$AG:$AG)=0,\"\",VLOOKUP(all_cars!$D78,week1!$AB:$AJ,6,FALSE))","v":""},{"$f":"IF(SUMIF(week2!$AB:$AB,all_cars!$D78,week2!$AG:$AG)=0,\"\",VLOOKUP(all_cars!$D78,week2!$AB:$AJ,6,FALSE))","v":""},{"$f":"IF(SUMIF(week3!$AB:$AB,all_cars!$D78,week3!$AG:$AG)=0,\"\",VLOOKUP(all_cars!$D78,week3!$AB:$AJ,6,FALSE))","v":""},{"$f":"IF(SUMIF(week4!$AB:$AB,all_cars!$D78,week4!$AG:$AG)=0,\"\",VLOOKUP(all_cars!$D78,week4!$AB:$AJ,6,FALSE))","v":""},{"$f":"IF(SUMIF(week5!$AB:$AB,all_cars!$D78,week5!$AG:$AG)=0,\"\",VLOOKUP(all_cars!$D78,week5!$AB:$AJ,6,FALSE))","v":""},null,{"$f":"IF(SUMIF(week1!$AB:$AB,all_cars!$D78,week1!$AH:$AH)=0,\"\",VLOOKUP(all_cars!$D78,week1!$AB:$AJ,7,FALSE))","v":""},{"$f":"IF(SUMIF(week2!$AB:$AB,all_cars!$D78,week2!$AH:$AH)=0,\"\",VLOOKUP(all_cars!$D78,week2!$AB:$AJ,7,FALSE))","v":""},{"$f":"IF(SUMIF(week3!$AB:$AB,all_cars!$D78,week3!$AH:$AH)=0,\"\",VLOOKUP(all_cars!$D78,week3!$AB:$AJ,7,FALSE))","v":""},{"$f":"IF(SUMIF(week4!$AB:$AB,all_cars!$D78,week4!$AH:$AH)=0,\"\",VLOOKUP(all_cars!$D78,week4!$AB:$AJ,7,FALSE))","v":""},{"$f":"IF(SUMIF(week5!$AB:$AB,all_cars!$D78,week5!$AH:$AH)=0,\"\",VLOOKUP(all_cars!$D78,week5!$AB:$AJ,7,FALSE))","v":""},null,{"$f":"IF(SUMIF(week1!$AB:$AB,all_cars!$D78,week1!$AI:$AI)=0,\"\",VLOOKUP(all_cars!$D78,week1!$AB:$AJ,8,FALSE))","v":""},{"$f":"IF(SUMIF(week2!$AB:$AB,all_cars!$D78,week2!$AI:$AI)=0,\"\",VLOOKUP(all_cars!$D78,week2!$AB:$AJ,8,FALSE))","v":96.303888075483982},{"$f":"IF(SUMIF(week3!$AB:$AB,all_cars!$D78,week3!$AI:$AI)=0,\"\",VLOOKUP(all_cars!$D78,week3!$AB:$AJ,8,FALSE))","v":""},{"$f":"IF(SUMIF(week4!$AB:$AB,all_cars!$D78,week4!$AI:$AI)=0,\"\",VLOOKUP(all_cars!$D78,week4!$AB:$AJ,8,FALSE))","v":""},{"$f":"IF(SUMIF(week5!$AB:$AB,all_cars!$D78,week5!$AI:$AI)=0,\"\",VLOOKUP(all_cars!$D78,week5!$AB:$AJ,8,FALSE))","v":""},null,{"$f":"IF(SUMIF(week1!$AB:$AB,all_cars!$D78,week1!$AJ:$AJ)=0,\"\",VLOOKUP(all_cars!$D78,week1!$AB:$AJ,9,FALSE))","v":""},{"$f":"IF(SUMIF(week2!$AB:$AB,all_cars!$D78,week2!$AJ:$AJ)=0,\"\",VLOOKUP(all_cars!$D78,week2!$AB:$AJ,9,FALSE))","v":""},{"$f":"IF(SUMIF(week3!$AB:$AB,all_cars!$D78,week3!$AJ:$AJ)=0,\"\",VLOOKUP(all_cars!$D78,week3!$AB:$AJ,9,FALSE))","v":""},{"$f":"IF(SUMIF(week4!$AB:$AB,all_cars!$D78,week4!$AJ:$AJ)=0,\"\",VLOOKUP(all_cars!$D78,week4!$AB:$AJ,9,FALSE))","v":""},{"$f":"IF(SUMIF(week5!$AB:$AB,all_cars!$D78,week5!$AJ:$AJ)=0,\"\",VLOOKUP(all_cars!$D78,week5!$AB:$AJ,9,FALSE))","v":""},null,null,null,"Hengari                   ","Kyna_Musti                "]
[null,null,73,"pozdro600                 ",null,97.729658792650923,92.476347315056998,null,95.614316506862778,null,{"$f":"IF(SUMIF(week1!$AB:$AB,all_cars!$D79,week1!$AF:$AF)=0,\"\",VLOOKUP(all_cars!$D79,week1!$AB:$AJ,5,FALSE))","v":""},{"$f":"IF(SUMIF(week2!$AB:$AB,all_cars!$D79,week2!$AF:$AF)=0,\"\",VLOOKUP(all_cars!$D79,week2!$AB:$AJ,5,FALSE))","v":97.729658792650923},{"$f":"IF(SUMIF(week3!$AB:$AB,all_cars!$D79,week3!$AF:$AF)=0,\"\",VLOOKUP(all_cars!$D79,week3!$AB:$AJ,5,FALSE))","v":97.054835793913824},{"$f":"IF(SUMIF(week4!$AB:$AB,all_cars!$D79,week4!$AF:$AF)=0,\"\",VLOOKUP(all_cars!$D79,week4!$AB:$AJ,5,FALSE))","v":97.046964832375124},{"$f":"IF(SUMIF(week5!$AB:$AB,all_cars!$D79,week5!$AF:$AF)=0,\"\",VLOOKUP(all_cars!$D79,week5!$AB:$AJ,5,FALSE))","v":97.379466403883356},null,{"$f":"IF(SUMIF(week1!$AB:$AB,all_cars!$D79,week1!$AG:$AG)=0,\"\",VLOOKUP(all_cars!$D79,week1!$AB:$AJ,6,FALSE))","v":""},{"$f":"IF(SUMIF(week2!$AB:$AB,all_cars!$D79,week2!$AG:$AG)=0,\"\",VLOOKUP(all_cars!$D79,week2!$AB:$AJ,6,FALSE))","v":92.476347315056998},{"$f":"IF(SUMIF(week3!$AB:$AB,all_cars!$D79,week3!$AG:$AG)=0,\"\",VLOOKUP(all_cars!$D79,week3!$AB:$AJ,6,FALSE))","v":96.380175895519557},{"$f":"IF(SUMIF(week4!$AB:$AB,all_cars!$D79,week4!$AG:$AG)=0,\"\",VLOOKUP(all_cars!$D79,week4!$AB:$AJ,6,FALSE))","v":94.674684045655852},{"$f":"IF(SUMIF(week5!$AB:$AB,all_cars!$D79,week5!$AG:$AG)=0,\"\",VLOOKUP(all_cars!$D79,week5!$AB:$AJ,6,FALSE))","v":94.820303550973662},null,{"$f":"IF(SUMIF(week1!$AB:$AB,all_cars!$D79,week1!$AH:$AH)=0,\"\",VLOOKUP(all_cars!$D79,week1!$AB:$AJ,7,FALSE))","v":""},{"$f":"IF(SUMIF(week2!$AB:$AB,all_cars!$D79,week2!$AH:$AH)=0,\"\",VLOOKUP(all_cars!$D79,week2!$AB:$AJ,7,FALSE))","v":""},{"$f":"IF(SUMIF(week3!$AB:$AB,all_cars!$D79,week3!$AH:$AH)=0,\"\",VLOOKUP(all_cars!$D79,week3!$AB:$AJ,7,FALSE))","v":95.560713233127018},{"$f":"IF(SUMIF(week4!$AB:$AB,all_cars!$D79,week4!$AH:$AH)=0,\"\",VLOOKUP(all_cars!$D79,week4!$AB:$AJ,7,FALSE))","v":94.539236730090579},{"$f":"IF(SUMIF(week5!$AB:$AB,all_cars!$D79,week5!$AH:$AH)=0,\"\",VLOOKUP(all_cars!$D79,week5!$AB:$AJ,7,FALSE))","v":95.705279747832932},null,{"$f":"IF(SUMIF(week1!$AB:$AB,all_cars!$D79,week1!$AI:$AI)=0,\"\",VLOOKUP(all_cars!$D79,week1!$AB:$AJ,8,FALSE))","v":""},{"$f":"IF(SUMIF(week2!$AB:$AB,all_cars!$D79,week2!$AI:$AI)=0,\"\",VLOOKUP(all_cars!$D79,week2!$AB:$AJ,8,FALSE))","v":""},{"$f":"IF(SUMIF(week3!$AB:$AB,all_cars!$D79,week3!$AI:$AI)=0,\"\",VLOOKUP(all_cars!$D79,week3!$AB:$AJ,8,FALSE))","v":97.330886008183242},{"$f":"IF(SUMIF(week4!$AB:$AB,all_cars!$D79,week4!$AI:$AI)=0,\"\",VLOOKUP(all_cars!$D79,week4!$AB:$AJ,8,FALSE))","v":96.912683422926051},{"$f":"IF(SUMIF(week5!$AB:$AB,all_cars!$D79,week5!$AI:$AI)=0,\"\",VLOOKUP(all_cars!$D79,week5!$AB:$AJ,8,FALSE))","v":96.129680824327721},null,{"$f":"IF(SUMIF(week1!$AB:$AB,all_cars!$D79,week1!$AJ:$AJ)=0,\"\",VLOOKUP(all_cars!$D79,week1!$AB:$AJ,9,FALSE))","v":""},{"$f":"IF(SUMIF(week2!$AB:$AB,all_cars!$D79,week2!$AJ:$AJ)=0,\"\",VLOOKUP(all_cars!$D79,week2!$AB:$AJ,9,FALSE))","v":""},{"$f":"IF(SUMIF(week3!$AB:$AB,all_cars!$D79,week3!$AJ:$AJ)=0,\"\",VLOOKUP(all_cars!$D79,week3!$AB:$AJ,9,FALSE))","v":94.865424430641809},{"$f":"IF(SUMIF(week4!$AB:$AB,all_cars!$D79,week4!$AJ:$AJ)=0,\"\",VLOOKUP(all_cars!$D79,week4!$AB:$AJ,9,FALSE))","v":93.099315730467396},{"$f":"IF(SUMIF(week5!$AB:$AB,all_cars!$D79,week5!$AJ:$AJ)=0,\"\",VLOOKUP(all_cars!$D79,week5!$AB:$AJ,9,FALSE))","v":93.737723859041012},null,null,null,"pozdro600                 ","kikiriki                  "]
[null,null,74,"Bubba                     ",null,94.537401574803141,89.867286641480192,null,92.135371598686106,null,{"$f":"IF(SUMIF(week1!$AB:$AB,all_cars!$D80,week1!$AF:$AF)=0,\"\",VLOOKUP(all_cars!$D80,week1!$AB:$AJ,5,FALSE))","v":""},{"$f":"IF(SUMIF(week2!$AB:$AB,all_cars!$D80,week2!$AF:$AF)=0,\"\",VLOOKUP(all_cars!$D80,week2!$AB:$AJ,5,FALSE))","v":94.537401574803141},{"$f":"IF(SUMIF(week3!$AB:$AB,all_cars!$D80,week3!$AF:$AF)=0,\"\",VLOOKUP(all_cars!$D80,week3!$AB:$AJ,5,FALSE))","v":""},{"$f":"IF(SUMIF(week4!$AB:$AB,all_cars!$D80,week4!$AF:$AF)=0,\"\",VLOOKUP(all_cars!$D80,week4!$AB:$AJ,5,FALSE))","v":""},{"$f":"IF(SUMIF(week5!$AB:$AB,all_cars!$D80,week5!$AF:$AF)=0,\"\",VLOOKUP(all_cars!$D80,week5!$AB:$AJ,5,FALSE))","v":""},null,{"$f":"IF(SUMIF(week1!$AB:$AB,all_cars!$D80,week1!$AG:$AG)=0,\"\",VLOOKUP(all_cars!$D80,week1!$AB:$AJ,6,FALSE))","v":""},{"$f":"IF(SUMIF(week2!$AB:$AB,all_cars!$D80,week2!$AG:$AG)=0,\"\",VLOOKUP(all_cars!$D80,week2!$AB:$AJ,6,FALSE))","v":89.867286641480192},{"$f":"IF(SUMIF(week3!$AB:$AB,all_cars!$D80,week3!$AG:$AG)=0,\"\",VLOOKUP(all_cars!$D80,week3!$AB:$AJ,6,FALSE))","v":""},{"$f":"IF(SUMIF(week4!$AB:$AB,all_cars!$D80,week4!$AG:$AG)=0,\"\",VLOOKUP(all_cars!$D80,week4!$AB:$AJ,6,FALSE))","v":""},{"$f":"IF(SUMIF(week5!$AB:$AB,all_cars!$D80,week5!$AG:$AG)=0,\"\",VLOOKUP(all_cars!$D80,week5!$AB:$AJ,6,FALSE))","v":""},null,{"$f":"IF(SUMIF(week1!$AB:$AB,all_cars!$D80,week1!$AH:$AH)=0,\"\",VLOOKUP(all_cars!$D80,week1!$AB:$AJ,7,FALSE))","v":""},{"$f":"IF(SUMIF(week2!$AB:$AB,all_cars!$D80,week2!$AH:$AH)=0,\"\",VLOOKUP(all_cars!$D80,week2!$AB:$AJ,7,FALSE))","v":92.001426579774986},{"$f":"IF(SUMIF(week3!$AB:$AB,all_cars!$D80,week3!$AH:$AH)=0,\"\",VLOOKUP(all_cars!$D80,week3!$AB:$AJ,7,FALSE))","v":""},{"$f":"IF(SUMIF(week4!$AB:$AB,all_cars!$D80,week4!$AH:$AH)=0,\"\",VLOOKUP(all_cars!$D80,week4!$AB:$AJ,7,FALSE))","v":""},{"$f":"IF(SUMIF(week5!$AB:$AB,all_cars!$D80,week5!$AH:$AH)=0,\"\",VLOOKUP(all_cars!$D80,week5!$AB:$AJ,7,FALSE))","v":""},null,{"$f":"IF(SUMIF(week1!$AB:$AB,all_cars!$D80,week1!$AI:$AI)=0,\"\",VLOOKUP(all_cars!$D80,week1!$AB:$AJ,8,FALSE))","v":""},{"$f":"IF(SUMIF(week2!$AB:$AB,all_cars!$D80,week2!$AI:$AI)=0,\"\",VLOOKUP(all_cars!$D80,week2!$AB:$AJ,8,FALSE))","v":""},{"$f":"IF(SUMIF(week3!$AB:$AB,all_cars!$D80,week3!$AI:$AI)=0,\"\",VLOOKUP(all_cars!$D80,week3!$AB:$AJ,8,FALSE))","v":""},{"$f":"IF(SUMIF(week4!$AB:$AB,all_cars!$D80,week4!$AI:$AI)=0,\"\",VLOOKUP(all_cars!$D80,week4!$AB:$AJ,8,FALSE))","v":""},{"$f":"IF(SUMIF(week5!$AB:$AB,all_cars!$D80,week5!$AI:$AI)=0,\"\",VLOOKUP(all_cars!$D80,week5!$AB:$AJ,8,FALSE))","v":""},null,{"$f":"IF(SUMIF(week1!$AB:$AB,all_cars!$D80,week1!$AJ:$AJ)=0,\"\",VLOOKUP(all_cars!$D80,week1!$AB:$AJ,9,FALSE))","v":""},{"$f":"IF(SUMIF(week2!$AB:$AB,all_cars!$D80,week2!$AJ:$AJ)=0,\"\",VLOOKUP(all_cars!$D80,week2!$AB:$AJ,9,FALSE))","v":""},{"$f":"IF(SUMIF(week3!$AB:$AB,all_cars!$D80,week3!$AJ:$AJ)=0,\"\",VLOOKUP(all_cars!$D80,week3!$AB:$AJ,9,FALSE))","v":""},{"$f":"IF(SUMIF(week4!$AB:$AB,all_cars!$D80,week4!$AJ:$AJ)=0,\"\",VLOOKUP(all_cars!$D80,week4!$AB:$AJ,9,FALSE))","v":""},{"$f":"IF(SUMIF(week5!$AB:$AB,all_cars!$D80,week5!$AJ:$AJ)=0,\"\",VLOOKUP(all_cars!$D80,week5!$AB:$AJ,9,FALSE))","v":""},null,null,null,"Bubba                     ","[fS]Palo                  "]
[null,null,75,"Popowitch                 ",null,98.635170603674538,97.853269056944868,null,98.244219830309703,null,{"$f":"IF(SUMIF(week1!$AB:$AB,all_cars!$D81,week1!$AF:$AF)=0,\"\",VLOOKUP(all_cars!$D81,week1!$AB:$AJ,5,FALSE))","v":""},{"$f":"IF(SUMIF(week2!$AB:$AB,all_cars!$D81,week2!$AF:$AF)=0,\"\",VLOOKUP(all_cars!$D81,week2!$AB:$AJ,5,FALSE))","v":98.635170603674538},{"$f":"IF(SUMIF(week3!$AB:$AB,all_cars!$D81,week3!$AF:$AF)=0,\"\",VLOOKUP(all_cars!$D81,week3!$AB:$AJ,5,FALSE))","v":97.853269056944868},{"$f":"IF(SUMIF(week4!$AB:$AB,all_cars!$D81,week4!$AF:$AF)=0,\"\",VLOOKUP(all_cars!$D81,week4!$AB:$AJ,5,FALSE))","v":""},{"$f":"IF(SUMIF(week5!$AB:$AB,all_cars!$D81,week5!$AF:$AF)=0,\"\",VLOOKUP(all_cars!$D81,week5!$AB:$AJ,5,FALSE))","v":""},null,{"$f":"IF(SUMIF(week1!$AB:$AB,all_cars!$D81,week1!$AG:$AG)=0,\"\",VLOOKUP(all_cars!$D81,week1!$AB:$AJ,6,FALSE))","v":""},{"$f":"IF(SUMIF(week2!$AB:$AB,all_cars!$D81,week2!$AG:$AG)=0,\"\",VLOOKUP(all_cars!$D81,week2!$AB:$AJ,6,FALSE))","v":""},{"$f":"IF(SUMIF(week3!$AB:$AB,all_cars!$D81,week3!$AG:$AG)=0,\"\",VLOOKUP(all_cars!$D81,week3!$AB:$AJ,6,FALSE))","v":""},{"$f":"IF(SUMIF(week4!$AB:$AB,all_cars!$D81,week4!$AG:$AG)=0,\"\",VLOOKUP(all_cars!$D81,week4!$AB:$AJ,6,FALSE))","v":""},{"$f":"IF(SUMIF(week5!$AB:$AB,all_cars!$D81,week5!$AG:$AG)=0,\"\",VLOOKUP(all_cars!$D81,week5!$AB:$AJ,6,FALSE))","v":""},null,{"$f":"IF(SUMIF(week1!$AB:$AB,all_cars!$D81,week1!$AH:$AH)=0,\"\",VLOOKUP(all_cars!$D81,week1!$AB:$AJ,7,FALSE))","v":""},{"$f":"IF(SUMIF(week2!$AB:$AB,all_cars!$D81,week2!$AH:$AH)=0,\"\",VLOOKUP(all_cars!$D81,week2!$AB:$AJ,7,FALSE))","v":""},{"$f":"IF(SUMIF(week3!$AB:$AB,all_cars!$D81,week3!$AH:$AH)=0,\"\",VLOOKUP(all_cars!$D81,week3!$AB:$AJ,7,FALSE))","v":""},{"$f":"IF(SUMIF(week4!$AB:$AB,all_cars!$D81,week4!$AH:$AH)=0,\"\",VLOOKUP(all_cars!$D81,week4!$AB:$AJ,7,FALSE))","v":""},{"$f":"IF(SUMIF(week5!$AB:$AB,all_cars!$D81,week5!$AH:$AH)=0,\"\",VLOOKUP(all_cars!$D81,week5!$AB:$AJ,7,FALSE))","v":""},null,{"$f":"IF(SUMIF(week1!$AB:$AB,all_cars!$D81,week1!$AI:$AI)=0,\"\",VLOOKUP(all_cars!$D81,week1!$AB:$AJ,8,FALSE))","v":""},{"$f":"IF(SUMIF(week2!$AB:$AB,all_cars!$D81,week2!$AI:$AI)=0,\"\",VLOOKUP(all_cars!$D81,week2!$AB:$AJ,8,FALSE))","v":""},{"$f":"IF(SUMIF(week3!$AB:$AB,all_cars!$D81,week3!$AI:$AI)=0,\"\",VLOOKUP(all_cars!$D81,week3!$AB:$AJ,8,FALSE))","v":""},{"$f":"IF(SUMIF(week4!$AB:$AB,all_cars!$D81,week4!$AI:$AI)=0,\"\",VLOOKUP(all_cars!$D81,week4!$AB:$AJ,8,FALSE))","v":""},{"$f":"IF(SUMIF(week5!$AB:$AB,all_cars!$D81,week5!$AI:$AI)=0,\"\",VLOOKUP(all_cars!$D81,week5!$AB:$AJ,8,FALSE))","v":""},null,{"$f":"IF(SUMIF(week1!$AB:$AB,all_cars!$D81,week1!$AJ:$AJ)=0,\"\",VLOOKUP(all_cars!$D81,week1!$AB:$AJ,9,FALSE))","v":""},{"$f":"IF(SUMIF(week2!$AB:$AB,all_cars!$D81,week2!$AJ:$AJ)=0,\"\",VLOOKUP(all_cars!$D81,week2!$AB:$AJ,9,FALSE))","v":""},{"$f":"IF(SUMIF(week3!$AB:$AB,all_cars!$D81,week3!$AJ:$AJ)=0,\"\",VLOOKUP(all_cars!$D81,week3!$AB:$AJ,9,FALSE))","v":""},{"$f":"IF(SUMIF(week4!$AB:$AB,all_cars!$D81,week4!$AJ:$AJ)=0,\"\",VLOOKUP(all_cars!$D81,week4!$AB:$AJ,9,FALSE))","v":""},{"$f":"IF(SUMIF(week5!$AB:$AB,all_cars!$D81,week5!$AJ:$AJ)=0,\"\",VLOOKUP(all_cars!$D81,week5!$AB:$AJ,9,FALSE))","v":""},null,null,null,"Popowitch                 ","[iR] iBlaze²              "]
[null,null,76,"Qri                       ",null,99.273124435070798,96.800567460613763,null,98.030688199698872,null,{"$f":"IF(SUMIF(week1!$AB:$AB,all_cars!$D82,week1!$AF:$AF)=0,\"\",VLOOKUP(all_cars!$D82,week1!$AB:$AJ,5,FALSE))","v":""},{"$f":"IF(SUMIF(week2!$AB:$AB,all_cars!$D82,week2!$AF:$AF)=0,\"\",VLOOKUP(all_cars!$D82,week2!$AB:$AJ,5,FALSE))","v":98.018372703412069},{"$f":"IF(SUMIF(week3!$AB:$AB,all_cars!$D82,week3!$AF:$AF)=0,\"\",VLOOKUP(all_cars!$D82,week3!$AB:$AJ,5,FALSE))","v":99.273124435070798},{"$f":"IF(SUMIF(week4!$AB:$AB,all_cars!$D82,week4!$AF:$AF)=0,\"\",VLOOKUP(all_cars!$D82,week4!$AB:$AJ,5,FALSE))","v":96.800567460613763},{"$f":"IF(SUMIF(week5!$AB:$AB,all_cars!$D82,week5!$AF:$AF)=0,\"\",VLOOKUP(all_cars!$D82,week5!$AB:$AJ,5,FALSE))","v":""},null,{"$f":"IF(SUMIF(week1!$AB:$AB,all_cars!$D82,week1!$AG:$AG)=0,\"\",VLOOKUP(all_cars!$D82,week1!$AB:$AJ,6,FALSE))","v":""},{"$f":"IF(SUMIF(week2!$AB:$AB,all_cars!$D82,week2!$AG:$AG)=0,\"\",VLOOKUP(all_cars!$D82,week2!$AB:$AJ,6,FALSE))","v":""},{"$f":"IF(SUMIF(week3!$AB:$AB,all_cars!$D82,week3!$AG:$AG)=0,\"\",VLOOKUP(all_cars!$D82,week3!$AB:$AJ,6,FALSE))","v":""},{"$f":"IF(SUMIF(week4!$AB:$AB,all_cars!$D82,week4!$AG:$AG)=0,\"\",VLOOKUP(all_cars!$D82,week4!$AB:$AJ,6,FALSE))","v":""},{"$f":"IF(SUMIF(week5!$AB:$AB,all_cars!$D82,week5!$AG:$AG)=0,\"\",VLOOKUP(all_cars!$D82,week5!$AB:$AJ,6,FALSE))","v":""},null,{"$f":"IF(SUMIF(week1!$AB:$AB,all_cars!$D82,week1!$AH:$AH)=0,\"\",VLOOKUP(all_cars!$D82,week1!$AB:$AJ,7,FALSE))","v":""},{"$f":"IF(SUMIF(week2!$AB:$AB,all_cars!$D82,week2!$AH:$AH)=0,\"\",VLOOKUP(all_cars!$D82,week2!$AB:$AJ,7,FALSE))","v":""},{"$f":"IF(SUMIF(week3!$AB:$AB,all_cars!$D82,week3!$AH:$AH)=0,\"\",VLOOKUP(all_cars!$D82,week3!$AB:$AJ,7,FALSE))","v":""},{"$f":"IF(SUMIF(week4!$AB:$AB,all_cars!$D82,week4!$AH:$AH)=0,\"\",VLOOKUP(all_cars!$D82,week4!$AB:$AJ,7,FALSE))","v":""},{"$f":"IF(SUMIF(week5!$AB:$AB,all_cars!$D82,week5!$AH:$AH)=0,\"\",VLOOKUP(all_cars!$D82,week5!$AB:$AJ,7,FALSE))","v":""},null,{"$f":"IF(SUMIF(week1!$AB:$AB,all_cars!$D82,week1!$AI:$AI)=0,\"\",VLOOKUP(all_cars!$D82,week1!$AB:$AJ,8,FALSE))","v":""},{"$f":"IF(SUMIF(week2!$AB:$AB,all_cars!$D82,week2!$AI:$AI)=0,\"\",VLOOKUP(all_cars!$D82,week2!$AB:$AJ,8,FALSE))","v":""},{"$f":"IF(SUMIF(week3!$AB:$AB,all_cars!$D82,week3!$AI:$AI)=0,\"\",VLOOKUP(all_cars!$D82,week3!$AB:$AJ,8,FALSE))","v":""},{"$f":"IF(SUMIF(week4!$AB:$AB,all_cars!$D82,week4!$AI:$AI)=0,\"\",VLOOKUP(all_cars!$D82,week4!$AB:$AJ,8,FALSE))","v":""},{"$f":"IF(SUMIF(week5!$AB:$AB,all_cars!$D82,week5!$AI:$AI)=0,\"\",VLOOKUP(all_cars!$D82,week5!$AB:$AJ,8,FALSE))","v":""},null,{"$f":"IF(SUMIF(week1!$AB:$AB,all_cars!$D82,week1!$AJ:$AJ)=0,\"\",VLOOKUP(all_cars!$D82,week1!$AB:$AJ,9,FALSE))","v":""},{"$f":"IF(SUMIF(week2!$AB:$AB,all_cars!$D82,week2!$AJ:$AJ)=0,\"\",VLOOKUP(all_cars!$D82,week2!$AB:$AJ,9,FALSE))","v":""},{"$f":"IF(SUMIF(week3!$AB:$AB,all_cars!$D82,week3!$AJ:$AJ)=0,\"\",VLOOKUP(all_cars!$D82,week3!$AB:$AJ,9,FALSE))","v":""},{"$f":"IF(SUMIF(week4!$AB:$AB,all_cars!$D82,week4!$AJ:$AJ)=0,\"\",VLOOKUP(all_cars!$D82,week4!$AB:$AJ,9,FALSE))","v":""},{"$f":"IF(SUMIF(week5!$AB:$AB,all_cars!$D82,week5!$AJ:$AJ)=0,\"\",VLOOKUP(all_cars!$D82,week5!$AB:$AJ,9,FALSE))","v":""},null,null,null,"Qri                       ","AnnicK                    "]
[null,null,77,"batjunior                 ",null,99.204808482042864,97.641076115485561,null,98.665951141476882,null,{"$f":"IF(SUMIF(week1!$AB:$AB,all_cars!$D83,week1!$AF:$AF)=0,\"\",VLOOKUP(all_cars!$D83,week1!$AB:$AJ,5,FALSE))","v":""},{"$f":"IF(SUMIF(week2!$AB:$AB,all_cars!$D83,week2!$AF:$AF)=0,\"\",VLOOKUP(all_cars!$D83,week2!$AB:$AJ,5,FALSE))","v":97.641076115485561},{"$f":"IF(SUMIF(week3!$AB:$AB,all_cars!$D83,week3!$AF:$AF)=0,\"\",VLOOKUP(all_cars!$D83,week3!$AB:$AJ,5,FALSE))","v":98.952997890931002},{"$f":"IF(SUMIF(week4!$AB:$AB,all_cars!$D83,week4!$AF:$AF)=0,\"\",VLOOKUP(all_cars!$D83,week4!$AB:$AJ,5,FALSE))","v":99.204808482042864},{"$f":"IF(SUMIF(week5!$AB:$AB,all_cars!$D83,week5!$AF:$AF)=0,\"\",VLOOKUP(all_cars!$D83,week5!$AB:$AJ,5,FALSE))","v":98.864922077448085},null,{"$f":"IF(SUMIF(week1!$AB:$AB,all_cars!$D83,week1!$AG:$AG)=0,\"\",VLOOKUP(all_cars!$D83,week1!$AB:$AJ,6,FALSE))","v":""},{"$f":"IF(SUMIF(week2!$AB:$AB,all_cars!$D83,week2!$AG:$AG)=0,\"\",VLOOKUP(all_cars!$D83,week2!$AB:$AJ,6,FALSE))","v":""},{"$f":"IF(SUMIF(week3!$AB:$AB,all_cars!$D83,week3!$AG:$AG)=0,\"\",VLOOKUP(all_cars!$D83,week3!$AB:$AJ,6,FALSE))","v":""},{"$f":"IF(SUMIF(week4!$AB:$AB,all_cars!$D83,week4!$AG:$AG)=0,\"\",VLOOKUP(all_cars!$D83,week4!$AB:$AJ,6,FALSE))","v":""},{"$f":"IF(SUMIF(week5!$AB:$AB,all_cars!$D83,week5!$AG:$AG)=0,\"\",VLOOKUP(all_cars!$D83,week5!$AB:$AJ,6,FALSE))","v":""},null,{"$f":"IF(SUMIF(week1!$AB:$AB,all_cars!$D83,week1!$AH:$AH)=0,\"\",VLOOKUP(all_cars!$D83,week1!$AB:$AJ,7,FALSE))","v":""},{"$f":"IF(SUMIF(week2!$AB:$AB,all_cars!$D83,week2!$AH:$AH)=0,\"\",VLOOKUP(all_cars!$D83,week2!$AB:$AJ,7,FALSE))","v":""},{"$f":"IF(SUMIF(week3!$AB:$AB,all_cars!$D83,week3!$AH:$AH)=0,\"\",VLOOKUP(all_cars!$D83,week3!$AB:$AJ,7,FALSE))","v":""},{"$f":"IF(SUMIF(week4!$AB:$AB,all_cars!$D83,week4!$AH:$AH)=0,\"\",VLOOKUP(all_cars!$D83,week4!$AB:$AJ,7,FALSE))","v":""},{"$f":"IF(SUMIF(week5!$AB:$AB,all_cars!$D83,week5!$AH:$AH)=0,\"\",VLOOKUP(all_cars!$D83,week5!$AB:$AJ,7,FALSE))","v":""},null,{"$f":"IF(SUMIF(week1!$AB:$AB,all_cars!$D83,week1!$AI:$AI)=0,\"\",VLOOKUP(all_cars!$D83,week1!$AB:$AJ,8,FALSE))","v":""},{"$f":"IF(SUMIF(week2!$AB:$AB,all_cars!$D83,week2!$AI:$AI)=0,\"\",VLOOKUP(all_cars!$D83,week2!$AB:$AJ,8,FALSE))","v":""},{"$f":"IF(SUMIF(week3!$AB:$AB,all_cars!$D83,week3!$AI:$AI)=0,\"\",VLOOKUP(all_cars!$D83,week3!$AB:$AJ,8,FALSE))","v":""},{"$f":"IF(SUMIF(week4!$AB:$AB,all_cars!$D83,week4!$AI:$AI)=0,\"\",VLOOKUP(all_cars!$D83,week4!$AB:$AJ,8,FALSE))","v":""},{"$f":"IF(SUMIF(week5!$AB:$AB,all_cars!$D83,week5!$AI:$AI)=0,\"\",VLOOKUP(all_cars!$D83,week5!$AB:$AJ,8,FALSE))","v":""},null,{"$f":"IF(SUMIF(week1!$AB:$AB,all_cars!$D83,week1!$AJ:$AJ)=0,\"\",VLOOKUP(all_cars!$D83,week1!$AB:$AJ,9,FALSE))","v":""},{"$f":"IF(SUMIF(week2!$AB:$AB,all_cars!$D83,week2!$AJ:$AJ)=0,\"\",VLOOKUP(all_cars!$D83,week2!$AB:$AJ,9,FALSE))","v":""},{"$f":"IF(SUMIF(week3!$AB:$AB,all_cars!$D83,week3!$AJ:$AJ)=0,\"\",VLOOKUP(all_cars!$D83,week3!$AB:$AJ,9,FALSE))","v":""},{"$f":"IF(SUMIF(week4!$AB:$AB,all_cars!$D83,week4!$AJ:$AJ)=0,\"\",VLOOKUP(all_cars!$D83,week4!$AB:$AJ,9,FALSE))","v":""},{"$f":"IF(SUMIF(week5!$AB:$AB,all_cars!$D83,week5!$AJ:$AJ)=0,\"\",VLOOKUP(all_cars!$D83,week5!$AB:$AJ,9,FALSE))","v":""},null,null,null,"batjunior                 ","Jurgen-NL                 "]
[null,null,78,"Delux                     ",null,97.312992125984252,92.02002695936838,null,95.371307832640809,null,{"$f":"IF(SUMIF(week1!$AB:$AB,all_cars!$D84,week1!$AF:$AF)=0,\"\",VLOOKUP(all_cars!$D84,week1!$AB:$AJ,5,FALSE))","v":""},{"$f":"IF(SUMIF(week2!$AB:$AB,all_cars!$D84,week2!$AF:$AF)=0,\"\",VLOOKUP(all_cars!$D84,week2!$AB:$AJ,5,FALSE))","v":97.312992125984252},{"$f":"IF(SUMIF(week3!$AB:$AB,all_cars!$D84,week3!$AF:$AF)=0,\"\",VLOOKUP(all_cars!$D84,week3!$AB:$AJ,5,FALSE))","v":""},{"$f":"IF(SUMIF(week4!$AB:$AB,all_cars!$D84,week4!$AF:$AF)=0,\"\",VLOOKUP(all_cars!$D84,week4!$AB:$AJ,5,FALSE))","v":""},{"$f":"IF(SUMIF(week5!$AB:$AB,all_cars!$D84,week5!$AF:$AF)=0,\"\",VLOOKUP(all_cars!$D84,week5!$AB:$AJ,5,FALSE))","v":96.780904412569811},null,{"$f":"IF(SUMIF(week1!$AB:$AB,all_cars!$D84,week1!$AG:$AG)=0,\"\",VLOOKUP(all_cars!$D84,week1!$AB:$AJ,6,FALSE))","v":""},{"$f":"IF(SUMIF(week2!$AB:$AB,all_cars!$D84,week2!$AG:$AG)=0,\"\",VLOOKUP(all_cars!$D84,week2!$AB:$AJ,6,FALSE))","v":""},{"$f":"IF(SUMIF(week3!$AB:$AB,all_cars!$D84,week3!$AG:$AG)=0,\"\",VLOOKUP(all_cars!$D84,week3!$AB:$AJ,6,FALSE))","v":""},{"$f":"IF(SUMIF(week4!$AB:$AB,all_cars!$D84,week4!$AG:$AG)=0,\"\",VLOOKUP(all_cars!$D84,week4!$AB:$AJ,6,FALSE))","v":""},{"$f":"IF(SUMIF(week5!$AB:$AB,all_cars!$D84,week5!$AG:$AG)=0,\"\",VLOOKUP(all_cars!$D84,week5!$AB:$AJ,6,FALSE))","v":""},null,{"$f":"IF(SUMIF(week1!$AB:$AB,all_cars!$D84,week1!$AH:$AH)=0,\"\",VLOOKUP(all_cars!$D84,week1!$AB:$AJ,7,FALSE))","v":""},{"$f":"IF(SUMIF(week2!$AB:$AB,all_cars!$D84,week2!$AH:$AH)=0,\"\",VLOOKUP(all_cars!$D84,week2!$AB:$AJ,7,FALSE))","v":""},{"$f":"IF(SUMIF(week3!$AB:$AB,all_cars!$D84,week3!$AH:$AH)=0,\"\",VLOOKUP(all_cars!$D84,week3!$AB:$AJ,7,FALSE))","v":""},{"$f":"IF(SUMIF(week4!$AB:$AB,all_cars!$D84,week4!$AH:$AH)=0,\"\",VLOOKUP(all_cars!$D84,week4!$AB:$AJ,7,FALSE))","v":""},{"$f":"IF(SUMIF(week5!$AB:$AB,all_cars!$D84,week5!$AH:$AH)=0,\"\",VLOOKUP(all_cars!$D84,week5!$AB:$AJ,7,FALSE))","v":""},null,{"$f":"IF(SUMIF(week1!$AB:$AB,all_cars!$D84,week1!$AI:$AI)=0,\"\",VLOOKUP(all_cars!$D84,week1!$AB:$AJ,8,FALSE))","v":""},{"$f":"IF(SUMIF(week2!$AB:$AB,all_cars!$D84,week2!$AI:$AI)=0,\"\",VLOOKUP(all_cars!$D84,week2!$AB:$AJ,8,FALSE))","v":""},{"$f":"IF(SUMIF(week3!$AB:$AB,all_cars!$D84,week3!$AI:$AI)=0,\"\",VLOOKUP(all_cars!$D84,week3!$AB:$AJ,8,FALSE))","v":""},{"$f":"IF(SUMIF(week4!$AB:$AB,all_cars!$D84,week4!$AI:$AI)=0,\"\",VLOOKUP(all_cars!$D84,week4!$AB:$AJ,8,FALSE))","v":""},{"$f":"IF(SUMIF(week5!$AB:$AB,all_cars!$D84,week5!$AI:$AI)=0,\"\",VLOOKUP(all_cars!$D84,week5!$AB:$AJ,8,FALSE))","v":""},null,{"$f":"IF(SUMIF(week1!$AB:$AB,all_cars!$D84,week1!$AJ:$AJ)=0,\"\",VLOOKUP(all_cars!$D84,week1!$AB:$AJ,9,FALSE))","v":""},{"$f":"IF(SUMIF(week2!$AB:$AB,all_cars!$D84,week2!$AJ:$AJ)=0,\"\",VLOOKUP(all_cars!$D84,week2!$AB:$AJ,9,FALSE))","v":""},{"$f":"IF(SUMIF(week3!$AB:$AB,all_cars!$D84,week3!$AJ:$AJ)=0,\"\",VLOOKUP(all_cars!$D84,week3!$AB:$AJ,9,FALSE))","v":""},{"$f":"IF(SUMIF(week4!$AB:$AB,all_cars!$D84,week4!$AJ:$AJ)=0,\"\",VLOOKUP(all_cars!$D84,week4!$AB:$AJ,9,FALSE))","v":""},{"$f":"IF(SUMIF(week5!$AB:$AB,all_cars!$D84,week5!$AJ:$AJ)=0,\"\",VLOOKUP(all_cars!$D84,week5!$AB:$AJ,9,FALSE))","v":92.02002695936838},null,null,null,"Delux                     ","[+] xzeal                 "]
[null,null,79,"power79                   ",null,99.077282313949979,96.961942257217856,null,98.108153831149139,null,{"$f":"IF(SUMIF(week1!$AB:$AB,all_cars!$D85,week1!$AF:$AF)=0,\"\",VLOOKUP(all_cars!$D85,week1!$AB:$AJ,5,FALSE))","v":""},{"$f":"IF(SUMIF(week2!$AB:$AB,all_cars!$D85,week2!$AF:$AF)=0,\"\",VLOOKUP(all_cars!$D85,week2!$AB:$AJ,5,FALSE))","v":96.961942257217856},{"$f":"IF(SUMIF(week3!$AB:$AB,all_cars!$D85,week3!$AF:$AF)=0,\"\",VLOOKUP(all_cars!$D85,week3!$AB:$AJ,5,FALSE))","v":99.077282313949979},{"$f":"IF(SUMIF(week4!$AB:$AB,all_cars!$D85,week4!$AF:$AF)=0,\"\",VLOOKUP(all_cars!$D85,week4!$AB:$AJ,5,FALSE))","v":98.013887851862918},{"$f":"IF(SUMIF(week5!$AB:$AB,all_cars!$D85,week5!$AF:$AF)=0,\"\",VLOOKUP(all_cars!$D85,week5!$AB:$AJ,5,FALSE))","v":98.379502901565758},null,{"$f":"IF(SUMIF(week1!$AB:$AB,all_cars!$D85,week1!$AG:$AG)=0,\"\",VLOOKUP(all_cars!$D85,week1!$AB:$AJ,6,FALSE))","v":""},{"$f":"IF(SUMIF(week2!$AB:$AB,all_cars!$D85,week2!$AG:$AG)=0,\"\",VLOOKUP(all_cars!$D85,week2!$AB:$AJ,6,FALSE))","v":""},{"$f":"IF(SUMIF(week3!$AB:$AB,all_cars!$D85,week3!$AG:$AG)=0,\"\",VLOOKUP(all_cars!$D85,week3!$AB:$AJ,6,FALSE))","v":""},{"$f":"IF(SUMIF(week4!$AB:$AB,all_cars!$D85,week4!$AG:$AG)=0,\"\",VLOOKUP(all_cars!$D85,week4!$AB:$AJ,6,FALSE))","v":""},{"$f":"IF(SUMIF(week5!$AB:$AB,all_cars!$D85,week5!$AG:$AG)=0,\"\",VLOOKUP(all_cars!$D85,week5!$AB:$AJ,6,FALSE))","v":""},null,{"$f":"IF(SUMIF(week1!$AB:$AB,all_cars!$D85,week1!$AH:$AH)=0,\"\",VLOOKUP(all_cars!$D85,week1!$AB:$AJ,7,FALSE))","v":""},{"$f":"IF(SUMIF(week2!$AB:$AB,all_cars!$D85,week2!$AH:$AH)=0,\"\",VLOOKUP(all_cars!$D85,week2!$AB:$AJ,7,FALSE))","v":""},{"$f":"IF(SUMIF(week3!$AB:$AB,all_cars!$D85,week3!$AH:$AH)=0,\"\",VLOOKUP(all_cars!$D85,week3!$AB:$AJ,7,FALSE))","v":""},{"$f":"IF(SUMIF(week4!$AB:$AB,all_cars!$D85,week4!$AH:$AH)=0,\"\",VLOOKUP(all_cars!$D85,week4!$AB:$AJ,7,FALSE))","v":""},{"$f":"IF(SUMIF(week5!$AB:$AB,all_cars!$D85,week5!$AH:$AH)=0,\"\",VLOOKUP(all_cars!$D85,week5!$AB:$AJ,7,FALSE))","v":""},null,{"$f":"IF(SUMIF(week1!$AB:$AB,all_cars!$D85,week1!$AI:$AI)=0,\"\",VLOOKUP(all_cars!$D85,week1!$AB:$AJ,8,FALSE))","v":""},{"$f":"IF(SUMIF(week2!$AB:$AB,all_cars!$D85,week2!$AI:$AI)=0,\"\",VLOOKUP(all_cars!$D85,week2!$AB:$AJ,8,FALSE))","v":""},{"$f":"IF(SUMIF(week3!$AB:$AB,all_cars!$D85,week3!$AI:$AI)=0,\"\",VLOOKUP(all_cars!$D85,week3!$AB:$AJ,8,FALSE))","v":""},{"$f":"IF(SUMIF(week4!$AB:$AB,all_cars!$D85,week4!$AI:$AI)=0,\"\",VLOOKUP(all_cars!$D85,week4!$AB:$AJ,8,FALSE))","v":""},{"$f":"IF(SUMIF(week5!$AB:$AB,all_cars!$D85,week5!$AI:$AI)=0,\"\",VLOOKUP(all_cars!$D85,week5!$AB:$AJ,8,FALSE))","v":""},null,{"$f":"IF(SUMIF(week1!$AB:$AB,all_cars!$D85,week1!$AJ:$AJ)=0,\"\",VLOOKUP(all_cars!$D85,week1!$AB:$AJ,9,FALSE))","v":""},{"$f":"IF(SUMIF(week2!$AB:$AB,all_cars!$D85,week2!$AJ:$AJ)=0,\"\",VLOOKUP(all_cars!$D85,week2!$AB:$AJ,9,FALSE))","v":""},{"$f":"IF(SUMIF(week3!$AB:$AB,all_cars!$D85,week3!$AJ:$AJ)=0,\"\",VLOOKUP(all_cars!$D85,week3!$AB:$AJ,9,FALSE))","v":""},{"$f":"IF(SUMIF(week4!$AB:$AB,all_cars!$D85,week4!$AJ:$AJ)=0,\"\",VLOOKUP(all_cars!$D85,week4!$AB:$AJ,9,FALSE))","v":""},{"$f":"IF(SUMIF(week5!$AB:$AB,all_cars!$D85,week5!$AJ:$AJ)=0,\"\",VLOOKUP(all_cars!$D85,week5!$AB:$AJ,9,FALSE))","v":""},null,null,null,"power79                   ","Ande                      "]
[null,null,80,"TD Juquinha               ",null,92.440827924698894,90.329762070404911,null,91.38529499755191,null,{"$f":"IF(SUMIF(week1!$AB:$AB,all_cars!$D86,week1!$AF:$AF)=0,\"\",VLOOKUP(all_cars!$D86,week1!$AB:$AJ,5,FALSE))","v":""},{"$f":"IF(SUMIF(week2!$AB:$AB,all_cars!$D86,week2!$AF:$AF)=0,\"\",VLOOKUP(all_cars!$D86,week2!$AB:$AJ,5,FALSE))","v":""},{"$f":"IF(SUMIF(week3!$AB:$AB,all_cars!$D86,week3!$AF:$AF)=0,\"\",VLOOKUP(all_cars!$D86,week3!$AB:$AJ,5,FALSE))","v":""},{"$f":"IF(SUMIF(week4!$AB:$AB,all_cars!$D86,week4!$AF:$AF)=0,\"\",VLOOKUP(all_cars!$D86,week4!$AB:$AJ,5,FALSE))","v":""},{"$f":"IF(SUMIF(week5!$AB:$AB,all_cars!$D86,week5!$AF:$AF)=0,\"\",VLOOKUP(all_cars!$D86,week5!$AB:$AJ,5,FALSE))","v":""},null,{"$f":"IF(SUMIF(week1!$AB:$AB,all_cars!$D86,week1!$AG:$AG)=0,\"\",VLOOKUP(all_cars!$D86,week1!$AB:$AJ,6,FALSE))","v":""},{"$f":"IF(SUMIF(week2!$AB:$AB,all_cars!$D86,week2!$AG:$AG)=0,\"\",VLOOKUP(all_cars!$D86,week2!$AB:$AJ,6,FALSE))","v":92.440827924698894},{"$f":"IF(SUMIF(week3!$AB:$AB,all_cars!$D86,week3!$AG:$AG)=0,\"\",VLOOKUP(all_cars!$D86,week3!$AB:$AJ,6,FALSE))","v":""},{"$f":"IF(SUMIF(week4!$AB:$AB,all_cars!$D86,week4!$AG:$AG)=0,\"\",VLOOKUP(all_cars!$D86,week4!$AB:$AJ,6,FALSE))","v":""},{"$f":"IF(SUMIF(week5!$AB:$AB,all_cars!$D86,week5!$AG:$AG)=0,\"\",VLOOKUP(all_cars!$D86,week5!$AB:$AJ,6,FALSE))","v":""},null,{"$f":"IF(SUMIF(week1!$AB:$AB,all_cars!$D86,week1!$AH:$AH)=0,\"\",VLOOKUP(all_cars!$D86,week1!$AB:$AJ,7,FALSE))","v":""},{"$f":"IF(SUMIF(week2!$AB:$AB,all_cars!$D86,week2!$AH:$AH)=0,\"\",VLOOKUP(all_cars!$D86,week2!$AB:$AJ,7,FALSE))","v":""},{"$f":"IF(SUMIF(week3!$AB:$AB,all_cars!$D86,week3!$AH:$AH)=0,\"\",VLOOKUP(all_cars!$D86,week3!$AB:$AJ,7,FALSE))","v":""},{"$f":"IF(SUMIF(week4!$AB:$AB,all_cars!$D86,week4!$AH:$AH)=0,\"\",VLOOKUP(all_cars!$D86,week4!$AB:$AJ,7,FALSE))","v":""},{"$f":"IF(SUMIF(week5!$AB:$AB,all_cars!$D86,week5!$AH:$AH)=0,\"\",VLOOKUP(all_cars!$D86,week5!$AB:$AJ,7,FALSE))","v":""},null,{"$f":"IF(SUMIF(week1!$AB:$AB,all_cars!$D86,week1!$AI:$AI)=0,\"\",VLOOKUP(all_cars!$D86,week1!$AB:$AJ,8,FALSE))","v":""},{"$f":"IF(SUMIF(week2!$AB:$AB,all_cars!$D86,week2!$AI:$AI)=0,\"\",VLOOKUP(all_cars!$D86,week2!$AB:$AJ,8,FALSE))","v":""},{"$f":"IF(SUMIF(week3!$AB:$AB,all_cars!$D86,week3!$AI:$AI)=0,\"\",VLOOKUP(all_cars!$D86,week3!$AB:$AJ,8,FALSE))","v":""},{"$f":"IF(SUMIF(week4!$AB:$AB,all_cars!$D86,week4!$AI:$AI)=0,\"\",VLOOKUP(all_cars!$D86,week4!$AB:$AJ,8,FALSE))","v":""},{"$f":"IF(SUMIF(week5!$AB:$AB,all_cars!$D86,week5!$AI:$AI)=0,\"\",VLOOKUP(all_cars!$D86,week5!$AB:$AJ,8,FALSE))","v":""},null,{"$f":"IF(SUMIF(week1!$AB:$AB,all_cars!$D86,week1!$AJ:$AJ)=0,\"\",VLOOKUP(all_cars!$D86,week1!$AB:$AJ,9,FALSE))","v":""},{"$f":"IF(SUMIF(week2!$AB:$AB,all_cars!$D86,week2!$AJ:$AJ)=0,\"\",VLOOKUP(all_cars!$D86,week2!$AB:$AJ,9,FALSE))","v":90.329762070404911},{"$f":"IF(SUMIF(week3!$AB:$AB,all_cars!$D86,week3!$AJ:$AJ)=0,\"\",VLOOKUP(all_cars!$D86,week3!$AB:$AJ,9,FALSE))","v":""},{"$f":"IF(SUMIF(week4!$AB:$AB,all_cars!$D86,week4!$AJ:$AJ)=0,\"\",VLOOKUP(all_cars!$D86,week4!$AB:$AJ,9,FALSE))","v":""},{"$f":"IF(SUMIF(week5!$AB:$AB,all_cars!$D86,week5!$AJ:$AJ)=0,\"\",VLOOKUP(all_cars!$D86,week5!$AB:$AJ,9,FALSE))","v":""},null,null,null,"TD Juquinha               ","Sig                       "]
[null,null,81,"Alukin                    ",null,98.873907803555284,94.149068322981364,null,96.323712952065137,null,{"$f":"IF(SUMIF(week1!$AB:$AB,all_cars!$D87,week1!$AF:$AF)=0,\"\",VLOOKUP(all_cars!$D87,week1!$AB:$AJ,5,FALSE))","v":""},{"$f":"IF(SUMIF(week2!$AB:$AB,all_cars!$D87,week2!$AF:$AF)=0,\"\",VLOOKUP(all_cars!$D87,week2!$AB:$AJ,5,FALSE))","v":95.94816272965879},{"$f":"IF(SUMIF(week3!$AB:$AB,all_cars!$D87,week3!$AF:$AF)=0,\"\",VLOOKUP(all_cars!$D87,week3!$AB:$AJ,5,FALSE))","v":98.873907803555284},{"$f":"IF(SUMIF(week4!$AB:$AB,all_cars!$D87,week4!$AF:$AF)=0,\"\",VLOOKUP(all_cars!$D87,week4!$AB:$AJ,5,FALSE))","v":""},{"$f":"IF(SUMIF(week5!$AB:$AB,all_cars!$D87,week5!$AF:$AF)=0,\"\",VLOOKUP(all_cars!$D87,week5!$AB:$AJ,5,FALSE))","v":""},null,{"$f":"IF(SUMIF(week1!$AB:$AB,all_cars!$D87,week1!$AG:$AG)=0,\"\",VLOOKUP(all_cars!$D87,week1!$AB:$AJ,6,FALSE))","v":""},{"$f":"IF(SUMIF(week2!$AB:$AB,all_cars!$D87,week2!$AG:$AG)=0,\"\",VLOOKUP(all_cars!$D87,week2!$AB:$AJ,6,FALSE))","v":""},{"$f":"IF(SUMIF(week3!$AB:$AB,all_cars!$D87,week3!$AG:$AG)=0,\"\",VLOOKUP(all_cars!$D87,week3!$AB:$AJ,6,FALSE))","v":""},{"$f":"IF(SUMIF(week4!$AB:$AB,all_cars!$D87,week4!$AG:$AG)=0,\"\",VLOOKUP(all_cars!$D87,week4!$AB:$AJ,6,FALSE))","v":""},{"$f":"IF(SUMIF(week5!$AB:$AB,all_cars!$D87,week5!$AG:$AG)=0,\"\",VLOOKUP(all_cars!$D87,week5!$AB:$AJ,6,FALSE))","v":""},null,{"$f":"IF(SUMIF(week1!$AB:$AB,all_cars!$D87,week1!$AH:$AH)=0,\"\",VLOOKUP(all_cars!$D87,week1!$AB:$AJ,7,FALSE))","v":""},{"$f":"IF(SUMIF(week2!$AB:$AB,all_cars!$D87,week2!$AH:$AH)=0,\"\",VLOOKUP(all_cars!$D87,week2!$AB:$AJ,7,FALSE))","v":""},{"$f":"IF(SUMIF(week3!$AB:$AB,all_cars!$D87,week3!$AH:$AH)=0,\"\",VLOOKUP(all_cars!$D87,week3!$AB:$AJ,7,FALSE))","v":""},{"$f":"IF(SUMIF(week4!$AB:$AB,all_cars!$D87,week4!$AH:$AH)=0,\"\",VLOOKUP(all_cars!$D87,week4!$AB:$AJ,7,FALSE))","v":""},{"$f":"IF(SUMIF(week5!$AB:$AB,all_cars!$D87,week5!$AH:$AH)=0,\"\",VLOOKUP(all_cars!$D87,week5!$AB:$AJ,7,FALSE))","v":""},null,{"$f":"IF(SUMIF(week1!$AB:$AB,all_cars!$D87,week1!$AI:$AI)=0,\"\",VLOOKUP(all_cars!$D87,week1!$AB:$AJ,8,FALSE))","v":""},{"$f":"IF(SUMIF(week2!$AB:$AB,all_cars!$D87,week2!$AI:$AI)=0,\"\",VLOOKUP(all_cars!$D87,week2!$AB:$AJ,8,FALSE))","v":""},{"$f":"IF(SUMIF(week3!$AB:$AB,all_cars!$D87,week3!$AI:$AI)=0,\"\",VLOOKUP(all_cars!$D87,week3!$AB:$AJ,8,FALSE))","v":""},{"$f":"IF(SUMIF(week4!$AB:$AB,all_cars!$D87,week4!$AI:$AI)=0,\"\",VLOOKUP(all_cars!$D87,week4!$AB:$AJ,8,FALSE))","v":""},{"$f":"IF(SUMIF(week5!$AB:$AB,all_cars!$D87,week5!$AI:$AI)=0,\"\",VLOOKUP(all_cars!$D87,week5!$AB:$AJ,8,FALSE))","v":""},null,{"$f":"IF(SUMIF(week1!$AB:$AB,all_cars!$D87,week1!$AJ:$AJ)=0,\"\",VLOOKUP(all_cars!$D87,week1!$AB:$AJ,9,FALSE))","v":""},{"$f":"IF(SUMIF(week2!$AB:$AB,all_cars!$D87,week2!$AJ:$AJ)=0,\"\",VLOOKUP(all_cars!$D87,week2!$AB:$AJ,9,FALSE))","v":""},{"$f":"IF(SUMIF(week3!$AB:$AB,all_cars!$D87,week3!$AJ:$AJ)=0,\"\",VLOOKUP(all_cars!$D87,week3!$AB:$AJ,9,FALSE))","v":94.149068322981364},{"$f":"IF(SUMIF(week4!$AB:$AB,all_cars!$D87,week4!$AJ:$AJ)=0,\"\",VLOOKUP(all_cars!$D87,week4!$AB:$AJ,9,FALSE))","v":""},{"$f":"IF(SUMIF(week5!$AB:$AB,all_cars!$D87,week5!$AJ:$AJ)=0,\"\",VLOOKUP(all_cars!$D87,week5!$AB:$AJ,9,FALSE))","v":""},null,null,null,"Alukin                    ","[x] Stylus                "]
[null,null,82,"GoingDillon               ",null,94.409448818897644,83.183183183183189,null,88.796316001040424,null,{"$f":"IF(SUMIF(week1!$AB:$AB,all_cars!$D88,week1!$AF:$AF)=0,\"\",VLOOKUP(all_cars!$D88,week1!$AB:$AJ,5,FALSE))","v":""},{"$f":"IF(SUMIF(week2!$AB:$AB,all_cars!$D88,week2!$AF:$AF)=0,\"\",VLOOKUP(all_cars!$D88,week2!$AB:$AJ,5,FALSE))","v":94.409448818897644},{"$f":"IF(SUMIF(week3!$AB:$AB,all_cars!$D88,week3!$AF:$AF)=0,\"\",VLOOKUP(all_cars!$D88,week3!$AB:$AJ,5,FALSE))","v":""},{"$f":"IF(SUMIF(week4!$AB:$AB,all_cars!$D88,week4!$AF:$AF)=0,\"\",VLOOKUP(all_cars!$D88,week4!$AB:$AJ,5,FALSE))","v":""},{"$f":"IF(SUMIF(week5!$AB:$AB,all_cars!$D88,week5!$AF:$AF)=0,\"\",VLOOKUP(all_cars!$D88,week5!$AB:$AJ,5,FALSE))","v":""},null,{"$f":"IF(SUMIF(week1!$AB:$AB,all_cars!$D88,week1!$AG:$AG)=0,\"\",VLOOKUP(all_cars!$D88,week1!$AB:$AJ,6,FALSE))","v":""},{"$f":"IF(SUMIF(week2!$AB:$AB,all_cars!$D88,week2!$AG:$AG)=0,\"\",VLOOKUP(all_cars!$D88,week2!$AB:$AJ,6,FALSE))","v":83.183183183183189},{"$f":"IF(SUMIF(week3!$AB:$AB,all_cars!$D88,week3!$AG:$AG)=0,\"\",VLOOKUP(all_cars!$D88,week3!$AB:$AJ,6,FALSE))","v":""},{"$f":"IF(SUMIF(week4!$AB:$AB,all_cars!$D88,week4!$AG:$AG)=0,\"\",VLOOKUP(all_cars!$D88,week4!$AB:$AJ,6,FALSE))","v":""},{"$f":"IF(SUMIF(week5!$AB:$AB,all_cars!$D88,week5!$AG:$AG)=0,\"\",VLOOKUP(all_cars!$D88,week5!$AB:$AJ,6,FALSE))","v":""},null,{"$f":"IF(SUMIF(week1!$AB:$AB,all_cars!$D88,week1!$AH:$AH)=0,\"\",VLOOKUP(all_cars!$D88,week1!$AB:$AJ,7,FALSE))","v":""},{"$f":"IF(SUMIF(week2!$AB:$AB,all_cars!$D88,week2!$AH:$AH)=0,\"\",VLOOKUP(all_cars!$D88,week2!$AB:$AJ,7,FALSE))","v":""},{"$f":"IF(SUMIF(week3!$AB:$AB,all_cars!$D88,week3!$AH:$AH)=0,\"\",VLOOKUP(all_cars!$D88,week3!$AB:$AJ,7,FALSE))","v":""},{"$f":"IF(SUMIF(week4!$AB:$AB,all_cars!$D88,week4!$AH:$AH)=0,\"\",VLOOKUP(all_cars!$D88,week4!$AB:$AJ,7,FALSE))","v":""},{"$f":"IF(SUMIF(week5!$AB:$AB,all_cars!$D88,week5!$AH:$AH)=0,\"\",VLOOKUP(all_cars!$D88,week5!$AB:$AJ,7,FALSE))","v":""},null,{"$f":"IF(SUMIF(week1!$AB:$AB,all_cars!$D88,week1!$AI:$AI)=0,\"\",VLOOKUP(all_cars!$D88,week1!$AB:$AJ,8,FALSE))","v":""},{"$f":"IF(SUMIF(week2!$AB:$AB,all_cars!$D88,week2!$AI:$AI)=0,\"\",VLOOKUP(all_cars!$D88,week2!$AB:$AJ,8,FALSE))","v":""},{"$f":"IF(SUMIF(week3!$AB:$AB,all_cars!$D88,week3!$AI:$AI)=0,\"\",VLOOKUP(all_cars!$D88,week3!$AB:$AJ,8,FALSE))","v":""},{"$f":"IF(SUMIF(week4!$AB:$AB,all_cars!$D88,week4!$AI:$AI)=0,\"\",VLOOKUP(all_cars!$D88,week4!$AB:$AJ,8,FALSE))","v":""},{"$f":"IF(SUMIF(week5!$AB:$AB,all_cars!$D88,week5!$AI:$AI)=0,\"\",VLOOKUP(all_cars!$D88,week5!$AB:$AJ,8,FALSE))","v":""},null,{"$f":"IF(SUMIF(week1!$AB:$AB,all_cars!$D88,week1!$AJ:$AJ)=0,\"\",VLOOKUP(all_cars!$D88,week1!$AB:$AJ,9,FALSE))","v":""},{"$f":"IF(SUMIF(week2!$AB:$AB,all_cars!$D88,week2!$AJ:$AJ)=0,\"\",VLOOKUP(all_cars!$D88,week2!$AB:$AJ,9,FALSE))","v":""},{"$f":"IF(SUMIF(week3!$AB:$AB,all_cars!$D88,week3!$AJ:$AJ)=0,\"\",VLOOKUP(all_cars!$D88,week3!$AB:$AJ,9,FALSE))","v":""},{"$f":"IF(SUMIF(week4!$AB:$AB,all_cars!$D88,week4!$AJ:$AJ)=0,\"\",VLOOKUP(all_cars!$D88,week4!$AB:$AJ,9,FALSE))","v":""},{"$f":"IF(SUMIF(week5!$AB:$AB,all_cars!$D88,week5!$AJ:$AJ)=0,\"\",VLOOKUP(all_cars!$D88,week5!$AB:$AJ,9,FALSE))","v":""},null,null,null,"GoingDillon               ","mc65532                   "]
[null,null,83,"[Qc]RSX                   ",null,94.642388451443566,-294.60042364721744,null,-35.456892664318751,null,{"$f":"IF(SUMIF(week1!$AB:$AB,all_cars!$D89,week1!$AF:$AF)=0,\"\",VLOOKUP(all_cars!$D89,week1!$AB:$AJ,5,FALSE))","v":""},{"$f":"IF(SUMIF(week2!$AB:$AB,all_cars!$D89,week2!$AF:$AF)=0,\"\",VLOOKUP(all_cars!$D89,week2!$AB:$AJ,5,FALSE))","v":94.642388451443566},{"$f":"IF(SUMIF(week3!$AB:$AB,all_cars!$D89,week3!$AF:$AF)=0,\"\",VLOOKUP(all_cars!$D89,week3!$AB:$AJ,5,FALSE))","v":""},{"$f":"IF(SUMIF(week4!$AB:$AB,all_cars!$D89,week4!$AF:$AF)=0,\"\",VLOOKUP(all_cars!$D89,week4!$AB:$AJ,5,FALSE))","v":""},{"$f":"IF(SUMIF(week5!$AB:$AB,all_cars!$D89,week5!$AF:$AF)=0,\"\",VLOOKUP(all_cars!$D89,week5!$AB:$AJ,5,FALSE))","v":93.587357202817628},null,{"$f":"IF(SUMIF(week1!$AB:$AB,all_cars!$D89,week1!$AG:$AG)=0,\"\",VLOOKUP(all_cars!$D89,week1!$AB:$AJ,6,FALSE))","v":""},{"$f":"IF(SUMIF(week2!$AB:$AB,all_cars!$D89,week2!$AG:$AG)=0,\"\",VLOOKUP(all_cars!$D89,week2!$AB:$AJ,6,FALSE))","v":""},{"$f":"IF(SUMIF(week3!$AB:$AB,all_cars!$D89,week3!$AG:$AG)=0,\"\",VLOOKUP(all_cars!$D89,week3!$AB:$AJ,6,FALSE))","v":""},{"$f":"IF(SUMIF(week4!$AB:$AB,all_cars!$D89,week4!$AG:$AG)=0,\"\",VLOOKUP(all_cars!$D89,week4!$AB:$AJ,6,FALSE))","v":""},{"$f":"IF(SUMIF(week5!$AB:$AB,all_cars!$D89,week5!$AG:$AG)=0,\"\",VLOOKUP(all_cars!$D89,week5!$AB:$AJ,6,FALSE))","v":""},null,{"$f":"IF(SUMIF(week1!$AB:$AB,all_cars!$D89,week1!$AH:$AH)=0,\"\",VLOOKUP(all_cars!$D89,week1!$AB:$AJ,7,FALSE))","v":""},{"$f":"IF(SUMIF(week2!$AB:$AB,all_cars!$D89,week2!$AH:$AH)=0,\"\",VLOOKUP(all_cars!$D89,week2!$AB:$AJ,7,FALSE))","v":""},{"$f":"IF(SUMIF(week3!$AB:$AB,all_cars!$D89,week3!$AH:$AH)=0,\"\",VLOOKUP(all_cars!$D89,week3!$AB:$AJ,7,FALSE))","v":""},{"$f":"IF(SUMIF(week4!$AB:$AB,all_cars!$D89,week4!$AH:$AH)=0,\"\",VLOOKUP(all_cars!$D89,week4!$AB:$AJ,7,FALSE))","v":""},{"$f":"IF(SUMIF(week5!$AB:$AB,all_cars!$D89,week5!$AH:$AH)=0,\"\",VLOOKUP(all_cars!$D89,week5!$AB:$AJ,7,FALSE))","v":""},null,{"$f":"IF(SUMIF(week1!$AB:$AB,all_cars!$D89,week1!$AI:$AI)=0,\"\",VLOOKUP(all_cars!$D89,week1!$AB:$AJ,8,FALSE))","v":""},{"$f":"IF(SUMIF(week2!$AB:$AB,all_cars!$D89,week2!$AI:$AI)=0,\"\",VLOOKUP(all_cars!$D89,week2!$AB:$AJ,8,FALSE))","v":""},{"$f":"IF(SUMIF(week3!$AB:$AB,all_cars!$D89,week3!$AI:$AI)=0,\"\",VLOOKUP(all_cars!$D89,week3!$AB:$AJ,8,FALSE))","v":""},{"$f":"IF(SUMIF(week4!$AB:$AB,all_cars!$D89,week4!$AI:$AI)=0,\"\",VLOOKUP(all_cars!$D89,week4!$AB:$AJ,8,FALSE))","v":""},{"$f":"IF(SUMIF(week5!$AB:$AB,all_cars!$D89,week5!$AI:$AI)=0,\"\",VLOOKUP(all_cars!$D89,week5!$AB:$AJ,8,FALSE))","v":""},null,{"$f":"IF(SUMIF(week1!$AB:$AB,all_cars!$D89,week1!$AJ:$AJ)=0,\"\",VLOOKUP(all_cars!$D89,week1!$AB:$AJ,9,FALSE))","v":""},{"$f":"IF(SUMIF(week2!$AB:$AB,all_cars!$D89,week2!$AJ:$AJ)=0,\"\",VLOOKUP(all_cars!$D89,week2!$AB:$AJ,9,FALSE))","v":""},{"$f":"IF(SUMIF(week3!$AB:$AB,all_cars!$D89,week3!$AJ:$AJ)=0,\"\",VLOOKUP(all_cars!$D89,week3!$AB:$AJ,9,FALSE))","v":""},{"$f":"IF(SUMIF(week4!$AB:$AB,all_cars!$D89,week4!$AJ:$AJ)=0,\"\",VLOOKUP(all_cars!$D89,week4!$AB:$AJ,9,FALSE))","v":""},{"$f":"IF(SUMIF(week5!$AB:$AB,all_cars!$D89,week5!$AJ:$AJ)=0,\"\",VLOOKUP(all_cars!$D89,week5!$AB:$AJ,9,FALSE))","v":-294.60042364721744},null,null,null,"[Qc]RSX                   ","[x] Whiplash              "]
[null,null,84,"dire                      ",null,93.868110236220488,93.868110236220488,null,93.868110236220488,null,{"$f":"IF(SUMIF(week1!$AB:$AB,all_cars!$D90,week1!$AF:$AF)=0,\"\",VLOOKUP(all_cars!$D90,week1!$AB:$AJ,5,FALSE))","v":""},{"$f":"IF(SUMIF(week2!$AB:$AB,all_cars!$D90,week2!$AF:$AF)=0,\"\",VLOOKUP(all_cars!$D90,week2!$AB:$AJ,5,FALSE))","v":93.868110236220488},{"$f":"IF(SUMIF(week3!$AB:$AB,all_cars!$D90,week3!$AF:$AF)=0,\"\",VLOOKUP(all_cars!$D90,week3!$AB:$AJ,5,FALSE))","v":""},{"$f":"IF(SUMIF(week4!$AB:$AB,all_cars!$D90,week4!$AF:$AF)=0,\"\",VLOOKUP(all_cars!$D90,week4!$AB:$AJ,5,FALSE))","v":""},{"$f":"IF(SUMIF(week5!$AB:$AB,all_cars!$D90,week5!$AF:$AF)=0,\"\",VLOOKUP(all_cars!$D90,week5!$AB:$AJ,5,FALSE))","v":""},null,{"$f":"IF(SUMIF(week1!$AB:$AB,all_cars!$D90,week1!$AG:$AG)=0,\"\",VLOOKUP(all_cars!$D90,week1!$AB:$AJ,6,FALSE))","v":""},{"$f":"IF(SUMIF(week2!$AB:$AB,all_cars!$D90,week2!$AG:$AG)=0,\"\",VLOOKUP(all_cars!$D90,week2!$AB:$AJ,6,FALSE))","v":""},{"$f":"IF(SUMIF(week3!$AB:$AB,all_cars!$D90,week3!$AG:$AG)=0,\"\",VLOOKUP(all_cars!$D90,week3!$AB:$AJ,6,FALSE))","v":""},{"$f":"IF(SUMIF(week4!$AB:$AB,all_cars!$D90,week4!$AG:$AG)=0,\"\",VLOOKUP(all_cars!$D90,week4!$AB:$AJ,6,FALSE))","v":""},{"$f":"IF(SUMIF(week5!$AB:$AB,all_cars!$D90,week5!$AG:$AG)=0,\"\",VLOOKUP(all_cars!$D90,week5!$AB:$AJ,6,FALSE))","v":""},null,{"$f":"IF(SUMIF(week1!$AB:$AB,all_cars!$D90,week1!$AH:$AH)=0,\"\",VLOOKUP(all_cars!$D90,week1!$AB:$AJ,7,FALSE))","v":""},{"$f":"IF(SUMIF(week2!$AB:$AB,all_cars!$D90,week2!$AH:$AH)=0,\"\",VLOOKUP(all_cars!$D90,week2!$AB:$AJ,7,FALSE))","v":""},{"$f":"IF(SUMIF(week3!$AB:$AB,all_cars!$D90,week3!$AH:$AH)=0,\"\",VLOOKUP(all_cars!$D90,week3!$AB:$AJ,7,FALSE))","v":""},{"$f":"IF(SUMIF(week4!$AB:$AB,all_cars!$D90,week4!$AH:$AH)=0,\"\",VLOOKUP(all_cars!$D90,week4!$AB:$AJ,7,FALSE))","v":""},{"$f":"IF(SUMIF(week5!$AB:$AB,all_cars!$D90,week5!$AH:$AH)=0,\"\",VLOOKUP(all_cars!$D90,week5!$AB:$AJ,7,FALSE))","v":""},null,{"$f":"IF(SUMIF(week1!$AB:$AB,all_cars!$D90,week1!$AI:$AI)=0,\"\",VLOOKUP(all_cars!$D90,week1!$AB:$AJ,8,FALSE))","v":""},{"$f":"IF(SUMIF(week2!$AB:$AB,all_cars!$D90,week2!$AI:$AI)=0,\"\",VLOOKUP(all_cars!$D90,week2!$AB:$AJ,8,FALSE))","v":""},{"$f":"IF(SUMIF(week3!$AB:$AB,all_cars!$D90,week3!$AI:$AI)=0,\"\",VLOOKUP(all_cars!$D90,week3!$AB:$AJ,8,FALSE))","v":""},{"$f":"IF(SUMIF(week4!$AB:$AB,all_cars!$D90,week4!$AI:$AI)=0,\"\",VLOOKUP(all_cars!$D90,week4!$AB:$AJ,8,FALSE))","v":""},{"$f":"IF(SUMIF(week5!$AB:$AB,all_cars!$D90,week5!$AI:$AI)=0,\"\",VLOOKUP(all_cars!$D90,week5!$AB:$AJ,8,FALSE))","v":""},null,{"$f":"IF(SUMIF(week1!$AB:$AB,all_cars!$D90,week1!$AJ:$AJ)=0,\"\",VLOOKUP(all_cars!$D90,week1!$AB:$AJ,9,FALSE))","v":""},{"$f":"IF(SUMIF(week2!$AB:$AB,all_cars!$D90,week2!$AJ:$AJ)=0,\"\",VLOOKUP(all_cars!$D90,week2!$AB:$AJ,9,FALSE))","v":""},{"$f":"IF(SUMIF(week3!$AB:$AB,all_cars!$D90,week3!$AJ:$AJ)=0,\"\",VLOOKUP(all_cars!$D90,week3!$AB:$AJ,9,FALSE))","v":""},{"$f":"IF(SUMIF(week4!$AB:$AB,all_cars!$D90,week4!$AJ:$AJ)=0,\"\",VLOOKUP(all_cars!$D90,week4!$AB:$AJ,9,FALSE))","v":""},{"$f":"IF(SUMIF(week5!$AB:$AB,all_cars!$D90,week5!$AJ:$AJ)=0,\"\",VLOOKUP(all_cars!$D90,week5!$AB:$AJ,9,FALSE))","v":""},null,null,null,"dire                      ","[+] Badeend               "]
[null,null,85,"cavani                    ",null,93.605643044619413,93.605643044619413,null,93.605643044619413,null,{"$f":"IF(SUMIF(week1!$AB:$AB,all_cars!$D91,week1!$AF:$AF)=0,\"\",VLOOKUP(all_cars!$D91,week1!$AB:$AJ,5,FALSE))","v":""},{"$f":"IF(SUMIF(week2!$AB:$AB,all_cars!$D91,week2!$AF:$AF)=0,\"\",VLOOKUP(all_cars!$D91,week2!$AB:$AJ,5,FALSE))","v":93.605643044619413},{"$f":"IF(SUMIF(week3!$AB:$AB,all_cars!$D91,week3!$AF:$AF)=0,\"\",VLOOKUP(all_cars!$D91,week3!$AB:$AJ,5,FALSE))","v":""},{"$f":"IF(SUMIF(week4!$AB:$AB,all_cars!$D91,week4!$AF:$AF)=0,\"\",VLOOKUP(all_cars!$D91,week4!$AB:$AJ,5,FALSE))","v":""},{"$f":"IF(SUMIF(week5!$AB:$AB,all_cars!$D91,week5!$AF:$AF)=0,\"\",VLOOKUP(all_cars!$D91,week5!$AB:$AJ,5,FALSE))","v":""},null,{"$f":"IF(SUMIF(week1!$AB:$AB,all_cars!$D91,week1!$AG:$AG)=0,\"\",VLOOKUP(all_cars!$D91,week1!$AB:$AJ,6,FALSE))","v":""},{"$f":"IF(SUMIF(week2!$AB:$AB,all_cars!$D91,week2!$AG:$AG)=0,\"\",VLOOKUP(all_cars!$D91,week2!$AB:$AJ,6,FALSE))","v":""},{"$f":"IF(SUMIF(week3!$AB:$AB,all_cars!$D91,week3!$AG:$AG)=0,\"\",VLOOKUP(all_cars!$D91,week3!$AB:$AJ,6,FALSE))","v":""},{"$f":"IF(SUMIF(week4!$AB:$AB,all_cars!$D91,week4!$AG:$AG)=0,\"\",VLOOKUP(all_cars!$D91,week4!$AB:$AJ,6,FALSE))","v":""},{"$f":"IF(SUMIF(week5!$AB:$AB,all_cars!$D91,week5!$AG:$AG)=0,\"\",VLOOKUP(all_cars!$D91,week5!$AB:$AJ,6,FALSE))","v":""},null,{"$f":"IF(SUMIF(week1!$AB:$AB,all_cars!$D91,week1!$AH:$AH)=0,\"\",VLOOKUP(all_cars!$D91,week1!$AB:$AJ,7,FALSE))","v":""},{"$f":"IF(SUMIF(week2!$AB:$AB,all_cars!$D91,week2!$AH:$AH)=0,\"\",VLOOKUP(all_cars!$D91,week2!$AB:$AJ,7,FALSE))","v":""},{"$f":"IF(SUMIF(week3!$AB:$AB,all_cars!$D91,week3!$AH:$AH)=0,\"\",VLOOKUP(all_cars!$D91,week3!$AB:$AJ,7,FALSE))","v":""},{"$f":"IF(SUMIF(week4!$AB:$AB,all_cars!$D91,week4!$AH:$AH)=0,\"\",VLOOKUP(all_cars!$D91,week4!$AB:$AJ,7,FALSE))","v":""},{"$f":"IF(SUMIF(week5!$AB:$AB,all_cars!$D91,week5!$AH:$AH)=0,\"\",VLOOKUP(all_cars!$D91,week5!$AB:$AJ,7,FALSE))","v":""},null,{"$f":"IF(SUMIF(week1!$AB:$AB,all_cars!$D91,week1!$AI:$AI)=0,\"\",VLOOKUP(all_cars!$D91,week1!$AB:$AJ,8,FALSE))","v":""},{"$f":"IF(SUMIF(week2!$AB:$AB,all_cars!$D91,week2!$AI:$AI)=0,\"\",VLOOKUP(all_cars!$D91,week2!$AB:$AJ,8,FALSE))","v":""},{"$f":"IF(SUMIF(week3!$AB:$AB,all_cars!$D91,week3!$AI:$AI)=0,\"\",VLOOKUP(all_cars!$D91,week3!$AB:$AJ,8,FALSE))","v":""},{"$f":"IF(SUMIF(week4!$AB:$AB,all_cars!$D91,week4!$AI:$AI)=0,\"\",VLOOKUP(all_cars!$D91,week4!$AB:$AJ,8,FALSE))","v":""},{"$f":"IF(SUMIF(week5!$AB:$AB,all_cars!$D91,week5!$AI:$AI)=0,\"\",VLOOKUP(all_cars!$D91,week5!$AB:$AJ,8,FALSE))","v":""},null,{"$f":"IF(SUMIF(week1!$AB:$AB,all_cars!$D91,week1!$AJ:$AJ)=0,\"\",VLOOKUP(all_cars!$D91,week1!$AB:$AJ,9,FALSE))","v":""},{"$f":"IF(SUMIF(week2!$AB:$AB,all_cars!$D91,week2!$AJ:$AJ)=0,\"\",VLOOKUP(all_cars!$D91,week2!$AB:$AJ,9,FALSE))","v":""},{"$f":"IF(SUMIF(week3!$AB:$AB,all_cars!$D91,week3!$AJ:$AJ)=0,\"\",VLOOKUP(all_cars!$D91,week3!$AB:$AJ,9,FALSE))","v":""},{"$f":"IF(SUMIF(week4!$AB:$AB,all_cars!$D91,week4!$AJ:$AJ)=0,\"\",VLOOKUP(all_cars!$D91,week4!$AB:$AJ,9,FALSE))","v":""},{"$f":"IF(SUMIF(week5!$AB:$AB,all_cars!$D91,week5!$AJ:$AJ)=0,\"\",VLOOKUP(all_cars!$D91,week5!$AB:$AJ,9,FALSE))","v":""},null,null,null,"cavani                    ","Hazard                    "]
[null,null,86,"Ninjinha_br               ",null,96.798734558601979,93.380409071935446,null,95.478530278124552,null,{"$f":"IF(SUMIF(week1!$AB:$AB,all_cars!$D92,week1!$AF:$AF)=0,\"\",VLOOKUP(all_cars!$D92,week1!$AB:$AJ,5,FALSE))","v":""},{"$f":"IF(SUMIF(week2!$AB:$AB,all_cars!$D92,week2!$AF:$AF)=0,\"\",VLOOKUP(all_cars!$D92,week2!$AB:$AJ,5,FALSE))","v":""},{"$f":"IF(SUMIF(week3!$AB:$AB,all_cars!$D92,week3!$AF:$AF)=0,\"\",VLOOKUP(all_cars!$D92,week3!$AB:$AJ,5,FALSE))","v":96.798734558601979},{"$f":"IF(SUMIF(week4!$AB:$AB,all_cars!$D92,week4!$AF:$AF)=0,\"\",VLOOKUP(all_cars!$D92,week4!$AB:$AJ,5,FALSE))","v":""},{"$f":"IF(SUMIF(week5!$AB:$AB,all_cars!$D92,week5!$AF:$AF)=0,\"\",VLOOKUP(all_cars!$D92,week5!$AB:$AJ,5,FALSE))","v":""},null,{"$f":"IF(SUMIF(week1!$AB:$AB,all_cars!$D92,week1!$AG:$AG)=0,\"\",VLOOKUP(all_cars!$D92,week1!$AB:$AJ,6,FALSE))","v":""},{"$f":"IF(SUMIF(week2!$AB:$AB,all_cars!$D92,week2!$AG:$AG)=0,\"\",VLOOKUP(all_cars!$D92,week2!$AB:$AJ,6,FALSE))","v":""},{"$f":"IF(SUMIF(week3!$AB:$AB,all_cars!$D92,week3!$AG:$AG)=0,\"\",VLOOKUP(all_cars!$D92,week3!$AB:$AJ,6,FALSE))","v":""},{"$f":"IF(SUMIF(week4!$AB:$AB,all_cars!$D92,week4!$AG:$AG)=0,\"\",VLOOKUP(all_cars!$D92,week4!$AB:$AJ,6,FALSE))","v":""},{"$f":"IF(SUMIF(week5!$AB:$AB,all_cars!$D92,week5!$AG:$AG)=0,\"\",VLOOKUP(all_cars!$D92,week5!$AB:$AJ,6,FALSE))","v":""},null,{"$f":"IF(SUMIF(week1!$AB:$AB,all_cars!$D92,week1!$AH:$AH)=0,\"\",VLOOKUP(all_cars!$D92,week1!$AB:$AJ,7,FALSE))","v":""},{"$f":"IF(SUMIF(week2!$AB:$AB,all_cars!$D92,week2!$AH:$AH)=0,\"\",VLOOKUP(all_cars!$D92,week2!$AB:$AJ,7,FALSE))","v":""},{"$f":"IF(SUMIF(week3!$AB:$AB,all_cars!$D92,week3!$AH:$AH)=0,\"\",VLOOKUP(all_cars!$D92,week3!$AB:$AJ,7,FALSE))","v":""},{"$f":"IF(SUMIF(week4!$AB:$AB,all_cars!$D92,week4!$AH:$AH)=0,\"\",VLOOKUP(all_cars!$D92,week4!$AB:$AJ,7,FALSE))","v":""},{"$f":"IF(SUMIF(week5!$AB:$AB,all_cars!$D92,week5!$AH:$AH)=0,\"\",VLOOKUP(all_cars!$D92,week5!$AB:$AJ,7,FALSE))","v":""},null,{"$f":"IF(SUMIF(week1!$AB:$AB,all_cars!$D92,week1!$AI:$AI)=0,\"\",VLOOKUP(all_cars!$D92,week1!$AB:$AJ,8,FALSE))","v":""},{"$f":"IF(SUMIF(week2!$AB:$AB,all_cars!$D92,week2!$AI:$AI)=0,\"\",VLOOKUP(all_cars!$D92,week2!$AB:$AJ,8,FALSE))","v":""},{"$f":"IF(SUMIF(week3!$AB:$AB,all_cars!$D92,week3!$AI:$AI)=0,\"\",VLOOKUP(all_cars!$D92,week3!$AB:$AJ,8,FALSE))","v":""},{"$f":"IF(SUMIF(week4!$AB:$AB,all_cars!$D92,week4!$AI:$AI)=0,\"\",VLOOKUP(all_cars!$D92,week4!$AB:$AJ,8,FALSE))","v":""},{"$f":"IF(SUMIF(week5!$AB:$AB,all_cars!$D92,week5!$AI:$AI)=0,\"\",VLOOKUP(all_cars!$D92,week5!$AB:$AJ,8,FALSE))","v":""},null,{"$f":"IF(SUMIF(week1!$AB:$AB,all_cars!$D92,week1!$AJ:$AJ)=0,\"\",VLOOKUP(all_cars!$D92,week1!$AB:$AJ,9,FALSE))","v":""},{"$f":"IF(SUMIF(week2!$AB:$AB,all_cars!$D92,week2!$AJ:$AJ)=0,\"\",VLOOKUP(all_cars!$D92,week2!$AB:$AJ,9,FALSE))","v":93.380409071935446},{"$f":"IF(SUMIF(week3!$AB:$AB,all_cars!$D92,week3!$AJ:$AJ)=0,\"\",VLOOKUP(all_cars!$D92,week3!$AB:$AJ,9,FALSE))","v":95.345755693581765},{"$f":"IF(SUMIF(week4!$AB:$AB,all_cars!$D92,week4!$AJ:$AJ)=0,\"\",VLOOKUP(all_cars!$D92,week4!$AB:$AJ,9,FALSE))","v":96.389221788379018},{"$f":"IF(SUMIF(week5!$AB:$AB,all_cars!$D92,week5!$AJ:$AJ)=0,\"\",VLOOKUP(all_cars!$D92,week5!$AB:$AJ,9,FALSE))","v":""},null,null,null,"Ninjinha_br               ","[fS]Hevonen               "]
[null,null,87,"bohun                     ",null,96.68574871949383,93.00524934383202,null,94.845499031662925,null,{"$f":"IF(SUMIF(week1!$AB:$AB,all_cars!$D93,week1!$AF:$AF)=0,\"\",VLOOKUP(all_cars!$D93,week1!$AB:$AJ,5,FALSE))","v":""},{"$f":"IF(SUMIF(week2!$AB:$AB,all_cars!$D93,week2!$AF:$AF)=0,\"\",VLOOKUP(all_cars!$D93,week2!$AB:$AJ,5,FALSE))","v":93.00524934383202},{"$f":"IF(SUMIF(week3!$AB:$AB,all_cars!$D93,week3!$AF:$AF)=0,\"\",VLOOKUP(all_cars!$D93,week3!$AB:$AJ,5,FALSE))","v":96.68574871949383},{"$f":"IF(SUMIF(week4!$AB:$AB,all_cars!$D93,week4!$AF:$AF)=0,\"\",VLOOKUP(all_cars!$D93,week4!$AB:$AJ,5,FALSE))","v":""},{"$f":"IF(SUMIF(week5!$AB:$AB,all_cars!$D93,week5!$AF:$AF)=0,\"\",VLOOKUP(all_cars!$D93,week5!$AB:$AJ,5,FALSE))","v":""},null,{"$f":"IF(SUMIF(week1!$AB:$AB,all_cars!$D93,week1!$AG:$AG)=0,\"\",VLOOKUP(all_cars!$D93,week1!$AB:$AJ,6,FALSE))","v":""},{"$f":"IF(SUMIF(week2!$AB:$AB,all_cars!$D93,week2!$AG:$AG)=0,\"\",VLOOKUP(all_cars!$D93,week2!$AB:$AJ,6,FALSE))","v":""},{"$f":"IF(SUMIF(week3!$AB:$AB,all_cars!$D93,week3!$AG:$AG)=0,\"\",VLOOKUP(all_cars!$D93,week3!$AB:$AJ,6,FALSE))","v":""},{"$f":"IF(SUMIF(week4!$AB:$AB,all_cars!$D93,week4!$AG:$AG)=0,\"\",VLOOKUP(all_cars!$D93,week4!$AB:$AJ,6,FALSE))","v":""},{"$f":"IF(SUMIF(week5!$AB:$AB,all_cars!$D93,week5!$AG:$AG)=0,\"\",VLOOKUP(all_cars!$D93,week5!$AB:$AJ,6,FALSE))","v":""},null,{"$f":"IF(SUMIF(week1!$AB:$AB,all_cars!$D93,week1!$AH:$AH)=0,\"\",VLOOKUP(all_cars!$D93,week1!$AB:$AJ,7,FALSE))","v":""},{"$f":"IF(SUMIF(week2!$AB:$AB,all_cars!$D93,week2!$AH:$AH)=0,\"\",VLOOKUP(all_cars!$D93,week2!$AB:$AJ,7,FALSE))","v":""},{"$f":"IF(SUMIF(week3!$AB:$AB,all_cars!$D93,week3!$AH:$AH)=0,\"\",VLOOKUP(all_cars!$D93,week3!$AB:$AJ,7,FALSE))","v":""},{"$f":"IF(SUMIF(week4!$AB:$AB,all_cars!$D93,week4!$AH:$AH)=0,\"\",VLOOKUP(all_cars!$D93,week4!$AB:$AJ,7,FALSE))","v":""},{"$f":"IF(SUMIF(week5!$AB:$AB,all_cars!$D93,week5!$AH:$AH)=0,\"\",VLOOKUP(all_cars!$D93,week5!$AB:$AJ,7,FALSE))","v":""},null,{"$f":"IF(SUMIF(week1!$AB:$AB,all_cars!$D93,week1!$AI:$AI)=0,\"\",VLOOKUP(all_cars!$D93,week1!$AB:$AJ,8,FALSE))","v":""},{"$f":"IF(SUMIF(week2!$AB:$AB,all_cars!$D93,week2!$AI:$AI)=0,\"\",VLOOKUP(all_cars!$D93,week2!$AB:$AJ,8,FALSE))","v":""},{"$f":"IF(SUMIF(week3!$AB:$AB,all_cars!$D93,week3!$AI:$AI)=0,\"\",VLOOKUP(all_cars!$D93,week3!$AB:$AJ,8,FALSE))","v":""},{"$f":"IF(SUMIF(week4!$AB:$AB,all_cars!$D93,week4!$AI:$AI)=0,\"\",VLOOKUP(all_cars!$D93,week4!$AB:$AJ,8,FALSE))","v":""},{"$f":"IF(SUMIF(week5!$AB:$AB,all_cars!$D93,week5!$AI:$AI)=0,\"\",VLOOKUP(all_cars!$D93,week5!$AB:$AJ,8,FALSE))","v":""},null,{"$f":"IF(SUMIF(week1!$AB:$AB,all_cars!$D93,week1!$AJ:$AJ)=0,\"\",VLOOKUP(all_cars!$D93,week1!$AB:$AJ,9,FALSE))","v":""},{"$f":"IF(SUMIF(week2!$AB:$AB,all_cars!$D93,week2!$AJ:$AJ)=0,\"\",VLOOKUP(all_cars!$D93,week2!$AB:$AJ,9,FALSE))","v":""},{"$f":"IF(SUMIF(week3!$AB:$AB,all_cars!$D93,week3!$AJ:$AJ)=0,\"\",VLOOKUP(all_cars!$D93,week3!$AB:$AJ,9,FALSE))","v":""},{"$f":"IF(SUMIF(week4!$AB:$AB,all_cars!$D93,week4!$AJ:$AJ)=0,\"\",VLOOKUP(all_cars!$D93,week4!$AB:$AJ,9,FALSE))","v":""},{"$f":"IF(SUMIF(week5!$AB:$AB,all_cars!$D93,week5!$AJ:$AJ)=0,\"\",VLOOKUP(all_cars!$D93,week5!$AB:$AJ,9,FALSE))","v":""},null,null,null,"bohun                     ","fatty                     "]
[null,null,88,"Rub                       ",null,97.612232600180775,91.668737060041408,null,94.809735897228819,null,{"$f":"IF(SUMIF(week1!$AB:$AB,all_cars!$D94,week1!$AF:$AF)=0,\"\",VLOOKUP(all_cars!$D94,week1!$AB:$AJ,5,FALSE))","v":""},{"$f":"IF(SUMIF(week2!$AB:$AB,all_cars!$D94,week2!$AF:$AF)=0,\"\",VLOOKUP(all_cars!$D94,week2!$AB:$AJ,5,FALSE))","v":""},{"$f":"IF(SUMIF(week3!$AB:$AB,all_cars!$D94,week3!$AF:$AF)=0,\"\",VLOOKUP(all_cars!$D94,week3!$AB:$AJ,5,FALSE))","v":97.612232600180775},{"$f":"IF(SUMIF(week4!$AB:$AB,all_cars!$D94,week4!$AF:$AF)=0,\"\",VLOOKUP(all_cars!$D94,week4!$AB:$AJ,5,FALSE))","v":""},{"$f":"IF(SUMIF(week5!$AB:$AB,all_cars!$D94,week5!$AF:$AF)=0,\"\",VLOOKUP(all_cars!$D94,week5!$AB:$AJ,5,FALSE))","v":""},null,{"$f":"IF(SUMIF(week1!$AB:$AB,all_cars!$D94,week1!$AG:$AG)=0,\"\",VLOOKUP(all_cars!$D94,week1!$AB:$AJ,6,FALSE))","v":""},{"$f":"IF(SUMIF(week2!$AB:$AB,all_cars!$D94,week2!$AG:$AG)=0,\"\",VLOOKUP(all_cars!$D94,week2!$AB:$AJ,6,FALSE))","v":92.918725176789707},{"$f":"IF(SUMIF(week3!$AB:$AB,all_cars!$D94,week3!$AG:$AG)=0,\"\",VLOOKUP(all_cars!$D94,week3!$AB:$AJ,6,FALSE))","v":95.466727059978098},{"$f":"IF(SUMIF(week4!$AB:$AB,all_cars!$D94,week4!$AG:$AG)=0,\"\",VLOOKUP(all_cars!$D94,week4!$AB:$AJ,6,FALSE))","v":""},{"$f":"IF(SUMIF(week5!$AB:$AB,all_cars!$D94,week5!$AG:$AG)=0,\"\",VLOOKUP(all_cars!$D94,week5!$AB:$AJ,6,FALSE))","v":""},null,{"$f":"IF(SUMIF(week1!$AB:$AB,all_cars!$D94,week1!$AH:$AH)=0,\"\",VLOOKUP(all_cars!$D94,week1!$AB:$AJ,7,FALSE))","v":""},{"$f":"IF(SUMIF(week2!$AB:$AB,all_cars!$D94,week2!$AH:$AH)=0,\"\",VLOOKUP(all_cars!$D94,week2!$AB:$AJ,7,FALSE))","v":""},{"$f":"IF(SUMIF(week3!$AB:$AB,all_cars!$D94,week3!$AH:$AH)=0,\"\",VLOOKUP(all_cars!$D94,week3!$AB:$AJ,7,FALSE))","v":96.382257589154136},{"$f":"IF(SUMIF(week4!$AB:$AB,all_cars!$D94,week4!$AH:$AH)=0,\"\",VLOOKUP(all_cars!$D94,week4!$AB:$AJ,7,FALSE))","v":""},{"$f":"IF(SUMIF(week5!$AB:$AB,all_cars!$D94,week5!$AH:$AH)=0,\"\",VLOOKUP(all_cars!$D94,week5!$AB:$AJ,7,FALSE))","v":""},null,{"$f":"IF(SUMIF(week1!$AB:$AB,all_cars!$D94,week1!$AI:$AI)=0,\"\",VLOOKUP(all_cars!$D94,week1!$AB:$AJ,8,FALSE))","v":""},{"$f":"IF(SUMIF(week2!$AB:$AB,all_cars!$D94,week2!$AI:$AI)=0,\"\",VLOOKUP(all_cars!$D94,week2!$AB:$AJ,8,FALSE))","v":""},{"$f":"IF(SUMIF(week3!$AB:$AB,all_cars!$D94,week3!$AI:$AI)=0,\"\",VLOOKUP(all_cars!$D94,week3!$AB:$AJ,8,FALSE))","v":""},{"$f":"IF(SUMIF(week4!$AB:$AB,all_cars!$D94,week4!$AI:$AI)=0,\"\",VLOOKUP(all_cars!$D94,week4!$AB:$AJ,8,FALSE))","v":""},{"$f":"IF(SUMIF(week5!$AB:$AB,all_cars!$D94,week5!$AI:$AI)=0,\"\",VLOOKUP(all_cars!$D94,week5!$AB:$AJ,8,FALSE))","v":""},null,{"$f":"IF(SUMIF(week1!$AB:$AB,all_cars!$D94,week1!$AJ:$AJ)=0,\"\",VLOOKUP(all_cars!$D94,week1!$AB:$AJ,9,FALSE))","v":""},{"$f":"IF(SUMIF(week2!$AB:$AB,all_cars!$D94,week2!$AJ:$AJ)=0,\"\",VLOOKUP(all_cars!$D94,week2!$AB:$AJ,9,FALSE))","v":""},{"$f":"IF(SUMIF(week3!$AB:$AB,all_cars!$D94,week3!$AJ:$AJ)=0,\"\",VLOOKUP(all_cars!$D94,week3!$AB:$AJ,9,FALSE))","v":91.668737060041408},{"$f":"IF(SUMIF(week4!$AB:$AB,all_cars!$D94,week4!$AJ:$AJ)=0,\"\",VLOOKUP(all_cars!$D94,week4!$AB:$AJ,9,FALSE))","v":""},{"$f":"IF(SUMIF(week5!$AB:$AB,all_cars!$D94,week5!$AJ:$AJ)=0,\"\",VLOOKUP(all_cars!$D94,week5!$AB:$AJ,9,FALSE))","v":""},null,null,null,"Rub                       ","Double O Seven            "]
[null,null,89,"Kooler                    ",null,79.421177125365233,78.872694939498203,null,79.146936032431711,null,{"$f":"IF(SUMIF(week1!$AB:$AB,all_cars!$D95,week1!$AF:$AF)=0,\"\",VLOOKUP(all_cars!$D95,week1!$AB:$AJ,5,FALSE))","v":""},{"$f":"IF(SUMIF(week2!$AB:$AB,all_cars!$D95,week2!$AF:$AF)=0,\"\",VLOOKUP(all_cars!$D95,week2!$AB:$AJ,5,FALSE))","v":""},{"$f":"IF(SUMIF(week3!$AB:$AB,all_cars!$D95,week3!$AF:$AF)=0,\"\",VLOOKUP(all_cars!$D95,week3!$AB:$AJ,5,FALSE))","v":""},{"$f":"IF(SUMIF(week4!$AB:$AB,all_cars!$D95,week4!$AF:$AF)=0,\"\",VLOOKUP(all_cars!$D95,week4!$AB:$AJ,5,FALSE))","v":""},{"$f":"IF(SUMIF(week5!$AB:$AB,all_cars!$D95,week5!$AF:$AF)=0,\"\",VLOOKUP(all_cars!$D95,week5!$AB:$AJ,5,FALSE))","v":""},null,{"$f":"IF(SUMIF(week1!$AB:$AB,all_cars!$D95,week1!$AG:$AG)=0,\"\",VLOOKUP(all_cars!$D95,week1!$AB:$AJ,6,FALSE))","v":""},{"$f":"IF(SUMIF(week2!$AB:$AB,all_cars!$D95,week2!$AG:$AG)=0,\"\",VLOOKUP(all_cars!$D95,week2!$AB:$AJ,6,FALSE))","v":""},{"$f":"IF(SUMIF(week3!$AB:$AB,all_cars!$D95,week3!$AG:$AG)=0,\"\",VLOOKUP(all_cars!$D95,week3!$AB:$AJ,6,FALSE))","v":""},{"$f":"IF(SUMIF(week4!$AB:$AB,all_cars!$D95,week4!$AG:$AG)=0,\"\",VLOOKUP(all_cars!$D95,week4!$AB:$AJ,6,FALSE))","v":""},{"$f":"IF(SUMIF(week5!$AB:$AB,all_cars!$D95,week5!$AG:$AG)=0,\"\",VLOOKUP(all_cars!$D95,week5!$AB:$AJ,6,FALSE))","v":""},null,{"$f":"IF(SUMIF(week1!$AB:$AB,all_cars!$D95,week1!$AH:$AH)=0,\"\",VLOOKUP(all_cars!$D95,week1!$AB:$AJ,7,FALSE))","v":""},{"$f":"IF(SUMIF(week2!$AB:$AB,all_cars!$D95,week2!$AH:$AH)=0,\"\",VLOOKUP(all_cars!$D95,week2!$AB:$AJ,7,FALSE))","v":""},{"$f":"IF(SUMIF(week3!$AB:$AB,all_cars!$D95,week3!$AH:$AH)=0,\"\",VLOOKUP(all_cars!$D95,week3!$AB:$AJ,7,FALSE))","v":""},{"$f":"IF(SUMIF(week4!$AB:$AB,all_cars!$D95,week4!$AH:$AH)=0,\"\",VLOOKUP(all_cars!$D95,week4!$AB:$AJ,7,FALSE))","v":""},{"$f":"IF(SUMIF(week5!$AB:$AB,all_cars!$D95,week5!$AH:$AH)=0,\"\",VLOOKUP(all_cars!$D95,week5!$AB:$AJ,7,FALSE))","v":""},null,{"$f":"IF(SUMIF(week1!$AB:$AB,all_cars!$D95,week1!$AI:$AI)=0,\"\",VLOOKUP(all_cars!$D95,week1!$AB:$AJ,8,FALSE))","v":""},{"$f":"IF(SUMIF(week2!$AB:$AB,all_cars!$D95,week2!$AI:$AI)=0,\"\",VLOOKUP(all_cars!$D95,week2!$AB:$AJ,8,FALSE))","v":""},{"$f":"IF(SUMIF(week3!$AB:$AB,all_cars!$D95,week3!$AI:$AI)=0,\"\",VLOOKUP(all_cars!$D95,week3!$AB:$AJ,8,FALSE))","v":""},{"$f":"IF(SUMIF(week4!$AB:$AB,all_cars!$D95,week4!$AI:$AI)=0,\"\",VLOOKUP(all_cars!$D95,week4!$AB:$AJ,8,FALSE))","v":""},{"$f":"IF(SUMIF(week5!$AB:$AB,all_cars!$D95,week5!$AI:$AI)=0,\"\",VLOOKUP(all_cars!$D95,week5!$AB:$AJ,8,FALSE))","v":""},null,{"$f":"IF(SUMIF(week1!$AB:$AB,all_cars!$D95,week1!$AJ:$AJ)=0,\"\",VLOOKUP(all_cars!$D95,week1!$AB:$AJ,9,FALSE))","v":""},{"$f":"IF(SUMIF(week2!$AB:$AB,all_cars!$D95,week2!$AJ:$AJ)=0,\"\",VLOOKUP(all_cars!$D95,week2!$AB:$AJ,9,FALSE))","v":79.421177125365233},{"$f":"IF(SUMIF(week3!$AB:$AB,all_cars!$D95,week3!$AJ:$AJ)=0,\"\",VLOOKUP(all_cars!$D95,week3!$AB:$AJ,9,FALSE))","v":""},{"$f":"IF(SUMIF(week4!$AB:$AB,all_cars!$D95,week4!$AJ:$AJ)=0,\"\",VLOOKUP(all_cars!$D95,week4!$AB:$AJ,9,FALSE))","v":78.872694939498203},{"$f":"IF(SUMIF(week5!$AB:$AB,all_cars!$D95,week5!$AJ:$AJ)=0,\"\",VLOOKUP(all_cars!$D95,week5!$AB:$AJ,9,FALSE))","v":""},null,null,null,"Kooler                    ","Scud                      "]
[null,null,90,"KORINGA                   ",null,77.910104986876632,77.910104986876632,null,77.910104986876632,null,{"$f":"IF(SUMIF(week1!$AB:$AB,all_cars!$D96,week1!$AF:$AF)=0,\"\",VLOOKUP(all_cars!$D96,week1!$AB:$AJ,5,FALSE))","v":""},{"$f":"IF(SUMIF(week2!$AB:$AB,all_cars!$D96,week2!$AF:$AF)=0,\"\",VLOOKUP(all_cars!$D96,week2!$AB:$AJ,5,FALSE))","v":77.910104986876632},{"$f":"IF(SUMIF(week3!$AB:$AB,all_cars!$D96,week3!$AF:$AF)=0,\"\",VLOOKUP(all_cars!$D96,week3!$AB:$AJ,5,FALSE))","v":""},{"$f":"IF(SUMIF(week4!$AB:$AB,all_cars!$D96,week4!$AF:$AF)=0,\"\",VLOOKUP(all_cars!$D96,week4!$AB:$AJ,5,FALSE))","v":""},{"$f":"IF(SUMIF(week5!$AB:$AB,all_cars!$D96,week5!$AF:$AF)=0,\"\",VLOOKUP(all_cars!$D96,week5!$AB:$AJ,5,FALSE))","v":""},null,{"$f":"IF(SUMIF(week1!$AB:$AB,all_cars!$D96,week1!$AG:$AG)=0,\"\",VLOOKUP(all_cars!$D96,week1!$AB:$AJ,6,FALSE))","v":""},{"$f":"IF(SUMIF(week2!$AB:$AB,all_cars!$D96,week2!$AG:$AG)=0,\"\",VLOOKUP(all_cars!$D96,week2!$AB:$AJ,6,FALSE))","v":""},{"$f":"IF(SUMIF(week3!$AB:$AB,all_cars!$D96,week3!$AG:$AG)=0,\"\",VLOOKUP(all_cars!$D96,week3!$AB:$AJ,6,FALSE))","v":""},{"$f":"IF(SUMIF(week4!$AB:$AB,all_cars!$D96,week4!$AG:$AG)=0,\"\",VLOOKUP(all_cars!$D96,week4!$AB:$AJ,6,FALSE))","v":""},{"$f":"IF(SUMIF(week5!$AB:$AB,all_cars!$D96,week5!$AG:$AG)=0,\"\",VLOOKUP(all_cars!$D96,week5!$AB:$AJ,6,FALSE))","v":""},null,{"$f":"IF(SUMIF(week1!$AB:$AB,all_cars!$D96,week1!$AH:$AH)=0,\"\",VLOOKUP(all_cars!$D96,week1!$AB:$AJ,7,FALSE))","v":""},{"$f":"IF(SUMIF(week2!$AB:$AB,all_cars!$D96,week2!$AH:$AH)=0,\"\",VLOOKUP(all_cars!$D96,week2!$AB:$AJ,7,FALSE))","v":""},{"$f":"IF(SUMIF(week3!$AB:$AB,all_cars!$D96,week3!$AH:$AH)=0,\"\",VLOOKUP(all_cars!$D96,week3!$AB:$AJ,7,FALSE))","v":""},{"$f":"IF(SUMIF(week4!$AB:$AB,all_cars!$D96,week4!$AH:$AH)=0,\"\",VLOOKUP(all_cars!$D96,week4!$AB:$AJ,7,FALSE))","v":""},{"$f":"IF(SUMIF(week5!$AB:$AB,all_cars!$D96,week5!$AH:$AH)=0,\"\",VLOOKUP(all_cars!$D96,week5!$AB:$AJ,7,FALSE))","v":""},null,{"$f":"IF(SUMIF(week1!$AB:$AB,all_cars!$D96,week1!$AI:$AI)=0,\"\",VLOOKUP(all_cars!$D96,week1!$AB:$AJ,8,FALSE))","v":""},{"$f":"IF(SUMIF(week2!$AB:$AB,all_cars!$D96,week2!$AI:$AI)=0,\"\",VLOOKUP(all_cars!$D96,week2!$AB:$AJ,8,FALSE))","v":""},{"$f":"IF(SUMIF(week3!$AB:$AB,all_cars!$D96,week3!$AI:$AI)=0,\"\",VLOOKUP(all_cars!$D96,week3!$AB:$AJ,8,FALSE))","v":""},{"$f":"IF(SUMIF(week4!$AB:$AB,all_cars!$D96,week4!$AI:$AI)=0,\"\",VLOOKUP(all_cars!$D96,week4!$AB:$AJ,8,FALSE))","v":""},{"$f":"IF(SUMIF(week5!$AB:$AB,all_cars!$D96,week5!$AI:$AI)=0,\"\",VLOOKUP(all_cars!$D96,week5!$AB:$AJ,8,FALSE))","v":""},null,{"$f":"IF(SUMIF(week1!$AB:$AB,all_cars!$D96,week1!$AJ:$AJ)=0,\"\",VLOOKUP(all_cars!$D96,week1!$AB:$AJ,9,FALSE))","v":""},{"$f":"IF(SUMIF(week2!$AB:$AB,all_cars!$D96,week2!$AJ:$AJ)=0,\"\",VLOOKUP(all_cars!$D96,week2!$AB:$AJ,9,FALSE))","v":""},{"$f":"IF(SUMIF(week3!$AB:$AB,all_cars!$D96,week3!$AJ:$AJ)=0,\"\",VLOOKUP(all_cars!$D96,week3!$AB:$AJ,9,FALSE))","v":""},{"$f":"IF(SUMIF(week4!$AB:$AB,all_cars!$D96,week4!$AJ:$AJ)=0,\"\",VLOOKUP(all_cars!$D96,week4!$AB:$AJ,9,FALSE))","v":""},{"$f":"IF(SUMIF(week5!$AB:$AB,all_cars!$D96,week5!$AJ:$AJ)=0,\"\",VLOOKUP(all_cars!$D96,week5!$AB:$AJ,9,FALSE))","v":""},null,null,null,"KORINGA                   ","Poisonous                 "]
[null,null,91,"Oppy                      ",null,1.5583989501312345,1.5583989501312345,null,1.5583989501312345,null,{"$f":"IF(SUMIF(week1!$AB:$AB,all_cars!$D97,week1!$AF:$AF)=0,\"\",VLOOKUP(all_cars!$D97,week1!$AB:$AJ,5,FALSE))","v":""},{"$f":"IF(SUMIF(week2!$AB:$AB,all_cars!$D97,week2!$AF:$AF)=0,\"\",VLOOKUP(all_cars!$D97,week2!$AB:$AJ,5,FALSE))","v":1.5583989501312345},{"$f":"IF(SUMIF(week3!$AB:$AB,all_cars!$D97,week3!$AF:$AF)=0,\"\",VLOOKUP(all_cars!$D97,week3!$AB:$AJ,5,FALSE))","v":""},{"$f":"IF(SUMIF(week4!$AB:$AB,all_cars!$D97,week4!$AF:$AF)=0,\"\",VLOOKUP(all_cars!$D97,week4!$AB:$AJ,5,FALSE))","v":""},{"$f":"IF(SUMIF(week5!$AB:$AB,all_cars!$D97,week5!$AF:$AF)=0,\"\",VLOOKUP(all_cars!$D97,week5!$AB:$AJ,5,FALSE))","v":""},null,{"$f":"IF(SUMIF(week1!$AB:$AB,all_cars!$D97,week1!$AG:$AG)=0,\"\",VLOOKUP(all_cars!$D97,week1!$AB:$AJ,6,FALSE))","v":""},{"$f":"IF(SUMIF(week2!$AB:$AB,all_cars!$D97,week2!$AG:$AG)=0,\"\",VLOOKUP(all_cars!$D97,week2!$AB:$AJ,6,FALSE))","v":""},{"$f":"IF(SUMIF(week3!$AB:$AB,all_cars!$D97,week3!$AG:$AG)=0,\"\",VLOOKUP(all_cars!$D97,week3!$AB:$AJ,6,FALSE))","v":""},{"$f":"IF(SUMIF(week4!$AB:$AB,all_cars!$D97,week4!$AG:$AG)=0,\"\",VLOOKUP(all_cars!$D97,week4!$AB:$AJ,6,FALSE))","v":""},{"$f":"IF(SUMIF(week5!$AB:$AB,all_cars!$D97,week5!$AG:$AG)=0,\"\",VLOOKUP(all_cars!$D97,week5!$AB:$AJ,6,FALSE))","v":""},null,{"$f":"IF(SUMIF(week1!$AB:$AB,all_cars!$D97,week1!$AH:$AH)=0,\"\",VLOOKUP(all_cars!$D97,week1!$AB:$AJ,7,FALSE))","v":""},{"$f":"IF(SUMIF(week2!$AB:$AB,all_cars!$D97,week2!$AH:$AH)=0,\"\",VLOOKUP(all_cars!$D97,week2!$AB:$AJ,7,FALSE))","v":""},{"$f":"IF(SUMIF(week3!$AB:$AB,all_cars!$D97,week3!$AH:$AH)=0,\"\",VLOOKUP(all_cars!$D97,week3!$AB:$AJ,7,FALSE))","v":""},{"$f":"IF(SUMIF(week4!$AB:$AB,all_cars!$D97,week4!$AH:$AH)=0,\"\",VLOOKUP(all_cars!$D97,week4!$AB:$AJ,7,FALSE))","v":""},{"$f":"IF(SUMIF(week5!$AB:$AB,all_cars!$D97,week5!$AH:$AH)=0,\"\",VLOOKUP(all_cars!$D97,week5!$AB:$AJ,7,FALSE))","v":""},null,{"$f":"IF(SUMIF(week1!$AB:$AB,all_cars!$D97,week1!$AI:$AI)=0,\"\",VLOOKUP(all_cars!$D97,week1!$AB:$AJ,8,FALSE))","v":""},{"$f":"IF(SUMIF(week2!$AB:$AB,all_cars!$D97,week2!$AI:$AI)=0,\"\",VLOOKUP(all_cars!$D97,week2!$AB:$AJ,8,FALSE))","v":""},{"$f":"IF(SUMIF(week3!$AB:$AB,all_cars!$D97,week3!$AI:$AI)=0,\"\",VLOOKUP(all_cars!$D97,week3!$AB:$AJ,8,FALSE))","v":""},{"$f":"IF(SUMIF(week4!$AB:$AB,all_cars!$D97,week4!$AI:$AI)=0,\"\",VLOOKUP(all_cars!$D97,week4!$AB:$AJ,8,FALSE))","v":""},{"$f":"IF(SUMIF(week5!$AB:$AB,all_cars!$D97,week5!$AI:$AI)=0,\"\",VLOOKUP(all_cars!$D97,week5!$AB:$AJ,8,FALSE))","v":""},null,{"$f":"IF(SUMIF(week1!$AB:$AB,all_cars!$D97,week1!$AJ:$AJ)=0,\"\",VLOOKUP(all_cars!$D97,week1!$AB:$AJ,9,FALSE))","v":""},{"$f":"IF(SUMIF(week2!$AB:$AB,all_cars!$D97,week2!$AJ:$AJ)=0,\"\",VLOOKUP(all_cars!$D97,week2!$AB:$AJ,9,FALSE))","v":""},{"$f":"IF(SUMIF(week3!$AB:$AB,all_cars!$D97,week3!$AJ:$AJ)=0,\"\",VLOOKUP(all_cars!$D97,week3!$AB:$AJ,9,FALSE))","v":""},{"$f":"IF(SUMIF(week4!$AB:$AB,all_cars!$D97,week4!$AJ:$AJ)=0,\"\",VLOOKUP(all_cars!$D97,week4!$AB:$AJ,9,FALSE))","v":""},{"$f":"IF(SUMIF(week5!$AB:$AB,all_cars!$D97,week5!$AJ:$AJ)=0,\"\",VLOOKUP(all_cars!$D97,week5!$AB:$AJ,9,FALSE))","v":""},null,null,null,"Oppy                      ","\\/\\/ | |_ |_              "]
[null,null,92,"[fS]Jan                   ",null,97.652097434132529,94.310559006211165,null,96.464621284547121,null,{"$f":"IF(SUMIF(week1!$AB:$AB,all_cars!$D98,week1!$AF:$AF)=0,\"\",VLOOKUP(all_cars!$D98,week1!$AB:$AJ,5,FALSE))","v":""},{"$f":"IF(SUMIF(week2!$AB:$AB,all_cars!$D98,week2!$AF:$AF)=0,\"\",VLOOKUP(all_cars!$D98,week2!$AB:$AJ,5,FALSE))","v":""},{"$f":"IF(SUMIF(week3!$AB:$AB,all_cars!$D98,week3!$AF:$AF)=0,\"\",VLOOKUP(all_cars!$D98,week3!$AB:$AJ,5,FALSE))","v":96.975745706538106},{"$f":"IF(SUMIF(week4!$AB:$AB,all_cars!$D98,week4!$AF:$AF)=0,\"\",VLOOKUP(all_cars!$D98,week4!$AB:$AJ,5,FALSE))","v":""},{"$f":"IF(SUMIF(week5!$AB:$AB,all_cars!$D98,week5!$AF:$AF)=0,\"\",VLOOKUP(all_cars!$D98,week5!$AB:$AJ,5,FALSE))","v":""},null,{"$f":"IF(SUMIF(week1!$AB:$AB,all_cars!$D98,week1!$AG:$AG)=0,\"\",VLOOKUP(all_cars!$D98,week1!$AB:$AJ,6,FALSE))","v":""},{"$f":"IF(SUMIF(week2!$AB:$AB,all_cars!$D98,week2!$AG:$AG)=0,\"\",VLOOKUP(all_cars!$D98,week2!$AB:$AJ,6,FALSE))","v":""},{"$f":"IF(SUMIF(week3!$AB:$AB,all_cars!$D98,week3!$AG:$AG)=0,\"\",VLOOKUP(all_cars!$D98,week3!$AB:$AJ,6,FALSE))","v":96.519835428226315},{"$f":"IF(SUMIF(week4!$AB:$AB,all_cars!$D98,week4!$AG:$AG)=0,\"\",VLOOKUP(all_cars!$D98,week4!$AB:$AJ,6,FALSE))","v":""},{"$f":"IF(SUMIF(week5!$AB:$AB,all_cars!$D98,week5!$AG:$AG)=0,\"\",VLOOKUP(all_cars!$D98,week5!$AB:$AJ,6,FALSE))","v":""},null,{"$f":"IF(SUMIF(week1!$AB:$AB,all_cars!$D98,week1!$AH:$AH)=0,\"\",VLOOKUP(all_cars!$D98,week1!$AB:$AJ,7,FALSE))","v":""},{"$f":"IF(SUMIF(week2!$AB:$AB,all_cars!$D98,week2!$AH:$AH)=0,\"\",VLOOKUP(all_cars!$D98,week2!$AB:$AJ,7,FALSE))","v":""},{"$f":"IF(SUMIF(week3!$AB:$AB,all_cars!$D98,week3!$AH:$AH)=0,\"\",VLOOKUP(all_cars!$D98,week3!$AB:$AJ,7,FALSE))","v":96.864868847627463},{"$f":"IF(SUMIF(week4!$AB:$AB,all_cars!$D98,week4!$AH:$AH)=0,\"\",VLOOKUP(all_cars!$D98,week4!$AB:$AJ,7,FALSE))","v":""},{"$f":"IF(SUMIF(week5!$AB:$AB,all_cars!$D98,week5!$AH:$AH)=0,\"\",VLOOKUP(all_cars!$D98,week5!$AB:$AJ,7,FALSE))","v":""},null,{"$f":"IF(SUMIF(week1!$AB:$AB,all_cars!$D98,week1!$AI:$AI)=0,\"\",VLOOKUP(all_cars!$D98,week1!$AB:$AJ,8,FALSE))","v":""},{"$f":"IF(SUMIF(week2!$AB:$AB,all_cars!$D98,week2!$AI:$AI)=0,\"\",VLOOKUP(all_cars!$D98,week2!$AB:$AJ,8,FALSE))","v":""},{"$f":"IF(SUMIF(week3!$AB:$AB,all_cars!$D98,week3!$AI:$AI)=0,\"\",VLOOKUP(all_cars!$D98,week3!$AB:$AJ,8,FALSE))","v":97.652097434132529},{"$f":"IF(SUMIF(week4!$AB:$AB,all_cars!$D98,week4!$AI:$AI)=0,\"\",VLOOKUP(all_cars!$D98,week4!$AB:$AJ,8,FALSE))","v":""},{"$f":"IF(SUMIF(week5!$AB:$AB,all_cars!$D98,week5!$AI:$AI)=0,\"\",VLOOKUP(all_cars!$D98,week5!$AB:$AJ,8,FALSE))","v":""},null,{"$f":"IF(SUMIF(week1!$AB:$AB,all_cars!$D98,week1!$AJ:$AJ)=0,\"\",VLOOKUP(all_cars!$D98,week1!$AB:$AJ,9,FALSE))","v":""},{"$f":"IF(SUMIF(week2!$AB:$AB,all_cars!$D98,week2!$AJ:$AJ)=0,\"\",VLOOKUP(all_cars!$D98,week2!$AB:$AJ,9,FALSE))","v":""},{"$f":"IF(SUMIF(week3!$AB:$AB,all_cars!$D98,week3!$AJ:$AJ)=0,\"\",VLOOKUP(all_cars!$D98,week3!$AB:$AJ,9,FALSE))","v":94.310559006211165},{"$f":"IF(SUMIF(week4!$AB:$AB,all_cars!$D98,week4!$AJ:$AJ)=0,\"\",VLOOKUP(all_cars!$D98,week4!$AB:$AJ,9,FALSE))","v":""},{"$f":"IF(SUMIF(week5!$AB:$AB,all_cars!$D98,week5!$AJ:$AJ)=0,\"\",VLOOKUP(all_cars!$D98,week5!$AB:$AJ,9,FALSE))","v":""},null,null,null,"[fS]Jan                   ","Qpa                       "]
[null,null,93,"Matti                     ",null,99.437880004588735,98.345382147137272,null,98.961085494493048,null,{"$f":"IF(SUMIF(week1!$AB:$AB,all_cars!$D99,week1!$AF:$AF)=0,\"\",VLOOKUP(all_cars!$D99,week1!$AB:$AJ,5,FALSE))","v":""},{"$f":"IF(SUMIF(week2!$AB:$AB,all_cars!$D99,week2!$AF:$AF)=0,\"\",VLOOKUP(all_cars!$D99,week2!$AB:$AJ,5,FALSE))","v":""},{"$f":"IF(SUMIF(week3!$AB:$AB,all_cars!$D99,week3!$AF:$AF)=0,\"\",VLOOKUP(all_cars!$D99,week3!$AB:$AJ,5,FALSE))","v":99.035854172943658},{"$f":"IF(SUMIF(week4!$AB:$AB,all_cars!$D99,week4!$AF:$AF)=0,\"\",VLOOKUP(all_cars!$D99,week4!$AB:$AJ,5,FALSE))","v":99.301874113342805},{"$f":"IF(SUMIF(week5!$AB:$AB,all_cars!$D99,week5!$AF:$AF)=0,\"\",VLOOKUP(all_cars!$D99,week5!$AB:$AJ,5,FALSE))","v":""},null,{"$f":"IF(SUMIF(week1!$AB:$AB,all_cars!$D99,week1!$AG:$AG)=0,\"\",VLOOKUP(all_cars!$D99,week1!$AB:$AJ,6,FALSE))","v":""},{"$f":"IF(SUMIF(week2!$AB:$AB,all_cars!$D99,week2!$AG:$AG)=0,\"\",VLOOKUP(all_cars!$D99,week2!$AB:$AJ,6,FALSE))","v":""},{"$f":"IF(SUMIF(week3!$AB:$AB,all_cars!$D99,week3!$AG:$AG)=0,\"\",VLOOKUP(all_cars!$D99,week3!$AB:$AJ,6,FALSE))","v":""},{"$f":"IF(SUMIF(week4!$AB:$AB,all_cars!$D99,week4!$AG:$AG)=0,\"\",VLOOKUP(all_cars!$D99,week4!$AB:$AJ,6,FALSE))","v":98.653368379361254},{"$f":"IF(SUMIF(week5!$AB:$AB,all_cars!$D99,week5!$AG:$AG)=0,\"\",VLOOKUP(all_cars!$D99,week5!$AB:$AJ,6,FALSE))","v":""},null,{"$f":"IF(SUMIF(week1!$AB:$AB,all_cars!$D99,week1!$AH:$AH)=0,\"\",VLOOKUP(all_cars!$D99,week1!$AB:$AJ,7,FALSE))","v":""},{"$f":"IF(SUMIF(week2!$AB:$AB,all_cars!$D99,week2!$AH:$AH)=0,\"\",VLOOKUP(all_cars!$D99,week2!$AB:$AJ,7,FALSE))","v":""},{"$f":"IF(SUMIF(week3!$AB:$AB,all_cars!$D99,week3!$AH:$AH)=0,\"\",VLOOKUP(all_cars!$D99,week3!$AB:$AJ,7,FALSE))","v":""},{"$f":"IF(SUMIF(week4!$AB:$AB,all_cars!$D99,week4!$AH:$AH)=0,\"\",VLOOKUP(all_cars!$D99,week4!$AB:$AJ,7,FALSE))","v":98.857641794302765},{"$f":"IF(SUMIF(week5!$AB:$AB,all_cars!$D99,week5!$AH:$AH)=0,\"\",VLOOKUP(all_cars!$D99,week5!$AB:$AJ,7,FALSE))","v":""},null,{"$f":"IF(SUMIF(week1!$AB:$AB,all_cars!$D99,week1!$AI:$AI)=0,\"\",VLOOKUP(all_cars!$D99,week1!$AB:$AJ,8,FALSE))","v":""},{"$f":"IF(SUMIF(week2!$AB:$AB,all_cars!$D99,week2!$AI:$AI)=0,\"\",VLOOKUP(all_cars!$D99,week2!$AB:$AJ,8,FALSE))","v":""},{"$f":"IF(SUMIF(week3!$AB:$AB,all_cars!$D99,week3!$AI:$AI)=0,\"\",VLOOKUP(all_cars!$D99,week3!$AB:$AJ,8,FALSE))","v":99.437880004588735},{"$f":"IF(SUMIF(week4!$AB:$AB,all_cars!$D99,week4!$AI:$AI)=0,\"\",VLOOKUP(all_cars!$D99,week4!$AB:$AJ,8,FALSE))","v":99.095597849774805},{"$f":"IF(SUMIF(week5!$AB:$AB,all_cars!$D99,week5!$AI:$AI)=0,\"\",VLOOKUP(all_cars!$D99,week5!$AB:$AJ,8,FALSE))","v":""},null,{"$f":"IF(SUMIF(week1!$AB:$AB,all_cars!$D99,week1!$AJ:$AJ)=0,\"\",VLOOKUP(all_cars!$D99,week1!$AB:$AJ,9,FALSE))","v":""},{"$f":"IF(SUMIF(week2!$AB:$AB,all_cars!$D99,week2!$AJ:$AJ)=0,\"\",VLOOKUP(all_cars!$D99,week2!$AB:$AJ,9,FALSE))","v":""},{"$f":"IF(SUMIF(week3!$AB:$AB,all_cars!$D99,week3!$AJ:$AJ)=0,\"\",VLOOKUP(all_cars!$D99,week3!$AB:$AJ,9,FALSE))","v":""},{"$f":"IF(SUMIF(week4!$AB:$AB,all_cars!$D99,week4!$AJ:$AJ)=0,\"\",VLOOKUP(all_cars!$D99,week4!$AB:$AJ,9,FALSE))","v":98.345382147137272},{"$f":"IF(SUMIF(week5!$AB:$AB,all_cars!$D99,week5!$AJ:$AJ)=0,\"\",VLOOKUP(all_cars!$D99,week5!$AB:$AJ,9,FALSE))","v":""},null,null,null,"Matti                     ","Serif  v2.5.3W            "]
[null,null,94,"messi                     ",null,99.230941536623618,92.028453241581943,null,95.878719994193375,null,{"$f":"IF(SUMIF(week1!$AB:$AB,all_cars!$D100,week1!$AF:$AF)=0,\"\",VLOOKUP(all_cars!$D100,week1!$AB:$AJ,5,FALSE))","v":""},{"$f":"IF(SUMIF(week2!$AB:$AB,all_cars!$D100,week2!$AF:$AF)=0,\"\",VLOOKUP(all_cars!$D100,week2!$AB:$AJ,5,FALSE))","v":""},{"$f":"IF(SUMIF(week3!$AB:$AB,all_cars!$D100,week3!$AF:$AF)=0,\"\",VLOOKUP(all_cars!$D100,week3!$AB:$AJ,5,FALSE))","v":98.651702319975897},{"$f":"IF(SUMIF(week4!$AB:$AB,all_cars!$D100,week4!$AF:$AF)=0,\"\",VLOOKUP(all_cars!$D100,week4!$AB:$AJ,5,FALSE))","v":99.230941536623618},{"$f":"IF(SUMIF(week5!$AB:$AB,all_cars!$D100,week5!$AF:$AF)=0,\"\",VLOOKUP(all_cars!$D100,week5!$AB:$AJ,5,FALSE))","v":""},null,{"$f":"IF(SUMIF(week1!$AB:$AB,all_cars!$D100,week1!$AG:$AG)=0,\"\",VLOOKUP(all_cars!$D100,week1!$AB:$AJ,6,FALSE))","v":""},{"$f":"IF(SUMIF(week2!$AB:$AB,all_cars!$D100,week2!$AG:$AG)=0,\"\",VLOOKUP(all_cars!$D100,week2!$AB:$AJ,6,FALSE))","v":""},{"$f":"IF(SUMIF(week3!$AB:$AB,all_cars!$D100,week3!$AG:$AG)=0,\"\",VLOOKUP(all_cars!$D100,week3!$AB:$AJ,6,FALSE))","v":94.466462839240549},{"$f":"IF(SUMIF(week4!$AB:$AB,all_cars!$D100,week4!$AG:$AG)=0,\"\",VLOOKUP(all_cars!$D100,week4!$AB:$AJ,6,FALSE))","v":94.750297051092787},{"$f":"IF(SUMIF(week5!$AB:$AB,all_cars!$D100,week5!$AG:$AG)=0,\"\",VLOOKUP(all_cars!$D100,week5!$AB:$AJ,6,FALSE))","v":""},null,{"$f":"IF(SUMIF(week1!$AB:$AB,all_cars!$D100,week1!$AH:$AH)=0,\"\",VLOOKUP(all_cars!$D100,week1!$AB:$AJ,7,FALSE))","v":""},{"$f":"IF(SUMIF(week2!$AB:$AB,all_cars!$D100,week2!$AH:$AH)=0,\"\",VLOOKUP(all_cars!$D100,week2!$AB:$AJ,7,FALSE))","v":""},{"$f":"IF(SUMIF(week3!$AB:$AB,all_cars!$D100,week3!$AH:$AH)=0,\"\",VLOOKUP(all_cars!$D100,week3!$AB:$AJ,7,FALSE))","v":""},{"$f":"IF(SUMIF(week4!$AB:$AB,all_cars!$D100,week4!$AH:$AH)=0,\"\",VLOOKUP(all_cars!$D100,week4!$AB:$AJ,7,FALSE))","v":98.057263433623163},{"$f":"IF(SUMIF(week5!$AB:$AB,all_cars!$D100,week5!$AH:$AH)=0,\"\",VLOOKUP(all_cars!$D100,week5!$AB:$AJ,7,FALSE))","v":""},null,{"$f":"IF(SUMIF(week1!$AB:$AB,all_cars!$D100,week1!$AI:$AI)=0,\"\",VLOOKUP(all_cars!$D100,week1!$AB:$AJ,8,FALSE))","v":""},{"$f":"IF(SUMIF(week2!$AB:$AB,all_cars!$D100,week2!$AI:$AI)=0,\"\",VLOOKUP(all_cars!$D100,week2!$AB:$AJ,8,FALSE))","v":""},{"$f":"IF(SUMIF(week3!$AB:$AB,all_cars!$D100,week3!$AI:$AI)=0,\"\",VLOOKUP(all_cars!$D100,week3!$AB:$AJ,8,FALSE))","v":96.019272685556956},{"$f":"IF(SUMIF(week4!$AB:$AB,all_cars!$D100,week4!$AI:$AI)=0,\"\",VLOOKUP(all_cars!$D100,week4!$AB:$AJ,8,FALSE))","v":93.825366845852102},{"$f":"IF(SUMIF(week5!$AB:$AB,all_cars!$D100,week5!$AI:$AI)=0,\"\",VLOOKUP(all_cars!$D100,week5!$AB:$AJ,8,FALSE))","v":""},null,{"$f":"IF(SUMIF(week1!$AB:$AB,all_cars!$D100,week1!$AJ:$AJ)=0,\"\",VLOOKUP(all_cars!$D100,week1!$AB:$AJ,9,FALSE))","v":""},{"$f":"IF(SUMIF(week2!$AB:$AB,all_cars!$D100,week2!$AJ:$AJ)=0,\"\",VLOOKUP(all_cars!$D100,week2!$AB:$AJ,9,FALSE))","v":""},{"$f":"IF(SUMIF(week3!$AB:$AB,all_cars!$D100,week3!$AJ:$AJ)=0,\"\",VLOOKUP(all_cars!$D100,week3!$AB:$AJ,9,FALSE))","v":""},{"$f":"IF(SUMIF(week4!$AB:$AB,all_cars!$D100,week4!$AJ:$AJ)=0,\"\",VLOOKUP(all_cars!$D100,week4!$AB:$AJ,9,FALSE))","v":92.028453241581943},{"$f":"IF(SUMIF(week5!$AB:$AB,all_cars!$D100,week5!$AJ:$AJ)=0,\"\",VLOOKUP(all_cars!$D100,week5!$AB:$AJ,9,FALSE))","v":""},null,null,null,"messi                     ","lds                       "]
[null,null,95,"Ku Dern [Ri]              ",null,98.600058944886527,98.116483599441352,null,98.358271272163933,null,{"$f":"IF(SUMIF(week1!$AB:$AB,all_cars!$D101,week1!$AF:$AF)=0,\"\",VLOOKUP(all_cars!$D101,week1!$AB:$AJ,5,FALSE))","v":""},{"$f":"IF(SUMIF(week2!$AB:$AB,all_cars!$D101,week2!$AF:$AF)=0,\"\",VLOOKUP(all_cars!$D101,week2!$AB:$AJ,5,FALSE))","v":""},{"$f":"IF(SUMIF(week3!$AB:$AB,all_cars!$D101,week3!$AF:$AF)=0,\"\",VLOOKUP(all_cars!$D101,week3!$AB:$AJ,5,FALSE))","v":""},{"$f":"IF(SUMIF(week4!$AB:$AB,all_cars!$D101,week4!$AF:$AF)=0,\"\",VLOOKUP(all_cars!$D101,week4!$AB:$AJ,5,FALSE))","v":""},{"$f":"IF(SUMIF(week5!$AB:$AB,all_cars!$D101,week5!$AF:$AF)=0,\"\",VLOOKUP(all_cars!$D101,week5!$AB:$AJ,5,FALSE))","v":""},null,{"$f":"IF(SUMIF(week1!$AB:$AB,all_cars!$D101,week1!$AG:$AG)=0,\"\",VLOOKUP(all_cars!$D101,week1!$AB:$AJ,6,FALSE))","v":""},{"$f":"IF(SUMIF(week2!$AB:$AB,all_cars!$D101,week2!$AG:$AG)=0,\"\",VLOOKUP(all_cars!$D101,week2!$AB:$AJ,6,FALSE))","v":""},{"$f":"IF(SUMIF(week3!$AB:$AB,all_cars!$D101,week3!$AG:$AG)=0,\"\",VLOOKUP(all_cars!$D101,week3!$AB:$AJ,6,FALSE))","v":98.116483599441352},{"$f":"IF(SUMIF(week4!$AB:$AB,all_cars!$D101,week4!$AG:$AG)=0,\"\",VLOOKUP(all_cars!$D101,week4!$AB:$AJ,6,FALSE))","v":""},{"$f":"IF(SUMIF(week5!$AB:$AB,all_cars!$D101,week5!$AG:$AG)=0,\"\",VLOOKUP(all_cars!$D101,week5!$AB:$AJ,6,FALSE))","v":""},null,{"$f":"IF(SUMIF(week1!$AB:$AB,all_cars!$D101,week1!$AH:$AH)=0,\"\",VLOOKUP(all_cars!$D101,week1!$AB:$AJ,7,FALSE))","v":""},{"$f":"IF(SUMIF(week2!$AB:$AB,all_cars!$D101,week2!$AH:$AH)=0,\"\",VLOOKUP(all_cars!$D101,week2!$AB:$AJ,7,FALSE))","v":""},{"$f":"IF(SUMIF(week3!$AB:$AB,all_cars!$D101,week3!$AH:$AH)=0,\"\",VLOOKUP(all_cars!$D101,week3!$AB:$AJ,7,FALSE))","v":98.600058944886527},{"$f":"IF(SUMIF(week4!$AB:$AB,all_cars!$D101,week4!$AH:$AH)=0,\"\",VLOOKUP(all_cars!$D101,week4!$AB:$AJ,7,FALSE))","v":""},{"$f":"IF(SUMIF(week5!$AB:$AB,all_cars!$D101,week5!$AH:$AH)=0,\"\",VLOOKUP(all_cars!$D101,week5!$AB:$AJ,7,FALSE))","v":""},null,{"$f":"IF(SUMIF(week1!$AB:$AB,all_cars!$D101,week1!$AI:$AI)=0,\"\",VLOOKUP(all_cars!$D101,week1!$AB:$AJ,8,FALSE))","v":""},{"$f":"IF(SUMIF(week2!$AB:$AB,all_cars!$D101,week2!$AI:$AI)=0,\"\",VLOOKUP(all_cars!$D101,week2!$AB:$AJ,8,FALSE))","v":""},{"$f":"IF(SUMIF(week3!$AB:$AB,all_cars!$D101,week3!$AI:$AI)=0,\"\",VLOOKUP(all_cars!$D101,week3!$AB:$AJ,8,FALSE))","v":""},{"$f":"IF(SUMIF(week4!$AB:$AB,all_cars!$D101,week4!$AI:$AI)=0,\"\",VLOOKUP(all_cars!$D101,week4!$AB:$AJ,8,FALSE))","v":""},{"$f":"IF(SUMIF(week5!$AB:$AB,all_cars!$D101,week5!$AI:$AI)=0,\"\",VLOOKUP(all_cars!$D101,week5!$AB:$AJ,8,FALSE))","v":""},null,{"$f":"IF(SUMIF(week1!$AB:$AB,all_cars!$D101,week1!$AJ:$AJ)=0,\"\",VLOOKUP(all_cars!$D101,week1!$AB:$AJ,9,FALSE))","v":""},{"$f":"IF(SUMIF(week2!$AB:$AB,all_cars!$D101,week2!$AJ:$AJ)=0,\"\",VLOOKUP(all_cars!$D101,week2!$AB:$AJ,9,FALSE))","v":""},{"$f":"IF(SUMIF(week3!$AB:$AB,all_cars!$D101,week3!$AJ:$AJ)=0,\"\",VLOOKUP(all_cars!$D101,week3!$AB:$AJ,9,FALSE))","v":""},{"$f":"IF(SUMIF(week4!$AB:$AB,all_cars!$D101,week4!$AJ:$AJ)=0,\"\",VLOOKUP(all_cars!$D101,week4!$AB:$AJ,9,FALSE))","v":""},{"$f":"IF(SUMIF(week5!$AB:$AB,all_cars!$D101,week5!$AJ:$AJ)=0,\"\",VLOOKUP(all_cars!$D101,week5!$AB:$AJ,9,FALSE))","v":""},null,null,null,"Ku Dern [Ri]              ","Hengari                   "]
[null,null,96,"[$pectre]Jaw$             ",null,96.787435974691164,94.930736420941386,null,95.859086197816282,null,{"$f":"IF(SUMIF(week1!$AB:$AB,all_cars!$D102,week1!$AF:$AF)=0,\"\",VLOOKUP(all_cars!$D102,week1!$AB:$AJ,5,FALSE))","v":""},{"$f":"IF(SUMIF(week2!$AB:$AB,all_cars!$D102,week2!$AF:$AF)=0,\"\",VLOOKUP(all_cars!$D102,week2!$AB:$AJ,5,FALSE))","v":""},{"$f":"IF(SUMIF(week3!$AB:$AB,all_cars!$D102,week3!$AF:$AF)=0,\"\",VLOOKUP(all_cars!$D102,week3!$AB:$AJ,5,FALSE))","v":96.787435974691164},{"$f":"IF(SUMIF(week4!$AB:$AB,all_cars!$D102,week4!$AF:$AF)=0,\"\",VLOOKUP(all_cars!$D102,week4!$AB:$AJ,5,FALSE))","v":""},{"$f":"IF(SUMIF(week5!$AB:$AB,all_cars!$D102,week5!$AF:$AF)=0,\"\",VLOOKUP(all_cars!$D102,week5!$AB:$AJ,5,FALSE))","v":""},null,{"$f":"IF(SUMIF(week1!$AB:$AB,all_cars!$D102,week1!$AG:$AG)=0,\"\",VLOOKUP(all_cars!$D102,week1!$AB:$AJ,6,FALSE))","v":""},{"$f":"IF(SUMIF(week2!$AB:$AB,all_cars!$D102,week2!$AG:$AG)=0,\"\",VLOOKUP(all_cars!$D102,week2!$AB:$AJ,6,FALSE))","v":""},{"$f":"IF(SUMIF(week3!$AB:$AB,all_cars!$D102,week3!$AG:$AG)=0,\"\",VLOOKUP(all_cars!$D102,week3!$AB:$AJ,6,FALSE))","v":94.930736420941386},{"$f":"IF(SUMIF(week4!$AB:$AB,all_cars!$D102,week4!$AG:$AG)=0,\"\",VLOOKUP(all_cars!$D102,week4!$AB:$AJ,6,FALSE))","v":""},{"$f":"IF(SUMIF(week5!$AB:$AB,all_cars!$D102,week5!$AG:$AG)=0,\"\",VLOOKUP(all_cars!$D102,week5!$AB:$AJ,6,FALSE))","v":""},null,{"$f":"IF(SUMIF(week1!$AB:$AB,all_cars!$D102,week1!$AH:$AH)=0,\"\",VLOOKUP(all_cars!$D102,week1!$AB:$AJ,7,FALSE))","v":""},{"$f":"IF(SUMIF(week2!$AB:$AB,all_cars!$D102,week2!$AH:$AH)=0,\"\",VLOOKUP(all_cars!$D102,week2!$AB:$AJ,7,FALSE))","v":""},{"$f":"IF(SUMIF(week3!$AB:$AB,all_cars!$D102,week3!$AH:$AH)=0,\"\",VLOOKUP(all_cars!$D102,week3!$AB:$AJ,7,FALSE))","v":""},{"$f":"IF(SUMIF(week4!$AB:$AB,all_cars!$D102,week4!$AH:$AH)=0,\"\",VLOOKUP(all_cars!$D102,week4!$AB:$AJ,7,FALSE))","v":""},{"$f":"IF(SUMIF(week5!$AB:$AB,all_cars!$D102,week5!$AH:$AH)=0,\"\",VLOOKUP(all_cars!$D102,week5!$AB:$AJ,7,FALSE))","v":""},null,{"$f":"IF(SUMIF(week1!$AB:$AB,all_cars!$D102,week1!$AI:$AI)=0,\"\",VLOOKUP(all_cars!$D102,week1!$AB:$AJ,8,FALSE))","v":""},{"$f":"IF(SUMIF(week2!$AB:$AB,all_cars!$D102,week2!$AI:$AI)=0,\"\",VLOOKUP(all_cars!$D102,week2!$AB:$AJ,8,FALSE))","v":""},{"$f":"IF(SUMIF(week3!$AB:$AB,all_cars!$D102,week3!$AI:$AI)=0,\"\",VLOOKUP(all_cars!$D102,week3!$AB:$AJ,8,FALSE))","v":""},{"$f":"IF(SUMIF(week4!$AB:$AB,all_cars!$D102,week4!$AI:$AI)=0,\"\",VLOOKUP(all_cars!$D102,week4!$AB:$AJ,8,FALSE))","v":""},{"$f":"IF(SUMIF(week5!$AB:$AB,all_cars!$D102,week5!$AI:$AI)=0,\"\",VLOOKUP(all_cars!$D102,week5!$AB:$AJ,8,FALSE))","v":""},null,{"$f":"IF(SUMIF(week1!$AB:$AB,all_cars!$D102,week1!$AJ:$AJ)=0,\"\",VLOOKUP(all_cars!$D102,week1!$AB:$AJ,9,FALSE))","v":""},{"$f":"IF(SUMIF(week2!$AB:$AB,all_cars!$D102,week2!$AJ:$AJ)=0,\"\",VLOOKUP(all_cars!$D102,week2!$AB:$AJ,9,FALSE))","v":""},{"$f":"IF(SUMIF(week3!$AB:$AB,all_cars!$D102,week3!$AJ:$AJ)=0,\"\",VLOOKUP(all_cars!$D102,week3!$AB:$AJ,9,FALSE))","v":""},{"$f":"IF(SUMIF(week4!$AB:$AB,all_cars!$D102,week4!$AJ:$AJ)=0,\"\",VLOOKUP(all_cars!$D102,week4!$AB:$AJ,9,FALSE))","v":""},{"$f":"IF(SUMIF(week5!$AB:$AB,all_cars!$D102,week5!$AJ:$AJ)=0,\"\",VLOOKUP(all_cars!$D102,week5!$AB:$AJ,9,FALSE))","v":""},null,null,null,"[$pectre]Jaw$             ","pozdro600                 "]
[null,null,97,"Magnat                    ",null,{"$f":"IF($I103=\"\",0,MAX($K103:$AM103))","v":94.900539765220998},{"$f":"IF($I103=\"\",0,MIN($K103:$AM103))","v":93.093167701863337},null,{"$f":"IF(COUNT(K103:AM103)=0,0,SUM(K103:AM103)/COUNT(K103:AM103))","v":93.996853733542167},null,{"$f":"IF(SUMIF(week1!$AB:$AB,all_cars!$D103,week1!$AF:$AF)=0,\"\",VLOOKUP(all_cars!$D103,week1!$AB:$AJ,5,FALSE))","v":""},{"$f":"IF(SUMIF(week2!$AB:$AB,all_cars!$D103,week2!$AF:$AF)=0,\"\",VLOOKUP(all_cars!$D103,week2!$AB:$AJ,5,FALSE))","v":""},{"$f":"IF(SUMIF(week3!$AB:$AB,all_cars!$D103,week3!$AF:$AF)=0,\"\",VLOOKUP(all_cars!$D103,week3!$AB:$AJ,5,FALSE))","v":""},{"$f":"IF(SUMIF(week4!$AB:$AB,all_cars!$D103,week4!$AF:$AF)=0,\"\",VLOOKUP(all_cars!$D103,week4!$AB:$AJ,5,FALSE))","v":""},{"$f":"IF(SUMIF(week5!$AB:$AB,all_cars!$D103,week5!$AF:$AF)=0,\"\",VLOOKUP(all_cars!$D103,week5!$AB:$AJ,5,FALSE))","v":""},null,{"$f":"IF(SUMIF(week1!$AB:$AB,all_cars!$D103,week1!$AG:$AG)=0,\"\",VLOOKUP(all_cars!$D103,week1!$AB:$AJ,6,FALSE))","v":""},{"$f":"IF(SUMIF(week2!$AB:$AB,all_cars!$D103,week2!$AG:$AG)=0,\"\",VLOOKUP(all_cars!$D103,week2!$AB:$AJ,6,FALSE))","v":""},{"$f":"IF(SUMIF(week3!$AB:$AB,all_cars!$D103,week3!$AG:$AG)=0,\"\",VLOOKUP(all_cars!$D103,week3!$AB:$AJ,6,FALSE))","v":94.900539765220998},{"$f":"IF(SUMIF(week4!$AB:$AB,all_cars!$D103,week4!$AG:$AG)=0,\"\",VLOOKUP(all_cars!$D103,week4!$AB:$AJ,6,FALSE))","v":""},{"$f":"IF(SUMIF(week5!$AB:$AB,all_cars!$D103,week5!$AG:$AG)=0,\"\",VLOOKUP(all_cars!$D103,week5!$AB:$AJ,6,FALSE))","v":""},null,{"$f":"IF(SUMIF(week1!$AB:$AB,all_cars!$D103,week1!$AH:$AH)=0,\"\",VLOOKUP(all_cars!$D103,week1!$AB:$AJ,7,FALSE))","v":""},{"$f":"IF(SUMIF(week2!$AB:$AB,all_cars!$D103,week2!$AH:$AH)=0,\"\",VLOOKUP(all_cars!$D103,week2!$AB:$AJ,7,FALSE))","v":""},{"$f":"IF(SUMIF(week3!$AB:$AB,all_cars!$D103,week3!$AH:$AH)=0,\"\",VLOOKUP(all_cars!$D103,week3!$AB:$AJ,7,FALSE))","v":""},{"$f":"IF(SUMIF(week4!$AB:$AB,all_cars!$D103,week4!$AH:$AH)=0,\"\",VLOOKUP(all_cars!$D103,week4!$AB:$AJ,7,FALSE))","v":""},{"$f":"IF(SUMIF(week5!$AB:$AB,all_cars!$D103,week5!$AH:$AH)=0,\"\",VLOOKUP(all_cars!$D103,week5!$AB:$AJ,7,FALSE))","v":""},null,{"$f":"IF(SUMIF(week1!$AB:$AB,all_cars!$D103,week1!$AI:$AI)=0,\"\",VLOOKUP(all_cars!$D103,week1!$AB:$AJ,8,FALSE))","v":""},{"$f":"IF(SUMIF(week2!$AB:$AB,all_cars!$D103,week2!$AI:$AI)=0,\"\",VLOOKUP(all_cars!$D103,week2!$AB:$AJ,8,FALSE))","v":""},{"$f":"IF(SUMIF(week3!$AB:$AB,all_cars!$D103,week3!$AI:$AI)=0,\"\",VLOOKUP(all_cars!$D103,week3!$AB:$AJ,8,FALSE))","v":""},{"$f":"IF(SUMIF(week4!$AB:$AB,all_cars!$D103,week4!$AI:$AI)=0,\"\",VLOOKUP(all_cars!$D103,week4!$AB:$AJ,8,FALSE))","v":""},{"$f":"IF(SUMIF(week5!$AB:$AB,all_cars!$D103,week5!$AI:$AI)=0,\"\",VLOOKUP(all_cars!$D103,week5!$AB:$AJ,8,FALSE))","v":""},null,{"$f":"IF(SUMIF(week1!$AB:$AB,all_cars!$D103,week1!$AJ:$AJ)=0,\"\",VLOOKUP(all_cars!$D103,week1!$AB:$AJ,9,FALSE))","v":""},{"$f":"IF(SUMIF(week2!$AB:$AB,all_cars!$D103,week2!$AJ:$AJ)=0,\"\",VLOOKUP(all_cars!$D103,week2!$AB:$AJ,9,FALSE))","v":""},{"$f":"IF(SUMIF(week3!$AB:$AB,all_cars!$D103,week3!$AJ:$AJ)=0,\"\",VLOOKUP(all_cars!$D103,week3!$AB:$AJ,9,FALSE))","v":93.093167701863337},{"$f":"IF(SUMIF(week4!$AB:$AB,all_cars!$D103,week4!$AJ:$AJ)=0,\"\",VLOOKUP(all_cars!$D103,week4!$AB:$AJ,9,FALSE))","v":""},{"$f":"IF(SUMIF(week5!$AB:$AB,all_cars!$D103,week5!$AJ:$AJ)=0,\"\",VLOOKUP(all_cars!$D103,week5!$AB:$AJ,9,FALSE))","v":""},null,null,null,"Magnat                    ","Gol_v8                    "]
[null,null,98,"straits                   ",null,97.725218439288952,97.725218439288952,null,97.725218439288952,null,{"$f":"IF(SUMIF(week1!$AB:$AB,all_cars!$D104,week1!$AF:$AF)=0,\"\",VLOOKUP(all_cars!$D104,week1!$AB:$AJ,5,FALSE))","v":""},{"$f":"IF(SUMIF(week2!$AB:$AB,all_cars!$D104,week2!$AF:$AF)=0,\"\",VLOOKUP(all_cars!$D104,week2!$AB:$AJ,5,FALSE))","v":""},{"$f":"IF(SUMIF(week3!$AB:$AB,all_cars!$D104,week3!$AF:$AF)=0,\"\",VLOOKUP(all_cars!$D104,week3!$AB:$AJ,5,FALSE))","v":97.725218439288952},{"$f":"IF(SUMIF(week4!$AB:$AB,all_cars!$D104,week4!$AF:$AF)=0,\"\",VLOOKUP(all_cars!$D104,week4!$AB:$AJ,5,FALSE))","v":""},{"$f":"IF(SUMIF(week5!$AB:$AB,all_cars!$D104,week5!$AF:$AF)=0,\"\",VLOOKUP(all_cars!$D104,week5!$AB:$AJ,5,FALSE))","v":""},null,{"$f":"IF(SUMIF(week1!$AB:$AB,all_cars!$D104,week1!$AG:$AG)=0,\"\",VLOOKUP(all_cars!$D104,week1!$AB:$AJ,6,FALSE))","v":""},{"$f":"IF(SUMIF(week2!$AB:$AB,all_cars!$D104,week2!$AG:$AG)=0,\"\",VLOOKUP(all_cars!$D104,week2!$AB:$AJ,6,FALSE))","v":""},{"$f":"IF(SUMIF(week3!$AB:$AB,all_cars!$D104,week3!$AG:$AG)=0,\"\",VLOOKUP(all_cars!$D104,week3!$AB:$AJ,6,FALSE))","v":""},{"$f":"IF(SUMIF(week4!$AB:$AB,all_cars!$D104,week4!$AG:$AG)=0,\"\",VLOOKUP(all_cars!$D104,week4!$AB:$AJ,6,FALSE))","v":""},{"$f":"IF(SUMIF(week5!$AB:$AB,all_cars!$D104,week5!$AG:$AG)=0,\"\",VLOOKUP(all_cars!$D104,week5!$AB:$AJ,6,FALSE))","v":""},null,{"$f":"IF(SUMIF(week1!$AB:$AB,all_cars!$D104,week1!$AH:$AH)=0,\"\",VLOOKUP(all_cars!$D104,week1!$AB:$AJ,7,FALSE))","v":""},{"$f":"IF(SUMIF(week2!$AB:$AB,all_cars!$D104,week2!$AH:$AH)=0,\"\",VLOOKUP(all_cars!$D104,week2!$AB:$AJ,7,FALSE))","v":""},{"$f":"IF(SUMIF(week3!$AB:$AB,all_cars!$D104,week3!$AH:$AH)=0,\"\",VLOOKUP(all_cars!$D104,week3!$AB:$AJ,7,FALSE))","v":""},{"$f":"IF(SUMIF(week4!$AB:$AB,all_cars!$D104,week4!$AH:$AH)=0,\"\",VLOOKUP(all_cars!$D104,week4!$AB:$AJ,7,FALSE))","v":""},{"$f":"IF(SUMIF(week5!$AB:$AB,all_cars!$D104,week5!$AH:$AH)=0,\"\",VLOOKUP(all_cars!$D104,week5!$AB:$AJ,7,FALSE))","v":""},null,{"$f":"IF(SUMIF(week1!$AB:$AB,all_cars!$D104,week1!$AI:$AI)=0,\"\",VLOOKUP(all_cars!$D104,week1!$AB:$AJ,8,FALSE))","v":""},{"$f":"IF(SUMIF(week2!$AB:$AB,all_cars!$D104,week2!$AI:$AI)=0,\"\",VLOOKUP(all_cars!$D104,week2!$AB:$AJ,8,FALSE))","v":""},{"$f":"IF(SUMIF(week3!$AB:$AB,all_cars!$D104,week3!$AI:$AI)=0,\"\",VLOOKUP(all_cars!$D104,week3!$AB:$AJ,8,FALSE))","v":""},{"$f":"IF(SUMIF(week4!$AB:$AB,all_cars!$D104,week4!$AI:$AI)=0,\"\",VLOOKUP(all_cars!$D104,week4!$AB:$AJ,8,FALSE))","v":""},{"$f":"IF(SUMIF(week5!$AB:$AB,all_cars!$D104,week5!$AI:$AI)=0,\"\",VLOOKUP(all_cars!$D104,week5!$AB:$AJ,8,FALSE))","v":""},null,{"$f":"IF(SUMIF(week1!$AB:$AB,all_cars!$D104,week1!$AJ:$AJ)=0,\"\",VLOOKUP(all_cars!$D104,week1!$AB:$AJ,9,FALSE))","v":""},{"$f":"IF(SUMIF(week2!$AB:$AB,all_cars!$D104,week2!$AJ:$AJ)=0,\"\",VLOOKUP(all_cars!$D104,week2!$AB:$AJ,9,FALSE))","v":""},{"$f":"IF(SUMIF(week3!$AB:$AB,all_cars!$D104,week3!$AJ:$AJ)=0,\"\",VLOOKUP(all_cars!$D104,week3!$AB:$AJ,9,FALSE))","v":""},{"$f":"IF(SUMIF(week4!$AB:$AB,all_cars!$D104,week4!$AJ:$AJ)=0,\"\",VLOOKUP(all_cars!$D104,week4!$AB:$AJ,9,FALSE))","v":""},{"$f":"IF(SUMIF(week5!$AB:$AB,all_cars!$D104,week5!$AJ:$AJ)=0,\"\",VLOOKUP(all_cars!$D104,week5!$AB:$AJ,9,FALSE))","v":""},null,null,null,"straits                   ","Bubba                     "]
[null,null,99,"[ITA]_AIR_GIGI            ",null,96.433413678818923,84.090137017325333,null,90.261775348072121,null,{"$f":"IF(SUMIF(week1!$AB:$AB,all_cars!$D105,week1!$AF:$AF)=0,\"\",VLOOKUP(all_cars!$D105,week1!$AB:$AJ,5,FALSE))","v":""},{"$f":"IF(SUMIF(week2!$AB:$AB,all_cars!$D105,week2!$AF:$AF)=0,\"\",VLOOKUP(all_cars!$D105,week2!$AB:$AJ,5,FALSE))","v":""},{"$f":"IF(SUMIF(week3!$AB:$AB,all_cars!$D105,week3!$AF:$AF)=0,\"\",VLOOKUP(all_cars!$D105,week3!$AB:$AJ,5,FALSE))","v":96.433413678818923},{"$f":"IF(SUMIF(week4!$AB:$AB,all_cars!$D105,week4!$AF:$AF)=0,\"\",VLOOKUP(all_cars!$D105,week4!$AB:$AJ,5,FALSE))","v":""},{"$f":"IF(SUMIF(week5!$AB:$AB,all_cars!$D105,week5!$AF:$AF)=0,\"\",VLOOKUP(all_cars!$D105,week5!$AB:$AJ,5,FALSE))","v":""},null,{"$f":"IF(SUMIF(week1!$AB:$AB,all_cars!$D105,week1!$AG:$AG)=0,\"\",VLOOKUP(all_cars!$D105,week1!$AB:$AJ,6,FALSE))","v":""},{"$f":"IF(SUMIF(week2!$AB:$AB,all_cars!$D105,week2!$AG:$AG)=0,\"\",VLOOKUP(all_cars!$D105,week2!$AB:$AJ,6,FALSE))","v":""},{"$f":"IF(SUMIF(week3!$AB:$AB,all_cars!$D105,week3!$AG:$AG)=0,\"\",VLOOKUP(all_cars!$D105,week3!$AB:$AJ,6,FALSE))","v":84.090137017325333},{"$f":"IF(SUMIF(week4!$AB:$AB,all_cars!$D105,week4!$AG:$AG)=0,\"\",VLOOKUP(all_cars!$D105,week4!$AB:$AJ,6,FALSE))","v":""},{"$f":"IF(SUMIF(week5!$AB:$AB,all_cars!$D105,week5!$AG:$AG)=0,\"\",VLOOKUP(all_cars!$D105,week5!$AB:$AJ,6,FALSE))","v":""},null,{"$f":"IF(SUMIF(week1!$AB:$AB,all_cars!$D105,week1!$AH:$AH)=0,\"\",VLOOKUP(all_cars!$D105,week1!$AB:$AJ,7,FALSE))","v":""},{"$f":"IF(SUMIF(week2!$AB:$AB,all_cars!$D105,week2!$AH:$AH)=0,\"\",VLOOKUP(all_cars!$D105,week2!$AB:$AJ,7,FALSE))","v":""},{"$f":"IF(SUMIF(week3!$AB:$AB,all_cars!$D105,week3!$AH:$AH)=0,\"\",VLOOKUP(all_cars!$D105,week3!$AB:$AJ,7,FALSE))","v":""},{"$f":"IF(SUMIF(week4!$AB:$AB,all_cars!$D105,week4!$AH:$AH)=0,\"\",VLOOKUP(all_cars!$D105,week4!$AB:$AJ,7,FALSE))","v":""},{"$f":"IF(SUMIF(week5!$AB:$AB,all_cars!$D105,week5!$AH:$AH)=0,\"\",VLOOKUP(all_cars!$D105,week5!$AB:$AJ,7,FALSE))","v":""},null,{"$f":"IF(SUMIF(week1!$AB:$AB,all_cars!$D105,week1!$AI:$AI)=0,\"\",VLOOKUP(all_cars!$D105,week1!$AB:$AJ,8,FALSE))","v":""},{"$f":"IF(SUMIF(week2!$AB:$AB,all_cars!$D105,week2!$AI:$AI)=0,\"\",VLOOKUP(all_cars!$D105,week2!$AB:$AJ,8,FALSE))","v":""},{"$f":"IF(SUMIF(week3!$AB:$AB,all_cars!$D105,week3!$AI:$AI)=0,\"\",VLOOKUP(all_cars!$D105,week3!$AB:$AJ,8,FALSE))","v":""},{"$f":"IF(SUMIF(week4!$AB:$AB,all_cars!$D105,week4!$AI:$AI)=0,\"\",VLOOKUP(all_cars!$D105,week4!$AB:$AJ,8,FALSE))","v":""},{"$f":"IF(SUMIF(week5!$AB:$AB,all_cars!$D105,week5!$AI:$AI)=0,\"\",VLOOKUP(all_cars!$D105,week5!$AB:$AJ,8,FALSE))","v":""},null,{"$f":"IF(SUMIF(week1!$AB:$AB,all_cars!$D105,week1!$AJ:$AJ)=0,\"\",VLOOKUP(all_cars!$D105,week1!$AB:$AJ,9,FALSE))","v":""},{"$f":"IF(SUMIF(week2!$AB:$AB,all_cars!$D105,week2!$AJ:$AJ)=0,\"\",VLOOKUP(all_cars!$D105,week2!$AB:$AJ,9,FALSE))","v":""},{"$f":"IF(SUMIF(week3!$AB:$AB,all_cars!$D105,week3!$AJ:$AJ)=0,\"\",VLOOKUP(all_cars!$D105,week3!$AB:$AJ,9,FALSE))","v":""},{"$f":"IF(SUMIF(week4!$AB:$AB,all_cars!$D105,week4!$AJ:$AJ)=0,\"\",VLOOKUP(all_cars!$D105,week4!$AB:$AJ,9,FALSE))","v":""},{"$f":"IF(SUMIF(week5!$AB:$AB,all_cars!$D105,week5!$AJ:$AJ)=0,\"\",VLOOKUP(all_cars!$D105,week5!$AB:$AJ,9,FALSE))","v":""},null,null,null,"[ITA]_AIR_GIGI            ","[PahaJori] Ender          "]
[null,null,100,"BrunoA                    ",null,92.870593552274784,92.186615332351934,null,92.528604442313366,null,{"$f":"IF(SUMIF(week1!$AB:$AB,all_cars!$D106,week1!$AF:$AF)=0,\"\",VLOOKUP(all_cars!$D106,week1!$AB:$AJ,5,FALSE))","v":""},{"$f":"IF(SUMIF(week2!$AB:$AB,all_cars!$D106,week2!$AF:$AF)=0,\"\",VLOOKUP(all_cars!$D106,week2!$AB:$AJ,5,FALSE))","v":""},{"$f":"IF(SUMIF(week3!$AB:$AB,all_cars!$D106,week3!$AF:$AF)=0,\"\",VLOOKUP(all_cars!$D106,week3!$AB:$AJ,5,FALSE))","v":92.870593552274784},{"$f":"IF(SUMIF(week4!$AB:$AB,all_cars!$D106,week4!$AF:$AF)=0,\"\",VLOOKUP(all_cars!$D106,week4!$AB:$AJ,5,FALSE))","v":""},{"$f":"IF(SUMIF(week5!$AB:$AB,all_cars!$D106,week5!$AF:$AF)=0,\"\",VLOOKUP(all_cars!$D106,week5!$AB:$AJ,5,FALSE))","v":""},null,{"$f":"IF(SUMIF(week1!$AB:$AB,all_cars!$D106,week1!$AG:$AG)=0,\"\",VLOOKUP(all_cars!$D106,week1!$AB:$AJ,6,FALSE))","v":""},{"$f":"IF(SUMIF(week2!$AB:$AB,all_cars!$D106,week2!$AG:$AG)=0,\"\",VLOOKUP(all_cars!$D106,week2!$AB:$AJ,6,FALSE))","v":""},{"$f":"IF(SUMIF(week3!$AB:$AB,all_cars!$D106,week3!$AG:$AG)=0,\"\",VLOOKUP(all_cars!$D106,week3!$AB:$AJ,6,FALSE))","v":92.186615332351934},{"$f":"IF(SUMIF(week4!$AB:$AB,all_cars!$D106,week4!$AG:$AG)=0,\"\",VLOOKUP(all_cars!$D106,week4!$AB:$AJ,6,FALSE))","v":""},{"$f":"IF(SUMIF(week5!$AB:$AB,all_cars!$D106,week5!$AG:$AG)=0,\"\",VLOOKUP(all_cars!$D106,week5!$AB:$AJ,6,FALSE))","v":""},null,{"$f":"IF(SUMIF(week1!$AB:$AB,all_cars!$D106,week1!$AH:$AH)=0,\"\",VLOOKUP(all_cars!$D106,week1!$AB:$AJ,7,FALSE))","v":""},{"$f":"IF(SUMIF(week2!$AB:$AB,all_cars!$D106,week2!$AH:$AH)=0,\"\",VLOOKUP(all_cars!$D106,week2!$AB:$AJ,7,FALSE))","v":""},{"$f":"IF(SUMIF(week3!$AB:$AB,all_cars!$D106,week3!$AH:$AH)=0,\"\",VLOOKUP(all_cars!$D106,week3!$AB:$AJ,7,FALSE))","v":""},{"$f":"IF(SUMIF(week4!$AB:$AB,all_cars!$D106,week4!$AH:$AH)=0,\"\",VLOOKUP(all_cars!$D106,week4!$AB:$AJ,7,FALSE))","v":""},{"$f":"IF(SUMIF(week5!$AB:$AB,all_cars!$D106,week5!$AH:$AH)=0,\"\",VLOOKUP(all_cars!$D106,week5!$AB:$AJ,7,FALSE))","v":""},null,{"$f":"IF(SUMIF(week1!$AB:$AB,all_cars!$D106,week1!$AI:$AI)=0,\"\",VLOOKUP(all_cars!$D106,week1!$AB:$AJ,8,FALSE))","v":""},{"$f":"IF(SUMIF(week2!$AB:$AB,all_cars!$D106,week2!$AI:$AI)=0,\"\",VLOOKUP(all_cars!$D106,week2!$AB:$AJ,8,FALSE))","v":""},{"$f":"IF(SUMIF(week3!$AB:$AB,all_cars!$D106,week3!$AI:$AI)=0,\"\",VLOOKUP(all_cars!$D106,week3!$AB:$AJ,8,FALSE))","v":""},{"$f":"IF(SUMIF(week4!$AB:$AB,all_cars!$D106,week4!$AI:$AI)=0,\"\",VLOOKUP(all_cars!$D106,week4!$AB:$AJ,8,FALSE))","v":""},{"$f":"IF(SUMIF(week5!$AB:$AB,all_cars!$D106,week5!$AI:$AI)=0,\"\",VLOOKUP(all_cars!$D106,week5!$AB:$AJ,8,FALSE))","v":""},null,{"$f":"IF(SUMIF(week1!$AB:$AB,all_cars!$D106,week1!$AJ:$AJ)=0,\"\",VLOOKUP(all_cars!$D106,week1!$AB:$AJ,9,FALSE))","v":""},{"$f":"IF(SUMIF(week2!$AB:$AB,all_cars!$D106,week2!$AJ:$AJ)=0,\"\",VLOOKUP(all_cars!$D106,week2!$AB:$AJ,9,FALSE))","v":""},{"$f":"IF(SUMIF(week3!$AB:$AB,all_cars!$D106,week3!$AJ:$AJ)=0,\"\",VLOOKUP(all_cars!$D106,week3!$AB:$AJ,9,FALSE))","v":""},{"$f":"IF(SUMIF(week4!$AB:$AB,all_cars!$D106,week4!$AJ:$AJ)=0,\"\",VLOOKUP(all_cars!$D106,week4!$AB:$AJ,9,FALSE))","v":""},{"$f":"IF(SUMIF(week5!$AB:$AB,all_cars!$D106,week5!$AJ:$AJ)=0,\"\",VLOOKUP(all_cars!$D106,week5!$AB:$AJ,9,FALSE))","v":""},null,null,null,"BrunoA                    ","Fama                      "]
[null,null,101,"koripallo tits            ",null,96.734986600234009,96.734986600234009,null,96.734986600234009,null,{"$f":"IF(SUMIF(week1!$AB:$AB,all_cars!$D107,week1!$AF:$AF)=0,\"\",VLOOKUP(all_cars!$D107,week1!$AB:$AJ,5,FALSE))","v":""},{"$f":"IF(SUMIF(week2!$AB:$AB,all_cars!$D107,week2!$AF:$AF)=0,\"\",VLOOKUP(all_cars!$D107,week2!$AB:$AJ,5,FALSE))","v":""},{"$f":"IF(SUMIF(week3!$AB:$AB,all_cars!$D107,week3!$AF:$AF)=0,\"\",VLOOKUP(all_cars!$D107,week3!$AB:$AJ,5,FALSE))","v":""},{"$f":"IF(SUMIF(week4!$AB:$AB,all_cars!$D107,week4!$AF:$AF)=0,\"\",VLOOKUP(all_cars!$D107,week4!$AB:$AJ,5,FALSE))","v":""},{"$f":"IF(SUMIF(week5!$AB:$AB,all_cars!$D107,week5!$AF:$AF)=0,\"\",VLOOKUP(all_cars!$D107,week5!$AB:$AJ,5,FALSE))","v":""},null,{"$f":"IF(SUMIF(week1!$AB:$AB,all_cars!$D107,week1!$AG:$AG)=0,\"\",VLOOKUP(all_cars!$D107,week1!$AB:$AJ,6,FALSE))","v":""},{"$f":"IF(SUMIF(week2!$AB:$AB,all_cars!$D107,week2!$AG:$AG)=0,\"\",VLOOKUP(all_cars!$D107,week2!$AB:$AJ,6,FALSE))","v":""},{"$f":"IF(SUMIF(week3!$AB:$AB,all_cars!$D107,week3!$AG:$AG)=0,\"\",VLOOKUP(all_cars!$D107,week3!$AB:$AJ,6,FALSE))","v":96.734986600234009},{"$f":"IF(SUMIF(week4!$AB:$AB,all_cars!$D107,week4!$AG:$AG)=0,\"\",VLOOKUP(all_cars!$D107,week4!$AB:$AJ,6,FALSE))","v":""},{"$f":"IF(SUMIF(week5!$AB:$AB,all_cars!$D107,week5!$AG:$AG)=0,\"\",VLOOKUP(all_cars!$D107,week5!$AB:$AJ,6,FALSE))","v":""},null,{"$f":"IF(SUMIF(week1!$AB:$AB,all_cars!$D107,week1!$AH:$AH)=0,\"\",VLOOKUP(all_cars!$D107,week1!$AB:$AJ,7,FALSE))","v":""},{"$f":"IF(SUMIF(week2!$AB:$AB,all_cars!$D107,week2!$AH:$AH)=0,\"\",VLOOKUP(all_cars!$D107,week2!$AB:$AJ,7,FALSE))","v":""},{"$f":"IF(SUMIF(week3!$AB:$AB,all_cars!$D107,week3!$AH:$AH)=0,\"\",VLOOKUP(all_cars!$D107,week3!$AB:$AJ,7,FALSE))","v":""},{"$f":"IF(SUMIF(week4!$AB:$AB,all_cars!$D107,week4!$AH:$AH)=0,\"\",VLOOKUP(all_cars!$D107,week4!$AB:$AJ,7,FALSE))","v":""},{"$f":"IF(SUMIF(week5!$AB:$AB,all_cars!$D107,week5!$AH:$AH)=0,\"\",VLOOKUP(all_cars!$D107,week5!$AB:$AJ,7,FALSE))","v":""},null,{"$f":"IF(SUMIF(week1!$AB:$AB,all_cars!$D107,week1!$AI:$AI)=0,\"\",VLOOKUP(all_cars!$D107,week1!$AB:$AJ,8,FALSE))","v":""},{"$f":"IF(SUMIF(week2!$AB:$AB,all_cars!$D107,week2!$AI:$AI)=0,\"\",VLOOKUP(all_cars!$D107,week2!$AB:$AJ,8,FALSE))","v":""},{"$f":"IF(SUMIF(week3!$AB:$AB,all_cars!$D107,week3!$AI:$AI)=0,\"\",VLOOKUP(all_cars!$D107,week3!$AB:$AJ,8,FALSE))","v":""},{"$f":"IF(SUMIF(week4!$AB:$AB,all_cars!$D107,week4!$AI:$AI)=0,\"\",VLOOKUP(all_cars!$D107,week4!$AB:$AJ,8,FALSE))","v":""},{"$f":"IF(SUMIF(week5!$AB:$AB,all_cars!$D107,week5!$AI:$AI)=0,\"\",VLOOKUP(all_cars!$D107,week5!$AB:$AJ,8,FALSE))","v":""},null,{"$f":"IF(SUMIF(week1!$AB:$AB,all_cars!$D107,week1!$AJ:$AJ)=0,\"\",VLOOKUP(all_cars!$D107,week1!$AB:$AJ,9,FALSE))","v":""},{"$f":"IF(SUMIF(week2!$AB:$AB,all_cars!$D107,week2!$AJ:$AJ)=0,\"\",VLOOKUP(all_cars!$D107,week2!$AB:$AJ,9,FALSE))","v":""},{"$f":"IF(SUMIF(week3!$AB:$AB,all_cars!$D107,week3!$AJ:$AJ)=0,\"\",VLOOKUP(all_cars!$D107,week3!$AB:$AJ,9,FALSE))","v":""},{"$f":"IF(SUMIF(week4!$AB:$AB,all_cars!$D107,week4!$AJ:$AJ)=0,\"\",VLOOKUP(all_cars!$D107,week4!$AB:$AJ,9,FALSE))","v":""},{"$f":"IF(SUMIF(week5!$AB:$AB,all_cars!$D107,week5!$AJ:$AJ)=0,\"\",VLOOKUP(all_cars!$D107,week5!$AB:$AJ,9,FALSE))","v":""},null,null,null,"koripallo tits            ","R.E.I.R.O.M               "]
[null,null,102,"Rendy                     ",null,96.501205182283812,96.501205182283812,null,96.501205182283812,null,{"$f":"IF(SUMIF(week1!$AB:$AB,all_cars!$D108,week1!$AF:$AF)=0,\"\",VLOOKUP(all_cars!$D108,week1!$AB:$AJ,5,FALSE))","v":""},{"$f":"IF(SUMIF(week2!$AB:$AB,all_cars!$D108,week2!$AF:$AF)=0,\"\",VLOOKUP(all_cars!$D108,week2!$AB:$AJ,5,FALSE))","v":""},{"$f":"IF(SUMIF(week3!$AB:$AB,all_cars!$D108,week3!$AF:$AF)=0,\"\",VLOOKUP(all_cars!$D108,week3!$AB:$AJ,5,FALSE))","v":96.501205182283812},{"$f":"IF(SUMIF(week4!$AB:$AB,all_cars!$D108,week4!$AF:$AF)=0,\"\",VLOOKUP(all_cars!$D108,week4!$AB:$AJ,5,FALSE))","v":""},{"$f":"IF(SUMIF(week5!$AB:$AB,all_cars!$D108,week5!$AF:$AF)=0,\"\",VLOOKUP(all_cars!$D108,week5!$AB:$AJ,5,FALSE))","v":""},null,{"$f":"IF(SUMIF(week1!$AB:$AB,all_cars!$D108,week1!$AG:$AG)=0,\"\",VLOOKUP(all_cars!$D108,week1!$AB:$AJ,6,FALSE))","v":""},{"$f":"IF(SUMIF(week2!$AB:$AB,all_cars!$D108,week2!$AG:$AG)=0,\"\",VLOOKUP(all_cars!$D108,week2!$AB:$AJ,6,FALSE))","v":""},{"$f":"IF(SUMIF(week3!$AB:$AB,all_cars!$D108,week3!$AG:$AG)=0,\"\",VLOOKUP(all_cars!$D108,week3!$AB:$AJ,6,FALSE))","v":""},{"$f":"IF(SUMIF(week4!$AB:$AB,all_cars!$D108,week4!$AG:$AG)=0,\"\",VLOOKUP(all_cars!$D108,week4!$AB:$AJ,6,FALSE))","v":""},{"$f":"IF(SUMIF(week5!$AB:$AB,all_cars!$D108,week5!$AG:$AG)=0,\"\",VLOOKUP(all_cars!$D108,week5!$AB:$AJ,6,FALSE))","v":""},null,{"$f":"IF(SUMIF(week1!$AB:$AB,all_cars!$D108,week1!$AH:$AH)=0,\"\",VLOOKUP(all_cars!$D108,week1!$AB:$AJ,7,FALSE))","v":""},{"$f":"IF(SUMIF(week2!$AB:$AB,all_cars!$D108,week2!$AH:$AH)=0,\"\",VLOOKUP(all_cars!$D108,week2!$AB:$AJ,7,FALSE))","v":""},{"$f":"IF(SUMIF(week3!$AB:$AB,all_cars!$D108,week3!$AH:$AH)=0,\"\",VLOOKUP(all_cars!$D108,week3!$AB:$AJ,7,FALSE))","v":""},{"$f":"IF(SUMIF(week4!$AB:$AB,all_cars!$D108,week4!$AH:$AH)=0,\"\",VLOOKUP(all_cars!$D108,week4!$AB:$AJ,7,FALSE))","v":""},{"$f":"IF(SUMIF(week5!$AB:$AB,all_cars!$D108,week5!$AH:$AH)=0,\"\",VLOOKUP(all_cars!$D108,week5!$AB:$AJ,7,FALSE))","v":""},null,{"$f":"IF(SUMIF(week1!$AB:$AB,all_cars!$D108,week1!$AI:$AI)=0,\"\",VLOOKUP(all_cars!$D108,week1!$AB:$AJ,8,FALSE))","v":""},{"$f":"IF(SUMIF(week2!$AB:$AB,all_cars!$D108,week2!$AI:$AI)=0,\"\",VLOOKUP(all_cars!$D108,week2!$AB:$AJ,8,FALSE))","v":""},{"$f":"IF(SUMIF(week3!$AB:$AB,all_cars!$D108,week3!$AI:$AI)=0,\"\",VLOOKUP(all_cars!$D108,week3!$AB:$AJ,8,FALSE))","v":""},{"$f":"IF(SUMIF(week4!$AB:$AB,all_cars!$D108,week4!$AI:$AI)=0,\"\",VLOOKUP(all_cars!$D108,week4!$AB:$AJ,8,FALSE))","v":""},{"$f":"IF(SUMIF(week5!$AB:$AB,all_cars!$D108,week5!$AI:$AI)=0,\"\",VLOOKUP(all_cars!$D108,week5!$AB:$AJ,8,FALSE))","v":""},null,{"$f":"IF(SUMIF(week1!$AB:$AB,all_cars!$D108,week1!$AJ:$AJ)=0,\"\",VLOOKUP(all_cars!$D108,week1!$AB:$AJ,9,FALSE))","v":""},{"$f":"IF(SUMIF(week2!$AB:$AB,all_cars!$D108,week2!$AJ:$AJ)=0,\"\",VLOOKUP(all_cars!$D108,week2!$AB:$AJ,9,FALSE))","v":""},{"$f":"IF(SUMIF(week3!$AB:$AB,all_cars!$D108,week3!$AJ:$AJ)=0,\"\",VLOOKUP(all_cars!$D108,week3!$AB:$AJ,9,FALSE))","v":""},{"$f":"IF(SUMIF(week4!$AB:$AB,all_cars!$D108,week4!$AJ:$AJ)=0,\"\",VLOOKUP(all_cars!$D108,week4!$AB:$AJ,9,FALSE))","v":""},{"$f":"IF(SUMIF(week5!$AB:$AB,all_cars!$D108,week5!$AJ:$AJ)=0,\"\",VLOOKUP(all_cars!$D108,week5!$AB:$AJ,9,FALSE))","v":""},null,null,null,"Rendy                     ","Popowitch                 "]
[null,null,103,"Frank05                   ",null,95.454203073214813,95.454203073214813,null,95.454203073214813,null,{"$f":"IF(SUMIF(week1!$AB:$AB,all_cars!$D109,week1!$AF:$AF)=0,\"\",VLOOKUP(all_cars!$D109,week1!$AB:$AJ,5,FALSE))","v":""},{"$f":"IF(SUMIF(week2!$AB:$AB,all_cars!$D109,week2!$AF:$AF)=0,\"\",VLOOKUP(all_cars!$D109,week2!$AB:$AJ,5,FALSE))","v":""},{"$f":"IF(SUMIF(week3!$AB:$AB,all_cars!$D109,week3!$AF:$AF)=0,\"\",VLOOKUP(all_cars!$D109,week3!$AB:$AJ,5,FALSE))","v":95.454203073214813},{"$f":"IF(SUMIF(week4!$AB:$AB,all_cars!$D109,week4!$AF:$AF)=0,\"\",VLOOKUP(all_cars!$D109,week4!$AB:$AJ,5,FALSE))","v":""},{"$f":"IF(SUMIF(week5!$AB:$AB,all_cars!$D109,week5!$AF:$AF)=0,\"\",VLOOKUP(all_cars!$D109,week5!$AB:$AJ,5,FALSE))","v":""},null,{"$f":"IF(SUMIF(week1!$AB:$AB,all_cars!$D109,week1!$AG:$AG)=0,\"\",VLOOKUP(all_cars!$D109,week1!$AB:$AJ,6,FALSE))","v":""},{"$f":"IF(SUMIF(week2!$AB:$AB,all_cars!$D109,week2!$AG:$AG)=0,\"\",VLOOKUP(all_cars!$D109,week2!$AB:$AJ,6,FALSE))","v":""},{"$f":"IF(SUMIF(week3!$AB:$AB,all_cars!$D109,week3!$AG:$AG)=0,\"\",VLOOKUP(all_cars!$D109,week3!$AB:$AJ,6,FALSE))","v":""},{"$f":"IF(SUMIF(week4!$AB:$AB,all_cars!$D109,week4!$AG:$AG)=0,\"\",VLOOKUP(all_cars!$D109,week4!$AB:$AJ,6,FALSE))","v":""},{"$f":"IF(SUMIF(week5!$AB:$AB,all_cars!$D109,week5!$AG:$AG)=0,\"\",VLOOKUP(all_cars!$D109,week5!$AB:$AJ,6,FALSE))","v":""},null,{"$f":"IF(SUMIF(week1!$AB:$AB,all_cars!$D109,week1!$AH:$AH)=0,\"\",VLOOKUP(all_cars!$D109,week1!$AB:$AJ,7,FALSE))","v":""},{"$f":"IF(SUMIF(week2!$AB:$AB,all_cars!$D109,week2!$AH:$AH)=0,\"\",VLOOKUP(all_cars!$D109,week2!$AB:$AJ,7,FALSE))","v":""},{"$f":"IF(SUMIF(week3!$AB:$AB,all_cars!$D109,week3!$AH:$AH)=0,\"\",VLOOKUP(all_cars!$D109,week3!$AB:$AJ,7,FALSE))","v":""},{"$f":"IF(SUMIF(week4!$AB:$AB,all_cars!$D109,week4!$AH:$AH)=0,\"\",VLOOKUP(all_cars!$D109,week4!$AB:$AJ,7,FALSE))","v":""},{"$f":"IF(SUMIF(week5!$AB:$AB,all_cars!$D109,week5!$AH:$AH)=0,\"\",VLOOKUP(all_cars!$D109,week5!$AB:$AJ,7,FALSE))","v":""},null,{"$f":"IF(SUMIF(week1!$AB:$AB,all_cars!$D109,week1!$AI:$AI)=0,\"\",VLOOKUP(all_cars!$D109,week1!$AB:$AJ,8,FALSE))","v":""},{"$f":"IF(SUMIF(week2!$AB:$AB,all_cars!$D109,week2!$AI:$AI)=0,\"\",VLOOKUP(all_cars!$D109,week2!$AB:$AJ,8,FALSE))","v":""},{"$f":"IF(SUMIF(week3!$AB:$AB,all_cars!$D109,week3!$AI:$AI)=0,\"\",VLOOKUP(all_cars!$D109,week3!$AB:$AJ,8,FALSE))","v":""},{"$f":"IF(SUMIF(week4!$AB:$AB,all_cars!$D109,week4!$AI:$AI)=0,\"\",VLOOKUP(all_cars!$D109,week4!$AB:$AJ,8,FALSE))","v":""},{"$f":"IF(SUMIF(week5!$AB:$AB,all_cars!$D109,week5!$AI:$AI)=0,\"\",VLOOKUP(all_cars!$D109,week5!$AB:$AJ,8,FALSE))","v":""},null,{"$f":"IF(SUMIF(week1!$AB:$AB,all_cars!$D109,week1!$AJ:$AJ)=0,\"\",VLOOKUP(all_cars!$D109,week1!$AB:$AJ,9,FALSE))","v":""},{"$f":"IF(SUMIF(week2!$AB:$AB,all_cars!$D109,week2!$AJ:$AJ)=0,\"\",VLOOKUP(all_cars!$D109,week2!$AB:$AJ,9,FALSE))","v":""},{"$f":"IF(SUMIF(week3!$AB:$AB,all_cars!$D109,week3!$AJ:$AJ)=0,\"\",VLOOKUP(all_cars!$D109,week3!$AB:$AJ,9,FALSE))","v":""},{"$f":"IF(SUMIF(week4!$AB:$AB,all_cars!$D109,week4!$AJ:$AJ)=0,\"\",VLOOKUP(all_cars!$D109,week4!$AB:$AJ,9,FALSE))","v":""},{"$f":"IF(SUMIF(week5!$AB:$AB,all_cars!$D109,week5!$AJ:$AJ)=0,\"\",VLOOKUP(all_cars!$D109,week5!$AB:$AJ,9,FALSE))","v":""},null,null,null,"Frank05                   ","[FUN] GR8 Arjen!          "]
[null,null,104,"[5] Burnout               ",null,94.231884057971016,94.231884057971016,null,94.231884057971016,null,{"$f":"IF(SUMIF(week1!$AB:$AB,all_cars!$D110,week1!$AF:$AF)=0,\"\",VLOOKUP(all_cars!$D110,week1!$AB:$AJ,5,FALSE))","v":""},{"$f":"IF(SUMIF(week2!$AB:$AB,all_cars!$D110,week2!$AF:$AF)=0,\"\",VLOOKUP(all_cars!$D110,week2!$AB:$AJ,5,FALSE))","v":""},{"$f":"IF(SUMIF(week3!$AB:$AB,all_cars!$D110,week3!$AF:$AF)=0,\"\",VLOOKUP(all_cars!$D110,week3!$AB:$AJ,5,FALSE))","v":""},{"$f":"IF(SUMIF(week4!$AB:$AB,all_cars!$D110,week4!$AF:$AF)=0,\"\",VLOOKUP(all_cars!$D110,week4!$AB:$AJ,5,FALSE))","v":""},{"$f":"IF(SUMIF(week5!$AB:$AB,all_cars!$D110,week5!$AF:$AF)=0,\"\",VLOOKUP(all_cars!$D110,week5!$AB:$AJ,5,FALSE))","v":""},null,{"$f":"IF(SUMIF(week1!$AB:$AB,all_cars!$D110,week1!$AG:$AG)=0,\"\",VLOOKUP(all_cars!$D110,week1!$AB:$AJ,6,FALSE))","v":""},{"$f":"IF(SUMIF(week2!$AB:$AB,all_cars!$D110,week2!$AG:$AG)=0,\"\",VLOOKUP(all_cars!$D110,week2!$AB:$AJ,6,FALSE))","v":""},{"$f":"IF(SUMIF(week3!$AB:$AB,all_cars!$D110,week3!$AG:$AG)=0,\"\",VLOOKUP(all_cars!$D110,week3!$AB:$AJ,6,FALSE))","v":""},{"$f":"IF(SUMIF(week4!$AB:$AB,all_cars!$D110,week4!$AG:$AG)=0,\"\",VLOOKUP(all_cars!$D110,week4!$AB:$AJ,6,FALSE))","v":""},{"$f":"IF(SUMIF(week5!$AB:$AB,all_cars!$D110,week5!$AG:$AG)=0,\"\",VLOOKUP(all_cars!$D110,week5!$AB:$AJ,6,FALSE))","v":""},null,{"$f":"IF(SUMIF(week1!$AB:$AB,all_cars!$D110,week1!$AH:$AH)=0,\"\",VLOOKUP(all_cars!$D110,week1!$AB:$AJ,7,FALSE))","v":""},{"$f":"IF(SUMIF(week2!$AB:$AB,all_cars!$D110,week2!$AH:$AH)=0,\"\",VLOOKUP(all_cars!$D110,week2!$AB:$AJ,7,FALSE))","v":""},{"$f":"IF(SUMIF(week3!$AB:$AB,all_cars!$D110,week3!$AH:$AH)=0,\"\",VLOOKUP(all_cars!$D110,week3!$AB:$AJ,7,FALSE))","v":""},{"$f":"IF(SUMIF(week4!$AB:$AB,all_cars!$D110,week4!$AH:$AH)=0,\"\",VLOOKUP(all_cars!$D110,week4!$AB:$AJ,7,FALSE))","v":""},{"$f":"IF(SUMIF(week5!$AB:$AB,all_cars!$D110,week5!$AH:$AH)=0,\"\",VLOOKUP(all_cars!$D110,week5!$AB:$AJ,7,FALSE))","v":""},null,{"$f":"IF(SUMIF(week1!$AB:$AB,all_cars!$D110,week1!$AI:$AI)=0,\"\",VLOOKUP(all_cars!$D110,week1!$AB:$AJ,8,FALSE))","v":""},{"$f":"IF(SUMIF(week2!$AB:$AB,all_cars!$D110,week2!$AI:$AI)=0,\"\",VLOOKUP(all_cars!$D110,week2!$AB:$AJ,8,FALSE))","v":""},{"$f":"IF(SUMIF(week3!$AB:$AB,all_cars!$D110,week3!$AI:$AI)=0,\"\",VLOOKUP(all_cars!$D110,week3!$AB:$AJ,8,FALSE))","v":""},{"$f":"IF(SUMIF(week4!$AB:$AB,all_cars!$D110,week4!$AI:$AI)=0,\"\",VLOOKUP(all_cars!$D110,week4!$AB:$AJ,8,FALSE))","v":""},{"$f":"IF(SUMIF(week5!$AB:$AB,all_cars!$D110,week5!$AI:$AI)=0,\"\",VLOOKUP(all_cars!$D110,week5!$AB:$AJ,8,FALSE))","v":""},null,{"$f":"IF(SUMIF(week1!$AB:$AB,all_cars!$D110,week1!$AJ:$AJ)=0,\"\",VLOOKUP(all_cars!$D110,week1!$AB:$AJ,9,FALSE))","v":""},{"$f":"IF(SUMIF(week2!$AB:$AB,all_cars!$D110,week2!$AJ:$AJ)=0,\"\",VLOOKUP(all_cars!$D110,week2!$AB:$AJ,9,FALSE))","v":""},{"$f":"IF(SUMIF(week3!$AB:$AB,all_cars!$D110,week3!$AJ:$AJ)=0,\"\",VLOOKUP(all_cars!$D110,week3!$AB:$AJ,9,FALSE))","v":94.231884057971016},{"$f":"IF(SUMIF(week4!$AB:$AB,all_cars!$D110,week4!$AJ:$AJ)=0,\"\",VLOOKUP(all_cars!$D110,week4!$AB:$AJ,9,FALSE))","v":""},{"$f":"IF(SUMIF(week5!$AB:$AB,all_cars!$D110,week5!$AJ:$AJ)=0,\"\",VLOOKUP(all_cars!$D110,week5!$AB:$AJ,9,FALSE))","v":""},null,null,null,"[5] Burnout               ","Poisonous                 "]
[null,null,105,"[LWD] JamsleJ             ",null,94.131299734748012,94.131299734748012,null,94.131299734748012,null,{"$f":"IF(SUMIF(week1!$AB:$AB,all_cars!$D111,week1!$AF:$AF)=0,\"\",VLOOKUP(all_cars!$D111,week1!$AB:$AJ,5,FALSE))","v":""},{"$f":"IF(SUMIF(week2!$AB:$AB,all_cars!$D111,week2!$AF:$AF)=0,\"\",VLOOKUP(all_cars!$D111,week2!$AB:$AJ,5,FALSE))","v":""},{"$f":"IF(SUMIF(week3!$AB:$AB,all_cars!$D111,week3!$AF:$AF)=0,\"\",VLOOKUP(all_cars!$D111,week3!$AB:$AJ,5,FALSE))","v":""},{"$f":"IF(SUMIF(week4!$AB:$AB,all_cars!$D111,week4!$AF:$AF)=0,\"\",VLOOKUP(all_cars!$D111,week4!$AB:$AJ,5,FALSE))","v":""},{"$f":"IF(SUMIF(week5!$AB:$AB,all_cars!$D111,week5!$AF:$AF)=0,\"\",VLOOKUP(all_cars!$D111,week5!$AB:$AJ,5,FALSE))","v":""},null,{"$f":"IF(SUMIF(week1!$AB:$AB,all_cars!$D111,week1!$AG:$AG)=0,\"\",VLOOKUP(all_cars!$D111,week1!$AB:$AJ,6,FALSE))","v":""},{"$f":"IF(SUMIF(week2!$AB:$AB,all_cars!$D111,week2!$AG:$AG)=0,\"\",VLOOKUP(all_cars!$D111,week2!$AB:$AJ,6,FALSE))","v":""},{"$f":"IF(SUMIF(week3!$AB:$AB,all_cars!$D111,week3!$AG:$AG)=0,\"\",VLOOKUP(all_cars!$D111,week3!$AB:$AJ,6,FALSE))","v":""},{"$f":"IF(SUMIF(week4!$AB:$AB,all_cars!$D111,week4!$AG:$AG)=0,\"\",VLOOKUP(all_cars!$D111,week4!$AB:$AJ,6,FALSE))","v":""},{"$f":"IF(SUMIF(week5!$AB:$AB,all_cars!$D111,week5!$AG:$AG)=0,\"\",VLOOKUP(all_cars!$D111,week5!$AB:$AJ,6,FALSE))","v":""},null,{"$f":"IF(SUMIF(week1!$AB:$AB,all_cars!$D111,week1!$AH:$AH)=0,\"\",VLOOKUP(all_cars!$D111,week1!$AB:$AJ,7,FALSE))","v":""},{"$f":"IF(SUMIF(week2!$AB:$AB,all_cars!$D111,week2!$AH:$AH)=0,\"\",VLOOKUP(all_cars!$D111,week2!$AB:$AJ,7,FALSE))","v":""},{"$f":"IF(SUMIF(week3!$AB:$AB,all_cars!$D111,week3!$AH:$AH)=0,\"\",VLOOKUP(all_cars!$D111,week3!$AB:$AJ,7,FALSE))","v":94.131299734748012},{"$f":"IF(SUMIF(week4!$AB:$AB,all_cars!$D111,week4!$AH:$AH)=0,\"\",VLOOKUP(all_cars!$D111,week4!$AB:$AJ,7,FALSE))","v":""},{"$f":"IF(SUMIF(week5!$AB:$AB,all_cars!$D111,week5!$AH:$AH)=0,\"\",VLOOKUP(all_cars!$D111,week5!$AB:$AJ,7,FALSE))","v":""},null,{"$f":"IF(SUMIF(week1!$AB:$AB,all_cars!$D111,week1!$AI:$AI)=0,\"\",VLOOKUP(all_cars!$D111,week1!$AB:$AJ,8,FALSE))","v":""},{"$f":"IF(SUMIF(week2!$AB:$AB,all_cars!$D111,week2!$AI:$AI)=0,\"\",VLOOKUP(all_cars!$D111,week2!$AB:$AJ,8,FALSE))","v":""},{"$f":"IF(SUMIF(week3!$AB:$AB,all_cars!$D111,week3!$AI:$AI)=0,\"\",VLOOKUP(all_cars!$D111,week3!$AB:$AJ,8,FALSE))","v":""},{"$f":"IF(SUMIF(week4!$AB:$AB,all_cars!$D111,week4!$AI:$AI)=0,\"\",VLOOKUP(all_cars!$D111,week4!$AB:$AJ,8,FALSE))","v":""},{"$f":"IF(SUMIF(week5!$AB:$AB,all_cars!$D111,week5!$AI:$AI)=0,\"\",VLOOKUP(all_cars!$D111,week5!$AB:$AJ,8,FALSE))","v":""},null,{"$f":"IF(SUMIF(week1!$AB:$AB,all_cars!$D111,week1!$AJ:$AJ)=0,\"\",VLOOKUP(all_cars!$D111,week1!$AB:$AJ,9,FALSE))","v":""},{"$f":"IF(SUMIF(week2!$AB:$AB,all_cars!$D111,week2!$AJ:$AJ)=0,\"\",VLOOKUP(all_cars!$D111,week2!$AB:$AJ,9,FALSE))","v":""},{"$f":"IF(SUMIF(week3!$AB:$AB,all_cars!$D111,week3!$AJ:$AJ)=0,\"\",VLOOKUP(all_cars!$D111,week3!$AB:$AJ,9,FALSE))","v":""},{"$f":"IF(SUMIF(week4!$AB:$AB,all_cars!$D111,week4!$AJ:$AJ)=0,\"\",VLOOKUP(all_cars!$D111,week4!$AB:$AJ,9,FALSE))","v":""},{"$f":"IF(SUMIF(week5!$AB:$AB,all_cars!$D111,week5!$AJ:$AJ)=0,\"\",VLOOKUP(all_cars!$D111,week5!$AB:$AJ,9,FALSE))","v":""},null,null,null,"[LWD] JamsleJ             ","NBA                       "]
[null,null,106,"Thunda                    ",null,86.600234024081828,86.600234024081828,null,86.600234024081828,null,{"$f":"IF(SUMIF(week1!$AB:$AB,all_cars!$D112,week1!$AF:$AF)=0,\"\",VLOOKUP(all_cars!$D112,week1!$AB:$AJ,5,FALSE))","v":""},{"$f":"IF(SUMIF(week2!$AB:$AB,all_cars!$D112,week2!$AF:$AF)=0,\"\",VLOOKUP(all_cars!$D112,week2!$AB:$AJ,5,FALSE))","v":""},{"$f":"IF(SUMIF(week3!$AB:$AB,all_cars!$D112,week3!$AF:$AF)=0,\"\",VLOOKUP(all_cars!$D112,week3!$AB:$AJ,5,FALSE))","v":""},{"$f":"IF(SUMIF(week4!$AB:$AB,all_cars!$D112,week4!$AF:$AF)=0,\"\",VLOOKUP(all_cars!$D112,week4!$AB:$AJ,5,FALSE))","v":""},{"$f":"IF(SUMIF(week5!$AB:$AB,all_cars!$D112,week5!$AF:$AF)=0,\"\",VLOOKUP(all_cars!$D112,week5!$AB:$AJ,5,FALSE))","v":""},null,{"$f":"IF(SUMIF(week1!$AB:$AB,all_cars!$D112,week1!$AG:$AG)=0,\"\",VLOOKUP(all_cars!$D112,week1!$AB:$AJ,6,FALSE))","v":""},{"$f":"IF(SUMIF(week2!$AB:$AB,all_cars!$D112,week2!$AG:$AG)=0,\"\",VLOOKUP(all_cars!$D112,week2!$AB:$AJ,6,FALSE))","v":""},{"$f":"IF(SUMIF(week3!$AB:$AB,all_cars!$D112,week3!$AG:$AG)=0,\"\",VLOOKUP(all_cars!$D112,week3!$AB:$AJ,6,FALSE))","v":86.600234024081828},{"$f":"IF(SUMIF(week4!$AB:$AB,all_cars!$D112,week4!$AG:$AG)=0,\"\",VLOOKUP(all_cars!$D112,week4!$AB:$AJ,6,FALSE))","v":""},{"$f":"IF(SUMIF(week5!$AB:$AB,all_cars!$D112,week5!$AG:$AG)=0,\"\",VLOOKUP(all_cars!$D112,week5!$AB:$AJ,6,FALSE))","v":""},null,{"$f":"IF(SUMIF(week1!$AB:$AB,all_cars!$D112,week1!$AH:$AH)=0,\"\",VLOOKUP(all_cars!$D112,week1!$AB:$AJ,7,FALSE))","v":""},{"$f":"IF(SUMIF(week2!$AB:$AB,all_cars!$D112,week2!$AH:$AH)=0,\"\",VLOOKUP(all_cars!$D112,week2!$AB:$AJ,7,FALSE))","v":""},{"$f":"IF(SUMIF(week3!$AB:$AB,all_cars!$D112,week3!$AH:$AH)=0,\"\",VLOOKUP(all_cars!$D112,week3!$AB:$AJ,7,FALSE))","v":""},{"$f":"IF(SUMIF(week4!$AB:$AB,all_cars!$D112,week4!$AH:$AH)=0,\"\",VLOOKUP(all_cars!$D112,week4!$AB:$AJ,7,FALSE))","v":""},{"$f":"IF(SUMIF(week5!$AB:$AB,all_cars!$D112,week5!$AH:$AH)=0,\"\",VLOOKUP(all_cars!$D112,week5!$AB:$AJ,7,FALSE))","v":""},null,{"$f":"IF(SUMIF(week1!$AB:$AB,all_cars!$D112,week1!$AI:$AI)=0,\"\",VLOOKUP(all_cars!$D112,week1!$AB:$AJ,8,FALSE))","v":""},{"$f":"IF(SUMIF(week2!$AB:$AB,all_cars!$D112,week2!$AI:$AI)=0,\"\",VLOOKUP(all_cars!$D112,week2!$AB:$AJ,8,FALSE))","v":""},{"$f":"IF(SUMIF(week3!$AB:$AB,all_cars!$D112,week3!$AI:$AI)=0,\"\",VLOOKUP(all_cars!$D112,week3!$AB:$AJ,8,FALSE))","v":""},{"$f":"IF(SUMIF(week4!$AB:$AB,all_cars!$D112,week4!$AI:$AI)=0,\"\",VLOOKUP(all_cars!$D112,week4!$AB:$AJ,8,FALSE))","v":""},{"$f":"IF(SUMIF(week5!$AB:$AB,all_cars!$D112,week5!$AI:$AI)=0,\"\",VLOOKUP(all_cars!$D112,week5!$AB:$AJ,8,FALSE))","v":""},null,{"$f":"IF(SUMIF(week1!$AB:$AB,all_cars!$D112,week1!$AJ:$AJ)=0,\"\",VLOOKUP(all_cars!$D112,week1!$AB:$AJ,9,FALSE))","v":""},{"$f":"IF(SUMIF(week2!$AB:$AB,all_cars!$D112,week2!$AJ:$AJ)=0,\"\",VLOOKUP(all_cars!$D112,week2!$AB:$AJ,9,FALSE))","v":""},{"$f":"IF(SUMIF(week3!$AB:$AB,all_cars!$D112,week3!$AJ:$AJ)=0,\"\",VLOOKUP(all_cars!$D112,week3!$AB:$AJ,9,FALSE))","v":""},{"$f":"IF(SUMIF(week4!$AB:$AB,all_cars!$D112,week4!$AJ:$AJ)=0,\"\",VLOOKUP(all_cars!$D112,week4!$AB:$AJ,9,FALSE))","v":""},{"$f":"IF(SUMIF(week5!$AB:$AB,all_cars!$D112,week5!$AJ:$AJ)=0,\"\",VLOOKUP(all_cars!$D112,week5!$AB:$AJ,9,FALSE))","v":""},null,null,null,"Thunda                    ","Diego Armando             "]
[null,null,107,"Broomstig                 ",null,77.186426603253693,77.186426603253693,null,77.186426603253693,null,{"$f":"IF(SUMIF(week1!$AB:$AB,all_cars!$D113,week1!$AF:$AF)=0,\"\",VLOOKUP(all_cars!$D113,week1!$AB:$AJ,5,FALSE))","v":""},{"$f":"IF(SUMIF(week2!$AB:$AB,all_cars!$D113,week2!$AF:$AF)=0,\"\",VLOOKUP(all_cars!$D113,week2!$AB:$AJ,5,FALSE))","v":""},{"$f":"IF(SUMIF(week3!$AB:$AB,all_cars!$D113,week3!$AF:$AF)=0,\"\",VLOOKUP(all_cars!$D113,week3!$AB:$AJ,5,FALSE))","v":""},{"$f":"IF(SUMIF(week4!$AB:$AB,all_cars!$D113,week4!$AF:$AF)=0,\"\",VLOOKUP(all_cars!$D113,week4!$AB:$AJ,5,FALSE))","v":""},{"$f":"IF(SUMIF(week5!$AB:$AB,all_cars!$D113,week5!$AF:$AF)=0,\"\",VLOOKUP(all_cars!$D113,week5!$AB:$AJ,5,FALSE))","v":""},null,{"$f":"IF(SUMIF(week1!$AB:$AB,all_cars!$D113,week1!$AG:$AG)=0,\"\",VLOOKUP(all_cars!$D113,week1!$AB:$AJ,6,FALSE))","v":""},{"$f":"IF(SUMIF(week2!$AB:$AB,all_cars!$D113,week2!$AG:$AG)=0,\"\",VLOOKUP(all_cars!$D113,week2!$AB:$AJ,6,FALSE))","v":""},{"$f":"IF(SUMIF(week3!$AB:$AB,all_cars!$D113,week3!$AG:$AG)=0,\"\",VLOOKUP(all_cars!$D113,week3!$AB:$AJ,6,FALSE))","v":77.186426603253693},{"$f":"IF(SUMIF(week4!$AB:$AB,all_cars!$D113,week4!$AG:$AG)=0,\"\",VLOOKUP(all_cars!$D113,week4!$AB:$AJ,6,FALSE))","v":""},{"$f":"IF(SUMIF(week5!$AB:$AB,all_cars!$D113,week5!$AG:$AG)=0,\"\",VLOOKUP(all_cars!$D113,week5!$AB:$AJ,6,FALSE))","v":""},null,{"$f":"IF(SUMIF(week1!$AB:$AB,all_cars!$D113,week1!$AH:$AH)=0,\"\",VLOOKUP(all_cars!$D113,week1!$AB:$AJ,7,FALSE))","v":""},{"$f":"IF(SUMIF(week2!$AB:$AB,all_cars!$D113,week2!$AH:$AH)=0,\"\",VLOOKUP(all_cars!$D113,week2!$AB:$AJ,7,FALSE))","v":""},{"$f":"IF(SUMIF(week3!$AB:$AB,all_cars!$D113,week3!$AH:$AH)=0,\"\",VLOOKUP(all_cars!$D113,week3!$AB:$AJ,7,FALSE))","v":""},{"$f":"IF(SUMIF(week4!$AB:$AB,all_cars!$D113,week4!$AH:$AH)=0,\"\",VLOOKUP(all_cars!$D113,week4!$AB:$AJ,7,FALSE))","v":""},{"$f":"IF(SUMIF(week5!$AB:$AB,all_cars!$D113,week5!$AH:$AH)=0,\"\",VLOOKUP(all_cars!$D113,week5!$AB:$AJ,7,FALSE))","v":""},null,{"$f":"IF(SUMIF(week1!$AB:$AB,all_cars!$D113,week1!$AI:$AI)=0,\"\",VLOOKUP(all_cars!$D113,week1!$AB:$AJ,8,FALSE))","v":""},{"$f":"IF(SUMIF(week2!$AB:$AB,all_cars!$D113,week2!$AI:$AI)=0,\"\",VLOOKUP(all_cars!$D113,week2!$AB:$AJ,8,FALSE))","v":""},{"$f":"IF(SUMIF(week3!$AB:$AB,all_cars!$D113,week3!$AI:$AI)=0,\"\",VLOOKUP(all_cars!$D113,week3!$AB:$AJ,8,FALSE))","v":""},{"$f":"IF(SUMIF(week4!$AB:$AB,all_cars!$D113,week4!$AI:$AI)=0,\"\",VLOOKUP(all_cars!$D113,week4!$AB:$AJ,8,FALSE))","v":""},{"$f":"IF(SUMIF(week5!$AB:$AB,all_cars!$D113,week5!$AI:$AI)=0,\"\",VLOOKUP(all_cars!$D113,week5!$AB:$AJ,8,FALSE))","v":""},null,{"$f":"IF(SUMIF(week1!$AB:$AB,all_cars!$D113,week1!$AJ:$AJ)=0,\"\",VLOOKUP(all_cars!$D113,week1!$AB:$AJ,9,FALSE))","v":""},{"$f":"IF(SUMIF(week2!$AB:$AB,all_cars!$D113,week2!$AJ:$AJ)=0,\"\",VLOOKUP(all_cars!$D113,week2!$AB:$AJ,9,FALSE))","v":""},{"$f":"IF(SUMIF(week3!$AB:$AB,all_cars!$D113,week3!$AJ:$AJ)=0,\"\",VLOOKUP(all_cars!$D113,week3!$AB:$AJ,9,FALSE))","v":""},{"$f":"IF(SUMIF(week4!$AB:$AB,all_cars!$D113,week4!$AJ:$AJ)=0,\"\",VLOOKUP(all_cars!$D113,week4!$AB:$AJ,9,FALSE))","v":""},{"$f":"IF(SUMIF(week5!$AB:$AB,all_cars!$D113,week5!$AJ:$AJ)=0,\"\",VLOOKUP(all_cars!$D113,week5!$AB:$AJ,9,FALSE))","v":""},null,null,null,"Broomstig                 ","Qri                       "]
[null,null,108,"[+] dede                  ",null,100,99.062908615429322,null,99.679957742833892,null,{"$f":"IF(SUMIF(week1!$AB:$AB,all_cars!$D114,week1!$AF:$AF)=0,\"\",VLOOKUP(all_cars!$D114,week1!$AB:$AJ,5,FALSE))","v":""},{"$f":"IF(SUMIF(week2!$AB:$AB,all_cars!$D114,week2!$AF:$AF)=0,\"\",VLOOKUP(all_cars!$D114,week2!$AB:$AJ,5,FALSE))","v":""},{"$f":"IF(SUMIF(week3!$AB:$AB,all_cars!$D114,week3!$AF:$AF)=0,\"\",VLOOKUP(all_cars!$D114,week3!$AB:$AJ,5,FALSE))","v":""},{"$f":"IF(SUMIF(week4!$AB:$AB,all_cars!$D114,week4!$AF:$AF)=0,\"\",VLOOKUP(all_cars!$D114,week4!$AB:$AJ,5,FALSE))","v":""},{"$f":"IF(SUMIF(week5!$AB:$AB,all_cars!$D114,week5!$AF:$AF)=0,\"\",VLOOKUP(all_cars!$D114,week5!$AB:$AJ,5,FALSE))","v":99.470783605241067},null,{"$f":"IF(SUMIF(week1!$AB:$AB,all_cars!$D114,week1!$AG:$AG)=0,\"\",VLOOKUP(all_cars!$D114,week1!$AB:$AJ,6,FALSE))","v":""},{"$f":"IF(SUMIF(week2!$AB:$AB,all_cars!$D114,week2!$AG:$AG)=0,\"\",VLOOKUP(all_cars!$D114,week2!$AB:$AJ,6,FALSE))","v":""},{"$f":"IF(SUMIF(week3!$AB:$AB,all_cars!$D114,week3!$AG:$AG)=0,\"\",VLOOKUP(all_cars!$D114,week3!$AB:$AJ,6,FALSE))","v":""},{"$f":"IF(SUMIF(week4!$AB:$AB,all_cars!$D114,week4!$AG:$AG)=0,\"\",VLOOKUP(all_cars!$D114,week4!$AB:$AJ,6,FALSE))","v":99.78756346091528},{"$f":"IF(SUMIF(week5!$AB:$AB,all_cars!$D114,week5!$AG:$AG)=0,\"\",VLOOKUP(all_cars!$D114,week5!$AB:$AJ,6,FALSE))","v":99.917668957617408},null,{"$f":"IF(SUMIF(week1!$AB:$AB,all_cars!$D114,week1!$AH:$AH)=0,\"\",VLOOKUP(all_cars!$D114,week1!$AB:$AJ,7,FALSE))","v":""},{"$f":"IF(SUMIF(week2!$AB:$AB,all_cars!$D114,week2!$AH:$AH)=0,\"\",VLOOKUP(all_cars!$D114,week2!$AB:$AJ,7,FALSE))","v":""},{"$f":"IF(SUMIF(week3!$AB:$AB,all_cars!$D114,week3!$AH:$AH)=0,\"\",VLOOKUP(all_cars!$D114,week3!$AB:$AJ,7,FALSE))","v":""},{"$f":"IF(SUMIF(week4!$AB:$AB,all_cars!$D114,week4!$AH:$AH)=0,\"\",VLOOKUP(all_cars!$D114,week4!$AB:$AJ,7,FALSE))","v":99.883581329355692},{"$f":"IF(SUMIF(week5!$AB:$AB,all_cars!$D114,week5!$AH:$AH)=0,\"\",VLOOKUP(all_cars!$D114,week5!$AB:$AJ,7,FALSE))","v":99.964180815244646},null,{"$f":"IF(SUMIF(week1!$AB:$AB,all_cars!$D114,week1!$AI:$AI)=0,\"\",VLOOKUP(all_cars!$D114,week1!$AB:$AJ,8,FALSE))","v":""},{"$f":"IF(SUMIF(week2!$AB:$AB,all_cars!$D114,week2!$AI:$AI)=0,\"\",VLOOKUP(all_cars!$D114,week2!$AB:$AJ,8,FALSE))","v":""},{"$f":"IF(SUMIF(week3!$AB:$AB,all_cars!$D114,week3!$AI:$AI)=0,\"\",VLOOKUP(all_cars!$D114,week3!$AB:$AJ,8,FALSE))","v":""},{"$f":"IF(SUMIF(week4!$AB:$AB,all_cars!$D114,week4!$AI:$AI)=0,\"\",VLOOKUP(all_cars!$D114,week4!$AB:$AJ,8,FALSE))","v":99.062908615429322},{"$f":"IF(SUMIF(week5!$AB:$AB,all_cars!$D114,week5!$AI:$AI)=0,\"\",VLOOKUP(all_cars!$D114,week5!$AB:$AJ,8,FALSE))","v":100},null,{"$f":"IF(SUMIF(week1!$AB:$AB,all_cars!$D114,week1!$AJ:$AJ)=0,\"\",VLOOKUP(all_cars!$D114,week1!$AB:$AJ,9,FALSE))","v":""},{"$f":"IF(SUMIF(week2!$AB:$AB,all_cars!$D114,week2!$AJ:$AJ)=0,\"\",VLOOKUP(all_cars!$D114,week2!$AB:$AJ,9,FALSE))","v":""},{"$f":"IF(SUMIF(week3!$AB:$AB,all_cars!$D114,week3!$AJ:$AJ)=0,\"\",VLOOKUP(all_cars!$D114,week3!$AB:$AJ,9,FALSE))","v":""},{"$f":"IF(SUMIF(week4!$AB:$AB,all_cars!$D114,week4!$AJ:$AJ)=0,\"\",VLOOKUP(all_cars!$D114,week4!$AB:$AJ,9,FALSE))","v":""},{"$f":"IF(SUMIF(week5!$AB:$AB,all_cars!$D114,week5!$AJ:$AJ)=0,\"\",VLOOKUP(all_cars!$D114,week5!$AB:$AJ,9,FALSE))","v":99.352975158867707},null,null,null,"[+] dede                  ","batjunior                 "]
[null,null,109,"GOl V8                    ",null,99.404646847334448,79.857531500572733,null,94.157824806579228,null,{"$f":"IF(SUMIF(week1!$AB:$AB,all_cars!$D115,week1!$AF:$AF)=0,\"\",VLOOKUP(all_cars!$D115,week1!$AB:$AJ,5,FALSE))","v":""},{"$f":"IF(SUMIF(week2!$AB:$AB,all_cars!$D115,week2!$AF:$AF)=0,\"\",VLOOKUP(all_cars!$D115,week2!$AB:$AJ,5,FALSE))","v":""},{"$f":"IF(SUMIF(week3!$AB:$AB,all_cars!$D115,week3!$AF:$AF)=0,\"\",VLOOKUP(all_cars!$D115,week3!$AB:$AJ,5,FALSE))","v":""},{"$f":"IF(SUMIF(week4!$AB:$AB,all_cars!$D115,week4!$AF:$AF)=0,\"\",VLOOKUP(all_cars!$D115,week4!$AB:$AJ,5,FALSE))","v":98.540282236989484},{"$f":"IF(SUMIF(week5!$AB:$AB,all_cars!$D115,week5!$AF:$AF)=0,\"\",VLOOKUP(all_cars!$D115,week5!$AB:$AJ,5,FALSE))","v":98.226212635497646},null,{"$f":"IF(SUMIF(week1!$AB:$AB,all_cars!$D115,week1!$AG:$AG)=0,\"\",VLOOKUP(all_cars!$D115,week1!$AB:$AJ,6,FALSE))","v":""},{"$f":"IF(SUMIF(week2!$AB:$AB,all_cars!$D115,week2!$AG:$AG)=0,\"\",VLOOKUP(all_cars!$D115,week2!$AB:$AJ,6,FALSE))","v":""},{"$f":"IF(SUMIF(week3!$AB:$AB,all_cars!$D115,week3!$AG:$AG)=0,\"\",VLOOKUP(all_cars!$D115,week3!$AB:$AJ,6,FALSE))","v":""},{"$f":"IF(SUMIF(week4!$AB:$AB,all_cars!$D115,week4!$AG:$AG)=0,\"\",VLOOKUP(all_cars!$D115,week4!$AB:$AJ,6,FALSE))","v":96.039318762827207},{"$f":"IF(SUMIF(week5!$AB:$AB,all_cars!$D115,week5!$AG:$AG)=0,\"\",VLOOKUP(all_cars!$D115,week5!$AB:$AJ,6,FALSE))","v":79.857531500572733},null,{"$f":"IF(SUMIF(week1!$AB:$AB,all_cars!$D115,week1!$AH:$AH)=0,\"\",VLOOKUP(all_cars!$D115,week1!$AB:$AJ,7,FALSE))","v":""},{"$f":"IF(SUMIF(week2!$AB:$AB,all_cars!$D115,week2!$AH:$AH)=0,\"\",VLOOKUP(all_cars!$D115,week2!$AB:$AJ,7,FALSE))","v":""},{"$f":"IF(SUMIF(week3!$AB:$AB,all_cars!$D115,week3!$AH:$AH)=0,\"\",VLOOKUP(all_cars!$D115,week3!$AB:$AJ,7,FALSE))","v":""},{"$f":"IF(SUMIF(week4!$AB:$AB,all_cars!$D115,week4!$AH:$AH)=0,\"\",VLOOKUP(all_cars!$D115,week4!$AB:$AJ,7,FALSE))","v":96.012660530432569},{"$f":"IF(SUMIF(week5!$AB:$AB,all_cars!$D115,week5!$AH:$AH)=0,\"\",VLOOKUP(all_cars!$D115,week5!$AB:$AJ,7,FALSE))","v":87.481194928003433},null,{"$f":"IF(SUMIF(week1!$AB:$AB,all_cars!$D115,week1!$AI:$AI)=0,\"\",VLOOKUP(all_cars!$D115,week1!$AB:$AJ,8,FALSE))","v":""},{"$f":"IF(SUMIF(week2!$AB:$AB,all_cars!$D115,week2!$AI:$AI)=0,\"\",VLOOKUP(all_cars!$D115,week2!$AB:$AJ,8,FALSE))","v":""},{"$f":"IF(SUMIF(week3!$AB:$AB,all_cars!$D115,week3!$AI:$AI)=0,\"\",VLOOKUP(all_cars!$D115,week3!$AB:$AJ,8,FALSE))","v":""},{"$f":"IF(SUMIF(week4!$AB:$AB,all_cars!$D115,week4!$AI:$AI)=0,\"\",VLOOKUP(all_cars!$D115,week4!$AB:$AJ,8,FALSE))","v":""},{"$f":"IF(SUMIF(week5!$AB:$AB,all_cars!$D115,week5!$AI:$AI)=0,\"\",VLOOKUP(all_cars!$D115,week5!$AB:$AJ,8,FALSE))","v":""},null,{"$f":"IF(SUMIF(week1!$AB:$AB,all_cars!$D115,week1!$AJ:$AJ)=0,\"\",VLOOKUP(all_cars!$D115,week1!$AB:$AJ,9,FALSE))","v":""},{"$f":"IF(SUMIF(week2!$AB:$AB,all_cars!$D115,week2!$AJ:$AJ)=0,\"\",VLOOKUP(all_cars!$D115,week2!$AB:$AJ,9,FALSE))","v":""},{"$f":"IF(SUMIF(week3!$AB:$AB,all_cars!$D115,week3!$AJ:$AJ)=0,\"\",VLOOKUP(all_cars!$D115,week3!$AB:$AJ,9,FALSE))","v":""},{"$f":"IF(SUMIF(week4!$AB:$AB,all_cars!$D115,week4!$AJ:$AJ)=0,\"\",VLOOKUP(all_cars!$D115,week4!$AB:$AJ,9,FALSE))","v":99.404646847334448},{"$f":"IF(SUMIF(week5!$AB:$AB,all_cars!$D115,week5!$AJ:$AJ)=0,\"\",VLOOKUP(all_cars!$D115,week5!$AB:$AJ,9,FALSE))","v":97.700751010976305},null,null,null,"GOl V8                    ","CrazybikE                 "]
[null,null,110,"majstorfantac             ",null,99.406406331665806,96.550606704353143,null,98.039709328802971,null,{"$f":"IF(SUMIF(week1!$AB:$AB,all_cars!$D116,week1!$AF:$AF)=0,\"\",VLOOKUP(all_cars!$D116,week1!$AB:$AJ,5,FALSE))","v":""},{"$f":"IF(SUMIF(week2!$AB:$AB,all_cars!$D116,week2!$AF:$AF)=0,\"\",VLOOKUP(all_cars!$D116,week2!$AB:$AJ,5,FALSE))","v":""},{"$f":"IF(SUMIF(week3!$AB:$AB,all_cars!$D116,week3!$AF:$AF)=0,\"\",VLOOKUP(all_cars!$D116,week3!$AB:$AJ,5,FALSE))","v":""},{"$f":"IF(SUMIF(week4!$AB:$AB,all_cars!$D116,week4!$AF:$AF)=0,\"\",VLOOKUP(all_cars!$D116,week4!$AB:$AJ,5,FALSE))","v":99.406406331665806},{"$f":"IF(SUMIF(week5!$AB:$AB,all_cars!$D116,week5!$AF:$AF)=0,\"\",VLOOKUP(all_cars!$D116,week5!$AB:$AJ,5,FALSE))","v":98.828424395050916},null,{"$f":"IF(SUMIF(week1!$AB:$AB,all_cars!$D116,week1!$AG:$AG)=0,\"\",VLOOKUP(all_cars!$D116,week1!$AB:$AJ,6,FALSE))","v":""},{"$f":"IF(SUMIF(week2!$AB:$AB,all_cars!$D116,week2!$AG:$AG)=0,\"\",VLOOKUP(all_cars!$D116,week2!$AB:$AJ,6,FALSE))","v":""},{"$f":"IF(SUMIF(week3!$AB:$AB,all_cars!$D116,week3!$AG:$AG)=0,\"\",VLOOKUP(all_cars!$D116,week3!$AB:$AJ,6,FALSE))","v":""},{"$f":"IF(SUMIF(week4!$AB:$AB,all_cars!$D116,week4!$AG:$AG)=0,\"\",VLOOKUP(all_cars!$D116,week4!$AB:$AJ,6,FALSE))","v":96.550606704353143},{"$f":"IF(SUMIF(week5!$AB:$AB,all_cars!$D116,week5!$AG:$AG)=0,\"\",VLOOKUP(all_cars!$D116,week5!$AB:$AJ,6,FALSE))","v":""},null,{"$f":"IF(SUMIF(week1!$AB:$AB,all_cars!$D116,week1!$AH:$AH)=0,\"\",VLOOKUP(all_cars!$D116,week1!$AB:$AJ,7,FALSE))","v":""},{"$f":"IF(SUMIF(week2!$AB:$AB,all_cars!$D116,week2!$AH:$AH)=0,\"\",VLOOKUP(all_cars!$D116,week2!$AB:$AJ,7,FALSE))","v":""},{"$f":"IF(SUMIF(week3!$AB:$AB,all_cars!$D116,week3!$AH:$AH)=0,\"\",VLOOKUP(all_cars!$D116,week3!$AB:$AJ,7,FALSE))","v":""},{"$f":"IF(SUMIF(week4!$AB:$AB,all_cars!$D116,week4!$AH:$AH)=0,\"\",VLOOKUP(all_cars!$D116,week4!$AB:$AJ,7,FALSE))","v":98.082730017826606},{"$f":"IF(SUMIF(week5!$AB:$AB,all_cars!$D116,week5!$AH:$AH)=0,\"\",VLOOKUP(all_cars!$D116,week5!$AB:$AJ,7,FALSE))","v":""},null,{"$f":"IF(SUMIF(week1!$AB:$AB,all_cars!$D116,week1!$AI:$AI)=0,\"\",VLOOKUP(all_cars!$D116,week1!$AB:$AJ,8,FALSE))","v":""},{"$f":"IF(SUMIF(week2!$AB:$AB,all_cars!$D116,week2!$AI:$AI)=0,\"\",VLOOKUP(all_cars!$D116,week2!$AB:$AJ,8,FALSE))","v":""},{"$f":"IF(SUMIF(week3!$AB:$AB,all_cars!$D116,week3!$AI:$AI)=0,\"\",VLOOKUP(all_cars!$D116,week3!$AB:$AJ,8,FALSE))","v":""},{"$f":"IF(SUMIF(week4!$AB:$AB,all_cars!$D116,week4!$AI:$AI)=0,\"\",VLOOKUP(all_cars!$D116,week4!$AB:$AJ,8,FALSE))","v":97.330379195118411},{"$f":"IF(SUMIF(week5!$AB:$AB,all_cars!$D116,week5!$AI:$AI)=0,\"\",VLOOKUP(all_cars!$D116,week5!$AB:$AJ,8,FALSE))","v":""},null,{"$f":"IF(SUMIF(week1!$AB:$AB,all_cars!$D116,week1!$AJ:$AJ)=0,\"\",VLOOKUP(all_cars!$D116,week1!$AB:$AJ,9,FALSE))","v":""},{"$f":"IF(SUMIF(week2!$AB:$AB,all_cars!$D116,week2!$AJ:$AJ)=0,\"\",VLOOKUP(all_cars!$D116,week2!$AB:$AJ,9,FALSE))","v":""},{"$f":"IF(SUMIF(week3!$AB:$AB,all_cars!$D116,week3!$AJ:$AJ)=0,\"\",VLOOKUP(all_cars!$D116,week3!$AB:$AJ,9,FALSE))","v":""},{"$f":"IF(SUMIF(week4!$AB:$AB,all_cars!$D116,week4!$AJ:$AJ)=0,\"\",VLOOKUP(all_cars!$D116,week4!$AB:$AJ,9,FALSE))","v":""},{"$f":"IF(SUMIF(week5!$AB:$AB,all_cars!$D116,week5!$AJ:$AJ)=0,\"\",VLOOKUP(all_cars!$D116,week5!$AB:$AJ,9,FALSE))","v":""},null,null,null,"majstorfantac             ","Matic                     "]
[null,null,111,"Shaytun                   ",null,98.043754199955217,91.077434569142156,null,94.59555420119527,null,{"$f":"IF(SUMIF(week1!$AB:$AB,all_cars!$D117,week1!$AF:$AF)=0,\"\",VLOOKUP(all_cars!$D117,week1!$AB:$AJ,5,FALSE))","v":""},{"$f":"IF(SUMIF(week2!$AB:$AB,all_cars!$D117,week2!$AF:$AF)=0,\"\",VLOOKUP(all_cars!$D117,week2!$AB:$AJ,5,FALSE))","v":""},{"$f":"IF(SUMIF(week3!$AB:$AB,all_cars!$D117,week3!$AF:$AF)=0,\"\",VLOOKUP(all_cars!$D117,week3!$AB:$AJ,5,FALSE))","v":""},{"$f":"IF(SUMIF(week4!$AB:$AB,all_cars!$D117,week4!$AF:$AF)=0,\"\",VLOOKUP(all_cars!$D117,week4!$AB:$AJ,5,FALSE))","v":98.043754199955217},{"$f":"IF(SUMIF(week5!$AB:$AB,all_cars!$D117,week5!$AF:$AF)=0,\"\",VLOOKUP(all_cars!$D117,week5!$AB:$AJ,5,FALSE))","v":""},null,{"$f":"IF(SUMIF(week1!$AB:$AB,all_cars!$D117,week1!$AG:$AG)=0,\"\",VLOOKUP(all_cars!$D117,week1!$AB:$AJ,6,FALSE))","v":""},{"$f":"IF(SUMIF(week2!$AB:$AB,all_cars!$D117,week2!$AG:$AG)=0,\"\",VLOOKUP(all_cars!$D117,week2!$AB:$AJ,6,FALSE))","v":""},{"$f":"IF(SUMIF(week3!$AB:$AB,all_cars!$D117,week3!$AG:$AG)=0,\"\",VLOOKUP(all_cars!$D117,week3!$AB:$AJ,6,FALSE))","v":""},{"$f":"IF(SUMIF(week4!$AB:$AB,all_cars!$D117,week4!$AG:$AG)=0,\"\",VLOOKUP(all_cars!$D117,week4!$AB:$AJ,6,FALSE))","v":95.949303280164187},{"$f":"IF(SUMIF(week5!$AB:$AB,all_cars!$D117,week5!$AG:$AG)=0,\"\",VLOOKUP(all_cars!$D117,week5!$AB:$AJ,6,FALSE))","v":""},null,{"$f":"IF(SUMIF(week1!$AB:$AB,all_cars!$D117,week1!$AH:$AH)=0,\"\",VLOOKUP(all_cars!$D117,week1!$AB:$AJ,7,FALSE))","v":""},{"$f":"IF(SUMIF(week2!$AB:$AB,all_cars!$D117,week2!$AH:$AH)=0,\"\",VLOOKUP(all_cars!$D117,week2!$AB:$AJ,7,FALSE))","v":""},{"$f":"IF(SUMIF(week3!$AB:$AB,all_cars!$D117,week3!$AH:$AH)=0,\"\",VLOOKUP(all_cars!$D117,week3!$AB:$AJ,7,FALSE))","v":""},{"$f":"IF(SUMIF(week4!$AB:$AB,all_cars!$D117,week4!$AH:$AH)=0,\"\",VLOOKUP(all_cars!$D117,week4!$AB:$AJ,7,FALSE))","v":95.728890020737069},{"$f":"IF(SUMIF(week5!$AB:$AB,all_cars!$D117,week5!$AH:$AH)=0,\"\",VLOOKUP(all_cars!$D117,week5!$AB:$AJ,7,FALSE))","v":""},null,{"$f":"IF(SUMIF(week1!$AB:$AB,all_cars!$D117,week1!$AI:$AI)=0,\"\",VLOOKUP(all_cars!$D117,week1!$AB:$AJ,8,FALSE))","v":""},{"$f":"IF(SUMIF(week2!$AB:$AB,all_cars!$D117,week2!$AI:$AI)=0,\"\",VLOOKUP(all_cars!$D117,week2!$AB:$AJ,8,FALSE))","v":""},{"$f":"IF(SUMIF(week3!$AB:$AB,all_cars!$D117,week3!$AI:$AI)=0,\"\",VLOOKUP(all_cars!$D117,week3!$AB:$AJ,8,FALSE))","v":""},{"$f":"IF(SUMIF(week4!$AB:$AB,all_cars!$D117,week4!$AI:$AI)=0,\"\",VLOOKUP(all_cars!$D117,week4!$AB:$AJ,8,FALSE))","v":92.870114775533921},{"$f":"IF(SUMIF(week5!$AB:$AB,all_cars!$D117,week5!$AI:$AI)=0,\"\",VLOOKUP(all_cars!$D117,week5!$AB:$AJ,8,FALSE))","v":95.081319786019463},null,{"$f":"IF(SUMIF(week1!$AB:$AB,all_cars!$D117,week1!$AJ:$AJ)=0,\"\",VLOOKUP(all_cars!$D117,week1!$AB:$AJ,9,FALSE))","v":""},{"$f":"IF(SUMIF(week2!$AB:$AB,all_cars!$D117,week2!$AJ:$AJ)=0,\"\",VLOOKUP(all_cars!$D117,week2!$AB:$AJ,9,FALSE))","v":""},{"$f":"IF(SUMIF(week3!$AB:$AB,all_cars!$D117,week3!$AJ:$AJ)=0,\"\",VLOOKUP(all_cars!$D117,week3!$AB:$AJ,9,FALSE))","v":""},{"$f":"IF(SUMIF(week4!$AB:$AB,all_cars!$D117,week4!$AJ:$AJ)=0,\"\",VLOOKUP(all_cars!$D117,week4!$AB:$AJ,9,FALSE))","v":91.077434569142156},{"$f":"IF(SUMIF(week5!$AB:$AB,all_cars!$D117,week5!$AJ:$AJ)=0,\"\",VLOOKUP(all_cars!$D117,week5!$AB:$AJ,9,FALSE))","v":93.418062776814949},null,null,null,"Shaytun                   ","Delux                     "]
[null,null,112,"JJ Nylander               ",null,96.172736202568473,90.551668148606339,null,93.90085278267513,null,{"$f":"IF(SUMIF(week1!$AB:$AB,all_cars!$D118,week1!$AF:$AF)=0,\"\",VLOOKUP(all_cars!$D118,week1!$AB:$AJ,5,FALSE))","v":""},{"$f":"IF(SUMIF(week2!$AB:$AB,all_cars!$D118,week2!$AF:$AF)=0,\"\",VLOOKUP(all_cars!$D118,week2!$AB:$AJ,5,FALSE))","v":""},{"$f":"IF(SUMIF(week3!$AB:$AB,all_cars!$D118,week3!$AF:$AF)=0,\"\",VLOOKUP(all_cars!$D118,week3!$AB:$AJ,5,FALSE))","v":""},{"$f":"IF(SUMIF(week4!$AB:$AB,all_cars!$D118,week4!$AF:$AF)=0,\"\",VLOOKUP(all_cars!$D118,week4!$AB:$AJ,5,FALSE))","v":95.632046591503027},{"$f":"IF(SUMIF(week5!$AB:$AB,all_cars!$D118,week5!$AF:$AF)=0,\"\",VLOOKUP(all_cars!$D118,week5!$AB:$AJ,5,FALSE))","v":95.094711485820653},null,{"$f":"IF(SUMIF(week1!$AB:$AB,all_cars!$D118,week1!$AG:$AG)=0,\"\",VLOOKUP(all_cars!$D118,week1!$AB:$AJ,6,FALSE))","v":""},{"$f":"IF(SUMIF(week2!$AB:$AB,all_cars!$D118,week2!$AG:$AG)=0,\"\",VLOOKUP(all_cars!$D118,week2!$AB:$AJ,6,FALSE))","v":""},{"$f":"IF(SUMIF(week3!$AB:$AB,all_cars!$D118,week3!$AG:$AG)=0,\"\",VLOOKUP(all_cars!$D118,week3!$AB:$AJ,6,FALSE))","v":""},{"$f":"IF(SUMIF(week4!$AB:$AB,all_cars!$D118,week4!$AG:$AG)=0,\"\",VLOOKUP(all_cars!$D118,week4!$AB:$AJ,6,FALSE))","v":94.671083426349327},{"$f":"IF(SUMIF(week5!$AB:$AB,all_cars!$D118,week5!$AG:$AG)=0,\"\",VLOOKUP(all_cars!$D118,week5!$AB:$AJ,6,FALSE))","v":""},null,{"$f":"IF(SUMIF(week1!$AB:$AB,all_cars!$D118,week1!$AH:$AH)=0,\"\",VLOOKUP(all_cars!$D118,week1!$AB:$AJ,7,FALSE))","v":""},{"$f":"IF(SUMIF(week2!$AB:$AB,all_cars!$D118,week2!$AH:$AH)=0,\"\",VLOOKUP(all_cars!$D118,week2!$AB:$AJ,7,FALSE))","v":""},{"$f":"IF(SUMIF(week3!$AB:$AB,all_cars!$D118,week3!$AH:$AH)=0,\"\",VLOOKUP(all_cars!$D118,week3!$AB:$AJ,7,FALSE))","v":""},{"$f":"IF(SUMIF(week4!$AB:$AB,all_cars!$D118,week4!$AH:$AH)=0,\"\",VLOOKUP(all_cars!$D118,week4!$AB:$AJ,7,FALSE))","v":96.172736202568473},{"$f":"IF(SUMIF(week5!$AB:$AB,all_cars!$D118,week5!$AH:$AH)=0,\"\",VLOOKUP(all_cars!$D118,week5!$AB:$AJ,7,FALSE))","v":""},null,{"$f":"IF(SUMIF(week1!$AB:$AB,all_cars!$D118,week1!$AI:$AI)=0,\"\",VLOOKUP(all_cars!$D118,week1!$AB:$AJ,8,FALSE))","v":""},{"$f":"IF(SUMIF(week2!$AB:$AB,all_cars!$D118,week2!$AI:$AI)=0,\"\",VLOOKUP(all_cars!$D118,week2!$AB:$AJ,8,FALSE))","v":""},{"$f":"IF(SUMIF(week3!$AB:$AB,all_cars!$D118,week3!$AI:$AI)=0,\"\",VLOOKUP(all_cars!$D118,week3!$AB:$AJ,8,FALSE))","v":""},{"$f":"IF(SUMIF(week4!$AB:$AB,all_cars!$D118,week4!$AI:$AI)=0,\"\",VLOOKUP(all_cars!$D118,week4!$AB:$AJ,8,FALSE))","v":91.282870841202964},{"$f":"IF(SUMIF(week5!$AB:$AB,all_cars!$D118,week5!$AI:$AI)=0,\"\",VLOOKUP(all_cars!$D118,week5!$AB:$AJ,8,FALSE))","v":""},null,{"$f":"IF(SUMIF(week1!$AB:$AB,all_cars!$D118,week1!$AJ:$AJ)=0,\"\",VLOOKUP(all_cars!$D118,week1!$AB:$AJ,9,FALSE))","v":""},{"$f":"IF(SUMIF(week2!$AB:$AB,all_cars!$D118,week2!$AJ:$AJ)=0,\"\",VLOOKUP(all_cars!$D118,week2!$AB:$AJ,9,FALSE))","v":""},{"$f":"IF(SUMIF(week3!$AB:$AB,all_cars!$D118,week3!$AJ:$AJ)=0,\"\",VLOOKUP(all_cars!$D118,week3!$AB:$AJ,9,FALSE))","v":""},{"$f":"IF(SUMIF(week4!$AB:$AB,all_cars!$D118,week4!$AJ:$AJ)=0,\"\",VLOOKUP(all_cars!$D118,week4!$AB:$AJ,9,FALSE))","v":90.551668148606339},{"$f":"IF(SUMIF(week5!$AB:$AB,all_cars!$D118,week5!$AJ:$AJ)=0,\"\",VLOOKUP(all_cars!$D118,week5!$AB:$AJ,9,FALSE))","v":""},null,null,null,"JJ Nylander               ","Chukie                    "]
[null,null,113,"Fa la la la la            ",null,97.961621742701411,95.016816793598025,null,96.489219268149725,null,{"$f":"IF(SUMIF(week1!$AB:$AB,all_cars!$D119,week1!$AF:$AF)=0,\"\",VLOOKUP(all_cars!$D119,week1!$AB:$AJ,5,FALSE))","v":""},{"$f":"IF(SUMIF(week2!$AB:$AB,all_cars!$D119,week2!$AF:$AF)=0,\"\",VLOOKUP(all_cars!$D119,week2!$AB:$AJ,5,FALSE))","v":""},{"$f":"IF(SUMIF(week3!$AB:$AB,all_cars!$D119,week3!$AF:$AF)=0,\"\",VLOOKUP(all_cars!$D119,week3!$AB:$AJ,5,FALSE))","v":""},{"$f":"IF(SUMIF(week4!$AB:$AB,all_cars!$D119,week4!$AF:$AF)=0,\"\",VLOOKUP(all_cars!$D119,week4!$AB:$AJ,5,FALSE))","v":97.961621742701411},{"$f":"IF(SUMIF(week5!$AB:$AB,all_cars!$D119,week5!$AF:$AF)=0,\"\",VLOOKUP(all_cars!$D119,week5!$AB:$AJ,5,FALSE))","v":""},null,{"$f":"IF(SUMIF(week1!$AB:$AB,all_cars!$D119,week1!$AG:$AG)=0,\"\",VLOOKUP(all_cars!$D119,week1!$AB:$AJ,6,FALSE))","v":""},{"$f":"IF(SUMIF(week2!$AB:$AB,all_cars!$D119,week2!$AG:$AG)=0,\"\",VLOOKUP(all_cars!$D119,week2!$AB:$AJ,6,FALSE))","v":""},{"$f":"IF(SUMIF(week3!$AB:$AB,all_cars!$D119,week3!$AG:$AG)=0,\"\",VLOOKUP(all_cars!$D119,week3!$AB:$AJ,6,FALSE))","v":""},{"$f":"IF(SUMIF(week4!$AB:$AB,all_cars!$D119,week4!$AG:$AG)=0,\"\",VLOOKUP(all_cars!$D119,week4!$AB:$AJ,6,FALSE))","v":""},{"$f":"IF(SUMIF(week5!$AB:$AB,all_cars!$D119,week5!$AG:$AG)=0,\"\",VLOOKUP(all_cars!$D119,week5!$AB:$AJ,6,FALSE))","v":""},null,{"$f":"IF(SUMIF(week1!$AB:$AB,all_cars!$D119,week1!$AH:$AH)=0,\"\",VLOOKUP(all_cars!$D119,week1!$AB:$AJ,7,FALSE))","v":""},{"$f":"IF(SUMIF(week2!$AB:$AB,all_cars!$D119,week2!$AH:$AH)=0,\"\",VLOOKUP(all_cars!$D119,week2!$AB:$AJ,7,FALSE))","v":""},{"$f":"IF(SUMIF(week3!$AB:$AB,all_cars!$D119,week3!$AH:$AH)=0,\"\",VLOOKUP(all_cars!$D119,week3!$AB:$AJ,7,FALSE))","v":""},{"$f":"IF(SUMIF(week4!$AB:$AB,all_cars!$D119,week4!$AH:$AH)=0,\"\",VLOOKUP(all_cars!$D119,week4!$AB:$AJ,7,FALSE))","v":""},{"$f":"IF(SUMIF(week5!$AB:$AB,all_cars!$D119,week5!$AH:$AH)=0,\"\",VLOOKUP(all_cars!$D119,week5!$AB:$AJ,7,FALSE))","v":""},null,{"$f":"IF(SUMIF(week1!$AB:$AB,all_cars!$D119,week1!$AI:$AI)=0,\"\",VLOOKUP(all_cars!$D119,week1!$AB:$AJ,8,FALSE))","v":""},{"$f":"IF(SUMIF(week2!$AB:$AB,all_cars!$D119,week2!$AI:$AI)=0,\"\",VLOOKUP(all_cars!$D119,week2!$AB:$AJ,8,FALSE))","v":""},{"$f":"IF(SUMIF(week3!$AB:$AB,all_cars!$D119,week3!$AI:$AI)=0,\"\",VLOOKUP(all_cars!$D119,week3!$AB:$AJ,8,FALSE))","v":""},{"$f":"IF(SUMIF(week4!$AB:$AB,all_cars!$D119,week4!$AI:$AI)=0,\"\",VLOOKUP(all_cars!$D119,week4!$AB:$AJ,8,FALSE))","v":""},{"$f":"IF(SUMIF(week5!$AB:$AB,all_cars!$D119,week5!$AI:$AI)=0,\"\",VLOOKUP(all_cars!$D119,week5!$AB:$AJ,8,FALSE))","v":""},null,{"$f":"IF(SUMIF(week1!$AB:$AB,all_cars!$D119,week1!$AJ:$AJ)=0,\"\",VLOOKUP(all_cars!$D119,week1!$AB:$AJ,9,FALSE))","v":""},{"$f":"IF(SUMIF(week2!$AB:$AB,all_cars!$D119,week2!$AJ:$AJ)=0,\"\",VLOOKUP(all_cars!$D119,week2!$AB:$AJ,9,FALSE))","v":""},{"$f":"IF(SUMIF(week3!$AB:$AB,all_cars!$D119,week3!$AJ:$AJ)=0,\"\",VLOOKUP(all_cars!$D119,week3!$AB:$AJ,9,FALSE))","v":""},{"$f":"IF(SUMIF(week4!$AB:$AB,all_cars!$D119,week4!$AJ:$AJ)=0,\"\",VLOOKUP(all_cars!$D119,week4!$AB:$AJ,9,FALSE))","v":95.016816793598025},{"$f":"IF(SUMIF(week5!$AB:$AB,all_cars!$D119,week5!$AJ:$AJ)=0,\"\",VLOOKUP(all_cars!$D119,week5!$AB:$AJ,9,FALSE))","v":""},null,null,null,"Fa la la la la            ","power79                   "]
[null,null,114,"Nico Hulkenberg           ",null,98.226685582020465,81.656264827183492,null,91.421994763677205,null,{"$f":"IF(SUMIF(week1!$AB:$AB,all_cars!$D120,week1!$AF:$AF)=0,\"\",VLOOKUP(all_cars!$D120,week1!$AB:$AJ,5,FALSE))","v":""},{"$f":"IF(SUMIF(week2!$AB:$AB,all_cars!$D120,week2!$AF:$AF)=0,\"\",VLOOKUP(all_cars!$D120,week2!$AB:$AJ,5,FALSE))","v":""},{"$f":"IF(SUMIF(week3!$AB:$AB,all_cars!$D120,week3!$AF:$AF)=0,\"\",VLOOKUP(all_cars!$D120,week3!$AB:$AJ,5,FALSE))","v":""},{"$f":"IF(SUMIF(week4!$AB:$AB,all_cars!$D120,week4!$AF:$AF)=0,\"\",VLOOKUP(all_cars!$D120,week4!$AB:$AJ,5,FALSE))","v":98.226685582020465},{"$f":"IF(SUMIF(week5!$AB:$AB,all_cars!$D120,week5!$AF:$AF)=0,\"\",VLOOKUP(all_cars!$D120,week5!$AB:$AJ,5,FALSE))","v":81.656264827183492},null,{"$f":"IF(SUMIF(week1!$AB:$AB,all_cars!$D120,week1!$AG:$AG)=0,\"\",VLOOKUP(all_cars!$D120,week1!$AB:$AJ,6,FALSE))","v":""},{"$f":"IF(SUMIF(week2!$AB:$AB,all_cars!$D120,week2!$AG:$AG)=0,\"\",VLOOKUP(all_cars!$D120,week2!$AB:$AJ,6,FALSE))","v":""},{"$f":"IF(SUMIF(week3!$AB:$AB,all_cars!$D120,week3!$AG:$AG)=0,\"\",VLOOKUP(all_cars!$D120,week3!$AB:$AJ,6,FALSE))","v":""},{"$f":"IF(SUMIF(week4!$AB:$AB,all_cars!$D120,week4!$AG:$AG)=0,\"\",VLOOKUP(all_cars!$D120,week4!$AB:$AJ,6,FALSE))","v":94.383033881827686},{"$f":"IF(SUMIF(week5!$AB:$AB,all_cars!$D120,week5!$AG:$AG)=0,\"\",VLOOKUP(all_cars!$D120,week5!$AB:$AJ,6,FALSE))","v":""},null,{"$f":"IF(SUMIF(week1!$AB:$AB,all_cars!$D120,week1!$AH:$AH)=0,\"\",VLOOKUP(all_cars!$D120,week1!$AB:$AJ,7,FALSE))","v":""},{"$f":"IF(SUMIF(week2!$AB:$AB,all_cars!$D120,week2!$AH:$AH)=0,\"\",VLOOKUP(all_cars!$D120,week2!$AB:$AJ,7,FALSE))","v":""},{"$f":"IF(SUMIF(week3!$AB:$AB,all_cars!$D120,week3!$AH:$AH)=0,\"\",VLOOKUP(all_cars!$D120,week3!$AB:$AJ,7,FALSE))","v":""},{"$f":"IF(SUMIF(week4!$AB:$AB,all_cars!$D120,week4!$AH:$AH)=0,\"\",VLOOKUP(all_cars!$D120,week4!$AB:$AJ,7,FALSE))","v":""},{"$f":"IF(SUMIF(week5!$AB:$AB,all_cars!$D120,week5!$AH:$AH)=0,\"\",VLOOKUP(all_cars!$D120,week5!$AB:$AJ,7,FALSE))","v":""},null,{"$f":"IF(SUMIF(week1!$AB:$AB,all_cars!$D120,week1!$AI:$AI)=0,\"\",VLOOKUP(all_cars!$D120,week1!$AB:$AJ,8,FALSE))","v":""},{"$f":"IF(SUMIF(week2!$AB:$AB,all_cars!$D120,week2!$AI:$AI)=0,\"\",VLOOKUP(all_cars!$D120,week2!$AB:$AJ,8,FALSE))","v":""},{"$f":"IF(SUMIF(week3!$AB:$AB,all_cars!$D120,week3!$AI:$AI)=0,\"\",VLOOKUP(all_cars!$D120,week3!$AB:$AJ,8,FALSE))","v":""},{"$f":"IF(SUMIF(week4!$AB:$AB,all_cars!$D120,week4!$AI:$AI)=0,\"\",VLOOKUP(all_cars!$D120,week4!$AB:$AJ,8,FALSE))","v":""},{"$f":"IF(SUMIF(week5!$AB:$AB,all_cars!$D120,week5!$AI:$AI)=0,\"\",VLOOKUP(all_cars!$D120,week5!$AB:$AJ,8,FALSE))","v":""},null,{"$f":"IF(SUMIF(week1!$AB:$AB,all_cars!$D120,week1!$AJ:$AJ)=0,\"\",VLOOKUP(all_cars!$D120,week1!$AB:$AJ,9,FALSE))","v":""},{"$f":"IF(SUMIF(week2!$AB:$AB,all_cars!$D120,week2!$AJ:$AJ)=0,\"\",VLOOKUP(all_cars!$D120,week2!$AB:$AJ,9,FALSE))","v":""},{"$f":"IF(SUMIF(week3!$AB:$AB,all_cars!$D120,week3!$AJ:$AJ)=0,\"\",VLOOKUP(all_cars!$D120,week3!$AB:$AJ,9,FALSE))","v":""},{"$f":"IF(SUMIF(week4!$AB:$AB,all_cars!$D120,week4!$AJ:$AJ)=0,\"\",VLOOKUP(all_cars!$D120,week4!$AB:$AJ,9,FALSE))","v":""},{"$f":"IF(SUMIF(week5!$AB:$AB,all_cars!$D120,week5!$AJ:$AJ)=0,\"\",VLOOKUP(all_cars!$D120,week5!$AB:$AJ,9,FALSE))","v":""},null,null,null,"Nico Hulkenberg           ","NBA                       "]
[null,null,115,"Bleached Anus             ",null,96.878966624356011,95.826882223742487,null,96.352924424049249,null,{"$f":"IF(SUMIF(week1!$AB:$AB,all_cars!$D121,week1!$AF:$AF)=0,\"\",VLOOKUP(all_cars!$D121,week1!$AB:$AJ,5,FALSE))","v":""},{"$f":"IF(SUMIF(week2!$AB:$AB,all_cars!$D121,week2!$AF:$AF)=0,\"\",VLOOKUP(all_cars!$D121,week2!$AB:$AJ,5,FALSE))","v":""},{"$f":"IF(SUMIF(week3!$AB:$AB,all_cars!$D121,week3!$AF:$AF)=0,\"\",VLOOKUP(all_cars!$D121,week3!$AB:$AJ,5,FALSE))","v":""},{"$f":"IF(SUMIF(week4!$AB:$AB,all_cars!$D121,week4!$AF:$AF)=0,\"\",VLOOKUP(all_cars!$D121,week4!$AB:$AJ,5,FALSE))","v":96.878966624356011},{"$f":"IF(SUMIF(week5!$AB:$AB,all_cars!$D121,week5!$AF:$AF)=0,\"\",VLOOKUP(all_cars!$D121,week5!$AB:$AJ,5,FALSE))","v":""},null,{"$f":"IF(SUMIF(week1!$AB:$AB,all_cars!$D121,week1!$AG:$AG)=0,\"\",VLOOKUP(all_cars!$D121,week1!$AB:$AJ,6,FALSE))","v":""},{"$f":"IF(SUMIF(week2!$AB:$AB,all_cars!$D121,week2!$AG:$AG)=0,\"\",VLOOKUP(all_cars!$D121,week2!$AB:$AJ,6,FALSE))","v":""},{"$f":"IF(SUMIF(week3!$AB:$AB,all_cars!$D121,week3!$AG:$AG)=0,\"\",VLOOKUP(all_cars!$D121,week3!$AB:$AJ,6,FALSE))","v":""},{"$f":"IF(SUMIF(week4!$AB:$AB,all_cars!$D121,week4!$AG:$AG)=0,\"\",VLOOKUP(all_cars!$D121,week4!$AB:$AJ,6,FALSE))","v":95.826882223742487},{"$f":"IF(SUMIF(week5!$AB:$AB,all_cars!$D121,week5!$AG:$AG)=0,\"\",VLOOKUP(all_cars!$D121,week5!$AB:$AJ,6,FALSE))","v":""},null,{"$f":"IF(SUMIF(week1!$AB:$AB,all_cars!$D121,week1!$AH:$AH)=0,\"\",VLOOKUP(all_cars!$D121,week1!$AB:$AJ,7,FALSE))","v":""},{"$f":"IF(SUMIF(week2!$AB:$AB,all_cars!$D121,week2!$AH:$AH)=0,\"\",VLOOKUP(all_cars!$D121,week2!$AB:$AJ,7,FALSE))","v":""},{"$f":"IF(SUMIF(week3!$AB:$AB,all_cars!$D121,week3!$AH:$AH)=0,\"\",VLOOKUP(all_cars!$D121,week3!$AB:$AJ,7,FALSE))","v":""},{"$f":"IF(SUMIF(week4!$AB:$AB,all_cars!$D121,week4!$AH:$AH)=0,\"\",VLOOKUP(all_cars!$D121,week4!$AB:$AJ,7,FALSE))","v":""},{"$f":"IF(SUMIF(week5!$AB:$AB,all_cars!$D121,week5!$AH:$AH)=0,\"\",VLOOKUP(all_cars!$D121,week5!$AB:$AJ,7,FALSE))","v":""},null,{"$f":"IF(SUMIF(week1!$AB:$AB,all_cars!$D121,week1!$AI:$AI)=0,\"\",VLOOKUP(all_cars!$D121,week1!$AB:$AJ,8,FALSE))","v":""},{"$f":"IF(SUMIF(week2!$AB:$AB,all_cars!$D121,week2!$AI:$AI)=0,\"\",VLOOKUP(all_cars!$D121,week2!$AB:$AJ,8,FALSE))","v":""},{"$f":"IF(SUMIF(week3!$AB:$AB,all_cars!$D121,week3!$AI:$AI)=0,\"\",VLOOKUP(all_cars!$D121,week3!$AB:$AJ,8,FALSE))","v":""},{"$f":"IF(SUMIF(week4!$AB:$AB,all_cars!$D121,week4!$AI:$AI)=0,\"\",VLOOKUP(all_cars!$D121,week4!$AB:$AJ,8,FALSE))","v":""},{"$f":"IF(SUMIF(week5!$AB:$AB,all_cars!$D121,week5!$AI:$AI)=0,\"\",VLOOKUP(all_cars!$D121,week5!$AB:$AJ,8,FALSE))","v":""},null,{"$f":"IF(SUMIF(week1!$AB:$AB,all_cars!$D121,week1!$AJ:$AJ)=0,\"\",VLOOKUP(all_cars!$D121,week1!$AB:$AJ,9,FALSE))","v":""},{"$f":"IF(SUMIF(week2!$AB:$AB,all_cars!$D121,week2!$AJ:$AJ)=0,\"\",VLOOKUP(all_cars!$D121,week2!$AB:$AJ,9,FALSE))","v":""},{"$f":"IF(SUMIF(week3!$AB:$AB,all_cars!$D121,week3!$AJ:$AJ)=0,\"\",VLOOKUP(all_cars!$D121,week3!$AB:$AJ,9,FALSE))","v":""},{"$f":"IF(SUMIF(week4!$AB:$AB,all_cars!$D121,week4!$AJ:$AJ)=0,\"\",VLOOKUP(all_cars!$D121,week4!$AB:$AJ,9,FALSE))","v":""},{"$f":"IF(SUMIF(week5!$AB:$AB,all_cars!$D121,week5!$AJ:$AJ)=0,\"\",VLOOKUP(all_cars!$D121,week5!$AB:$AJ,9,FALSE))","v":""},null,null,null,"Bleached Anus             ","TD Juquinha               "]
[null,null,116,"[+] olio                  ",null,99.490180590959682,98.489404352806417,null,99.011743094965482,null,{"$f":"IF(SUMIF(week1!$AB:$AB,all_cars!$D122,week1!$AF:$AF)=0,\"\",VLOOKUP(all_cars!$D122,week1!$AB:$AJ,5,FALSE))","v":""},{"$f":"IF(SUMIF(week2!$AB:$AB,all_cars!$D122,week2!$AF:$AF)=0,\"\",VLOOKUP(all_cars!$D122,week2!$AB:$AJ,5,FALSE))","v":""},{"$f":"IF(SUMIF(week3!$AB:$AB,all_cars!$D122,week3!$AF:$AF)=0,\"\",VLOOKUP(all_cars!$D122,week3!$AB:$AJ,5,FALSE))","v":""},{"$f":"IF(SUMIF(week4!$AB:$AB,all_cars!$D122,week4!$AF:$AF)=0,\"\",VLOOKUP(all_cars!$D122,week4!$AB:$AJ,5,FALSE))","v":""},{"$f":"IF(SUMIF(week5!$AB:$AB,all_cars!$D122,week5!$AF:$AF)=0,\"\",VLOOKUP(all_cars!$D122,week5!$AB:$AJ,5,FALSE))","v":""},null,{"$f":"IF(SUMIF(week1!$AB:$AB,all_cars!$D122,week1!$AG:$AG)=0,\"\",VLOOKUP(all_cars!$D122,week1!$AB:$AJ,6,FALSE))","v":""},{"$f":"IF(SUMIF(week2!$AB:$AB,all_cars!$D122,week2!$AG:$AG)=0,\"\",VLOOKUP(all_cars!$D122,week2!$AB:$AJ,6,FALSE))","v":""},{"$f":"IF(SUMIF(week3!$AB:$AB,all_cars!$D122,week3!$AG:$AG)=0,\"\",VLOOKUP(all_cars!$D122,week3!$AB:$AJ,6,FALSE))","v":""},{"$f":"IF(SUMIF(week4!$AB:$AB,all_cars!$D122,week4!$AG:$AG)=0,\"\",VLOOKUP(all_cars!$D122,week4!$AB:$AJ,6,FALSE))","v":""},{"$f":"IF(SUMIF(week5!$AB:$AB,all_cars!$D122,week5!$AG:$AG)=0,\"\",VLOOKUP(all_cars!$D122,week5!$AB:$AJ,6,FALSE))","v":98.489404352806417},null,{"$f":"IF(SUMIF(week1!$AB:$AB,all_cars!$D122,week1!$AH:$AH)=0,\"\",VLOOKUP(all_cars!$D122,week1!$AB:$AJ,7,FALSE))","v":""},{"$f":"IF(SUMIF(week2!$AB:$AB,all_cars!$D122,week2!$AH:$AH)=0,\"\",VLOOKUP(all_cars!$D122,week2!$AB:$AJ,7,FALSE))","v":""},{"$f":"IF(SUMIF(week3!$AB:$AB,all_cars!$D122,week3!$AH:$AH)=0,\"\",VLOOKUP(all_cars!$D122,week3!$AB:$AJ,7,FALSE))","v":""},{"$f":"IF(SUMIF(week4!$AB:$AB,all_cars!$D122,week4!$AH:$AH)=0,\"\",VLOOKUP(all_cars!$D122,week4!$AB:$AJ,7,FALSE))","v":""},{"$f":"IF(SUMIF(week5!$AB:$AB,all_cars!$D122,week5!$AH:$AH)=0,\"\",VLOOKUP(all_cars!$D122,week5!$AB:$AJ,7,FALSE))","v":""},null,{"$f":"IF(SUMIF(week1!$AB:$AB,all_cars!$D122,week1!$AI:$AI)=0,\"\",VLOOKUP(all_cars!$D122,week1!$AB:$AJ,8,FALSE))","v":""},{"$f":"IF(SUMIF(week2!$AB:$AB,all_cars!$D122,week2!$AI:$AI)=0,\"\",VLOOKUP(all_cars!$D122,week2!$AB:$AJ,8,FALSE))","v":""},{"$f":"IF(SUMIF(week3!$AB:$AB,all_cars!$D122,week3!$AI:$AI)=0,\"\",VLOOKUP(all_cars!$D122,week3!$AB:$AJ,8,FALSE))","v":""},{"$f":"IF(SUMIF(week4!$AB:$AB,all_cars!$D122,week4!$AI:$AI)=0,\"\",VLOOKUP(all_cars!$D122,week4!$AB:$AJ,8,FALSE))","v":99.055644341130318},{"$f":"IF(SUMIF(week5!$AB:$AB,all_cars!$D122,week5!$AI:$AI)=0,\"\",VLOOKUP(all_cars!$D122,week5!$AB:$AJ,8,FALSE))","v":99.490180590959682},null,{"$f":"IF(SUMIF(week1!$AB:$AB,all_cars!$D122,week1!$AJ:$AJ)=0,\"\",VLOOKUP(all_cars!$D122,week1!$AB:$AJ,9,FALSE))","v":""},{"$f":"IF(SUMIF(week2!$AB:$AB,all_cars!$D122,week2!$AJ:$AJ)=0,\"\",VLOOKUP(all_cars!$D122,week2!$AB:$AJ,9,FALSE))","v":""},{"$f":"IF(SUMIF(week3!$AB:$AB,all_cars!$D122,week3!$AJ:$AJ)=0,\"\",VLOOKUP(all_cars!$D122,week3!$AB:$AJ,9,FALSE))","v":""},{"$f":"IF(SUMIF(week4!$AB:$AB,all_cars!$D122,week4!$AJ:$AJ)=0,\"\",VLOOKUP(all_cars!$D122,week4!$AB:$AJ,9,FALSE))","v":""},{"$f":"IF(SUMIF(week5!$AB:$AB,all_cars!$D122,week5!$AJ:$AJ)=0,\"\",VLOOKUP(all_cars!$D122,week5!$AB:$AJ,9,FALSE))","v":""},null,null,null,"[+] olio                  ","Alukin                    "]
[null,null,117,"Jaka                      ",null,95.355782871649367,92.805505083697369,null,94.080643977673361,null,{"$f":"IF(SUMIF(week1!$AB:$AB,all_cars!$D123,week1!$AF:$AF)=0,\"\",VLOOKUP(all_cars!$D123,week1!$AB:$AJ,5,FALSE))","v":""},{"$f":"IF(SUMIF(week2!$AB:$AB,all_cars!$D123,week2!$AF:$AF)=0,\"\",VLOOKUP(all_cars!$D123,week2!$AB:$AJ,5,FALSE))","v":""},{"$f":"IF(SUMIF(week3!$AB:$AB,all_cars!$D123,week3!$AF:$AF)=0,\"\",VLOOKUP(all_cars!$D123,week3!$AB:$AJ,5,FALSE))","v":""},{"$f":"IF(SUMIF(week4!$AB:$AB,all_cars!$D123,week4!$AF:$AF)=0,\"\",VLOOKUP(all_cars!$D123,week4!$AB:$AJ,5,FALSE))","v":95.355782871649367},{"$f":"IF(SUMIF(week5!$AB:$AB,all_cars!$D123,week5!$AF:$AF)=0,\"\",VLOOKUP(all_cars!$D123,week5!$AB:$AJ,5,FALSE))","v":""},null,{"$f":"IF(SUMIF(week1!$AB:$AB,all_cars!$D123,week1!$AG:$AG)=0,\"\",VLOOKUP(all_cars!$D123,week1!$AB:$AJ,6,FALSE))","v":""},{"$f":"IF(SUMIF(week2!$AB:$AB,all_cars!$D123,week2!$AG:$AG)=0,\"\",VLOOKUP(all_cars!$D123,week2!$AB:$AJ,6,FALSE))","v":""},{"$f":"IF(SUMIF(week3!$AB:$AB,all_cars!$D123,week3!$AG:$AG)=0,\"\",VLOOKUP(all_cars!$D123,week3!$AB:$AJ,6,FALSE))","v":""},{"$f":"IF(SUMIF(week4!$AB:$AB,all_cars!$D123,week4!$AG:$AG)=0,\"\",VLOOKUP(all_cars!$D123,week4!$AB:$AJ,6,FALSE))","v":""},{"$f":"IF(SUMIF(week5!$AB:$AB,all_cars!$D123,week5!$AG:$AG)=0,\"\",VLOOKUP(all_cars!$D123,week5!$AB:$AJ,6,FALSE))","v":""},null,{"$f":"IF(SUMIF(week1!$AB:$AB,all_cars!$D123,week1!$AH:$AH)=0,\"\",VLOOKUP(all_cars!$D123,week1!$AB:$AJ,7,FALSE))","v":""},{"$f":"IF(SUMIF(week2!$AB:$AB,all_cars!$D123,week2!$AH:$AH)=0,\"\",VLOOKUP(all_cars!$D123,week2!$AB:$AJ,7,FALSE))","v":""},{"$f":"IF(SUMIF(week3!$AB:$AB,all_cars!$D123,week3!$AH:$AH)=0,\"\",VLOOKUP(all_cars!$D123,week3!$AB:$AJ,7,FALSE))","v":""},{"$f":"IF(SUMIF(week4!$AB:$AB,all_cars!$D123,week4!$AH:$AH)=0,\"\",VLOOKUP(all_cars!$D123,week4!$AB:$AJ,7,FALSE))","v":""},{"$f":"IF(SUMIF(week5!$AB:$AB,all_cars!$D123,week5!$AH:$AH)=0,\"\",VLOOKUP(all_cars!$D123,week5!$AB:$AJ,7,FALSE))","v":""},null,{"$f":"IF(SUMIF(week1!$AB:$AB,all_cars!$D123,week1!$AI:$AI)=0,\"\",VLOOKUP(all_cars!$D123,week1!$AB:$AJ,8,FALSE))","v":""},{"$f":"IF(SUMIF(week2!$AB:$AB,all_cars!$D123,week2!$AI:$AI)=0,\"\",VLOOKUP(all_cars!$D123,week2!$AB:$AJ,8,FALSE))","v":""},{"$f":"IF(SUMIF(week3!$AB:$AB,all_cars!$D123,week3!$AI:$AI)=0,\"\",VLOOKUP(all_cars!$D123,week3!$AB:$AJ,8,FALSE))","v":""},{"$f":"IF(SUMIF(week4!$AB:$AB,all_cars!$D123,week4!$AI:$AI)=0,\"\",VLOOKUP(all_cars!$D123,week4!$AB:$AJ,8,FALSE))","v":""},{"$f":"IF(SUMIF(week5!$AB:$AB,all_cars!$D123,week5!$AI:$AI)=0,\"\",VLOOKUP(all_cars!$D123,week5!$AB:$AJ,8,FALSE))","v":""},null,{"$f":"IF(SUMIF(week1!$AB:$AB,all_cars!$D123,week1!$AJ:$AJ)=0,\"\",VLOOKUP(all_cars!$D123,week1!$AB:$AJ,9,FALSE))","v":""},{"$f":"IF(SUMIF(week2!$AB:$AB,all_cars!$D123,week2!$AJ:$AJ)=0,\"\",VLOOKUP(all_cars!$D123,week2!$AB:$AJ,9,FALSE))","v":""},{"$f":"IF(SUMIF(week3!$AB:$AB,all_cars!$D123,week3!$AJ:$AJ)=0,\"\",VLOOKUP(all_cars!$D123,week3!$AB:$AJ,9,FALSE))","v":""},{"$f":"IF(SUMIF(week4!$AB:$AB,all_cars!$D123,week4!$AJ:$AJ)=0,\"\",VLOOKUP(all_cars!$D123,week4!$AB:$AJ,9,FALSE))","v":92.805505083697369},{"$f":"IF(SUMIF(week5!$AB:$AB,all_cars!$D123,week5!$AJ:$AJ)=0,\"\",VLOOKUP(all_cars!$D123,week5!$AB:$AJ,9,FALSE))","v":""},null,null,null,"Jaka                      ","REIROM                    "]
[null,null,118,"Gol_V8 ( 17 )             ",null,98.480689681833994,42.764782798198468,null,70.622736240016224,null,{"$f":"IF(SUMIF(week1!$AB:$AB,all_cars!$D124,week1!$AF:$AF)=0,\"\",VLOOKUP(all_cars!$D124,week1!$AB:$AJ,5,FALSE))","v":""},{"$f":"IF(SUMIF(week2!$AB:$AB,all_cars!$D124,week2!$AF:$AF)=0,\"\",VLOOKUP(all_cars!$D124,week2!$AB:$AJ,5,FALSE))","v":""},{"$f":"IF(SUMIF(week3!$AB:$AB,all_cars!$D124,week3!$AF:$AF)=0,\"\",VLOOKUP(all_cars!$D124,week3!$AB:$AJ,5,FALSE))","v":""},{"$f":"IF(SUMIF(week4!$AB:$AB,all_cars!$D124,week4!$AF:$AF)=0,\"\",VLOOKUP(all_cars!$D124,week4!$AB:$AJ,5,FALSE))","v":""},{"$f":"IF(SUMIF(week5!$AB:$AB,all_cars!$D124,week5!$AF:$AF)=0,\"\",VLOOKUP(all_cars!$D124,week5!$AB:$AJ,5,FALSE))","v":""},null,{"$f":"IF(SUMIF(week1!$AB:$AB,all_cars!$D124,week1!$AG:$AG)=0,\"\",VLOOKUP(all_cars!$D124,week1!$AB:$AJ,6,FALSE))","v":""},{"$f":"IF(SUMIF(week2!$AB:$AB,all_cars!$D124,week2!$AG:$AG)=0,\"\",VLOOKUP(all_cars!$D124,week2!$AB:$AJ,6,FALSE))","v":""},{"$f":"IF(SUMIF(week3!$AB:$AB,all_cars!$D124,week3!$AG:$AG)=0,\"\",VLOOKUP(all_cars!$D124,week3!$AB:$AJ,6,FALSE))","v":""},{"$f":"IF(SUMIF(week4!$AB:$AB,all_cars!$D124,week4!$AG:$AG)=0,\"\",VLOOKUP(all_cars!$D124,week4!$AB:$AJ,6,FALSE))","v":""},{"$f":"IF(SUMIF(week5!$AB:$AB,all_cars!$D124,week5!$AG:$AG)=0,\"\",VLOOKUP(all_cars!$D124,week5!$AB:$AJ,6,FALSE))","v":""},null,{"$f":"IF(SUMIF(week1!$AB:$AB,all_cars!$D124,week1!$AH:$AH)=0,\"\",VLOOKUP(all_cars!$D124,week1!$AB:$AJ,7,FALSE))","v":""},{"$f":"IF(SUMIF(week2!$AB:$AB,all_cars!$D124,week2!$AH:$AH)=0,\"\",VLOOKUP(all_cars!$D124,week2!$AB:$AJ,7,FALSE))","v":""},{"$f":"IF(SUMIF(week3!$AB:$AB,all_cars!$D124,week3!$AH:$AH)=0,\"\",VLOOKUP(all_cars!$D124,week3!$AB:$AJ,7,FALSE))","v":""},{"$f":"IF(SUMIF(week4!$AB:$AB,all_cars!$D124,week4!$AH:$AH)=0,\"\",VLOOKUP(all_cars!$D124,week4!$AB:$AJ,7,FALSE))","v":""},{"$f":"IF(SUMIF(week5!$AB:$AB,all_cars!$D124,week5!$AH:$AH)=0,\"\",VLOOKUP(all_cars!$D124,week5!$AB:$AJ,7,FALSE))","v":""},null,{"$f":"IF(SUMIF(week1!$AB:$AB,all_cars!$D124,week1!$AI:$AI)=0,\"\",VLOOKUP(all_cars!$D124,week1!$AB:$AJ,8,FALSE))","v":""},{"$f":"IF(SUMIF(week2!$AB:$AB,all_cars!$D124,week2!$AI:$AI)=0,\"\",VLOOKUP(all_cars!$D124,week2!$AB:$AJ,8,FALSE))","v":""},{"$f":"IF(SUMIF(week3!$AB:$AB,all_cars!$D124,week3!$AI:$AI)=0,\"\",VLOOKUP(all_cars!$D124,week3!$AB:$AJ,8,FALSE))","v":""},{"$f":"IF(SUMIF(week4!$AB:$AB,all_cars!$D124,week4!$AI:$AI)=0,\"\",VLOOKUP(all_cars!$D124,week4!$AB:$AJ,8,FALSE))","v":42.764782798198468},{"$f":"IF(SUMIF(week5!$AB:$AB,all_cars!$D124,week5!$AI:$AI)=0,\"\",VLOOKUP(all_cars!$D124,week5!$AB:$AJ,8,FALSE))","v":""},null,{"$f":"IF(SUMIF(week1!$AB:$AB,all_cars!$D124,week1!$AJ:$AJ)=0,\"\",VLOOKUP(all_cars!$D124,week1!$AB:$AJ,9,FALSE))","v":""},{"$f":"IF(SUMIF(week2!$AB:$AB,all_cars!$D124,week2!$AJ:$AJ)=0,\"\",VLOOKUP(all_cars!$D124,week2!$AB:$AJ,9,FALSE))","v":""},{"$f":"IF(SUMIF(week3!$AB:$AB,all_cars!$D124,week3!$AJ:$AJ)=0,\"\",VLOOKUP(all_cars!$D124,week3!$AB:$AJ,9,FALSE))","v":""},{"$f":"IF(SUMIF(week4!$AB:$AB,all_cars!$D124,week4!$AJ:$AJ)=0,\"\",VLOOKUP(all_cars!$D124,week4!$AB:$AJ,9,FALSE))","v":98.480689681833994},{"$f":"IF(SUMIF(week5!$AB:$AB,all_cars!$D124,week5!$AJ:$AJ)=0,\"\",VLOOKUP(all_cars!$D124,week5!$AB:$AJ,9,FALSE))","v":""},null,null,null,"Gol_V8 ( 17 )             ","stoner                    "]
[null,null,119,"ROMREI                    ",null,98.028821025909068,89.347198151357588,null,93.81088629875866,null,{"$f":"IF(SUMIF(week1!$AB:$AB,all_cars!$D125,week1!$AF:$AF)=0,\"\",VLOOKUP(all_cars!$D125,week1!$AB:$AJ,5,FALSE))","v":""},{"$f":"IF(SUMIF(week2!$AB:$AB,all_cars!$D125,week2!$AF:$AF)=0,\"\",VLOOKUP(all_cars!$D125,week2!$AB:$AJ,5,FALSE))","v":""},{"$f":"IF(SUMIF(week3!$AB:$AB,all_cars!$D125,week3!$AF:$AF)=0,\"\",VLOOKUP(all_cars!$D125,week3!$AB:$AJ,5,FALSE))","v":""},{"$f":"IF(SUMIF(week4!$AB:$AB,all_cars!$D125,week4!$AF:$AF)=0,\"\",VLOOKUP(all_cars!$D125,week4!$AB:$AJ,5,FALSE))","v":98.028821025909068},{"$f":"IF(SUMIF(week5!$AB:$AB,all_cars!$D125,week5!$AF:$AF)=0,\"\",VLOOKUP(all_cars!$D125,week5!$AB:$AJ,5,FALSE))","v":97.70429577721815},null,{"$f":"IF(SUMIF(week1!$AB:$AB,all_cars!$D125,week1!$AG:$AG)=0,\"\",VLOOKUP(all_cars!$D125,week1!$AB:$AJ,6,FALSE))","v":""},{"$f":"IF(SUMIF(week2!$AB:$AB,all_cars!$D125,week2!$AG:$AG)=0,\"\",VLOOKUP(all_cars!$D125,week2!$AB:$AJ,6,FALSE))","v":""},{"$f":"IF(SUMIF(week3!$AB:$AB,all_cars!$D125,week3!$AG:$AG)=0,\"\",VLOOKUP(all_cars!$D125,week3!$AB:$AJ,6,FALSE))","v":""},{"$f":"IF(SUMIF(week4!$AB:$AB,all_cars!$D125,week4!$AG:$AG)=0,\"\",VLOOKUP(all_cars!$D125,week4!$AB:$AJ,6,FALSE))","v":""},{"$f":"IF(SUMIF(week5!$AB:$AB,all_cars!$D125,week5!$AG:$AG)=0,\"\",VLOOKUP(all_cars!$D125,week5!$AB:$AJ,6,FALSE))","v":90.163230240549822},null,{"$f":"IF(SUMIF(week1!$AB:$AB,all_cars!$D125,week1!$AH:$AH)=0,\"\",VLOOKUP(all_cars!$D125,week1!$AB:$AJ,7,FALSE))","v":""},{"$f":"IF(SUMIF(week2!$AB:$AB,all_cars!$D125,week2!$AH:$AH)=0,\"\",VLOOKUP(all_cars!$D125,week2!$AB:$AJ,7,FALSE))","v":""},{"$f":"IF(SUMIF(week3!$AB:$AB,all_cars!$D125,week3!$AH:$AH)=0,\"\",VLOOKUP(all_cars!$D125,week3!$AB:$AJ,7,FALSE))","v":""},{"$f":"IF(SUMIF(week4!$AB:$AB,all_cars!$D125,week4!$AH:$AH)=0,\"\",VLOOKUP(all_cars!$D125,week4!$AB:$AJ,7,FALSE))","v":""},{"$f":"IF(SUMIF(week5!$AB:$AB,all_cars!$D125,week5!$AH:$AH)=0,\"\",VLOOKUP(all_cars!$D125,week5!$AB:$AJ,7,FALSE))","v":""},null,{"$f":"IF(SUMIF(week1!$AB:$AB,all_cars!$D125,week1!$AI:$AI)=0,\"\",VLOOKUP(all_cars!$D125,week1!$AB:$AJ,8,FALSE))","v":""},{"$f":"IF(SUMIF(week2!$AB:$AB,all_cars!$D125,week2!$AI:$AI)=0,\"\",VLOOKUP(all_cars!$D125,week2!$AB:$AJ,8,FALSE))","v":""},{"$f":"IF(SUMIF(week3!$AB:$AB,all_cars!$D125,week3!$AI:$AI)=0,\"\",VLOOKUP(all_cars!$D125,week3!$AB:$AJ,8,FALSE))","v":""},{"$f":"IF(SUMIF(week4!$AB:$AB,all_cars!$D125,week4!$AI:$AI)=0,\"\",VLOOKUP(all_cars!$D125,week4!$AB:$AJ,8,FALSE))","v":""},{"$f":"IF(SUMIF(week5!$AB:$AB,all_cars!$D125,week5!$AI:$AI)=0,\"\",VLOOKUP(all_cars!$D125,week5!$AB:$AJ,8,FALSE))","v":""},null,{"$f":"IF(SUMIF(week1!$AB:$AB,all_cars!$D125,week1!$AJ:$AJ)=0,\"\",VLOOKUP(all_cars!$D125,week1!$AB:$AJ,9,FALSE))","v":""},{"$f":"IF(SUMIF(week2!$AB:$AB,all_cars!$D125,week2!$AJ:$AJ)=0,\"\",VLOOKUP(all_cars!$D125,week2!$AB:$AJ,9,FALSE))","v":""},{"$f":"IF(SUMIF(week3!$AB:$AB,all_cars!$D125,week3!$AJ:$AJ)=0,\"\",VLOOKUP(all_cars!$D125,week3!$AB:$AJ,9,FALSE))","v":""},{"$f":"IF(SUMIF(week4!$AB:$AB,all_cars!$D125,week4!$AJ:$AJ)=0,\"\",VLOOKUP(all_cars!$D125,week4!$AB:$AJ,9,FALSE))","v":""},{"$f":"IF(SUMIF(week5!$AB:$AB,all_cars!$D125,week5!$AJ:$AJ)=0,\"\",VLOOKUP(all_cars!$D125,week5!$AB:$AJ,9,FALSE))","v":89.347198151357588},null,null,null,"ROMREI                    ","GoingDillon               "]
[null,null,120,"KLE621                    ",null,98.017621145374449,86.984926457169976,null,92.50127380127222,null,{"$f":"IF(SUMIF(week1!$AB:$AB,all_cars!$D126,week1!$AF:$AF)=0,\"\",VLOOKUP(all_cars!$D126,week1!$AB:$AJ,5,FALSE))","v":""},{"$f":"IF(SUMIF(week2!$AB:$AB,all_cars!$D126,week2!$AF:$AF)=0,\"\",VLOOKUP(all_cars!$D126,week2!$AB:$AJ,5,FALSE))","v":""},{"$f":"IF(SUMIF(week3!$AB:$AB,all_cars!$D126,week3!$AF:$AF)=0,\"\",VLOOKUP(all_cars!$D126,week3!$AB:$AJ,5,FALSE))","v":""},{"$f":"IF(SUMIF(week4!$AB:$AB,all_cars!$D126,week4!$AF:$AF)=0,\"\",VLOOKUP(all_cars!$D126,week4!$AB:$AJ,5,FALSE))","v":98.017621145374449},{"$f":"IF(SUMIF(week5!$AB:$AB,all_cars!$D126,week5!$AF:$AF)=0,\"\",VLOOKUP(all_cars!$D126,week5!$AB:$AJ,5,FALSE))","v":86.984926457169976},null,{"$f":"IF(SUMIF(week1!$AB:$AB,all_cars!$D126,week1!$AG:$AG)=0,\"\",VLOOKUP(all_cars!$D126,week1!$AB:$AJ,6,FALSE))","v":""},{"$f":"IF(SUMIF(week2!$AB:$AB,all_cars!$D126,week2!$AG:$AG)=0,\"\",VLOOKUP(all_cars!$D126,week2!$AB:$AJ,6,FALSE))","v":""},{"$f":"IF(SUMIF(week3!$AB:$AB,all_cars!$D126,week3!$AG:$AG)=0,\"\",VLOOKUP(all_cars!$D126,week3!$AB:$AJ,6,FALSE))","v":""},{"$f":"IF(SUMIF(week4!$AB:$AB,all_cars!$D126,week4!$AG:$AG)=0,\"\",VLOOKUP(all_cars!$D126,week4!$AB:$AJ,6,FALSE))","v":""},{"$f":"IF(SUMIF(week5!$AB:$AB,all_cars!$D126,week5!$AG:$AG)=0,\"\",VLOOKUP(all_cars!$D126,week5!$AB:$AJ,6,FALSE))","v":""},null,{"$f":"IF(SUMIF(week1!$AB:$AB,all_cars!$D126,week1!$AH:$AH)=0,\"\",VLOOKUP(all_cars!$D126,week1!$AB:$AJ,7,FALSE))","v":""},{"$f":"IF(SUMIF(week2!$AB:$AB,all_cars!$D126,week2!$AH:$AH)=0,\"\",VLOOKUP(all_cars!$D126,week2!$AB:$AJ,7,FALSE))","v":""},{"$f":"IF(SUMIF(week3!$AB:$AB,all_cars!$D126,week3!$AH:$AH)=0,\"\",VLOOKUP(all_cars!$D126,week3!$AB:$AJ,7,FALSE))","v":""},{"$f":"IF(SUMIF(week4!$AB:$AB,all_cars!$D126,week4!$AH:$AH)=0,\"\",VLOOKUP(all_cars!$D126,week4!$AB:$AJ,7,FALSE))","v":""},{"$f":"IF(SUMIF(week5!$AB:$AB,all_cars!$D126,week5!$AH:$AH)=0,\"\",VLOOKUP(all_cars!$D126,week5!$AB:$AJ,7,FALSE))","v":""},null,{"$f":"IF(SUMIF(week1!$AB:$AB,all_cars!$D126,week1!$AI:$AI)=0,\"\",VLOOKUP(all_cars!$D126,week1!$AB:$AJ,8,FALSE))","v":""},{"$f":"IF(SUMIF(week2!$AB:$AB,all_cars!$D126,week2!$AI:$AI)=0,\"\",VLOOKUP(all_cars!$D126,week2!$AB:$AJ,8,FALSE))","v":""},{"$f":"IF(SUMIF(week3!$AB:$AB,all_cars!$D126,week3!$AI:$AI)=0,\"\",VLOOKUP(all_cars!$D126,week3!$AB:$AJ,8,FALSE))","v":""},{"$f":"IF(SUMIF(week4!$AB:$AB,all_cars!$D126,week4!$AI:$AI)=0,\"\",VLOOKUP(all_cars!$D126,week4!$AB:$AJ,8,FALSE))","v":""},{"$f":"IF(SUMIF(week5!$AB:$AB,all_cars!$D126,week5!$AI:$AI)=0,\"\",VLOOKUP(all_cars!$D126,week5!$AB:$AJ,8,FALSE))","v":""},null,{"$f":"IF(SUMIF(week1!$AB:$AB,all_cars!$D126,week1!$AJ:$AJ)=0,\"\",VLOOKUP(all_cars!$D126,week1!$AB:$AJ,9,FALSE))","v":""},{"$f":"IF(SUMIF(week2!$AB:$AB,all_cars!$D126,week2!$AJ:$AJ)=0,\"\",VLOOKUP(all_cars!$D126,week2!$AB:$AJ,9,FALSE))","v":""},{"$f":"IF(SUMIF(week3!$AB:$AB,all_cars!$D126,week3!$AJ:$AJ)=0,\"\",VLOOKUP(all_cars!$D126,week3!$AB:$AJ,9,FALSE))","v":""},{"$f":"IF(SUMIF(week4!$AB:$AB,all_cars!$D126,week4!$AJ:$AJ)=0,\"\",VLOOKUP(all_cars!$D126,week4!$AB:$AJ,9,FALSE))","v":""},{"$f":"IF(SUMIF(week5!$AB:$AB,all_cars!$D126,week5!$AJ:$AJ)=0,\"\",VLOOKUP(all_cars!$D126,week5!$AB:$AJ,9,FALSE))","v":""},null,null,null,"KLE621                    ","[Qc]RSX                   "]
[null,null,121,"put                       ",null,97.140297170163521,97.140297170163521,null,97.140297170163521,null,{"$f":"IF(SUMIF(week1!$AB:$AB,all_cars!$D127,week1!$AF:$AF)=0,\"\",VLOOKUP(all_cars!$D127,week1!$AB:$AJ,5,FALSE))","v":""},{"$f":"IF(SUMIF(week2!$AB:$AB,all_cars!$D127,week2!$AF:$AF)=0,\"\",VLOOKUP(all_cars!$D127,week2!$AB:$AJ,5,FALSE))","v":""},{"$f":"IF(SUMIF(week3!$AB:$AB,all_cars!$D127,week3!$AF:$AF)=0,\"\",VLOOKUP(all_cars!$D127,week3!$AB:$AJ,5,FALSE))","v":""},{"$f":"IF(SUMIF(week4!$AB:$AB,all_cars!$D127,week4!$AF:$AF)=0,\"\",VLOOKUP(all_cars!$D127,week4!$AB:$AJ,5,FALSE))","v":97.140297170163521},{"$f":"IF(SUMIF(week5!$AB:$AB,all_cars!$D127,week5!$AF:$AF)=0,\"\",VLOOKUP(all_cars!$D127,week5!$AB:$AJ,5,FALSE))","v":""},null,{"$f":"IF(SUMIF(week1!$AB:$AB,all_cars!$D127,week1!$AG:$AG)=0,\"\",VLOOKUP(all_cars!$D127,week1!$AB:$AJ,6,FALSE))","v":""},{"$f":"IF(SUMIF(week2!$AB:$AB,all_cars!$D127,week2!$AG:$AG)=0,\"\",VLOOKUP(all_cars!$D127,week2!$AB:$AJ,6,FALSE))","v":""},{"$f":"IF(SUMIF(week3!$AB:$AB,all_cars!$D127,week3!$AG:$AG)=0,\"\",VLOOKUP(all_cars!$D127,week3!$AB:$AJ,6,FALSE))","v":""},{"$f":"IF(SUMIF(week4!$AB:$AB,all_cars!$D127,week4!$AG:$AG)=0,\"\",VLOOKUP(all_cars!$D127,week4!$AB:$AJ,6,FALSE))","v":""},{"$f":"IF(SUMIF(week5!$AB:$AB,all_cars!$D127,week5!$AG:$AG)=0,\"\",VLOOKUP(all_cars!$D127,week5!$AB:$AJ,6,FALSE))","v":""},null,{"$f":"IF(SUMIF(week1!$AB:$AB,all_cars!$D127,week1!$AH:$AH)=0,\"\",VLOOKUP(all_cars!$D127,week1!$AB:$AJ,7,FALSE))","v":""},{"$f":"IF(SUMIF(week2!$AB:$AB,all_cars!$D127,week2!$AH:$AH)=0,\"\",VLOOKUP(all_cars!$D127,week2!$AB:$AJ,7,FALSE))","v":""},{"$f":"IF(SUMIF(week3!$AB:$AB,all_cars!$D127,week3!$AH:$AH)=0,\"\",VLOOKUP(all_cars!$D127,week3!$AB:$AJ,7,FALSE))","v":""},{"$f":"IF(SUMIF(week4!$AB:$AB,all_cars!$D127,week4!$AH:$AH)=0,\"\",VLOOKUP(all_cars!$D127,week4!$AB:$AJ,7,FALSE))","v":""},{"$f":"IF(SUMIF(week5!$AB:$AB,all_cars!$D127,week5!$AH:$AH)=0,\"\",VLOOKUP(all_cars!$D127,week5!$AB:$AJ,7,FALSE))","v":""},null,{"$f":"IF(SUMIF(week1!$AB:$AB,all_cars!$D127,week1!$AI:$AI)=0,\"\",VLOOKUP(all_cars!$D127,week1!$AB:$AJ,8,FALSE))","v":""},{"$f":"IF(SUMIF(week2!$AB:$AB,all_cars!$D127,week2!$AI:$AI)=0,\"\",VLOOKUP(all_cars!$D127,week2!$AB:$AJ,8,FALSE))","v":""},{"$f":"IF(SUMIF(week3!$AB:$AB,all_cars!$D127,week3!$AI:$AI)=0,\"\",VLOOKUP(all_cars!$D127,week3!$AB:$AJ,8,FALSE))","v":""},{"$f":"IF(SUMIF(week4!$AB:$AB,all_cars!$D127,week4!$AI:$AI)=0,\"\",VLOOKUP(all_cars!$D127,week4!$AB:$AJ,8,FALSE))","v":""},{"$f":"IF(SUMIF(week5!$AB:$AB,all_cars!$D127,week5!$AI:$AI)=0,\"\",VLOOKUP(all_cars!$D127,week5!$AB:$AJ,8,FALSE))","v":""},null,{"$f":"IF(SUMIF(week1!$AB:$AB,all_cars!$D127,week1!$AJ:$AJ)=0,\"\",VLOOKUP(all_cars!$D127,week1!$AB:$AJ,9,FALSE))","v":""},{"$f":"IF(SUMIF(week2!$AB:$AB,all_cars!$D127,week2!$AJ:$AJ)=0,\"\",VLOOKUP(all_cars!$D127,week2!$AB:$AJ,9,FALSE))","v":""},{"$f":"IF(SUMIF(week3!$AB:$AB,all_cars!$D127,week3!$AJ:$AJ)=0,\"\",VLOOKUP(all_cars!$D127,week3!$AB:$AJ,9,FALSE))","v":""},{"$f":"IF(SUMIF(week4!$AB:$AB,all_cars!$D127,week4!$AJ:$AJ)=0,\"\",VLOOKUP(all_cars!$D127,week4!$AB:$AJ,9,FALSE))","v":""},{"$f":"IF(SUMIF(week5!$AB:$AB,all_cars!$D127,week5!$AJ:$AJ)=0,\"\",VLOOKUP(all_cars!$D127,week5!$AB:$AJ,9,FALSE))","v":""},null,null,null,"put                       ","laf                       "]
[null,null,122,"DEAD FISH                 ",null,94.538191592623022,79.355936134843631,null,85.456637854210101,null,{"$f":"IF(SUMIF(week1!$AB:$AB,all_cars!$D128,week1!$AF:$AF)=0,\"\",VLOOKUP(all_cars!$D128,week1!$AB:$AJ,5,FALSE))","v":""},{"$f":"IF(SUMIF(week2!$AB:$AB,all_cars!$D128,week2!$AF:$AF)=0,\"\",VLOOKUP(all_cars!$D128,week2!$AB:$AJ,5,FALSE))","v":""},{"$f":"IF(SUMIF(week3!$AB:$AB,all_cars!$D128,week3!$AF:$AF)=0,\"\",VLOOKUP(all_cars!$D128,week3!$AB:$AJ,5,FALSE))","v":""},{"$f":"IF(SUMIF(week4!$AB:$AB,all_cars!$D128,week4!$AF:$AF)=0,\"\",VLOOKUP(all_cars!$D128,week4!$AB:$AJ,5,FALSE))","v":94.538191592623022},{"$f":"IF(SUMIF(week5!$AB:$AB,all_cars!$D128,week5!$AF:$AF)=0,\"\",VLOOKUP(all_cars!$D128,week5!$AB:$AJ,5,FALSE))","v":""},null,{"$f":"IF(SUMIF(week1!$AB:$AB,all_cars!$D128,week1!$AG:$AG)=0,\"\",VLOOKUP(all_cars!$D128,week1!$AB:$AJ,6,FALSE))","v":""},{"$f":"IF(SUMIF(week2!$AB:$AB,all_cars!$D128,week2!$AG:$AG)=0,\"\",VLOOKUP(all_cars!$D128,week2!$AB:$AJ,6,FALSE))","v":""},{"$f":"IF(SUMIF(week3!$AB:$AB,all_cars!$D128,week3!$AG:$AG)=0,\"\",VLOOKUP(all_cars!$D128,week3!$AB:$AJ,6,FALSE))","v":""},{"$f":"IF(SUMIF(week4!$AB:$AB,all_cars!$D128,week4!$AG:$AG)=0,\"\",VLOOKUP(all_cars!$D128,week4!$AB:$AJ,6,FALSE))","v":82.475785835163649},{"$f":"IF(SUMIF(week5!$AB:$AB,all_cars!$D128,week5!$AG:$AG)=0,\"\",VLOOKUP(all_cars!$D128,week5!$AB:$AJ,6,FALSE))","v":""},null,{"$f":"IF(SUMIF(week1!$AB:$AB,all_cars!$D128,week1!$AH:$AH)=0,\"\",VLOOKUP(all_cars!$D128,week1!$AB:$AJ,7,FALSE))","v":""},{"$f":"IF(SUMIF(week2!$AB:$AB,all_cars!$D128,week2!$AH:$AH)=0,\"\",VLOOKUP(all_cars!$D128,week2!$AB:$AJ,7,FALSE))","v":""},{"$f":"IF(SUMIF(week3!$AB:$AB,all_cars!$D128,week3!$AH:$AH)=0,\"\",VLOOKUP(all_cars!$D128,week3!$AB:$AJ,7,FALSE))","v":""},{"$f":"IF(SUMIF(week4!$AB:$AB,all_cars!$D128,week4!$AH:$AH)=0,\"\",VLOOKUP(all_cars!$D128,week4!$AB:$AJ,7,FALSE))","v":""},{"$f":"IF(SUMIF(week5!$AB:$AB,all_cars!$D128,week5!$AH:$AH)=0,\"\",VLOOKUP(all_cars!$D128,week5!$AB:$AJ,7,FALSE))","v":""},null,{"$f":"IF(SUMIF(week1!$AB:$AB,all_cars!$D128,week1!$AI:$AI)=0,\"\",VLOOKUP(all_cars!$D128,week1!$AB:$AJ,8,FALSE))","v":""},{"$f":"IF(SUMIF(week2!$AB:$AB,all_cars!$D128,week2!$AI:$AI)=0,\"\",VLOOKUP(all_cars!$D128,week2!$AB:$AJ,8,FALSE))","v":""},{"$f":"IF(SUMIF(week3!$AB:$AB,all_cars!$D128,week3!$AI:$AI)=0,\"\",VLOOKUP(all_cars!$D128,week3!$AB:$AJ,8,FALSE))","v":""},{"$f":"IF(SUMIF(week4!$AB:$AB,all_cars!$D128,week4!$AI:$AI)=0,\"\",VLOOKUP(all_cars!$D128,week4!$AB:$AJ,8,FALSE))","v":""},{"$f":"IF(SUMIF(week5!$AB:$AB,all_cars!$D128,week5!$AI:$AI)=0,\"\",VLOOKUP(all_cars!$D128,week5!$AB:$AJ,8,FALSE))","v":""},null,{"$f":"IF(SUMIF(week1!$AB:$AB,all_cars!$D128,week1!$AJ:$AJ)=0,\"\",VLOOKUP(all_cars!$D128,week1!$AB:$AJ,9,FALSE))","v":""},{"$f":"IF(SUMIF(week2!$AB:$AB,all_cars!$D128,week2!$AJ:$AJ)=0,\"\",VLOOKUP(all_cars!$D128,week2!$AB:$AJ,9,FALSE))","v":""},{"$f":"IF(SUMIF(week3!$AB:$AB,all_cars!$D128,week3!$AJ:$AJ)=0,\"\",VLOOKUP(all_cars!$D128,week3!$AB:$AJ,9,FALSE))","v":""},{"$f":"IF(SUMIF(week4!$AB:$AB,all_cars!$D128,week4!$AJ:$AJ)=0,\"\",VLOOKUP(all_cars!$D128,week4!$AB:$AJ,9,FALSE))","v":79.355936134843631},{"$f":"IF(SUMIF(week5!$AB:$AB,all_cars!$D128,week5!$AJ:$AJ)=0,\"\",VLOOKUP(all_cars!$D128,week5!$AB:$AJ,9,FALSE))","v":""},null,null,null,"DEAD FISH                 ","dire                      "]
[null,null,123,"FliZeR                    ",null,89.089060002905711,71.736188966637044,null,84.483358791129163,null,{"$f":"IF(SUMIF(week1!$AB:$AB,all_cars!$D129,week1!$AF:$AF)=0,\"\",VLOOKUP(all_cars!$D129,week1!$AB:$AJ,5,FALSE))","v":""},{"$f":"IF(SUMIF(week2!$AB:$AB,all_cars!$D129,week2!$AF:$AF)=0,\"\",VLOOKUP(all_cars!$D129,week2!$AB:$AJ,5,FALSE))","v":""},{"$f":"IF(SUMIF(week3!$AB:$AB,all_cars!$D129,week3!$AF:$AF)=0,\"\",VLOOKUP(all_cars!$D129,week3!$AB:$AJ,5,FALSE))","v":""},{"$f":"IF(SUMIF(week4!$AB:$AB,all_cars!$D129,week4!$AF:$AF)=0,\"\",VLOOKUP(all_cars!$D129,week4!$AB:$AJ,5,FALSE))","v":88.374524005077291},{"$f":"IF(SUMIF(week5!$AB:$AB,all_cars!$D129,week5!$AF:$AF)=0,\"\",VLOOKUP(all_cars!$D129,week5!$AB:$AJ,5,FALSE))","v":""},null,{"$f":"IF(SUMIF(week1!$AB:$AB,all_cars!$D129,week1!$AG:$AG)=0,\"\",VLOOKUP(all_cars!$D129,week1!$AB:$AJ,6,FALSE))","v":""},{"$f":"IF(SUMIF(week2!$AB:$AB,all_cars!$D129,week2!$AG:$AG)=0,\"\",VLOOKUP(all_cars!$D129,week2!$AB:$AJ,6,FALSE))","v":""},{"$f":"IF(SUMIF(week3!$AB:$AB,all_cars!$D129,week3!$AG:$AG)=0,\"\",VLOOKUP(all_cars!$D129,week3!$AB:$AJ,6,FALSE))","v":""},{"$f":"IF(SUMIF(week4!$AB:$AB,all_cars!$D129,week4!$AG:$AG)=0,\"\",VLOOKUP(all_cars!$D129,week4!$AB:$AJ,6,FALSE))","v":88.733662189896663},{"$f":"IF(SUMIF(week5!$AB:$AB,all_cars!$D129,week5!$AG:$AG)=0,\"\",VLOOKUP(all_cars!$D129,week5!$AB:$AJ,6,FALSE))","v":""},null,{"$f":"IF(SUMIF(week1!$AB:$AB,all_cars!$D129,week1!$AH:$AH)=0,\"\",VLOOKUP(all_cars!$D129,week1!$AB:$AJ,7,FALSE))","v":""},{"$f":"IF(SUMIF(week2!$AB:$AB,all_cars!$D129,week2!$AH:$AH)=0,\"\",VLOOKUP(all_cars!$D129,week2!$AB:$AJ,7,FALSE))","v":""},{"$f":"IF(SUMIF(week3!$AB:$AB,all_cars!$D129,week3!$AH:$AH)=0,\"\",VLOOKUP(all_cars!$D129,week3!$AB:$AJ,7,FALSE))","v":""},{"$f":"IF(SUMIF(week4!$AB:$AB,all_cars!$D129,week4!$AH:$AH)=0,\"\",VLOOKUP(all_cars!$D129,week4!$AB:$AJ,7,FALSE))","v":""},{"$f":"IF(SUMIF(week5!$AB:$AB,all_cars!$D129,week5!$AH:$AH)=0,\"\",VLOOKUP(all_cars!$D129,week5!$AB:$AJ,7,FALSE))","v":""},null,{"$f":"IF(SUMIF(week1!$AB:$AB,all_cars!$D129,week1!$AI:$AI)=0,\"\",VLOOKUP(all_cars!$D129,week1!$AB:$AJ,8,FALSE))","v":""},{"$f":"IF(SUMIF(week2!$AB:$AB,all_cars!$D129,week2!$AI:$AI)=0,\"\",VLOOKUP(all_cars!$D129,week2!$AB:$AJ,8,FALSE))","v":""},{"$f":"IF(SUMIF(week3!$AB:$AB,all_cars!$D129,week3!$AI:$AI)=0,\"\",VLOOKUP(all_cars!$D129,week3!$AB:$AJ,8,FALSE))","v":""},{"$f":"IF(SUMIF(week4!$AB:$AB,all_cars!$D129,week4!$AI:$AI)=0,\"\",VLOOKUP(all_cars!$D129,week4!$AB:$AJ,8,FALSE))","v":89.089060002905711},{"$f":"IF(SUMIF(week5!$AB:$AB,all_cars!$D129,week5!$AI:$AI)=0,\"\",VLOOKUP(all_cars!$D129,week5!$AB:$AJ,8,FALSE))","v":""},null,{"$f":"IF(SUMIF(week1!$AB:$AB,all_cars!$D129,week1!$AJ:$AJ)=0,\"\",VLOOKUP(all_cars!$D129,week1!$AB:$AJ,9,FALSE))","v":""},{"$f":"IF(SUMIF(week2!$AB:$AB,all_cars!$D129,week2!$AJ:$AJ)=0,\"\",VLOOKUP(all_cars!$D129,week2!$AB:$AJ,9,FALSE))","v":""},{"$f":"IF(SUMIF(week3!$AB:$AB,all_cars!$D129,week3!$AJ:$AJ)=0,\"\",VLOOKUP(all_cars!$D129,week3!$AB:$AJ,9,FALSE))","v":""},{"$f":"IF(SUMIF(week4!$AB:$AB,all_cars!$D129,week4!$AJ:$AJ)=0,\"\",VLOOKUP(all_cars!$D129,week4!$AB:$AJ,9,FALSE))","v":71.736188966637044},{"$f":"IF(SUMIF(week5!$AB:$AB,all_cars!$D129,week5!$AJ:$AJ)=0,\"\",VLOOKUP(all_cars!$D129,week5!$AB:$AJ,9,FALSE))","v":""},null,null,null,"FliZeR                    ","cavani                    "]
[null,null,124,"Xenor                     ",null,90.58090047039498,90.58090047039498,null,90.58090047039498,null,{"$f":"IF(SUMIF(week1!$AB:$AB,all_cars!$D130,week1!$AF:$AF)=0,\"\",VLOOKUP(all_cars!$D130,week1!$AB:$AJ,5,FALSE))","v":""},{"$f":"IF(SUMIF(week2!$AB:$AB,all_cars!$D130,week2!$AF:$AF)=0,\"\",VLOOKUP(all_cars!$D130,week2!$AB:$AJ,5,FALSE))","v":""},{"$f":"IF(SUMIF(week3!$AB:$AB,all_cars!$D130,week3!$AF:$AF)=0,\"\",VLOOKUP(all_cars!$D130,week3!$AB:$AJ,5,FALSE))","v":""},{"$f":"IF(SUMIF(week4!$AB:$AB,all_cars!$D130,week4!$AF:$AF)=0,\"\",VLOOKUP(all_cars!$D130,week4!$AB:$AJ,5,FALSE))","v":90.58090047039498},{"$f":"IF(SUMIF(week5!$AB:$AB,all_cars!$D130,week5!$AF:$AF)=0,\"\",VLOOKUP(all_cars!$D130,week5!$AB:$AJ,5,FALSE))","v":""},null,{"$f":"IF(SUMIF(week1!$AB:$AB,all_cars!$D130,week1!$AG:$AG)=0,\"\",VLOOKUP(all_cars!$D130,week1!$AB:$AJ,6,FALSE))","v":""},{"$f":"IF(SUMIF(week2!$AB:$AB,all_cars!$D130,week2!$AG:$AG)=0,\"\",VLOOKUP(all_cars!$D130,week2!$AB:$AJ,6,FALSE))","v":""},{"$f":"IF(SUMIF(week3!$AB:$AB,all_cars!$D130,week3!$AG:$AG)=0,\"\",VLOOKUP(all_cars!$D130,week3!$AB:$AJ,6,FALSE))","v":""},{"$f":"IF(SUMIF(week4!$AB:$AB,all_cars!$D130,week4!$AG:$AG)=0,\"\",VLOOKUP(all_cars!$D130,week4!$AB:$AJ,6,FALSE))","v":""},{"$f":"IF(SUMIF(week5!$AB:$AB,all_cars!$D130,week5!$AG:$AG)=0,\"\",VLOOKUP(all_cars!$D130,week5!$AB:$AJ,6,FALSE))","v":""},null,{"$f":"IF(SUMIF(week1!$AB:$AB,all_cars!$D130,week1!$AH:$AH)=0,\"\",VLOOKUP(all_cars!$D130,week1!$AB:$AJ,7,FALSE))","v":""},{"$f":"IF(SUMIF(week2!$AB:$AB,all_cars!$D130,week2!$AH:$AH)=0,\"\",VLOOKUP(all_cars!$D130,week2!$AB:$AJ,7,FALSE))","v":""},{"$f":"IF(SUMIF(week3!$AB:$AB,all_cars!$D130,week3!$AH:$AH)=0,\"\",VLOOKUP(all_cars!$D130,week3!$AB:$AJ,7,FALSE))","v":""},{"$f":"IF(SUMIF(week4!$AB:$AB,all_cars!$D130,week4!$AH:$AH)=0,\"\",VLOOKUP(all_cars!$D130,week4!$AB:$AJ,7,FALSE))","v":""},{"$f":"IF(SUMIF(week5!$AB:$AB,all_cars!$D130,week5!$AH:$AH)=0,\"\",VLOOKUP(all_cars!$D130,week5!$AB:$AJ,7,FALSE))","v":""},null,{"$f":"IF(SUMIF(week1!$AB:$AB,all_cars!$D130,week1!$AI:$AI)=0,\"\",VLOOKUP(all_cars!$D130,week1!$AB:$AJ,8,FALSE))","v":""},{"$f":"IF(SUMIF(week2!$AB:$AB,all_cars!$D130,week2!$AI:$AI)=0,\"\",VLOOKUP(all_cars!$D130,week2!$AB:$AJ,8,FALSE))","v":""},{"$f":"IF(SUMIF(week3!$AB:$AB,all_cars!$D130,week3!$AI:$AI)=0,\"\",VLOOKUP(all_cars!$D130,week3!$AB:$AJ,8,FALSE))","v":""},{"$f":"IF(SUMIF(week4!$AB:$AB,all_cars!$D130,week4!$AI:$AI)=0,\"\",VLOOKUP(all_cars!$D130,week4!$AB:$AJ,8,FALSE))","v":""},{"$f":"IF(SUMIF(week5!$AB:$AB,all_cars!$D130,week5!$AI:$AI)=0,\"\",VLOOKUP(all_cars!$D130,week5!$AB:$AJ,8,FALSE))","v":""},null,{"$f":"IF(SUMIF(week1!$AB:$AB,all_cars!$D130,week1!$AJ:$AJ)=0,\"\",VLOOKUP(all_cars!$D130,week1!$AB:$AJ,9,FALSE))","v":""},{"$f":"IF(SUMIF(week2!$AB:$AB,all_cars!$D130,week2!$AJ:$AJ)=0,\"\",VLOOKUP(all_cars!$D130,week2!$AB:$AJ,9,FALSE))","v":""},{"$f":"IF(SUMIF(week3!$AB:$AB,all_cars!$D130,week3!$AJ:$AJ)=0,\"\",VLOOKUP(all_cars!$D130,week3!$AB:$AJ,9,FALSE))","v":""},{"$f":"IF(SUMIF(week4!$AB:$AB,all_cars!$D130,week4!$AJ:$AJ)=0,\"\",VLOOKUP(all_cars!$D130,week4!$AB:$AJ,9,FALSE))","v":""},{"$f":"IF(SUMIF(week5!$AB:$AB,all_cars!$D130,week5!$AJ:$AJ)=0,\"\",VLOOKUP(all_cars!$D130,week5!$AB:$AJ,9,FALSE))","v":""},null,null,null,"Xenor                     ","Ninjinha_br               "]
[null,null,125,"[iR] Etmil                ",null,62.733590177510543,62.733590177510543,null,62.733590177510543,null,{"$f":"IF(SUMIF(week1!$AB:$AB,all_cars!$D131,week1!$AF:$AF)=0,\"\",VLOOKUP(all_cars!$D131,week1!$AB:$AJ,5,FALSE))","v":""},{"$f":"IF(SUMIF(week2!$AB:$AB,all_cars!$D131,week2!$AF:$AF)=0,\"\",VLOOKUP(all_cars!$D131,week2!$AB:$AJ,5,FALSE))","v":""},{"$f":"IF(SUMIF(week3!$AB:$AB,all_cars!$D131,week3!$AF:$AF)=0,\"\",VLOOKUP(all_cars!$D131,week3!$AB:$AJ,5,FALSE))","v":""},{"$f":"IF(SUMIF(week4!$AB:$AB,all_cars!$D131,week4!$AF:$AF)=0,\"\",VLOOKUP(all_cars!$D131,week4!$AB:$AJ,5,FALSE))","v":""},{"$f":"IF(SUMIF(week5!$AB:$AB,all_cars!$D131,week5!$AF:$AF)=0,\"\",VLOOKUP(all_cars!$D131,week5!$AB:$AJ,5,FALSE))","v":""},null,{"$f":"IF(SUMIF(week1!$AB:$AB,all_cars!$D131,week1!$AG:$AG)=0,\"\",VLOOKUP(all_cars!$D131,week1!$AB:$AJ,6,FALSE))","v":""},{"$f":"IF(SUMIF(week2!$AB:$AB,all_cars!$D131,week2!$AG:$AG)=0,\"\",VLOOKUP(all_cars!$D131,week2!$AB:$AJ,6,FALSE))","v":""},{"$f":"IF(SUMIF(week3!$AB:$AB,all_cars!$D131,week3!$AG:$AG)=0,\"\",VLOOKUP(all_cars!$D131,week3!$AB:$AJ,6,FALSE))","v":""},{"$f":"IF(SUMIF(week4!$AB:$AB,all_cars!$D131,week4!$AG:$AG)=0,\"\",VLOOKUP(all_cars!$D131,week4!$AB:$AJ,6,FALSE))","v":62.733590177510543},{"$f":"IF(SUMIF(week5!$AB:$AB,all_cars!$D131,week5!$AG:$AG)=0,\"\",VLOOKUP(all_cars!$D131,week5!$AB:$AJ,6,FALSE))","v":""},null,{"$f":"IF(SUMIF(week1!$AB:$AB,all_cars!$D131,week1!$AH:$AH)=0,\"\",VLOOKUP(all_cars!$D131,week1!$AB:$AJ,7,FALSE))","v":""},{"$f":"IF(SUMIF(week2!$AB:$AB,all_cars!$D131,week2!$AH:$AH)=0,\"\",VLOOKUP(all_cars!$D131,week2!$AB:$AJ,7,FALSE))","v":""},{"$f":"IF(SUMIF(week3!$AB:$AB,all_cars!$D131,week3!$AH:$AH)=0,\"\",VLOOKUP(all_cars!$D131,week3!$AB:$AJ,7,FALSE))","v":""},{"$f":"IF(SUMIF(week4!$AB:$AB,all_cars!$D131,week4!$AH:$AH)=0,\"\",VLOOKUP(all_cars!$D131,week4!$AB:$AJ,7,FALSE))","v":""},{"$f":"IF(SUMIF(week5!$AB:$AB,all_cars!$D131,week5!$AH:$AH)=0,\"\",VLOOKUP(all_cars!$D131,week5!$AB:$AJ,7,FALSE))","v":""},null,{"$f":"IF(SUMIF(week1!$AB:$AB,all_cars!$D131,week1!$AI:$AI)=0,\"\",VLOOKUP(all_cars!$D131,week1!$AB:$AJ,8,FALSE))","v":""},{"$f":"IF(SUMIF(week2!$AB:$AB,all_cars!$D131,week2!$AI:$AI)=0,\"\",VLOOKUP(all_cars!$D131,week2!$AB:$AJ,8,FALSE))","v":""},{"$f":"IF(SUMIF(week3!$AB:$AB,all_cars!$D131,week3!$AI:$AI)=0,\"\",VLOOKUP(all_cars!$D131,week3!$AB:$AJ,8,FALSE))","v":""},{"$f":"IF(SUMIF(week4!$AB:$AB,all_cars!$D131,week4!$AI:$AI)=0,\"\",VLOOKUP(all_cars!$D131,week4!$AB:$AJ,8,FALSE))","v":""},{"$f":"IF(SUMIF(week5!$AB:$AB,all_cars!$D131,week5!$AI:$AI)=0,\"\",VLOOKUP(all_cars!$D131,week5!$AB:$AJ,8,FALSE))","v":""},null,{"$f":"IF(SUMIF(week1!$AB:$AB,all_cars!$D131,week1!$AJ:$AJ)=0,\"\",VLOOKUP(all_cars!$D131,week1!$AB:$AJ,9,FALSE))","v":""},{"$f":"IF(SUMIF(week2!$AB:$AB,all_cars!$D131,week2!$AJ:$AJ)=0,\"\",VLOOKUP(all_cars!$D131,week2!$AB:$AJ,9,FALSE))","v":""},{"$f":"IF(SUMIF(week3!$AB:$AB,all_cars!$D131,week3!$AJ:$AJ)=0,\"\",VLOOKUP(all_cars!$D131,week3!$AB:$AJ,9,FALSE))","v":""},{"$f":"IF(SUMIF(week4!$AB:$AB,all_cars!$D131,week4!$AJ:$AJ)=0,\"\",VLOOKUP(all_cars!$D131,week4!$AB:$AJ,9,FALSE))","v":""},{"$f":"IF(SUMIF(week5!$AB:$AB,all_cars!$D131,week5!$AJ:$AJ)=0,\"\",VLOOKUP(all_cars!$D131,week5!$AB:$AJ,9,FALSE))","v":""},null,null,null,"[iR] Etmil                ","bohun                     "]
[null,null,126,"I-IenR!Kubica             ",null,46.68562992834768,46.68562992834768,null,46.68562992834768,null,{"$f":"IF(SUMIF(week1!$AB:$AB,all_cars!$D132,week1!$AF:$AF)=0,\"\",VLOOKUP(all_cars!$D132,week1!$AB:$AJ,5,FALSE))","v":""},{"$f":"IF(SUMIF(week2!$AB:$AB,all_cars!$D132,week2!$AF:$AF)=0,\"\",VLOOKUP(all_cars!$D132,week2!$AB:$AJ,5,FALSE))","v":""},{"$f":"IF(SUMIF(week3!$AB:$AB,all_cars!$D132,week3!$AF:$AF)=0,\"\",VLOOKUP(all_cars!$D132,week3!$AB:$AJ,5,FALSE))","v":""},{"$f":"IF(SUMIF(week4!$AB:$AB,all_cars!$D132,week4!$AF:$AF)=0,\"\",VLOOKUP(all_cars!$D132,week4!$AB:$AJ,5,FALSE))","v":""},{"$f":"IF(SUMIF(week5!$AB:$AB,all_cars!$D132,week5!$AF:$AF)=0,\"\",VLOOKUP(all_cars!$D132,week5!$AB:$AJ,5,FALSE))","v":""},null,{"$f":"IF(SUMIF(week1!$AB:$AB,all_cars!$D132,week1!$AG:$AG)=0,\"\",VLOOKUP(all_cars!$D132,week1!$AB:$AJ,6,FALSE))","v":""},{"$f":"IF(SUMIF(week2!$AB:$AB,all_cars!$D132,week2!$AG:$AG)=0,\"\",VLOOKUP(all_cars!$D132,week2!$AB:$AJ,6,FALSE))","v":""},{"$f":"IF(SUMIF(week3!$AB:$AB,all_cars!$D132,week3!$AG:$AG)=0,\"\",VLOOKUP(all_cars!$D132,week3!$AB:$AJ,6,FALSE))","v":""},{"$f":"IF(SUMIF(week4!$AB:$AB,all_cars!$D132,week4!$AG:$AG)=0,\"\",VLOOKUP(all_cars!$D132,week4!$AB:$AJ,6,FALSE))","v":46.68562992834768},{"$f":"IF(SUMIF(week5!$AB:$AB,all_cars!$D132,week5!$AG:$AG)=0,\"\",VLOOKUP(all_cars!$D132,week5!$AB:$AJ,6,FALSE))","v":""},null,{"$f":"IF(SUMIF(week1!$AB:$AB,all_cars!$D132,week1!$AH:$AH)=0,\"\",VLOOKUP(all_cars!$D132,week1!$AB:$AJ,7,FALSE))","v":""},{"$f":"IF(SUMIF(week2!$AB:$AB,all_cars!$D132,week2!$AH:$AH)=0,\"\",VLOOKUP(all_cars!$D132,week2!$AB:$AJ,7,FALSE))","v":""},{"$f":"IF(SUMIF(week3!$AB:$AB,all_cars!$D132,week3!$AH:$AH)=0,\"\",VLOOKUP(all_cars!$D132,week3!$AB:$AJ,7,FALSE))","v":""},{"$f":"IF(SUMIF(week4!$AB:$AB,all_cars!$D132,week4!$AH:$AH)=0,\"\",VLOOKUP(all_cars!$D132,week4!$AB:$AJ,7,FALSE))","v":""},{"$f":"IF(SUMIF(week5!$AB:$AB,all_cars!$D132,week5!$AH:$AH)=0,\"\",VLOOKUP(all_cars!$D132,week5!$AB:$AJ,7,FALSE))","v":""},null,{"$f":"IF(SUMIF(week1!$AB:$AB,all_cars!$D132,week1!$AI:$AI)=0,\"\",VLOOKUP(all_cars!$D132,week1!$AB:$AJ,8,FALSE))","v":""},{"$f":"IF(SUMIF(week2!$AB:$AB,all_cars!$D132,week2!$AI:$AI)=0,\"\",VLOOKUP(all_cars!$D132,week2!$AB:$AJ,8,FALSE))","v":""},{"$f":"IF(SUMIF(week3!$AB:$AB,all_cars!$D132,week3!$AI:$AI)=0,\"\",VLOOKUP(all_cars!$D132,week3!$AB:$AJ,8,FALSE))","v":""},{"$f":"IF(SUMIF(week4!$AB:$AB,all_cars!$D132,week4!$AI:$AI)=0,\"\",VLOOKUP(all_cars!$D132,week4!$AB:$AJ,8,FALSE))","v":""},{"$f":"IF(SUMIF(week5!$AB:$AB,all_cars!$D132,week5!$AI:$AI)=0,\"\",VLOOKUP(all_cars!$D132,week5!$AB:$AJ,8,FALSE))","v":""},null,{"$f":"IF(SUMIF(week1!$AB:$AB,all_cars!$D132,week1!$AJ:$AJ)=0,\"\",VLOOKUP(all_cars!$D132,week1!$AB:$AJ,9,FALSE))","v":""},{"$f":"IF(SUMIF(week2!$AB:$AB,all_cars!$D132,week2!$AJ:$AJ)=0,\"\",VLOOKUP(all_cars!$D132,week2!$AB:$AJ,9,FALSE))","v":""},{"$f":"IF(SUMIF(week3!$AB:$AB,all_cars!$D132,week3!$AJ:$AJ)=0,\"\",VLOOKUP(all_cars!$D132,week3!$AB:$AJ,9,FALSE))","v":""},{"$f":"IF(SUMIF(week4!$AB:$AB,all_cars!$D132,week4!$AJ:$AJ)=0,\"\",VLOOKUP(all_cars!$D132,week4!$AB:$AJ,9,FALSE))","v":""},{"$f":"IF(SUMIF(week5!$AB:$AB,all_cars!$D132,week5!$AJ:$AJ)=0,\"\",VLOOKUP(all_cars!$D132,week5!$AB:$AJ,9,FALSE))","v":""},null,null,null,"I-IenR!Kubica             ","Rub                       "]
[null,null,127,"Sami                      ",null,{"$f":"IF($I133=\"\",0,MAX($K133:$AM133))","v":97.138047138047142},{"$f":"IF($I133=\"\",0,MIN($K133:$AM133))","v":93.637589062199112},null,{"$f":"IF(COUNT(K133:AM133)=0,0,SUM(K133:AM133)/COUNT(K133:AM133))","v":95.802986054245252},null,{"$f":"IF(SUMIF(week1!$AB:$AB,all_cars!$D133,week1!$AF:$AF)=0,\"\",VLOOKUP(all_cars!$D133,week1!$AB:$AJ,5,FALSE))","v":""},{"$f":"IF(SUMIF(week2!$AB:$AB,all_cars!$D133,week2!$AF:$AF)=0,\"\",VLOOKUP(all_cars!$D133,week2!$AB:$AJ,5,FALSE))","v":""},{"$f":"IF(SUMIF(week3!$AB:$AB,all_cars!$D133,week3!$AF:$AF)=0,\"\",VLOOKUP(all_cars!$D133,week3!$AB:$AJ,5,FALSE))","v":""},{"$f":"IF(SUMIF(week4!$AB:$AB,all_cars!$D133,week4!$AF:$AF)=0,\"\",VLOOKUP(all_cars!$D133,week4!$AB:$AJ,5,FALSE))","v":""},{"$f":"IF(SUMIF(week5!$AB:$AB,all_cars!$D133,week5!$AF:$AF)=0,\"\",VLOOKUP(all_cars!$D133,week5!$AB:$AJ,5,FALSE))","v":97.021789116391119},null,{"$f":"IF(SUMIF(week1!$AB:$AB,all_cars!$D133,week1!$AG:$AG)=0,\"\",VLOOKUP(all_cars!$D133,week1!$AB:$AJ,6,FALSE))","v":""},{"$f":"IF(SUMIF(week2!$AB:$AB,all_cars!$D133,week2!$AG:$AG)=0,\"\",VLOOKUP(all_cars!$D133,week2!$AB:$AJ,6,FALSE))","v":""},{"$f":"IF(SUMIF(week3!$AB:$AB,all_cars!$D133,week3!$AG:$AG)=0,\"\",VLOOKUP(all_cars!$D133,week3!$AB:$AJ,6,FALSE))","v":""},{"$f":"IF(SUMIF(week4!$AB:$AB,all_cars!$D133,week4!$AG:$AG)=0,\"\",VLOOKUP(all_cars!$D133,week4!$AB:$AJ,6,FALSE))","v":""},{"$f":"IF(SUMIF(week5!$AB:$AB,all_cars!$D133,week5!$AG:$AG)=0,\"\",VLOOKUP(all_cars!$D133,week5!$AB:$AJ,6,FALSE))","v":95.414518900343651},null,{"$f":"IF(SUMIF(week1!$AB:$AB,all_cars!$D133,week1!$AH:$AH)=0,\"\",VLOOKUP(all_cars!$D133,week1!$AB:$AJ,7,FALSE))","v":""},{"$f":"IF(SUMIF(week2!$AB:$AB,all_cars!$D133,week2!$AH:$AH)=0,\"\",VLOOKUP(all_cars!$D133,week2!$AB:$AJ,7,FALSE))","v":""},{"$f":"IF(SUMIF(week3!$AB:$AB,all_cars!$D133,week3!$AH:$AH)=0,\"\",VLOOKUP(all_cars!$D133,week3!$AB:$AJ,7,FALSE))","v":""},{"$f":"IF(SUMIF(week4!$AB:$AB,all_cars!$D133,week4!$AH:$AH)=0,\"\",VLOOKUP(all_cars!$D133,week4!$AB:$AJ,7,FALSE))","v":""},{"$f":"IF(SUMIF(week5!$AB:$AB,all_cars!$D133,week5!$AH:$AH)=0,\"\",VLOOKUP(all_cars!$D133,week5!$AB:$AJ,7,FALSE))","v":97.138047138047142},null,{"$f":"IF(SUMIF(week1!$AB:$AB,all_cars!$D133,week1!$AI:$AI)=0,\"\",VLOOKUP(all_cars!$D133,week1!$AB:$AJ,8,FALSE))","v":""},{"$f":"IF(SUMIF(week2!$AB:$AB,all_cars!$D133,week2!$AI:$AI)=0,\"\",VLOOKUP(all_cars!$D133,week2!$AB:$AJ,8,FALSE))","v":""},{"$f":"IF(SUMIF(week3!$AB:$AB,all_cars!$D133,week3!$AI:$AI)=0,\"\",VLOOKUP(all_cars!$D133,week3!$AB:$AJ,8,FALSE))","v":""},{"$f":"IF(SUMIF(week4!$AB:$AB,all_cars!$D133,week4!$AI:$AI)=0,\"\",VLOOKUP(all_cars!$D133,week4!$AB:$AJ,8,FALSE))","v":""},{"$f":"IF(SUMIF(week5!$AB:$AB,all_cars!$D133,week5!$AI:$AI)=0,\"\",VLOOKUP(all_cars!$D133,week5!$AB:$AJ,8,FALSE))","v":""},null,{"$f":"IF(SUMIF(week1!$AB:$AB,all_cars!$D133,week1!$AJ:$AJ)=0,\"\",VLOOKUP(all_cars!$D133,week1!$AB:$AJ,9,FALSE))","v":""},{"$f":"IF(SUMIF(week2!$AB:$AB,all_cars!$D133,week2!$AJ:$AJ)=0,\"\",VLOOKUP(all_cars!$D133,week2!$AB:$AJ,9,FALSE))","v":""},{"$f":"IF(SUMIF(week3!$AB:$AB,all_cars!$D133,week3!$AJ:$AJ)=0,\"\",VLOOKUP(all_cars!$D133,week3!$AB:$AJ,9,FALSE))","v":""},{"$f":"IF(SUMIF(week4!$AB:$AB,all_cars!$D133,week4!$AJ:$AJ)=0,\"\",VLOOKUP(all_cars!$D133,week4!$AB:$AJ,9,FALSE))","v":""},{"$f":"IF(SUMIF(week5!$AB:$AB,all_cars!$D133,week5!$AJ:$AJ)=0,\"\",VLOOKUP(all_cars!$D133,week5!$AB:$AJ,9,FALSE))","v":93.637589062199112},null,null,null,"Sami                      ","Kooler                    "]
[null,null,128,"Wokinger                  ",null,98.215263330778498,86.525688435716077,null,92.050209736749395,null,{"$f":"IF(SUMIF(week1!$AB:$AB,all_cars!$D134,week1!$AF:$AF)=0,\"\",VLOOKUP(all_cars!$D134,week1!$AB:$AJ,5,FALSE))","v":""},{"$f":"IF(SUMIF(week2!$AB:$AB,all_cars!$D134,week2!$AF:$AF)=0,\"\",VLOOKUP(all_cars!$D134,week2!$AB:$AJ,5,FALSE))","v":""},{"$f":"IF(SUMIF(week3!$AB:$AB,all_cars!$D134,week3!$AF:$AF)=0,\"\",VLOOKUP(all_cars!$D134,week3!$AB:$AJ,5,FALSE))","v":""},{"$f":"IF(SUMIF(week4!$AB:$AB,all_cars!$D134,week4!$AF:$AF)=0,\"\",VLOOKUP(all_cars!$D134,week4!$AB:$AJ,5,FALSE))","v":""},{"$f":"IF(SUMIF(week5!$AB:$AB,all_cars!$D134,week5!$AF:$AF)=0,\"\",VLOOKUP(all_cars!$D134,week5!$AB:$AJ,5,FALSE))","v":98.215263330778498},null,{"$f":"IF(SUMIF(week1!$AB:$AB,all_cars!$D134,week1!$AG:$AG)=0,\"\",VLOOKUP(all_cars!$D134,week1!$AB:$AJ,6,FALSE))","v":""},{"$f":"IF(SUMIF(week2!$AB:$AB,all_cars!$D134,week2!$AG:$AG)=0,\"\",VLOOKUP(all_cars!$D134,week2!$AB:$AJ,6,FALSE))","v":""},{"$f":"IF(SUMIF(week3!$AB:$AB,all_cars!$D134,week3!$AG:$AG)=0,\"\",VLOOKUP(all_cars!$D134,week3!$AB:$AJ,6,FALSE))","v":""},{"$f":"IF(SUMIF(week4!$AB:$AB,all_cars!$D134,week4!$AG:$AG)=0,\"\",VLOOKUP(all_cars!$D134,week4!$AB:$AJ,6,FALSE))","v":""},{"$f":"IF(SUMIF(week5!$AB:$AB,all_cars!$D134,week5!$AG:$AG)=0,\"\",VLOOKUP(all_cars!$D134,week5!$AB:$AJ,6,FALSE))","v":92.872995418098512},null,{"$f":"IF(SUMIF(week1!$AB:$AB,all_cars!$D134,week1!$AH:$AH)=0,\"\",VLOOKUP(all_cars!$D134,week1!$AB:$AJ,7,FALSE))","v":""},{"$f":"IF(SUMIF(week2!$AB:$AB,all_cars!$D134,week2!$AH:$AH)=0,\"\",VLOOKUP(all_cars!$D134,week2!$AB:$AJ,7,FALSE))","v":""},{"$f":"IF(SUMIF(week3!$AB:$AB,all_cars!$D134,week3!$AH:$AH)=0,\"\",VLOOKUP(all_cars!$D134,week3!$AB:$AJ,7,FALSE))","v":""},{"$f":"IF(SUMIF(week4!$AB:$AB,all_cars!$D134,week4!$AH:$AH)=0,\"\",VLOOKUP(all_cars!$D134,week4!$AB:$AJ,7,FALSE))","v":""},{"$f":"IF(SUMIF(week5!$AB:$AB,all_cars!$D134,week5!$AH:$AH)=0,\"\",VLOOKUP(all_cars!$D134,week5!$AB:$AJ,7,FALSE))","v":95.508274231678485},null,{"$f":"IF(SUMIF(week1!$AB:$AB,all_cars!$D134,week1!$AI:$AI)=0,\"\",VLOOKUP(all_cars!$D134,week1!$AB:$AJ,8,FALSE))","v":""},{"$f":"IF(SUMIF(week2!$AB:$AB,all_cars!$D134,week2!$AI:$AI)=0,\"\",VLOOKUP(all_cars!$D134,week2!$AB:$AJ,8,FALSE))","v":""},{"$f":"IF(SUMIF(week3!$AB:$AB,all_cars!$D134,week3!$AI:$AI)=0,\"\",VLOOKUP(all_cars!$D134,week3!$AB:$AJ,8,FALSE))","v":""},{"$f":"IF(SUMIF(week4!$AB:$AB,all_cars!$D134,week4!$AI:$AI)=0,\"\",VLOOKUP(all_cars!$D134,week4!$AB:$AJ,8,FALSE))","v":""},{"$f":"IF(SUMIF(week5!$AB:$AB,all_cars!$D134,week5!$AI:$AI)=0,\"\",VLOOKUP(all_cars!$D134,week5!$AB:$AJ,8,FALSE))","v":86.525688435716077},null,{"$f":"IF(SUMIF(week1!$AB:$AB,all_cars!$D134,week1!$AJ:$AJ)=0,\"\",VLOOKUP(all_cars!$D134,week1!$AB:$AJ,9,FALSE))","v":""},{"$f":"IF(SUMIF(week2!$AB:$AB,all_cars!$D134,week2!$AJ:$AJ)=0,\"\",VLOOKUP(all_cars!$D134,week2!$AB:$AJ,9,FALSE))","v":""},{"$f":"IF(SUMIF(week3!$AB:$AB,all_cars!$D134,week3!$AJ:$AJ)=0,\"\",VLOOKUP(all_cars!$D134,week3!$AB:$AJ,9,FALSE))","v":""},{"$f":"IF(SUMIF(week4!$AB:$AB,all_cars!$D134,week4!$AJ:$AJ)=0,\"\",VLOOKUP(all_cars!$D134,week4!$AB:$AJ,9,FALSE))","v":""},{"$f":"IF(SUMIF(week5!$AB:$AB,all_cars!$D134,week5!$AJ:$AJ)=0,\"\",VLOOKUP(all_cars!$D134,week5!$AB:$AJ,9,FALSE))","v":87.128827267475458},null,null,null,"Wokinger                  ","KORINGA                   "]
[null,null,129,"T                         ",null,96.262637322530026,91.738258877434134,null,94.00044809998208,null,{"$f":"IF(SUMIF(week1!$AB:$AB,all_cars!$D135,week1!$AF:$AF)=0,\"\",VLOOKUP(all_cars!$D135,week1!$AB:$AJ,5,FALSE))","v":""},{"$f":"IF(SUMIF(week2!$AB:$AB,all_cars!$D135,week2!$AF:$AF)=0,\"\",VLOOKUP(all_cars!$D135,week2!$AB:$AJ,5,FALSE))","v":""},{"$f":"IF(SUMIF(week3!$AB:$AB,all_cars!$D135,week3!$AF:$AF)=0,\"\",VLOOKUP(all_cars!$D135,week3!$AB:$AJ,5,FALSE))","v":""},{"$f":"IF(SUMIF(week4!$AB:$AB,all_cars!$D135,week4!$AF:$AF)=0,\"\",VLOOKUP(all_cars!$D135,week4!$AB:$AJ,5,FALSE))","v":""},{"$f":"IF(SUMIF(week5!$AB:$AB,all_cars!$D135,week5!$AF:$AF)=0,\"\",VLOOKUP(all_cars!$D135,week5!$AB:$AJ,5,FALSE))","v":96.262637322530026},null,{"$f":"IF(SUMIF(week1!$AB:$AB,all_cars!$D135,week1!$AG:$AG)=0,\"\",VLOOKUP(all_cars!$D135,week1!$AB:$AJ,6,FALSE))","v":""},{"$f":"IF(SUMIF(week2!$AB:$AB,all_cars!$D135,week2!$AG:$AG)=0,\"\",VLOOKUP(all_cars!$D135,week2!$AB:$AJ,6,FALSE))","v":""},{"$f":"IF(SUMIF(week3!$AB:$AB,all_cars!$D135,week3!$AG:$AG)=0,\"\",VLOOKUP(all_cars!$D135,week3!$AB:$AJ,6,FALSE))","v":""},{"$f":"IF(SUMIF(week4!$AB:$AB,all_cars!$D135,week4!$AG:$AG)=0,\"\",VLOOKUP(all_cars!$D135,week4!$AB:$AJ,6,FALSE))","v":""},{"$f":"IF(SUMIF(week5!$AB:$AB,all_cars!$D135,week5!$AG:$AG)=0,\"\",VLOOKUP(all_cars!$D135,week5!$AB:$AJ,6,FALSE))","v":91.738258877434134},null,{"$f":"IF(SUMIF(week1!$AB:$AB,all_cars!$D135,week1!$AH:$AH)=0,\"\",VLOOKUP(all_cars!$D135,week1!$AB:$AJ,7,FALSE))","v":""},{"$f":"IF(SUMIF(week2!$AB:$AB,all_cars!$D135,week2!$AH:$AH)=0,\"\",VLOOKUP(all_cars!$D135,week2!$AB:$AJ,7,FALSE))","v":""},{"$f":"IF(SUMIF(week3!$AB:$AB,all_cars!$D135,week3!$AH:$AH)=0,\"\",VLOOKUP(all_cars!$D135,week3!$AB:$AJ,7,FALSE))","v":""},{"$f":"IF(SUMIF(week4!$AB:$AB,all_cars!$D135,week4!$AH:$AH)=0,\"\",VLOOKUP(all_cars!$D135,week4!$AB:$AJ,7,FALSE))","v":""},{"$f":"IF(SUMIF(week5!$AB:$AB,all_cars!$D135,week5!$AH:$AH)=0,\"\",VLOOKUP(all_cars!$D135,week5!$AB:$AJ,7,FALSE))","v":""},null,{"$f":"IF(SUMIF(week1!$AB:$AB,all_cars!$D135,week1!$AI:$AI)=0,\"\",VLOOKUP(all_cars!$D135,week1!$AB:$AJ,8,FALSE))","v":""},{"$f":"IF(SUMIF(week2!$AB:$AB,all_cars!$D135,week2!$AI:$AI)=0,\"\",VLOOKUP(all_cars!$D135,week2!$AB:$AJ,8,FALSE))","v":""},{"$f":"IF(SUMIF(week3!$AB:$AB,all_cars!$D135,week3!$AI:$AI)=0,\"\",VLOOKUP(all_cars!$D135,week3!$AB:$AJ,8,FALSE))","v":""},{"$f":"IF(SUMIF(week4!$AB:$AB,all_cars!$D135,week4!$AI:$AI)=0,\"\",VLOOKUP(all_cars!$D135,week4!$AB:$AJ,8,FALSE))","v":""},{"$f":"IF(SUMIF(week5!$AB:$AB,all_cars!$D135,week5!$AI:$AI)=0,\"\",VLOOKUP(all_cars!$D135,week5!$AB:$AJ,8,FALSE))","v":""},null,{"$f":"IF(SUMIF(week1!$AB:$AB,all_cars!$D135,week1!$AJ:$AJ)=0,\"\",VLOOKUP(all_cars!$D135,week1!$AB:$AJ,9,FALSE))","v":""},{"$f":"IF(SUMIF(week2!$AB:$AB,all_cars!$D135,week2!$AJ:$AJ)=0,\"\",VLOOKUP(all_cars!$D135,week2!$AB:$AJ,9,FALSE))","v":""},{"$f":"IF(SUMIF(week3!$AB:$AB,all_cars!$D135,week3!$AJ:$AJ)=0,\"\",VLOOKUP(all_cars!$D135,week3!$AB:$AJ,9,FALSE))","v":""},{"$f":"IF(SUMIF(week4!$AB:$AB,all_cars!$D135,week4!$AJ:$AJ)=0,\"\",VLOOKUP(all_cars!$D135,week4!$AB:$AJ,9,FALSE))","v":""},{"$f":"IF(SUMIF(week5!$AB:$AB,all_cars!$D135,week5!$AJ:$AJ)=0,\"\",VLOOKUP(all_cars!$D135,week5!$AB:$AJ,9,FALSE))","v":""},null,null,null,"T                         ","Oppy                      "]
[null,null,130,"|/|/ | |_ |_ | E          ",null,96.988941202233661,96.988941202233661,null,96.988941202233661,null,{"$f":"IF(SUMIF(week1!$AB:$AB,all_cars!$D136,week1!$AF:$AF)=0,\"\",VLOOKUP(all_cars!$D136,week1!$AB:$AJ,5,FALSE))","v":""},{"$f":"IF(SUMIF(week2!$AB:$AB,all_cars!$D136,week2!$AF:$AF)=0,\"\",VLOOKUP(all_cars!$D136,week2!$AB:$AJ,5,FALSE))","v":""},{"$f":"IF(SUMIF(week3!$AB:$AB,all_cars!$D136,week3!$AF:$AF)=0,\"\",VLOOKUP(all_cars!$D136,week3!$AB:$AJ,5,FALSE))","v":""},{"$f":"IF(SUMIF(week4!$AB:$AB,all_cars!$D136,week4!$AF:$AF)=0,\"\",VLOOKUP(all_cars!$D136,week4!$AB:$AJ,5,FALSE))","v":""},{"$f":"IF(SUMIF(week5!$AB:$AB,all_cars!$D136,week5!$AF:$AF)=0,\"\",VLOOKUP(all_cars!$D136,week5!$AB:$AJ,5,FALSE))","v":96.988941202233661},null,{"$f":"IF(SUMIF(week1!$AB:$AB,all_cars!$D136,week1!$AG:$AG)=0,\"\",VLOOKUP(all_cars!$D136,week1!$AB:$AJ,6,FALSE))","v":""},{"$f":"IF(SUMIF(week2!$AB:$AB,all_cars!$D136,week2!$AG:$AG)=0,\"\",VLOOKUP(all_cars!$D136,week2!$AB:$AJ,6,FALSE))","v":""},{"$f":"IF(SUMIF(week3!$AB:$AB,all_cars!$D136,week3!$AG:$AG)=0,\"\",VLOOKUP(all_cars!$D136,week3!$AB:$AJ,6,FALSE))","v":""},{"$f":"IF(SUMIF(week4!$AB:$AB,all_cars!$D136,week4!$AG:$AG)=0,\"\",VLOOKUP(all_cars!$D136,week4!$AB:$AJ,6,FALSE))","v":""},{"$f":"IF(SUMIF(week5!$AB:$AB,all_cars!$D136,week5!$AG:$AG)=0,\"\",VLOOKUP(all_cars!$D136,week5!$AB:$AJ,6,FALSE))","v":""},null,{"$f":"IF(SUMIF(week1!$AB:$AB,all_cars!$D136,week1!$AH:$AH)=0,\"\",VLOOKUP(all_cars!$D136,week1!$AB:$AJ,7,FALSE))","v":""},{"$f":"IF(SUMIF(week2!$AB:$AB,all_cars!$D136,week2!$AH:$AH)=0,\"\",VLOOKUP(all_cars!$D136,week2!$AB:$AJ,7,FALSE))","v":""},{"$f":"IF(SUMIF(week3!$AB:$AB,all_cars!$D136,week3!$AH:$AH)=0,\"\",VLOOKUP(all_cars!$D136,week3!$AB:$AJ,7,FALSE))","v":""},{"$f":"IF(SUMIF(week4!$AB:$AB,all_cars!$D136,week4!$AH:$AH)=0,\"\",VLOOKUP(all_cars!$D136,week4!$AB:$AJ,7,FALSE))","v":""},{"$f":"IF(SUMIF(week5!$AB:$AB,all_cars!$D136,week5!$AH:$AH)=0,\"\",VLOOKUP(all_cars!$D136,week5!$AB:$AJ,7,FALSE))","v":""},null,{"$f":"IF(SUMIF(week1!$AB:$AB,all_cars!$D136,week1!$AI:$AI)=0,\"\",VLOOKUP(all_cars!$D136,week1!$AB:$AJ,8,FALSE))","v":""},{"$f":"IF(SUMIF(week2!$AB:$AB,all_cars!$D136,week2!$AI:$AI)=0,\"\",VLOOKUP(all_cars!$D136,week2!$AB:$AJ,8,FALSE))","v":""},{"$f":"IF(SUMIF(week3!$AB:$AB,all_cars!$D136,week3!$AI:$AI)=0,\"\",VLOOKUP(all_cars!$D136,week3!$AB:$AJ,8,FALSE))","v":""},{"$f":"IF(SUMIF(week4!$AB:$AB,all_cars!$D136,week4!$AI:$AI)=0,\"\",VLOOKUP(all_cars!$D136,week4!$AB:$AJ,8,FALSE))","v":""},{"$f":"IF(SUMIF(week5!$AB:$AB,all_cars!$D136,week5!$AI:$AI)=0,\"\",VLOOKUP(all_cars!$D136,week5!$AB:$AJ,8,FALSE))","v":""},null,{"$f":"IF(SUMIF(week1!$AB:$AB,all_cars!$D136,week1!$AJ:$AJ)=0,\"\",VLOOKUP(all_cars!$D136,week1!$AB:$AJ,9,FALSE))","v":""},{"$f":"IF(SUMIF(week2!$AB:$AB,all_cars!$D136,week2!$AJ:$AJ)=0,\"\",VLOOKUP(all_cars!$D136,week2!$AB:$AJ,9,FALSE))","v":""},{"$f":"IF(SUMIF(week3!$AB:$AB,all_cars!$D136,week3!$AJ:$AJ)=0,\"\",VLOOKUP(all_cars!$D136,week3!$AB:$AJ,9,FALSE))","v":""},{"$f":"IF(SUMIF(week4!$AB:$AB,all_cars!$D136,week4!$AJ:$AJ)=0,\"\",VLOOKUP(all_cars!$D136,week4!$AB:$AJ,9,FALSE))","v":""},{"$f":"IF(SUMIF(week5!$AB:$AB,all_cars!$D136,week5!$AJ:$AJ)=0,\"\",VLOOKUP(all_cars!$D136,week5!$AB:$AJ,9,FALSE))","v":""},null,null,null,"|/|/ | |_ |_ | E          ","[+] Tinjovic              "]
[null,null,131,"Simo                      ",null,93.957617411225669,86.919230628855075,null,90.438424020040372,null,{"$f":"IF(SUMIF(week1!$AB:$AB,all_cars!$D137,week1!$AF:$AF)=0,\"\",VLOOKUP(all_cars!$D137,week1!$AB:$AJ,5,FALSE))","v":""},{"$f":"IF(SUMIF(week2!$AB:$AB,all_cars!$D137,week2!$AF:$AF)=0,\"\",VLOOKUP(all_cars!$D137,week2!$AB:$AJ,5,FALSE))","v":""},{"$f":"IF(SUMIF(week3!$AB:$AB,all_cars!$D137,week3!$AF:$AF)=0,\"\",VLOOKUP(all_cars!$D137,week3!$AB:$AJ,5,FALSE))","v":""},{"$f":"IF(SUMIF(week4!$AB:$AB,all_cars!$D137,week4!$AF:$AF)=0,\"\",VLOOKUP(all_cars!$D137,week4!$AB:$AJ,5,FALSE))","v":""},{"$f":"IF(SUMIF(week5!$AB:$AB,all_cars!$D137,week5!$AF:$AF)=0,\"\",VLOOKUP(all_cars!$D137,week5!$AB:$AJ,5,FALSE))","v":86.919230628855075},null,{"$f":"IF(SUMIF(week1!$AB:$AB,all_cars!$D137,week1!$AG:$AG)=0,\"\",VLOOKUP(all_cars!$D137,week1!$AB:$AJ,6,FALSE))","v":""},{"$f":"IF(SUMIF(week2!$AB:$AB,all_cars!$D137,week2!$AG:$AG)=0,\"\",VLOOKUP(all_cars!$D137,week2!$AB:$AJ,6,FALSE))","v":""},{"$f":"IF(SUMIF(week3!$AB:$AB,all_cars!$D137,week3!$AG:$AG)=0,\"\",VLOOKUP(all_cars!$D137,week3!$AB:$AJ,6,FALSE))","v":""},{"$f":"IF(SUMIF(week4!$AB:$AB,all_cars!$D137,week4!$AG:$AG)=0,\"\",VLOOKUP(all_cars!$D137,week4!$AB:$AJ,6,FALSE))","v":""},{"$f":"IF(SUMIF(week5!$AB:$AB,all_cars!$D137,week5!$AG:$AG)=0,\"\",VLOOKUP(all_cars!$D137,week5!$AB:$AJ,6,FALSE))","v":93.957617411225669},null,{"$f":"IF(SUMIF(week1!$AB:$AB,all_cars!$D137,week1!$AH:$AH)=0,\"\",VLOOKUP(all_cars!$D137,week1!$AB:$AJ,7,FALSE))","v":""},{"$f":"IF(SUMIF(week2!$AB:$AB,all_cars!$D137,week2!$AH:$AH)=0,\"\",VLOOKUP(all_cars!$D137,week2!$AB:$AJ,7,FALSE))","v":""},{"$f":"IF(SUMIF(week3!$AB:$AB,all_cars!$D137,week3!$AH:$AH)=0,\"\",VLOOKUP(all_cars!$D137,week3!$AB:$AJ,7,FALSE))","v":""},{"$f":"IF(SUMIF(week4!$AB:$AB,all_cars!$D137,week4!$AH:$AH)=0,\"\",VLOOKUP(all_cars!$D137,week4!$AB:$AJ,7,FALSE))","v":""},{"$f":"IF(SUMIF(week5!$AB:$AB,all_cars!$D137,week5!$AH:$AH)=0,\"\",VLOOKUP(all_cars!$D137,week5!$AB:$AJ,7,FALSE))","v":""},null,{"$f":"IF(SUMIF(week1!$AB:$AB,all_cars!$D137,week1!$AI:$AI)=0,\"\",VLOOKUP(all_cars!$D137,week1!$AB:$AJ,8,FALSE))","v":""},{"$f":"IF(SUMIF(week2!$AB:$AB,all_cars!$D137,week2!$AI:$AI)=0,\"\",VLOOKUP(all_cars!$D137,week2!$AB:$AJ,8,FALSE))","v":""},{"$f":"IF(SUMIF(week3!$AB:$AB,all_cars!$D137,week3!$AI:$AI)=0,\"\",VLOOKUP(all_cars!$D137,week3!$AB:$AJ,8,FALSE))","v":""},{"$f":"IF(SUMIF(week4!$AB:$AB,all_cars!$D137,week4!$AI:$AI)=0,\"\",VLOOKUP(all_cars!$D137,week4!$AB:$AJ,8,FALSE))","v":""},{"$f":"IF(SUMIF(week5!$AB:$AB,all_cars!$D137,week5!$AI:$AI)=0,\"\",VLOOKUP(all_cars!$D137,week5!$AB:$AJ,8,FALSE))","v":""},null,{"$f":"IF(SUMIF(week1!$AB:$AB,all_cars!$D137,week1!$AJ:$AJ)=0,\"\",VLOOKUP(all_cars!$D137,week1!$AB:$AJ,9,FALSE))","v":""},{"$f":"IF(SUMIF(week2!$AB:$AB,all_cars!$D137,week2!$AJ:$AJ)=0,\"\",VLOOKUP(all_cars!$D137,week2!$AB:$AJ,9,FALSE))","v":""},{"$f":"IF(SUMIF(week3!$AB:$AB,all_cars!$D137,week3!$AJ:$AJ)=0,\"\",VLOOKUP(all_cars!$D137,week3!$AB:$AJ,9,FALSE))","v":""},{"$f":"IF(SUMIF(week4!$AB:$AB,all_cars!$D137,week4!$AJ:$AJ)=0,\"\",VLOOKUP(all_cars!$D137,week4!$AB:$AJ,9,FALSE))","v":""},{"$f":"IF(SUMIF(week5!$AB:$AB,all_cars!$D137,week5!$AJ:$AJ)=0,\"\",VLOOKUP(all_cars!$D137,week5!$AB:$AJ,9,FALSE))","v":""},null,null,null,"Simo                      ","[x] Mike Nike             "]
[null,null,132,"Drax                      ",null,94.90467937608318,94.90467937608318,null,94.90467937608318,null,{"$f":"IF(SUMIF(week1!$AB:$AB,all_cars!$D138,week1!$AF:$AF)=0,\"\",VLOOKUP(all_cars!$D138,week1!$AB:$AJ,5,FALSE))","v":""},{"$f":"IF(SUMIF(week2!$AB:$AB,all_cars!$D138,week2!$AF:$AF)=0,\"\",VLOOKUP(all_cars!$D138,week2!$AB:$AJ,5,FALSE))","v":""},{"$f":"IF(SUMIF(week3!$AB:$AB,all_cars!$D138,week3!$AF:$AF)=0,\"\",VLOOKUP(all_cars!$D138,week3!$AB:$AJ,5,FALSE))","v":""},{"$f":"IF(SUMIF(week4!$AB:$AB,all_cars!$D138,week4!$AF:$AF)=0,\"\",VLOOKUP(all_cars!$D138,week4!$AB:$AJ,5,FALSE))","v":""},{"$f":"IF(SUMIF(week5!$AB:$AB,all_cars!$D138,week5!$AF:$AF)=0,\"\",VLOOKUP(all_cars!$D138,week5!$AB:$AJ,5,FALSE))","v":""},null,{"$f":"IF(SUMIF(week1!$AB:$AB,all_cars!$D138,week1!$AG:$AG)=0,\"\",VLOOKUP(all_cars!$D138,week1!$AB:$AJ,6,FALSE))","v":""},{"$f":"IF(SUMIF(week2!$AB:$AB,all_cars!$D138,week2!$AG:$AG)=0,\"\",VLOOKUP(all_cars!$D138,week2!$AB:$AJ,6,FALSE))","v":""},{"$f":"IF(SUMIF(week3!$AB:$AB,all_cars!$D138,week3!$AG:$AG)=0,\"\",VLOOKUP(all_cars!$D138,week3!$AB:$AJ,6,FALSE))","v":""},{"$f":"IF(SUMIF(week4!$AB:$AB,all_cars!$D138,week4!$AG:$AG)=0,\"\",VLOOKUP(all_cars!$D138,week4!$AB:$AJ,6,FALSE))","v":""},{"$f":"IF(SUMIF(week5!$AB:$AB,all_cars!$D138,week5!$AG:$AG)=0,\"\",VLOOKUP(all_cars!$D138,week5!$AB:$AJ,6,FALSE))","v":""},null,{"$f":"IF(SUMIF(week1!$AB:$AB,all_cars!$D138,week1!$AH:$AH)=0,\"\",VLOOKUP(all_cars!$D138,week1!$AB:$AJ,7,FALSE))","v":""},{"$f":"IF(SUMIF(week2!$AB:$AB,all_cars!$D138,week2!$AH:$AH)=0,\"\",VLOOKUP(all_cars!$D138,week2!$AB:$AJ,7,FALSE))","v":""},{"$f":"IF(SUMIF(week3!$AB:$AB,all_cars!$D138,week3!$AH:$AH)=0,\"\",VLOOKUP(all_cars!$D138,week3!$AB:$AJ,7,FALSE))","v":""},{"$f":"IF(SUMIF(week4!$AB:$AB,all_cars!$D138,week4!$AH:$AH)=0,\"\",VLOOKUP(all_cars!$D138,week4!$AB:$AJ,7,FALSE))","v":""},{"$f":"IF(SUMIF(week5!$AB:$AB,all_cars!$D138,week5!$AH:$AH)=0,\"\",VLOOKUP(all_cars!$D138,week5!$AB:$AJ,7,FALSE))","v":""},null,{"$f":"IF(SUMIF(week1!$AB:$AB,all_cars!$D138,week1!$AI:$AI)=0,\"\",VLOOKUP(all_cars!$D138,week1!$AB:$AJ,8,FALSE))","v":""},{"$f":"IF(SUMIF(week2!$AB:$AB,all_cars!$D138,week2!$AI:$AI)=0,\"\",VLOOKUP(all_cars!$D138,week2!$AB:$AJ,8,FALSE))","v":""},{"$f":"IF(SUMIF(week3!$AB:$AB,all_cars!$D138,week3!$AI:$AI)=0,\"\",VLOOKUP(all_cars!$D138,week3!$AB:$AJ,8,FALSE))","v":""},{"$f":"IF(SUMIF(week4!$AB:$AB,all_cars!$D138,week4!$AI:$AI)=0,\"\",VLOOKUP(all_cars!$D138,week4!$AB:$AJ,8,FALSE))","v":""},{"$f":"IF(SUMIF(week5!$AB:$AB,all_cars!$D138,week5!$AI:$AI)=0,\"\",VLOOKUP(all_cars!$D138,week5!$AB:$AJ,8,FALSE))","v":""},null,{"$f":"IF(SUMIF(week1!$AB:$AB,all_cars!$D138,week1!$AJ:$AJ)=0,\"\",VLOOKUP(all_cars!$D138,week1!$AB:$AJ,9,FALSE))","v":""},{"$f":"IF(SUMIF(week2!$AB:$AB,all_cars!$D138,week2!$AJ:$AJ)=0,\"\",VLOOKUP(all_cars!$D138,week2!$AB:$AJ,9,FALSE))","v":""},{"$f":"IF(SUMIF(week3!$AB:$AB,all_cars!$D138,week3!$AJ:$AJ)=0,\"\",VLOOKUP(all_cars!$D138,week3!$AB:$AJ,9,FALSE))","v":""},{"$f":"IF(SUMIF(week4!$AB:$AB,all_cars!$D138,week4!$AJ:$AJ)=0,\"\",VLOOKUP(all_cars!$D138,week4!$AB:$AJ,9,FALSE))","v":""},{"$f":"IF(SUMIF(week5!$AB:$AB,all_cars!$D138,week5!$AJ:$AJ)=0,\"\",VLOOKUP(all_cars!$D138,week5!$AB:$AJ,9,FALSE))","v":94.90467937608318},null,null,null,"Drax                      ","[x] Stylus                "]
[null,null,133,"C.Monster                 ",null,88.692010309278359,88.692010309278359,null,88.692010309278359,null,{"$f":"IF(SUMIF(week1!$AB:$AB,all_cars!$D139,week1!$AF:$AF)=0,\"\",VLOOKUP(all_cars!$D139,week1!$AB:$AJ,5,FALSE))","v":""},{"$f":"IF(SUMIF(week2!$AB:$AB,all_cars!$D139,week2!$AF:$AF)=0,\"\",VLOOKUP(all_cars!$D139,week2!$AB:$AJ,5,FALSE))","v":""},{"$f":"IF(SUMIF(week3!$AB:$AB,all_cars!$D139,week3!$AF:$AF)=0,\"\",VLOOKUP(all_cars!$D139,week3!$AB:$AJ,5,FALSE))","v":""},{"$f":"IF(SUMIF(week4!$AB:$AB,all_cars!$D139,week4!$AF:$AF)=0,\"\",VLOOKUP(all_cars!$D139,week4!$AB:$AJ,5,FALSE))","v":""},{"$f":"IF(SUMIF(week5!$AB:$AB,all_cars!$D139,week5!$AF:$AF)=0,\"\",VLOOKUP(all_cars!$D139,week5!$AB:$AJ,5,FALSE))","v":""},null,{"$f":"IF(SUMIF(week1!$AB:$AB,all_cars!$D139,week1!$AG:$AG)=0,\"\",VLOOKUP(all_cars!$D139,week1!$AB:$AJ,6,FALSE))","v":""},{"$f":"IF(SUMIF(week2!$AB:$AB,all_cars!$D139,week2!$AG:$AG)=0,\"\",VLOOKUP(all_cars!$D139,week2!$AB:$AJ,6,FALSE))","v":""},{"$f":"IF(SUMIF(week3!$AB:$AB,all_cars!$D139,week3!$AG:$AG)=0,\"\",VLOOKUP(all_cars!$D139,week3!$AB:$AJ,6,FALSE))","v":""},{"$f":"IF(SUMIF(week4!$AB:$AB,all_cars!$D139,week4!$AG:$AG)=0,\"\",VLOOKUP(all_cars!$D139,week4!$AB:$AJ,6,FALSE))","v":""},{"$f":"IF(SUMIF(week5!$AB:$AB,all_cars!$D139,week5!$AG:$AG)=0,\"\",VLOOKUP(all_cars!$D139,week5!$AB:$AJ,6,FALSE))","v":88.692010309278359},null,{"$f":"IF(SUMIF(week1!$AB:$AB,all_cars!$D139,week1!$AH:$AH)=0,\"\",VLOOKUP(all_cars!$D139,week1!$AB:$AJ,7,FALSE))","v":""},{"$f":"IF(SUMIF(week2!$AB:$AB,all_cars!$D139,week2!$AH:$AH)=0,\"\",VLOOKUP(all_cars!$D139,week2!$AB:$AJ,7,FALSE))","v":""},{"$f":"IF(SUMIF(week3!$AB:$AB,all_cars!$D139,week3!$AH:$AH)=0,\"\",VLOOKUP(all_cars!$D139,week3!$AB:$AJ,7,FALSE))","v":""},{"$f":"IF(SUMIF(week4!$AB:$AB,all_cars!$D139,week4!$AH:$AH)=0,\"\",VLOOKUP(all_cars!$D139,week4!$AB:$AJ,7,FALSE))","v":""},{"$f":"IF(SUMIF(week5!$AB:$AB,all_cars!$D139,week5!$AH:$AH)=0,\"\",VLOOKUP(all_cars!$D139,week5!$AB:$AJ,7,FALSE))","v":""},null,{"$f":"IF(SUMIF(week1!$AB:$AB,all_cars!$D139,week1!$AI:$AI)=0,\"\",VLOOKUP(all_cars!$D139,week1!$AB:$AJ,8,FALSE))","v":""},{"$f":"IF(SUMIF(week2!$AB:$AB,all_cars!$D139,week2!$AI:$AI)=0,\"\",VLOOKUP(all_cars!$D139,week2!$AB:$AJ,8,FALSE))","v":""},{"$f":"IF(SUMIF(week3!$AB:$AB,all_cars!$D139,week3!$AI:$AI)=0,\"\",VLOOKUP(all_cars!$D139,week3!$AB:$AJ,8,FALSE))","v":""},{"$f":"IF(SUMIF(week4!$AB:$AB,all_cars!$D139,week4!$AI:$AI)=0,\"\",VLOOKUP(all_cars!$D139,week4!$AB:$AJ,8,FALSE))","v":""},{"$f":"IF(SUMIF(week5!$AB:$AB,all_cars!$D139,week5!$AI:$AI)=0,\"\",VLOOKUP(all_cars!$D139,week5!$AB:$AJ,8,FALSE))","v":""},null,{"$f":"IF(SUMIF(week1!$AB:$AB,all_cars!$D139,week1!$AJ:$AJ)=0,\"\",VLOOKUP(all_cars!$D139,week1!$AB:$AJ,9,FALSE))","v":""},{"$f":"IF(SUMIF(week2!$AB:$AB,all_cars!$D139,week2!$AJ:$AJ)=0,\"\",VLOOKUP(all_cars!$D139,week2!$AB:$AJ,9,FALSE))","v":""},{"$f":"IF(SUMIF(week3!$AB:$AB,all_cars!$D139,week3!$AJ:$AJ)=0,\"\",VLOOKUP(all_cars!$D139,week3!$AB:$AJ,9,FALSE))","v":""},{"$f":"IF(SUMIF(week4!$AB:$AB,all_cars!$D139,week4!$AJ:$AJ)=0,\"\",VLOOKUP(all_cars!$D139,week4!$AB:$AJ,9,FALSE))","v":""},{"$f":"IF(SUMIF(week5!$AB:$AB,all_cars!$D139,week5!$AJ:$AJ)=0,\"\",VLOOKUP(all_cars!$D139,week5!$AB:$AJ,9,FALSE))","v":""},null,null,null,"C.Monster                 ","[fS]Palo                  "]
[null,null,134,"MoCoCa                    ",null,84.397240775210776,84.397240775210776,null,84.397240775210776,null,{"$f":"IF(SUMIF(week1!$AB:$AB,all_cars!$D140,week1!$AF:$AF)=0,\"\",VLOOKUP(all_cars!$D140,week1!$AB:$AJ,5,FALSE))","v":""},{"$f":"IF(SUMIF(week2!$AB:$AB,all_cars!$D140,week2!$AF:$AF)=0,\"\",VLOOKUP(all_cars!$D140,week2!$AB:$AJ,5,FALSE))","v":""},{"$f":"IF(SUMIF(week3!$AB:$AB,all_cars!$D140,week3!$AF:$AF)=0,\"\",VLOOKUP(all_cars!$D140,week3!$AB:$AJ,5,FALSE))","v":""},{"$f":"IF(SUMIF(week4!$AB:$AB,all_cars!$D140,week4!$AF:$AF)=0,\"\",VLOOKUP(all_cars!$D140,week4!$AB:$AJ,5,FALSE))","v":""},{"$f":"IF(SUMIF(week5!$AB:$AB,all_cars!$D140,week5!$AF:$AF)=0,\"\",VLOOKUP(all_cars!$D140,week5!$AB:$AJ,5,FALSE))","v":84.397240775210776},null,{"$f":"IF(SUMIF(week1!$AB:$AB,all_cars!$D140,week1!$AG:$AG)=0,\"\",VLOOKUP(all_cars!$D140,week1!$AB:$AJ,6,FALSE))","v":""},{"$f":"IF(SUMIF(week2!$AB:$AB,all_cars!$D140,week2!$AG:$AG)=0,\"\",VLOOKUP(all_cars!$D140,week2!$AB:$AJ,6,FALSE))","v":""},{"$f":"IF(SUMIF(week3!$AB:$AB,all_cars!$D140,week3!$AG:$AG)=0,\"\",VLOOKUP(all_cars!$D140,week3!$AB:$AJ,6,FALSE))","v":""},{"$f":"IF(SUMIF(week4!$AB:$AB,all_cars!$D140,week4!$AG:$AG)=0,\"\",VLOOKUP(all_cars!$D140,week4!$AB:$AJ,6,FALSE))","v":""},{"$f":"IF(SUMIF(week5!$AB:$AB,all_cars!$D140,week5!$AG:$AG)=0,\"\",VLOOKUP(all_cars!$D140,week5!$AB:$AJ,6,FALSE))","v":""},null,{"$f":"IF(SUMIF(week1!$AB:$AB,all_cars!$D140,week1!$AH:$AH)=0,\"\",VLOOKUP(all_cars!$D140,week1!$AB:$AJ,7,FALSE))","v":""},{"$f":"IF(SUMIF(week2!$AB:$AB,all_cars!$D140,week2!$AH:$AH)=0,\"\",VLOOKUP(all_cars!$D140,week2!$AB:$AJ,7,FALSE))","v":""},{"$f":"IF(SUMIF(week3!$AB:$AB,all_cars!$D140,week3!$AH:$AH)=0,\"\",VLOOKUP(all_cars!$D140,week3!$AB:$AJ,7,FALSE))","v":""},{"$f":"IF(SUMIF(week4!$AB:$AB,all_cars!$D140,week4!$AH:$AH)=0,\"\",VLOOKUP(all_cars!$D140,week4!$AB:$AJ,7,FALSE))","v":""},{"$f":"IF(SUMIF(week5!$AB:$AB,all_cars!$D140,week5!$AH:$AH)=0,\"\",VLOOKUP(all_cars!$D140,week5!$AB:$AJ,7,FALSE))","v":""},null,{"$f":"IF(SUMIF(week1!$AB:$AB,all_cars!$D140,week1!$AI:$AI)=0,\"\",VLOOKUP(all_cars!$D140,week1!$AB:$AJ,8,FALSE))","v":""},{"$f":"IF(SUMIF(week2!$AB:$AB,all_cars!$D140,week2!$AI:$AI)=0,\"\",VLOOKUP(all_cars!$D140,week2!$AB:$AJ,8,FALSE))","v":""},{"$f":"IF(SUMIF(week3!$AB:$AB,all_cars!$D140,week3!$AI:$AI)=0,\"\",VLOOKUP(all_cars!$D140,week3!$AB:$AJ,8,FALSE))","v":""},{"$f":"IF(SUMIF(week4!$AB:$AB,all_cars!$D140,week4!$AI:$AI)=0,\"\",VLOOKUP(all_cars!$D140,week4!$AB:$AJ,8,FALSE))","v":""},{"$f":"IF(SUMIF(week5!$AB:$AB,all_cars!$D140,week5!$AI:$AI)=0,\"\",VLOOKUP(all_cars!$D140,week5!$AB:$AJ,8,FALSE))","v":""},null,{"$f":"IF(SUMIF(week1!$AB:$AB,all_cars!$D140,week1!$AJ:$AJ)=0,\"\",VLOOKUP(all_cars!$D140,week1!$AB:$AJ,9,FALSE))","v":""},{"$f":"IF(SUMIF(week2!$AB:$AB,all_cars!$D140,week2!$AJ:$AJ)=0,\"\",VLOOKUP(all_cars!$D140,week2!$AB:$AJ,9,FALSE))","v":""},{"$f":"IF(SUMIF(week3!$AB:$AB,all_cars!$D140,week3!$AJ:$AJ)=0,\"\",VLOOKUP(all_cars!$D140,week3!$AB:$AJ,9,FALSE))","v":""},{"$f":"IF(SUMIF(week4!$AB:$AB,all_cars!$D140,week4!$AJ:$AJ)=0,\"\",VLOOKUP(all_cars!$D140,week4!$AB:$AJ,9,FALSE))","v":""},{"$f":"IF(SUMIF(week5!$AB:$AB,all_cars!$D140,week5!$AJ:$AJ)=0,\"\",VLOOKUP(all_cars!$D140,week5!$AB:$AJ,9,FALSE))","v":""},null,null,null,"MoCoCa                    ","Kyna_Musti                "]
[null,null,135,"[Qc]Isaac                 ",null,80.07226541114639,80.07226541114639,null,80.07226541114639,null,{"$f":"IF(SUMIF(week1!$AB:$AB,all_cars!$D141,week1!$AF:$AF)=0,\"\",VLOOKUP(all_cars!$D141,week1!$AB:$AJ,5,FALSE))","v":""},{"$f":"IF(SUMIF(week2!$AB:$AB,all_cars!$D141,week2!$AF:$AF)=0,\"\",VLOOKUP(all_cars!$D141,week2!$AB:$AJ,5,FALSE))","v":""},{"$f":"IF(SUMIF(week3!$AB:$AB,all_cars!$D141,week3!$AF:$AF)=0,\"\",VLOOKUP(all_cars!$D141,week3!$AB:$AJ,5,FALSE))","v":""},{"$f":"IF(SUMIF(week4!$AB:$AB,all_cars!$D141,week4!$AF:$AF)=0,\"\",VLOOKUP(all_cars!$D141,week4!$AB:$AJ,5,FALSE))","v":""},{"$f":"IF(SUMIF(week5!$AB:$AB,all_cars!$D141,week5!$AF:$AF)=0,\"\",VLOOKUP(all_cars!$D141,week5!$AB:$AJ,5,FALSE))","v":80.07226541114639},null,{"$f":"IF(SUMIF(week1!$AB:$AB,all_cars!$D141,week1!$AG:$AG)=0,\"\",VLOOKUP(all_cars!$D141,week1!$AB:$AJ,6,FALSE))","v":""},{"$f":"IF(SUMIF(week2!$AB:$AB,all_cars!$D141,week2!$AG:$AG)=0,\"\",VLOOKUP(all_cars!$D141,week2!$AB:$AJ,6,FALSE))","v":""},{"$f":"IF(SUMIF(week3!$AB:$AB,all_cars!$D141,week3!$AG:$AG)=0,\"\",VLOOKUP(all_cars!$D141,week3!$AB:$AJ,6,FALSE))","v":""},{"$f":"IF(SUMIF(week4!$AB:$AB,all_cars!$D141,week4!$AG:$AG)=0,\"\",VLOOKUP(all_cars!$D141,week4!$AB:$AJ,6,FALSE))","v":""},{"$f":"IF(SUMIF(week5!$AB:$AB,all_cars!$D141,week5!$AG:$AG)=0,\"\",VLOOKUP(all_cars!$D141,week5!$AB:$AJ,6,FALSE))","v":""},null,{"$f":"IF(SUMIF(week1!$AB:$AB,all_cars!$D141,week1!$AH:$AH)=0,\"\",VLOOKUP(all_cars!$D141,week1!$AB:$AJ,7,FALSE))","v":""},{"$f":"IF(SUMIF(week2!$AB:$AB,all_cars!$D141,week2!$AH:$AH)=0,\"\",VLOOKUP(all_cars!$D141,week2!$AB:$AJ,7,FALSE))","v":""},{"$f":"IF(SUMIF(week3!$AB:$AB,all_cars!$D141,week3!$AH:$AH)=0,\"\",VLOOKUP(all_cars!$D141,week3!$AB:$AJ,7,FALSE))","v":""},{"$f":"IF(SUMIF(week4!$AB:$AB,all_cars!$D141,week4!$AH:$AH)=0,\"\",VLOOKUP(all_cars!$D141,week4!$AB:$AJ,7,FALSE))","v":""},{"$f":"IF(SUMIF(week5!$AB:$AB,all_cars!$D141,week5!$AH:$AH)=0,\"\",VLOOKUP(all_cars!$D141,week5!$AB:$AJ,7,FALSE))","v":""},null,{"$f":"IF(SUMIF(week1!$AB:$AB,all_cars!$D141,week1!$AI:$AI)=0,\"\",VLOOKUP(all_cars!$D141,week1!$AB:$AJ,8,FALSE))","v":""},{"$f":"IF(SUMIF(week2!$AB:$AB,all_cars!$D141,week2!$AI:$AI)=0,\"\",VLOOKUP(all_cars!$D141,week2!$AB:$AJ,8,FALSE))","v":""},{"$f":"IF(SUMIF(week3!$AB:$AB,all_cars!$D141,week3!$AI:$AI)=0,\"\",VLOOKUP(all_cars!$D141,week3!$AB:$AJ,8,FALSE))","v":""},{"$f":"IF(SUMIF(week4!$AB:$AB,all_cars!$D141,week4!$AI:$AI)=0,\"\",VLOOKUP(all_cars!$D141,week4!$AB:$AJ,8,FALSE))","v":""},{"$f":"IF(SUMIF(week5!$AB:$AB,all_cars!$D141,week5!$AI:$AI)=0,\"\",VLOOKUP(all_cars!$D141,week5!$AB:$AJ,8,FALSE))","v":""},null,{"$f":"IF(SUMIF(week1!$AB:$AB,all_cars!$D141,week1!$AJ:$AJ)=0,\"\",VLOOKUP(all_cars!$D141,week1!$AB:$AJ,9,FALSE))","v":""},{"$f":"IF(SUMIF(week2!$AB:$AB,all_cars!$D141,week2!$AJ:$AJ)=0,\"\",VLOOKUP(all_cars!$D141,week2!$AB:$AJ,9,FALSE))","v":""},{"$f":"IF(SUMIF(week3!$AB:$AB,all_cars!$D141,week3!$AJ:$AJ)=0,\"\",VLOOKUP(all_cars!$D141,week3!$AB:$AJ,9,FALSE))","v":""},{"$f":"IF(SUMIF(week4!$AB:$AB,all_cars!$D141,week4!$AJ:$AJ)=0,\"\",VLOOKUP(all_cars!$D141,week4!$AB:$AJ,9,FALSE))","v":""},{"$f":"IF(SUMIF(week5!$AB:$AB,all_cars!$D141,week5!$AJ:$AJ)=0,\"\",VLOOKUP(all_cars!$D141,week5!$AB:$AJ,9,FALSE))","v":""},null,null,null,"[Qc]Isaac                 ","[x] Whiplash              "]
[null,null,136,"Baba                      ",null,72.766323024054998,72.766323024054998,null,72.766323024054998,null,{"$f":"IF(SUMIF(week1!$AB:$AB,all_cars!$D142,week1!$AF:$AF)=0,\"\",VLOOKUP(all_cars!$D142,week1!$AB:$AJ,5,FALSE))","v":""},{"$f":"IF(SUMIF(week2!$AB:$AB,all_cars!$D142,week2!$AF:$AF)=0,\"\",VLOOKUP(all_cars!$D142,week2!$AB:$AJ,5,FALSE))","v":""},{"$f":"IF(SUMIF(week3!$AB:$AB,all_cars!$D142,week3!$AF:$AF)=0,\"\",VLOOKUP(all_cars!$D142,week3!$AB:$AJ,5,FALSE))","v":""},{"$f":"IF(SUMIF(week4!$AB:$AB,all_cars!$D142,week4!$AF:$AF)=0,\"\",VLOOKUP(all_cars!$D142,week4!$AB:$AJ,5,FALSE))","v":""},{"$f":"IF(SUMIF(week5!$AB:$AB,all_cars!$D142,week5!$AF:$AF)=0,\"\",VLOOKUP(all_cars!$D142,week5!$AB:$AJ,5,FALSE))","v":""},null,{"$f":"IF(SUMIF(week1!$AB:$AB,all_cars!$D142,week1!$AG:$AG)=0,\"\",VLOOKUP(all_cars!$D142,week1!$AB:$AJ,6,FALSE))","v":""},{"$f":"IF(SUMIF(week2!$AB:$AB,all_cars!$D142,week2!$AG:$AG)=0,\"\",VLOOKUP(all_cars!$D142,week2!$AB:$AJ,6,FALSE))","v":""},{"$f":"IF(SUMIF(week3!$AB:$AB,all_cars!$D142,week3!$AG:$AG)=0,\"\",VLOOKUP(all_cars!$D142,week3!$AB:$AJ,6,FALSE))","v":""},{"$f":"IF(SUMIF(week4!$AB:$AB,all_cars!$D142,week4!$AG:$AG)=0,\"\",VLOOKUP(all_cars!$D142,week4!$AB:$AJ,6,FALSE))","v":""},{"$f":"IF(SUMIF(week5!$AB:$AB,all_cars!$D142,week5!$AG:$AG)=0,\"\",VLOOKUP(all_cars!$D142,week5!$AB:$AJ,6,FALSE))","v":72.766323024054998},null,{"$f":"IF(SUMIF(week1!$AB:$AB,all_cars!$D142,week1!$AH:$AH)=0,\"\",VLOOKUP(all_cars!$D142,week1!$AB:$AJ,7,FALSE))","v":""},{"$f":"IF(SUMIF(week2!$AB:$AB,all_cars!$D142,week2!$AH:$AH)=0,\"\",VLOOKUP(all_cars!$D142,week2!$AB:$AJ,7,FALSE))","v":""},{"$f":"IF(SUMIF(week3!$AB:$AB,all_cars!$D142,week3!$AH:$AH)=0,\"\",VLOOKUP(all_cars!$D142,week3!$AB:$AJ,7,FALSE))","v":""},{"$f":"IF(SUMIF(week4!$AB:$AB,all_cars!$D142,week4!$AH:$AH)=0,\"\",VLOOKUP(all_cars!$D142,week4!$AB:$AJ,7,FALSE))","v":""},{"$f":"IF(SUMIF(week5!$AB:$AB,all_cars!$D142,week5!$AH:$AH)=0,\"\",VLOOKUP(all_cars!$D142,week5!$AB:$AJ,7,FALSE))","v":""},null,{"$f":"IF(SUMIF(week1!$AB:$AB,all_cars!$D142,week1!$AI:$AI)=0,\"\",VLOOKUP(all_cars!$D142,week1!$AB:$AJ,8,FALSE))","v":""},{"$f":"IF(SUMIF(week2!$AB:$AB,all_cars!$D142,week2!$AI:$AI)=0,\"\",VLOOKUP(all_cars!$D142,week2!$AB:$AJ,8,FALSE))","v":""},{"$f":"IF(SUMIF(week3!$AB:$AB,all_cars!$D142,week3!$AI:$AI)=0,\"\",VLOOKUP(all_cars!$D142,week3!$AB:$AJ,8,FALSE))","v":""},{"$f":"IF(SUMIF(week4!$AB:$AB,all_cars!$D142,week4!$AI:$AI)=0,\"\",VLOOKUP(all_cars!$D142,week4!$AB:$AJ,8,FALSE))","v":""},{"$f":"IF(SUMIF(week5!$AB:$AB,all_cars!$D142,week5!$AI:$AI)=0,\"\",VLOOKUP(all_cars!$D142,week5!$AB:$AJ,8,FALSE))","v":""},null,{"$f":"IF(SUMIF(week1!$AB:$AB,all_cars!$D142,week1!$AJ:$AJ)=0,\"\",VLOOKUP(all_cars!$D142,week1!$AB:$AJ,9,FALSE))","v":""},{"$f":"IF(SUMIF(week2!$AB:$AB,all_cars!$D142,week2!$AJ:$AJ)=0,\"\",VLOOKUP(all_cars!$D142,week2!$AB:$AJ,9,FALSE))","v":""},{"$f":"IF(SUMIF(week3!$AB:$AB,all_cars!$D142,week3!$AJ:$AJ)=0,\"\",VLOOKUP(all_cars!$D142,week3!$AB:$AJ,9,FALSE))","v":""},{"$f":"IF(SUMIF(week4!$AB:$AB,all_cars!$D142,week4!$AJ:$AJ)=0,\"\",VLOOKUP(all_cars!$D142,week4!$AB:$AJ,9,FALSE))","v":""},{"$f":"IF(SUMIF(week5!$AB:$AB,all_cars!$D142,week5!$AJ:$AJ)=0,\"\",VLOOKUP(all_cars!$D142,week5!$AB:$AJ,9,FALSE))","v":""},null,null,null,"Baba                      ","[fS]Hevonen               "]
[null,null,137,"[Qc]ghost                 ",null,53.021191294387158,53.021191294387158,null,53.021191294387158,null,{"$f":"IF(SUMIF(week1!$AB:$AB,all_cars!$D143,week1!$AF:$AF)=0,\"\",VLOOKUP(all_cars!$D143,week1!$AB:$AJ,5,FALSE))","v":""},{"$f":"IF(SUMIF(week2!$AB:$AB,all_cars!$D143,week2!$AF:$AF)=0,\"\",VLOOKUP(all_cars!$D143,week2!$AB:$AJ,5,FALSE))","v":""},{"$f":"IF(SUMIF(week3!$AB:$AB,all_cars!$D143,week3!$AF:$AF)=0,\"\",VLOOKUP(all_cars!$D143,week3!$AB:$AJ,5,FALSE))","v":""},{"$f":"IF(SUMIF(week4!$AB:$AB,all_cars!$D143,week4!$AF:$AF)=0,\"\",VLOOKUP(all_cars!$D143,week4!$AB:$AJ,5,FALSE))","v":""},{"$f":"IF(SUMIF(week5!$AB:$AB,all_cars!$D143,week5!$AF:$AF)=0,\"\",VLOOKUP(all_cars!$D143,week5!$AB:$AJ,5,FALSE))","v":""},null,{"$f":"IF(SUMIF(week1!$AB:$AB,all_cars!$D143,week1!$AG:$AG)=0,\"\",VLOOKUP(all_cars!$D143,week1!$AB:$AJ,6,FALSE))","v":""},{"$f":"IF(SUMIF(week2!$AB:$AB,all_cars!$D143,week2!$AG:$AG)=0,\"\",VLOOKUP(all_cars!$D143,week2!$AB:$AJ,6,FALSE))","v":""},{"$f":"IF(SUMIF(week3!$AB:$AB,all_cars!$D143,week3!$AG:$AG)=0,\"\",VLOOKUP(all_cars!$D143,week3!$AB:$AJ,6,FALSE))","v":""},{"$f":"IF(SUMIF(week4!$AB:$AB,all_cars!$D143,week4!$AG:$AG)=0,\"\",VLOOKUP(all_cars!$D143,week4!$AB:$AJ,6,FALSE))","v":""},{"$f":"IF(SUMIF(week5!$AB:$AB,all_cars!$D143,week5!$AG:$AG)=0,\"\",VLOOKUP(all_cars!$D143,week5!$AB:$AJ,6,FALSE))","v":53.021191294387158},null,{"$f":"IF(SUMIF(week1!$AB:$AB,all_cars!$D143,week1!$AH:$AH)=0,\"\",VLOOKUP(all_cars!$D143,week1!$AB:$AJ,7,FALSE))","v":""},{"$f":"IF(SUMIF(week2!$AB:$AB,all_cars!$D143,week2!$AH:$AH)=0,\"\",VLOOKUP(all_cars!$D143,week2!$AB:$AJ,7,FALSE))","v":""},{"$f":"IF(SUMIF(week3!$AB:$AB,all_cars!$D143,week3!$AH:$AH)=0,\"\",VLOOKUP(all_cars!$D143,week3!$AB:$AJ,7,FALSE))","v":""},{"$f":"IF(SUMIF(week4!$AB:$AB,all_cars!$D143,week4!$AH:$AH)=0,\"\",VLOOKUP(all_cars!$D143,week4!$AB:$AJ,7,FALSE))","v":""},{"$f":"IF(SUMIF(week5!$AB:$AB,all_cars!$D143,week5!$AH:$AH)=0,\"\",VLOOKUP(all_cars!$D143,week5!$AB:$AJ,7,FALSE))","v":""},null,{"$f":"IF(SUMIF(week1!$AB:$AB,all_cars!$D143,week1!$AI:$AI)=0,\"\",VLOOKUP(all_cars!$D143,week1!$AB:$AJ,8,FALSE))","v":""},{"$f":"IF(SUMIF(week2!$AB:$AB,all_cars!$D143,week2!$AI:$AI)=0,\"\",VLOOKUP(all_cars!$D143,week2!$AB:$AJ,8,FALSE))","v":""},{"$f":"IF(SUMIF(week3!$AB:$AB,all_cars!$D143,week3!$AI:$AI)=0,\"\",VLOOKUP(all_cars!$D143,week3!$AB:$AJ,8,FALSE))","v":""},{"$f":"IF(SUMIF(week4!$AB:$AB,all_cars!$D143,week4!$AI:$AI)=0,\"\",VLOOKUP(all_cars!$D143,week4!$AB:$AJ,8,FALSE))","v":""},{"$f":"IF(SUMIF(week5!$AB:$AB,all_cars!$D143,week5!$AI:$AI)=0,\"\",VLOOKUP(all_cars!$D143,week5!$AB:$AJ,8,FALSE))","v":""},null,{"$f":"IF(SUMIF(week1!$AB:$AB,all_cars!$D143,week1!$AJ:$AJ)=0,\"\",VLOOKUP(all_cars!$D143,week1!$AB:$AJ,9,FALSE))","v":""},{"$f":"IF(SUMIF(week2!$AB:$AB,all_cars!$D143,week2!$AJ:$AJ)=0,\"\",VLOOKUP(all_cars!$D143,week2!$AB:$AJ,9,FALSE))","v":""},{"$f":"IF(SUMIF(week3!$AB:$AB,all_cars!$D143,week3!$AJ:$AJ)=0,\"\",VLOOKUP(all_cars!$D143,week3!$AB:$AJ,9,FALSE))","v":""},{"$f":"IF(SUMIF(week4!$AB:$AB,all_cars!$D143,week4!$AJ:$AJ)=0,\"\",VLOOKUP(all_cars!$D143,week4!$AB:$AJ,9,FALSE))","v":""},{"$f":"IF(SUMIF(week5!$AB:$AB,all_cars!$D143,week5!$AJ:$AJ)=0,\"\",VLOOKUP(all_cars!$D143,week5!$AB:$AJ,9,FALSE))","v":""},null,null,null,"[Qc]ghost                 ","[+] xzeal                 "]
[null,null,138,"Buzzurro                  ",null,33.6590778923253,33.6590778923253,null,33.6590778923253,null,{"$f":"IF(SUMIF(week1!$AB:$AB,all_cars!$D144,week1!$AF:$AF)=0,\"\",VLOOKUP(all_cars!$D144,week1!$AB:$AJ,5,FALSE))","v":""},{"$f":"IF(SUMIF(week2!$AB:$AB,all_cars!$D144,week2!$AF:$AF)=0,\"\",VLOOKUP(all_cars!$D144,week2!$AB:$AJ,5,FALSE))","v":""},{"$f":"IF(SUMIF(week3!$AB:$AB,all_cars!$D144,week3!$AF:$AF)=0,\"\",VLOOKUP(all_cars!$D144,week3!$AB:$AJ,5,FALSE))","v":""},{"$f":"IF(SUMIF(week4!$AB:$AB,all_cars!$D144,week4!$AF:$AF)=0,\"\",VLOOKUP(all_cars!$D144,week4!$AB:$AJ,5,FALSE))","v":""},{"$f":"IF(SUMIF(week5!$AB:$AB,all_cars!$D144,week5!$AF:$AF)=0,\"\",VLOOKUP(all_cars!$D144,week5!$AB:$AJ,5,FALSE))","v":""},null,{"$f":"IF(SUMIF(week1!$AB:$AB,all_cars!$D144,week1!$AG:$AG)=0,\"\",VLOOKUP(all_cars!$D144,week1!$AB:$AJ,6,FALSE))","v":""},{"$f":"IF(SUMIF(week2!$AB:$AB,all_cars!$D144,week2!$AG:$AG)=0,\"\",VLOOKUP(all_cars!$D144,week2!$AB:$AJ,6,FALSE))","v":""},{"$f":"IF(SUMIF(week3!$AB:$AB,all_cars!$D144,week3!$AG:$AG)=0,\"\",VLOOKUP(all_cars!$D144,week3!$AB:$AJ,6,FALSE))","v":""},{"$f":"IF(SUMIF(week4!$AB:$AB,all_cars!$D144,week4!$AG:$AG)=0,\"\",VLOOKUP(all_cars!$D144,week4!$AB:$AJ,6,FALSE))","v":""},{"$f":"IF(SUMIF(week5!$AB:$AB,all_cars!$D144,week5!$AG:$AG)=0,\"\",VLOOKUP(all_cars!$D144,week5!$AB:$AJ,6,FALSE))","v":33.6590778923253},null,{"$f":"IF(SUMIF(week1!$AB:$AB,all_cars!$D144,week1!$AH:$AH)=0,\"\",VLOOKUP(all_cars!$D144,week1!$AB:$AJ,7,FALSE))","v":""},{"$f":"IF(SUMIF(week2!$AB:$AB,all_cars!$D144,week2!$AH:$AH)=0,\"\",VLOOKUP(all_cars!$D144,week2!$AB:$AJ,7,FALSE))","v":""},{"$f":"IF(SUMIF(week3!$AB:$AB,all_cars!$D144,week3!$AH:$AH)=0,\"\",VLOOKUP(all_cars!$D144,week3!$AB:$AJ,7,FALSE))","v":""},{"$f":"IF(SUMIF(week4!$AB:$AB,all_cars!$D144,week4!$AH:$AH)=0,\"\",VLOOKUP(all_cars!$D144,week4!$AB:$AJ,7,FALSE))","v":""},{"$f":"IF(SUMIF(week5!$AB:$AB,all_cars!$D144,week5!$AH:$AH)=0,\"\",VLOOKUP(all_cars!$D144,week5!$AB:$AJ,7,FALSE))","v":""},null,{"$f":"IF(SUMIF(week1!$AB:$AB,all_cars!$D144,week1!$AI:$AI)=0,\"\",VLOOKUP(all_cars!$D144,week1!$AB:$AJ,8,FALSE))","v":""},{"$f":"IF(SUMIF(week2!$AB:$AB,all_cars!$D144,week2!$AI:$AI)=0,\"\",VLOOKUP(all_cars!$D144,week2!$AB:$AJ,8,FALSE))","v":""},{"$f":"IF(SUMIF(week3!$AB:$AB,all_cars!$D144,week3!$AI:$AI)=0,\"\",VLOOKUP(all_cars!$D144,week3!$AB:$AJ,8,FALSE))","v":""},{"$f":"IF(SUMIF(week4!$AB:$AB,all_cars!$D144,week4!$AI:$AI)=0,\"\",VLOOKUP(all_cars!$D144,week4!$AB:$AJ,8,FALSE))","v":""},{"$f":"IF(SUMIF(week5!$AB:$AB,all_cars!$D144,week5!$AI:$AI)=0,\"\",VLOOKUP(all_cars!$D144,week5!$AB:$AJ,8,FALSE))","v":""},null,{"$f":"IF(SUMIF(week1!$AB:$AB,all_cars!$D144,week1!$AJ:$AJ)=0,\"\",VLOOKUP(all_cars!$D144,week1!$AB:$AJ,9,FALSE))","v":""},{"$f":"IF(SUMIF(week2!$AB:$AB,all_cars!$D144,week2!$AJ:$AJ)=0,\"\",VLOOKUP(all_cars!$D144,week2!$AB:$AJ,9,FALSE))","v":""},{"$f":"IF(SUMIF(week3!$AB:$AB,all_cars!$D144,week3!$AJ:$AJ)=0,\"\",VLOOKUP(all_cars!$D144,week3!$AB:$AJ,9,FALSE))","v":""},{"$f":"IF(SUMIF(week4!$AB:$AB,all_cars!$D144,week4!$AJ:$AJ)=0,\"\",VLOOKUP(all_cars!$D144,week4!$AB:$AJ,9,FALSE))","v":""},{"$f":"IF(SUMIF(week5!$AB:$AB,all_cars!$D144,week5!$AJ:$AJ)=0,\"\",VLOOKUP(all_cars!$D144,week5!$AB:$AJ,9,FALSE))","v":""},null,null,null,"Buzzurro                  ","Jurgen-NL                 "]
[null,null,139,"max tre                   ",null,27.233676975945002,27.233676975945002,null,27.233676975945002,null,{"$f":"IF(SUMIF(week1!$AB:$AB,all_cars!$D145,week1!$AF:$AF)=0,\"\",VLOOKUP(all_cars!$D145,week1!$AB:$AJ,5,FALSE))","v":""},{"$f":"IF(SUMIF(week2!$AB:$AB,all_cars!$D145,week2!$AF:$AF)=0,\"\",VLOOKUP(all_cars!$D145,week2!$AB:$AJ,5,FALSE))","v":""},{"$f":"IF(SUMIF(week3!$AB:$AB,all_cars!$D145,week3!$AF:$AF)=0,\"\",VLOOKUP(all_cars!$D145,week3!$AB:$AJ,5,FALSE))","v":""},{"$f":"IF(SUMIF(week4!$AB:$AB,all_cars!$D145,week4!$AF:$AF)=0,\"\",VLOOKUP(all_cars!$D145,week4!$AB:$AJ,5,FALSE))","v":""},{"$f":"IF(SUMIF(week5!$AB:$AB,all_cars!$D145,week5!$AF:$AF)=0,\"\",VLOOKUP(all_cars!$D145,week5!$AB:$AJ,5,FALSE))","v":""},null,{"$f":"IF(SUMIF(week1!$AB:$AB,all_cars!$D145,week1!$AG:$AG)=0,\"\",VLOOKUP(all_cars!$D145,week1!$AB:$AJ,6,FALSE))","v":""},{"$f":"IF(SUMIF(week2!$AB:$AB,all_cars!$D145,week2!$AG:$AG)=0,\"\",VLOOKUP(all_cars!$D145,week2!$AB:$AJ,6,FALSE))","v":""},{"$f":"IF(SUMIF(week3!$AB:$AB,all_cars!$D145,week3!$AG:$AG)=0,\"\",VLOOKUP(all_cars!$D145,week3!$AB:$AJ,6,FALSE))","v":""},{"$f":"IF(SUMIF(week4!$AB:$AB,all_cars!$D145,week4!$AG:$AG)=0,\"\",VLOOKUP(all_cars!$D145,week4!$AB:$AJ,6,FALSE))","v":""},{"$f":"IF(SUMIF(week5!$AB:$AB,all_cars!$D145,week5!$AG:$AG)=0,\"\",VLOOKUP(all_cars!$D145,week5!$AB:$AJ,6,FALSE))","v":27.233676975945002},null,{"$f":"IF(SUMIF(week1!$AB:$AB,all_cars!$D145,week1!$AH:$AH)=0,\"\",VLOOKUP(all_cars!$D145,week1!$AB:$AJ,7,FALSE))","v":""},{"$f":"IF(SUMIF(week2!$AB:$AB,all_cars!$D145,week2!$AH:$AH)=0,\"\",VLOOKUP(all_cars!$D145,week2!$AB:$AJ,7,FALSE))","v":""},{"$f":"IF(SUMIF(week3!$AB:$AB,all_cars!$D145,week3!$AH:$AH)=0,\"\",VLOOKUP(all_cars!$D145,week3!$AB:$AJ,7,FALSE))","v":""},{"$f":"IF(SUMIF(week4!$AB:$AB,all_cars!$D145,week4!$AH:$AH)=0,\"\",VLOOKUP(all_cars!$D145,week4!$AB:$AJ,7,FALSE))","v":""},{"$f":"IF(SUMIF(week5!$AB:$AB,all_cars!$D145,week5!$AH:$AH)=0,\"\",VLOOKUP(all_cars!$D145,week5!$AB:$AJ,7,FALSE))","v":""},null,{"$f":"IF(SUMIF(week1!$AB:$AB,all_cars!$D145,week1!$AI:$AI)=0,\"\",VLOOKUP(all_cars!$D145,week1!$AB:$AJ,8,FALSE))","v":""},{"$f":"IF(SUMIF(week2!$AB:$AB,all_cars!$D145,week2!$AI:$AI)=0,\"\",VLOOKUP(all_cars!$D145,week2!$AB:$AJ,8,FALSE))","v":""},{"$f":"IF(SUMIF(week3!$AB:$AB,all_cars!$D145,week3!$AI:$AI)=0,\"\",VLOOKUP(all_cars!$D145,week3!$AB:$AJ,8,FALSE))","v":""},{"$f":"IF(SUMIF(week4!$AB:$AB,all_cars!$D145,week4!$AI:$AI)=0,\"\",VLOOKUP(all_cars!$D145,week4!$AB:$AJ,8,FALSE))","v":""},{"$f":"IF(SUMIF(week5!$AB:$AB,all_cars!$D145,week5!$AI:$AI)=0,\"\",VLOOKUP(all_cars!$D145,week5!$AB:$AJ,8,FALSE))","v":""},null,{"$f":"IF(SUMIF(week1!$AB:$AB,all_cars!$D145,week1!$AJ:$AJ)=0,\"\",VLOOKUP(all_cars!$D145,week1!$AB:$AJ,9,FALSE))","v":""},{"$f":"IF(SUMIF(week2!$AB:$AB,all_cars!$D145,week2!$AJ:$AJ)=0,\"\",VLOOKUP(all_cars!$D145,week2!$AB:$AJ,9,FALSE))","v":""},{"$f":"IF(SUMIF(week3!$AB:$AB,all_cars!$D145,week3!$AJ:$AJ)=0,\"\",VLOOKUP(all_cars!$D145,week3!$AB:$AJ,9,FALSE))","v":""},{"$f":"IF(SUMIF(week4!$AB:$AB,all_cars!$D145,week4!$AJ:$AJ)=0,\"\",VLOOKUP(all_cars!$D145,week4!$AB:$AJ,9,FALSE))","v":""},{"$f":"IF(SUMIF(week5!$AB:$AB,all_cars!$D145,week5!$AJ:$AJ)=0,\"\",VLOOKUP(all_cars!$D145,week5!$AB:$AJ,9,FALSE))","v":""},null,null,null,"max tre                   ","[iR] iBlaze²              "]
[null,null,140,"[Qc]Praline               ",null,-696.69601947308126,-696.69601947308126,null,-696.69601947308126,null,{"$f":"IF(SUMIF(week1!$AB:$AB,all_cars!$D146,week1!$AF:$AF)=0,\"\",VLOOKUP(all_cars!$D146,week1!$AB:$AJ,5,FALSE))","v":""},{"$f":"IF(SUMIF(week2!$AB:$AB,all_cars!$D146,week2!$AF:$AF)=0,\"\",VLOOKUP(all_cars!$D146,week2!$AB:$AJ,5,FALSE))","v":""},{"$f":"IF(SUMIF(week3!$AB:$AB,all_cars!$D146,week3!$AF:$AF)=0,\"\",VLOOKUP(all_cars!$D146,week3!$AB:$AJ,5,FALSE))","v":""},{"$f":"IF(SUMIF(week4!$AB:$AB,all_cars!$D146,week4!$AF:$AF)=0,\"\",VLOOKUP(all_cars!$D146,week4!$AB:$AJ,5,FALSE))","v":""},{"$f":"IF(SUMIF(week5!$AB:$AB,all_cars!$D146,week5!$AF:$AF)=0,\"\",VLOOKUP(all_cars!$D146,week5!$AB:$AJ,5,FALSE))","v":""},null,{"$f":"IF(SUMIF(week1!$AB:$AB,all_cars!$D146,week1!$AG:$AG)=0,\"\",VLOOKUP(all_cars!$D146,week1!$AB:$AJ,6,FALSE))","v":""},{"$f":"IF(SUMIF(week2!$AB:$AB,all_cars!$D146,week2!$AG:$AG)=0,\"\",VLOOKUP(all_cars!$D146,week2!$AB:$AJ,6,FALSE))","v":""},{"$f":"IF(SUMIF(week3!$AB:$AB,all_cars!$D146,week3!$AG:$AG)=0,\"\",VLOOKUP(all_cars!$D146,week3!$AB:$AJ,6,FALSE))","v":""},{"$f":"IF(SUMIF(week4!$AB:$AB,all_cars!$D146,week4!$AG:$AG)=0,\"\",VLOOKUP(all_cars!$D146,week4!$AB:$AJ,6,FALSE))","v":""},{"$f":"IF(SUMIF(week5!$AB:$AB,all_cars!$D146,week5!$AG:$AG)=0,\"\",VLOOKUP(all_cars!$D146,week5!$AB:$AJ,6,FALSE))","v":-696.69601947308126},null,{"$f":"IF(SUMIF(week1!$AB:$AB,all_cars!$D146,week1!$AH:$AH)=0,\"\",VLOOKUP(all_cars!$D146,week1!$AB:$AJ,7,FALSE))","v":""},{"$f":"IF(SUMIF(week2!$AB:$AB,all_cars!$D146,week2!$AH:$AH)=0,\"\",VLOOKUP(all_cars!$D146,week2!$AB:$AJ,7,FALSE))","v":""},{"$f":"IF(SUMIF(week3!$AB:$AB,all_cars!$D146,week3!$AH:$AH)=0,\"\",VLOOKUP(all_cars!$D146,week3!$AB:$AJ,7,FALSE))","v":""},{"$f":"IF(SUMIF(week4!$AB:$AB,all_cars!$D146,week4!$AH:$AH)=0,\"\",VLOOKUP(all_cars!$D146,week4!$AB:$AJ,7,FALSE))","v":""},{"$f":"IF(SUMIF(week5!$AB:$AB,all_cars!$D146,week5!$AH:$AH)=0,\"\",VLOOKUP(all_cars!$D146,week5!$AB:$AJ,7,FALSE))","v":""},null,{"$f":"IF(SUMIF(week1!$AB:$AB,all_cars!$D146,week1!$AI:$AI)=0,\"\",VLOOKUP(all_cars!$D146,week1!$AB:$AJ,8,FALSE))","v":""},{"$f":"IF(SUMIF(week2!$AB:$AB,all_cars!$D146,week2!$AI:$AI)=0,\"\",VLOOKUP(all_cars!$D146,week2!$AB:$AJ,8,FALSE))","v":""},{"$f":"IF(SUMIF(week3!$AB:$AB,all_cars!$D146,week3!$AI:$AI)=0,\"\",VLOOKUP(all_cars!$D146,week3!$AB:$AJ,8,FALSE))","v":""},{"$f":"IF(SUMIF(week4!$AB:$AB,all_cars!$D146,week4!$AI:$AI)=0,\"\",VLOOKUP(all_cars!$D146,week4!$AB:$AJ,8,FALSE))","v":""},{"$f":"IF(SUMIF(week5!$AB:$AB,all_cars!$D146,week5!$AI:$AI)=0,\"\",VLOOKUP(all_cars!$D146,week5!$AB:$AJ,8,FALSE))","v":""},null,{"$f":"IF(SUMIF(week1!$AB:$AB,all_cars!$D146,week1!$AJ:$AJ)=0,\"\",VLOOKUP(all_cars!$D146,week1!$AB:$AJ,9,FALSE))","v":""},{"$f":"IF(SUMIF(week2!$AB:$AB,all_cars!$D146,week2!$AJ:$AJ)=0,\"\",VLOOKUP(all_cars!$D146,week2!$AB:$AJ,9,FALSE))","v":""},{"$f":"IF(SUMIF(week3!$AB:$AB,all_cars!$D146,week3!$AJ:$AJ)=0,\"\",VLOOKUP(all_cars!$D146,week3!$AB:$AJ,9,FALSE))","v":""},{"$f":"IF(SUMIF(week4!$AB:$AB,all_cars!$D146,week4!$AJ:$AJ)=0,\"\",VLOOKUP(all_cars!$D146,week4!$AB:$AJ,9,FALSE))","v":""},{"$f":"IF(SUMIF(week5!$AB:$AB,all_cars!$D146,week5!$AJ:$AJ)=0,\"\",VLOOKUP(all_cars!$D146,week5!$AB:$AJ,9,FALSE))","v":""},null,null,null,"[Qc]Praline               ","AnnicK                    "]
[null,null,null,null,null,null,null,null,null,null,null,null,null,null,null,null,null,null,null,null,null,null,null,null,null,null,null,null,null,null,null,null,null,null,null,null,null,null,null,null,null,null,null,"mc65532                   "]
[null,null,null,null,null,null,null,null,null,null,null,null,null,null,null,null,null,null,null,null,null,null,null,null,null,null,null,null,null,null,null,null,null,null,null,null,null,null,null,null,null,null,null,"fatty                     "]
[null,null,null,null,null,null,null,null,null,null,null,null,null,null,null,null,null,null,null,null,null,null,null,null,null,null,null,null,null,null,null,null,null,null,null,null,null,null,null,null,null,null,null,"[fS]Jan                   "]
[null,null,null,null,null,null,null,null,null,null,null,null,null,null,null,null,null,null,null,null,null,null,null,null,null,null,null,null,null,null,null,null,null,null,null,null,null,null,null,null,null,null,null,"pozdro600                 "]
[null,null,null,null,null,null,null,null,null,null,null,null,null,null,null,null,null,null,null,null,null,null,null,null,null,null,null,null,null,null,null,null,null,null,null,null,null,null,null,null,null,null,null,"chill                     "]
[null,null,null,null,null,null,null,null,null,null,null,null,null,null,null,null,null,null,null,null,null,null,null,null,null,null,null,null,null,null,null,null,null,null,null,null,null,null,null,null,null,null,null,"Qpa                       "]
[null,null,null,null,null,null,null,null,null,null,null,null,null,null,null,null,null,null,null,null,null,null,null,null,null,null,null,null,null,null,null,null,null,null,null,null,null,null,null,null,null,null,null,"Gol_v8                    "]
[null,null,null,null,null,null,null,null,null,null,null,null,null,null,null,null,null,null,null,null,null,null,null,null,null,null,null,null,null,null,null,null,null,null,null,null,null,null,null,null,null,null,null,"Rub                       "]
[null,null,null,null,null,null,null,null,null,null,null,null,null,null,null,null,null,null,null,null,null,null,null,null,null,null,null,null,null,null,null,null,null,null,null,null,null,null,null,null,null,null,null,"Augusto                   "]
[null,null,null,null,null,null,null,null,null,null,null,null,null,null,null,null,null,null,null,null,null,null,null,null,null,null,null,null,null,null,null,null,null,null,null,null,null,null,null,null,null,null,null,"Chukie                    "]
[null,null,null,null,null,null,null,null,null,null,null,null,null,null,null,null,null,null,null,null,null,null,null,null,null,null,null,null,null,null,null,null,null,null,null,null,null,null,null,null,null,null,null,"[FUN] GR8 Arjen!          "]
[null,null,null,null,null,null,null,null,null,null,null,null,null,null,null,null,null,null,null,null,null,null,null,null,null,null,null,null,null,null,null,null,null,null,null,null,null,null,null,null,null,null,null,"\\/\\/ | |_ |_              "]
[null,null,null,null,null,null,null,null,null,null,null,null,null,null,null,null,null,null,null,null,null,null,null,null,null,null,null,null,null,null,null,null,null,null,null,null,null,null,null,null,null,null,null,"Matti                     "]
[null,null,null,null,null,null,null,null,null,null,null,null,null,null,null,null,null,null,null,null,null,null,null,null,null,null,null,null,null,null,null,null,null,null,null,null,null,null,null,null,null,null,null,"messi                     "]
[null,null,null,null,null,null,null,null,null,null,null,null,null,null,null,null,null,null,null,null,null,null,null,null,null,null,null,null,null,null,null,null,null,null,null,null,null,null,null,null,null,null,null,"REIROM                    "]
[null,null,null,null,null,null,null,null,null,null,null,null,null,null,null,null,null,null,null,null,null,null,null,null,null,null,null,null,null,null,null,null,null,null,null,null,null,null,null,null,null,null,null,"[+] Badeend               "]
[null,null,null,null,null,null,null,null,null,null,null,null,null,null,null,null,null,null,null,null,null,null,null,null,null,null,null,null,null,null,null,null,null,null,null,null,null,null,null,null,null,null,null,"[PahaJori] Ender          "]
[null,null,null,null,null,null,null,null,null,null,null,null,null,null,null,null,null,null,null,null,null,null,null,null,null,null,null,null,null,null,null,null,null,null,null,null,null,null,null,null,null,null,null,"Ku Dern [Ri]              "]
[null,null,null,null,null,null,null,null,null,null,null,null,null,null,null,null,null,null,null,null,null,null,null,null,null,null,null,null,null,null,null,null,null,null,null,null,null,null,null,null,null,null,null,"Sig                       "]
[null,null,null,null,null,null,null,null,null,null,null,null,null,null,null,null,null,null,null,null,null,null,null,null,null,null,null,null,null,null,null,null,null,null,null,null,null,null,null,null,null,null,null,"Double O Seven            "]
[null,null,null,null,null,null,null,null,null,null,null,null,null,null,null,null,null,null,null,null,null,null,null,null,null,null,null,null,null,null,null,null,null,null,null,null,null,null,null,null,null,null,null,"Matic                     "]
[null,null,null,null,null,null,null,null,null,null,null,null,null,null,null,null,null,null,null,null,null,null,null,null,null,null,null,null,null,null,null,null,null,null,null,null,null,null,null,null,null,null,null,"Alukin                    "]
[null,null,null,null,null,null,null,null,null,null,null,null,null,null,null,null,null,null,null,null,null,null,null,null,null,null,null,null,null,null,null,null,null,null,null,null,null,null,null,null,null,null,null,"lds                       "]
[null,null,null,null,null,null,null,null,null,null,null,null,null,null,null,null,null,null,null,null,null,null,null,null,null,null,null,null,null,null,null,null,null,null,null,null,null,null,null,null,null,null,null,"Ninjinha_br               "]
[null,null,null,null,null,null,null,null,null,null,null,null,null,null,null,null,null,null,null,null,null,null,null,null,null,null,null,null,null,null,null,null,null,null,null,null,null,null,null,null,null,null,null,"[$pectre]Jaw$             "]
[null,null,null,null,null,null,null,null,null,null,null,null,null,null,null,null,null,null,null,null,null,null,null,null,null,null,null,null,null,null,null,null,null,null,null,null,null,null,null,null,null,null,null,"stoner                    "]
[null,null,null,null,null,null,null,null,null,null,null,null,null,null,null,null,null,null,null,null,null,null,null,null,null,null,null,null,null,null,null,null,null,null,null,null,null,null,null,null,null,null,null,"kikiriki                  "]
[null,null,null,null,null,null,null,null,null,null,null,null,null,null,null,null,null,null,null,null,null,null,null,null,null,null,null,null,null,null,null,null,null,null,null,null,null,null,null,null,null,null,null,"Qri                       "]
[null,null,null,null,null,null,null,null,null,null,null,null,null,null,null,null,null,null,null,null,null,null,null,null,null,null,null,null,null,null,null,null,null,null,null,null,null,null,null,null,null,null,null,"power79                   "]
[null,null,null,null,null,null,null,null,null,null,null,null,null,null,null,null,null,null,null,null,null,null,null,null,null,null,null,null,null,null,null,null,null,null,null,null,null,null,null,null,null,null,null,"batjunior                 "]
[null,null,null,null,null,null,null,null,null,null,null,null,null,null,null,null,null,null,null,null,null,null,null,null,null,null,null,null,null,null,null,null,null,null,null,null,null,null,null,null,null,null,null,"Serif  v2.5.3W            "]
[null,null,null,null,null,null,null,null,null,null,null,null,null,null,null,null,null,null,null,null,null,null,null,null,null,null,null,null,null,null,null,null,null,null,null,null,null,null,null,null,null,null,null,"Magnat                    "]
[null,null,null,null,null,null,null,null,null,null,null,null,null,null,null,null,null,null,null,null,null,null,null,null,null,null,null,null,null,null,null,null,null,null,null,null,null,null,null,null,null,null,null,"RiantHoff                 "]
[null,null,null,null,null,null,null,null,null,null,null,null,null,null,null,null,null,null,null,null,null,null,null,null,null,null,null,null,null,null,null,null,null,null,null,null,null,null,null,null,null,null,null,"Popowitch                 "]
[null,null,null,null,null,null,null,null,null,null,null,null,null,null,null,null,null,null,null,null,null,null,null,null,null,null,null,null,null,null,null,null,null,null,null,null,null,null,null,null,null,null,null,"straits                   "]
[null,null,null,null,null,null,null,null,null,null,null,null,null,null,null,null,null,null,null,null,null,null,null,null,null,null,null,null,null,null,null,null,null,null,null,null,null,null,null,null,null,null,null,"[ITA]_AIR_GIGI            "]
[null,null,null,null,null,null,null,null,null,null,null,null,null,null,null,null,null,null,null,null,null,null,null,null,null,null,null,null,null,null,null,null,null,null,null,null,null,null,null,null,null,null,null,"BrunoA                    "]
[null,null,null,null,null,null,null,null,null,null,null,null,null,null,null,null,null,null,null,null,null,null,null,null,null,null,null,null,null,null,null,null,null,null,null,null,null,null,null,null,null,null,null,"CrazybikE                 "]
[null,null,null,null,null,null,null,null,null,null,null,null,null,null,null,null,null,null,null,null,null,null,null,null,null,null,null,null,null,null,null,null,null,null,null,null,null,null,null,null,null,null,null,"koripallo tits            "]
[null,null,null,null,null,null,null,null,null,null,null,null,null,null,null,null,null,null,null,null,null,null,null,null,null,null,null,null,null,null,null,null,null,null,null,null,null,null,null,null,null,null,null,"bohun                     "]
[null,null,null,null,null,null,null,null,null,null,null,null,null,null,null,null,null,null,null,null,null,null,null,null,null,null,null,null,null,null,null,null,null,null,null,null,null,null,null,null,null,null,null,"Rendy                     "]
[null,null,null,null,null,null,null,null,null,null,null,null,null,null,null,null,null,null,null,null,null,null,null,null,null,null,null,null,null,null,null,null,null,null,null,null,null,null,null,null,null,null,null,"Hazard                    "]
[null,null,null,null,null,null,null,null,null,null,null,null,null,null,null,null,null,null,null,null,null,null,null,null,null,null,null,null,null,null,null,null,null,null,null,null,null,null,null,null,null,null,null,"Frank05                   "]
[null,null,null,null,null,null,null,null,null,null,null,null,null,null,null,null,null,null,null,null,null,null,null,null,null,null,null,null,null,null,null,null,null,null,null,null,null,null,null,null,null,null,null,"[5] Burnout               "]
[null,null,null,null,null,null,null,null,null,null,null,null,null,null,null,null,null,null,null,null,null,null,null,null,null,null,null,null,null,null,null,null,null,null,null,null,null,null,null,null,null,null,null,"[LWD] JamsleJ             "]
[null,null,null,null,null,null,null,null,null,null,null,null,null,null,null,null,null,null,null,null,null,null,null,null,null,null,null,null,null,null,null,null,null,null,null,null,null,null,null,null,null,null,null,"CrazybikE                 "]
[null,null,null,null,null,null,null,null,null,null,null,null,null,null,null,null,null,null,null,null,null,null,null,null,null,null,null,null,null,null,null,null,null,null,null,null,null,null,null,null,null,null,null,"laf                       "]
[null,null,null,null,null,null,null,null,null,null,null,null,null,null,null,null,null,null,null,null,null,null,null,null,null,null,null,null,null,null,null,null,null,null,null,null,null,null,null,null,null,null,null,"Thunda                    "]
[null,null,null,null,null,null,null,null,null,null,null,null,null,null,null,null,null,null,null,null,null,null,null,null,null,null,null,null,null,null,null,null,null,null,null,null,null,null,null,null,null,null,null,"Broomstig                 "]
[null,null,null,null,null,null,null,null,null,null,null,null,null,null,null,null,null,null,null,null,null,null,null,null,null,null,null,null,null,null,null,null,null,null,null,null,null,null,null,null,null,null,null,"[+] Tinjovic              "]
[null,null,null,null,null,null,null,null,null,null,null,null,null,null,null,null,null,null,null,null,null,null,null,null,null,null,null,null,null,null,null,null,null,null,null,null,null,null,null,null,null,null,null,"[x] Mike Nike             "]
[null,null,null,null,null,null,null,null,null,null,null,null,null,null,null,null,null,null,null,null,null,null,null,null,null,null,null,null,null,null,null,null,null,null,null,null,null,null,null,null,null,null,null,"[x] Stylus                "]
[null,null,null,null,null,null,null,null,null,null,null,null,null,null,null,null,null,null,null,null,null,null,null,null,null,null,null,null,null,null,null,null,null,null,null,null,null,null,null,null,null,null,null,"Matti                     "]
[null,null,null,null,null,null,null,null,null,null,null,null,null,null,null,null,null,null,null,null,null,null,null,null,null,null,null,null,null,null,null,null,null,null,null,null,null,null,null,null,null,null,null,"Jurgen-NL                 "]
[null,null,null,null,null,null,null,null,null,null,null,null,null,null,null,null,null,null,null,null,null,null,null,null,null,null,null,null,null,null,null,null,null,null,null,null,null,null,null,null,null,null,null,"[+] xzeal                 "]
[null,null,null,null,null,null,null,null,null,null,null,null,null,null,null,null,null,null,null,null,null,null,null,null,null,null,null,null,null,null,null,null,null,null,null,null,null,null,null,null,null,null,null,"[iR] iBlaze²              "]
[null,null,null,null,null,null,null,null,null,null,null,null,null,null,null,null,null,null,null,null,null,null,null,null,null,null,null,null,null,null,null,null,null,null,null,null,null,null,null,null,null,null,null,"AnnicK                    "]
[null,null,null,null,null,null,null,null,null,null,null,null,null,null,null,null,null,null,null,null,null,null,null,null,null,null,null,null,null,null,null,null,null,null,null,null,null,null,null,null,null,null,null,"[+] dede                  "]
[null,null,null,null,null,null,null,null,null,null,null,null,null,null,null,null,null,null,null,null,null,null,null,null,null,null,null,null,null,null,null,null,null,null,null,null,null,null,null,null,null,null,null,"GOl V8                    "]
[null,null,null,null,null,null,null,null,null,null,null,null,null,null,null,null,null,null,null,null,null,null,null,null,null,null,null,null,null,null,null,null,null,null,null,null,null,null,null,null,null,null,null,"messi                     "]
[null,null,null,null,null,null,null,null,null,null,null,null,null,null,null,null,null,null,null,null,null,null,null,null,null,null,null,null,null,null,null,null,null,null,null,null,null,null,null,null,null,null,null,"[fS]Palo                  "]
[null,null,null,null,null,null,null,null,null,null,null,null,null,null,null,null,null,null,null,null,null,null,null,null,null,null,null,null,null,null,null,null,null,null,null,null,null,null,null,null,null,null,null,"majstorfantac             "]
[null,null,null,null,null,null,null,null,null,null,null,null,null,null,null,null,null,null,null,null,null,null,null,null,null,null,null,null,null,null,null,null,null,null,null,null,null,null,null,null,null,null,null,"pozdro600                 "]
[null,null,null,null,null,null,null,null,null,null,null,null,null,null,null,null,null,null,null,null,null,null,null,null,null,null,null,null,null,null,null,null,null,null,null,null,null,null,null,null,null,null,null,"Shaytun                   "]
[null,null,null,null,null,null,null,null,null,null,null,null,null,null,null,null,null,null,null,null,null,null,null,null,null,null,null,null,null,null,null,null,null,null,null,null,null,null,null,null,null,null,null,"majstorfantac             "]
[null,null,null,null,null,null,null,null,null,null,null,null,null,null,null,null,null,null,null,null,null,null,null,null,null,null,null,null,null,null,null,null,null,null,null,null,null,null,null,null,null,null,null,"Qpa                       "]
[null,null,null,null,null,null,null,null,null,null,null,null,null,null,null,null,null,null,null,null,null,null,null,null,null,null,null,null,null,null,null,null,null,null,null,null,null,null,null,null,null,null,null,"[PahaJori] Ender          "]
[null,null,null,null,null,null,null,null,null,null,null,null,null,null,null,null,null,null,null,null,null,null,null,null,null,null,null,null,null,null,null,null,null,null,null,null,null,null,null,null,null,null,null,"JJ Nylander               "]
[null,null,null,null,null,null,null,null,null,null,null,null,null,null,null,null,null,null,null,null,null,null,null,null,null,null,null,null,null,null,null,null,null,null,null,null,null,null,null,null,null,null,null,"Kyna_Musti                "]
[null,null,null,null,null,null,null,null,null,null,null,null,null,null,null,null,null,null,null,null,null,null,null,null,null,null,null,null,null,null,null,null,null,null,null,null,null,null,null,null,null,null,null,"\\/\\/ | |_ |_              "]
[null,null,null,null,null,null,null,null,null,null,null,null,null,null,null,null,null,null,null,null,null,null,null,null,null,null,null,null,null,null,null,null,null,null,null,null,null,null,null,null,null,null,null,"Sig                       "]
[null,null,null,null,null,null,null,null,null,null,null,null,null,null,null,null,null,null,null,null,null,null,null,null,null,null,null,null,null,null,null,null,null,null,null,null,null,null,null,null,null,null,null,"majstorfantac             "]
[null,null,null,null,null,null,null,null,null,null,null,null,null,null,null,null,null,null,null,null,null,null,null,null,null,null,null,null,null,null,null,null,null,null,null,null,null,null,null,null,null,null,null,"Gol_v8                    "]
[null,null,null,null,null,null,null,null,null,null,null,null,null,null,null,null,null,null,null,null,null,null,null,null,null,null,null,null,null,null,null,null,null,null,null,null,null,null,null,null,null,null,null,"Augusto                   "]
[null,null,null,null,null,null,null,null,null,null,null,null,null,null,null,null,null,null,null,null,null,null,null,null,null,null,null,null,null,null,null,null,null,null,null,null,null,null,null,null,null,null,null,"majstorfantac             "]
[null,null,null,null,null,null,null,null,null,null,null,null,null,null,null,null,null,null,null,null,null,null,null,null,null,null,null,null,null,null,null,null,null,null,null,null,null,null,null,null,null,null,null,"Fa la la la la            "]
[null,null,null,null,null,null,null,null,null,null,null,null,null,null,null,null,null,null,null,null,null,null,null,null,null,null,null,null,null,null,null,null,null,null,null,null,null,null,null,null,null,null,null,"Nico Hulkenberg           "]
[null,null,null,null,null,null,null,null,null,null,null,null,null,null,null,null,null,null,null,null,null,null,null,null,null,null,null,null,null,null,null,null,null,null,null,null,null,null,null,null,null,null,null,"Bleached Anus             "]
[null,null,null,null,null,null,null,null,null,null,null,null,null,null,null,null,null,null,null,null,null,null,null,null,null,null,null,null,null,null,null,null,null,null,null,null,null,null,null,null,null,null,null,"JJ Nylander               "]
[null,null,null,null,null,null,null,null,null,null,null,null,null,null,null,null,null,null,null,null,null,null,null,null,null,null,null,null,null,null,null,null,null,null,null,null,null,null,null,null,null,null,null,"[+] Badeend               "]
[null,null,null,null,null,null,null,null,null,null,null,null,null,null,null,null,null,null,null,null,null,null,null,null,null,null,null,null,null,null,null,null,null,null,null,null,null,null,null,null,null,null,null,"batjunior                 "]
[null,null,null,null,null,null,null,null,null,null,null,null,null,null,null,null,null,null,null,null,null,null,null,null,null,null,null,null,null,null,null,null,null,null,null,null,null,null,null,null,null,null,null,"[+] olio                  "]
[null,null,null,null,null,null,null,null,null,null,null,null,null,null,null,null,null,null,null,null,null,null,null,null,null,null,null,null,null,null,null,null,null,null,null,null,null,null,null,null,null,null,null,"[x] Whiplash              "]
[null,null,null,null,null,null,null,null,null,null,null,null,null,null,null,null,null,null,null,null,null,null,null,null,null,null,null,null,null,null,null,null,null,null,null,null,null,null,null,null,null,null,null,"Jaka                      "]
[null,null,null,null,null,null,null,null,null,null,null,null,null,null,null,null,null,null,null,null,null,null,null,null,null,null,null,null,null,null,null,null,null,null,null,null,null,null,null,null,null,null,null,"Double O Seven            "]
[null,null,null,null,null,null,null,null,null,null,null,null,null,null,null,null,null,null,null,null,null,null,null,null,null,null,null,null,null,null,null,null,null,null,null,null,null,null,null,null,null,null,null,"Gol_V8 ( 17 )             "]
[null,null,null,null,null,null,null,null,null,null,null,null,null,null,null,null,null,null,null,null,null,null,null,null,null,null,null,null,null,null,null,null,null,null,null,null,null,null,null,null,null,null,null,"laf                       "]
[null,null,null,null,null,null,null,null,null,null,null,null,null,null,null,null,null,null,null,null,null,null,null,null,null,null,null,null,null,null,null,null,null,null,null,null,null,null,null,null,null,null,null,"lds                       "]
[null,null,null,null,null,null,null,null,null,null,null,null,null,null,null,null,null,null,null,null,null,null,null,null,null,null,null,null,null,null,null,null,null,null,null,null,null,null,null,null,null,null,null,"ROMREI                    "]
[null,null,null,null,null,null,null,null,null,null,null,null,null,null,null,null,null,null,null,null,null,null,null,null,null,null,null,null,null,null,null,null,null,null,null,null,null,null,null,null,null,null,null,"KLE621                    "]
[null,null,null,null,null,null,null,null,null,null,null,null,null,null,null,null,null,null,null,null,null,null,null,null,null,null,null,null,null,null,null,null,null,null,null,null,null,null,null,null,null,null,null,"power79                   "]
[null,null,null,null,null,null,null,null,null,null,null,null,null,null,null,null,null,null,null,null,null,null,null,null,null,null,null,null,null,null,null,null,null,null,null,null,null,null,null,null,null,null,null,"[FUN] GR8 Arjen!          "]
[null,null,null,null,null,null,null,null,null,null,null,null,null,null,null,null,null,null,null,null,null,null,null,null,null,null,null,null,null,null,null,null,null,null,null,null,null,null,null,null,null,null,null,"RiantHoff                 "]
[null,null,null,null,null,null,null,null,null,null,null,null,null,null,null,null,null,null,null,null,null,null,null,null,null,null,null,null,null,null,null,null,null,null,null,null,null,null,null,null,null,null,null,"put                       "]
[null,null,null,null,null,null,null,null,null,null,null,null,null,null,null,null,null,null,null,null,null,null,null,null,null,null,null,null,null,null,null,null,null,null,null,null,null,null,null,null,null,null,null,"Qri                       "]
[null,null,null,null,null,null,null,null,null,null,null,null,null,null,null,null,null,null,null,null,null,null,null,null,null,null,null,null,null,null,null,null,null,null,null,null,null,null,null,null,null,null,null,"Ninjinha_br               "]
[null,null,null,null,null,null,null,null,null,null,null,null,null,null,null,null,null,null,null,null,null,null,null,null,null,null,null,null,null,null,null,null,null,null,null,null,null,null,null,null,null,null,null,"DEAD FISH                 "]
[null,null,null,null,null,null,null,null,null,null,null,null,null,null,null,null,null,null,null,null,null,null,null,null,null,null,null,null,null,null,null,null,null,null,null,null,null,null,null,null,null,null,null,"FliZeR                    "]
[null,null,null,null,null,null,null,null,null,null,null,null,null,null,null,null,null,null,null,null,null,null,null,null,null,null,null,null,null,null,null,null,null,null,null,null,null,null,null,null,null,null,null,"Xenor                     "]
[null,null,null,null,null,null,null,null,null,null,null,null,null,null,null,null,null,null,null,null,null,null,null,null,null,null,null,null,null,null,null,null,null,null,null,null,null,null,null,null,null,null,null,"FliZeR                    "]
[null,null,null,null,null,null,null,null,null,null,null,null,null,null,null,null,null,null,null,null,null,null,null,null,null,null,null,null,null,null,null,null,null,null,null,null,null,null,null,null,null,null,null,"kikiriki                  "]
[null,null,null,null,null,null,null,null,null,null,null,null,null,null,null,null,null,null,null,null,null,null,null,null,null,null,null,null,null,null,null,null,null,null,null,null,null,null,null,null,null,null,null,"Kooler                    "]
[null,null,null,null,null,null,null,null,null,null,null,null,null,null,null,null,null,null,null,null,null,null,null,null,null,null,null,null,null,null,null,null,null,null,null,null,null,null,null,null,null,null,null,"[iR] Etmil                "]
[null,null,null,null,null,null,null,null,null,null,null,null,null,null,null,null,null,null,null,null,null,null,null,null,null,null,null,null,null,null,null,null,null,null,null,null,null,null,null,null,null,null,null,"I-IenR!Kubica             "]
[null,null,null,null,null,null,null,null,null,null,null,null,null,null,null,null,null,null,null,null,null,null,null,null,null,null,null,null,null,null,null,null,null,null,null,null,null,null,null,null,null,null,null,"[+] Tinjovic              "]
[null,null,null,null,null,null,null,null,null,null,null,null,null,null,null,null,null,null,null,null,null,null,null,null,null,null,null,null,null,null,null,null,null,null,null,null,null,null,null,null,null,null,null,"[x] Mike Nike             "]
[null,null,null,null,null,null,null,null,null,null,null,null,null,null,null,null,null,null,null,null,null,null,null,null,null,null,null,null,null,null,null,null,null,null,null,null,null,null,null,null,null,null,null,"[+] dede                  "]
[null,null,null,null,null,null,null,null,null,null,null,null,null,null,null,null,null,null,null,null,null,null,null,null,null,null,null,null,null,null,null,null,null,null,null,null,null,null,null,null,null,null,null,"Kyna_Musti                "]
[null,null,null,null,null,null,null,null,null,null,null,null,null,null,null,null,null,null,null,null,null,null,null,null,null,null,null,null,null,null,null,null,null,null,null,null,null,null,null,null,null,null,null,"[+] xzeal                 "]
[null,null,null,null,null,null,null,null,null,null,null,null,null,null,null,null,null,null,null,null,null,null,null,null,null,null,null,null,null,null,null,null,null,null,null,null,null,null,null,null,null,null,null,"[iR] iBlaze²              "]
[null,null,null,null,null,null,null,null,null,null,null,null,null,null,null,null,null,null,null,null,null,null,null,null,null,null,null,null,null,null,null,null,null,null,null,null,null,null,null,null,null,null,null,"pozdro600                 "]
[null,null,null,null,null,null,null,null,null,null,null,null,null,null,null,null,null,null,null,null,null,null,null,null,null,null,null,null,null,null,null,null,null,null,null,null,null,null,null,null,null,null,null,"Qpa                       "]
[null,null,null,null,null,null,null,null,null,null,null,null,null,null,null,null,null,null,null,null,null,null,null,null,null,null,null,null,null,null,null,null,null,null,null,null,null,null,null,null,null,null,null,"[x] Stylus                "]
[null,null,null,null,null,null,null,null,null,null,null,null,null,null,null,null,null,null,null,null,null,null,null,null,null,null,null,null,null,null,null,null,null,null,null,null,null,null,null,null,null,null,null,"Sami                      "]
[null,null,null,null,null,null,null,null,null,null,null,null,null,null,null,null,null,null,null,null,null,null,null,null,null,null,null,null,null,null,null,null,null,null,null,null,null,null,null,null,null,null,null,"Jurgen-NL                 "]
[null,null,null,null,null,null,null,null,null,null,null,null,null,null,null,null,null,null,null,null,null,null,null,null,null,null,null,null,null,null,null,null,null,null,null,null,null,null,null,null,null,null,null,"Wokinger                  "]
[null,null,null,null,null,null,null,null,null,null,null,null,null,null,null,null,null,null,null,null,null,null,null,null,null,null,null,null,null,null,null,null,null,null,null,null,null,null,null,null,null,null,null,"[+] olio                  "]
[null,null,null,null,null,null,null,null,null,null,null,null,null,null,null,null,null,null,null,null,null,null,null,null,null,null,null,null,null,null,null,null,null,null,null,null,null,null,null,null,null,null,null,"[x] Whiplash              "]
[null,null,null,null,null,null,null,null,null,null,null,null,null,null,null,null,null,null,null,null,null,null,null,null,null,null,null,null,null,null,null,null,null,null,null,null,null,null,null,null,null,null,null,"GOl V8                    "]
[null,null,null,null,null,null,null,null,null,null,null,null,null,null,null,null,null,null,null,null,null,null,null,null,null,null,null,null,null,null,null,null,null,null,null,null,null,null,null,null,null,null,null,"Sig                       "]
[null,null,null,null,null,null,null,null,null,null,null,null,null,null,null,null,null,null,null,null,null,null,null,null,null,null,null,null,null,null,null,null,null,null,null,null,null,null,null,null,null,null,null,"AnnicK                    "]
[null,null,null,null,null,null,null,null,null,null,null,null,null,null,null,null,null,null,null,null,null,null,null,null,null,null,null,null,null,null,null,null,null,null,null,null,null,null,null,null,null,null,null,"[PahaJori] Ender          "]
[null,null,null,null,null,null,null,null,null,null,null,null,null,null,null,null,null,null,null,null,null,null,null,null,null,null,null,null,null,null,null,null,null,null,null,null,null,null,null,null,null,null,null,"ROMREI                    "]
[null,null,null,null,null,null,null,null,null,null,null,null,null,null,null,null,null,null,null,null,null,null,null,null,null,null,null,null,null,null,null,null,null,null,null,null,null,null,null,null,null,null,null,"[FUN] GR8 Arjen!          "]
[null,null,null,null,null,null,null,null,null,null,null,null,null,null,null,null,null,null,null,null,null,null,null,null,null,null,null,null,null,null,null,null,null,null,null,null,null,null,null,null,null,null,null,"[+] Badeend               "]
[null,null,null,null,null,null,null,null,null,null,null,null,null,null,null,null,null,null,null,null,null,null,null,null,null,null,null,null,null,null,null,null,null,null,null,null,null,null,null,null,null,null,null,"Delux                     "]
[null,null,null,null,null,null,null,null,null,null,null,null,null,null,null,null,null,null,null,null,null,null,null,null,null,null,null,null,null,null,null,null,null,null,null,null,null,null,null,null,null,null,null,"T                         "]
[null,null,null,null,null,null,null,null,null,null,null,null,null,null,null,null,null,null,null,null,null,null,null,null,null,null,null,null,null,null,null,null,null,null,null,null,null,null,null,null,null,null,null,"batjunior                 "]
[null,null,null,null,null,null,null,null,null,null,null,null,null,null,null,null,null,null,null,null,null,null,null,null,null,null,null,null,null,null,null,null,null,null,null,null,null,null,null,null,null,null,null,"majstorfantac             "]
[null,null,null,null,null,null,null,null,null,null,null,null,null,null,null,null,null,null,null,null,null,null,null,null,null,null,null,null,null,null,null,null,null,null,null,null,null,null,null,null,null,null,null,"Shaytun                   "]
[null,null,null,null,null,null,null,null,null,null,null,null,null,null,null,null,null,null,null,null,null,null,null,null,null,null,null,null,null,null,null,null,null,null,null,null,null,null,null,null,null,null,null,"majstorfantac             "]
[null,null,null,null,null,null,null,null,null,null,null,null,null,null,null,null,null,null,null,null,null,null,null,null,null,null,null,null,null,null,null,null,null,null,null,null,null,null,null,null,null,null,null,"Double O Seven            "]
[null,null,null,null,null,null,null,null,null,null,null,null,null,null,null,null,null,null,null,null,null,null,null,null,null,null,null,null,null,null,null,null,null,null,null,null,null,null,null,null,null,null,null,"majstorfantac             "]
[null,null,null,null,null,null,null,null,null,null,null,null,null,null,null,null,null,null,null,null,null,null,null,null,null,null,null,null,null,null,null,null,null,null,null,null,null,null,null,null,null,null,null,"power79                   "]
[null,null,null,null,null,null,null,null,null,null,null,null,null,null,null,null,null,null,null,null,null,null,null,null,null,null,null,null,null,null,null,null,null,null,null,null,null,null,null,null,null,null,null,"lds                       "]
[null,null,null,null,null,null,null,null,null,null,null,null,null,null,null,null,null,null,null,null,null,null,null,null,null,null,null,null,null,null,null,null,null,null,null,null,null,null,null,null,null,null,null,"|/|/ | |_ |_ | E          "]
[null,null,null,null,null,null,null,null,null,null,null,null,null,null,null,null,null,null,null,null,null,null,null,null,null,null,null,null,null,null,null,null,null,null,null,null,null,null,null,null,null,null,null,"Simo                      "]
[null,null,null,null,null,null,null,null,null,null,null,null,null,null,null,null,null,null,null,null,null,null,null,null,null,null,null,null,null,null,null,null,null,null,null,null,null,null,null,null,null,null,null,"JJ Nylander               "]
[null,null,null,null,null,null,null,null,null,null,null,null,null,null,null,null,null,null,null,null,null,null,null,null,null,null,null,null,null,null,null,null,null,null,null,null,null,null,null,null,null,null,null,"Drax                      "]
[null,null,null,null,null,null,null,null,null,null,null,null,null,null,null,null,null,null,null,null,null,null,null,null,null,null,null,null,null,null,null,null,null,null,null,null,null,null,null,null,null,null,null,"Augusto                   "]
[null,null,null,null,null,null,null,null,null,null,null,null,null,null,null,null,null,null,null,null,null,null,null,null,null,null,null,null,null,null,null,null,null,null,null,null,null,null,null,null,null,null,null,"[Qc]RSX                   "]
[null,null,null,null,null,null,null,null,null,null,null,null,null,null,null,null,null,null,null,null,null,null,null,null,null,null,null,null,null,null,null,null,null,null,null,null,null,null,null,null,null,null,null,"laf                       "]
[null,null,null,null,null,null,null,null,null,null,null,null,null,null,null,null,null,null,null,null,null,null,null,null,null,null,null,null,null,null,null,null,null,null,null,null,null,null,null,null,null,null,null,"C.Monster                 "]
[null,null,null,null,null,null,null,null,null,null,null,null,null,null,null,null,null,null,null,null,null,null,null,null,null,null,null,null,null,null,null,null,null,null,null,null,null,null,null,null,null,null,null,"KLE621                    "]
[null,null,null,null,null,null,null,null,null,null,null,null,null,null,null,null,null,null,null,null,null,null,null,null,null,null,null,null,null,null,null,null,null,null,null,null,null,null,null,null,null,null,null,"MoCoCa                    "]
[null,null,null,null,null,null,null,null,null,null,null,null,null,null,null,null,null,null,null,null,null,null,null,null,null,null,null,null,null,null,null,null,null,null,null,null,null,null,null,null,null,null,null,"Nico Hulkenberg           "]
[null,null,null,null,null,null,null,null,null,null,null,null,null,null,null,null,null,null,null,null,null,null,null,null,null,null,null,null,null,null,null,null,null,null,null,null,null,null,null,null,null,null,null,"[Qc]Isaac                 "]
[null,null,null,null,null,null,null,null,null,null,null,null,null,null,null,null,null,null,null,null,null,null,null,null,null,null,null,null,null,null,null,null,null,null,null,null,null,null,null,null,null,null,null,"Baba                      "]
[null,null,null,null,null,null,null,null,null,null,null,null,null,null,null,null,null,null,null,null,null,null,null,null,null,null,null,null,null,null,null,null,null,null,null,null,null,null,null,null,null,null,null,"[Qc]ghost                 "]
[null,null,null,null,null,null,null,null,null,null,null,null,null,null,null,null,null,null,null,null,null,null,null,null,null,null,null,null,null,null,null,null,null,null,null,null,null,null,null,null,null,null,null,"Buzzurro                  "]
[null,null,null,null,null,null,null,null,null,null,null,null,null,null,null,null,null,null,null,null,null,null,null,null,null,null,null,null,null,null,null,null,null,null,null,null,null,null,null,null,null,null,null,"max tre                   "]
[null,null,null,null,null,null,null,null,null,null,null,null,null,null,null,null,null,null,null,null,null,null,null,null,null,null,null,null,null,null,null,null,null,null,null,null,null,null,null,null,null,null,null,"[Qc]Praline               "]

{"sheet":"all_cars_public","index":7,"n_rows":250,"n_cols":90,"rows_kept":250,"cut":false,"hidden":false,"merged":[]}
[]
[]
[]
[]
[null,null,null,null,null,null,null,null,null,null,"Antislider",null,null,null,null,"EasySlider",null,null,null,null,"Spinner",null,null,null,null,"Slider",null,null,null,null,"Speeder",null,null,null,null,"Antislider",null,null,null,null,"EasySlider",null,null,null,null,"Spinner",null,null,null,null,"Slider",null,null,null,null,"Speeder"]
[null,null,null,null,null,"Max","Min",null,"Av",null,"Week 1","Week 2","Week 3","Week 4",null,"Week 1","Week 2","Week 3","Week 4",null,"Week 1","Week 2","Week 3","Week 4",null,"Week 1","Week 2","Week 3","Week 4",null,"Week 1","Week 2","Week 3","Week 4",null,1,2,3,4,null,1,2,3,4,null,1,2,3,4,null,1,2,3,4,null,1,2,3,4,null,1,2,3,4,5,6,7,8,9,10,11,12,13,14,15,16,17,18,19,20,null,"Top3","Top10","Top20","Played",null,null,null,null,"copy from all weeks under here..values..and then copy to left and filter out duplicates"]
[null,null,1,"[+] Tinjovic              ",null,{"$f":"IF($I7=\"\",0,MAX($K7:$AH7))","v":100},{"$f":"IF($I7=\"\",0,MIN($K7:$AH7))","v":99.833652427732957},null,{"$f":"IF(COUNT(K7:AH7)=0,0,SUM(K7:AH7)/COUNT(K7:AH7))","v":99.953387699504859},null,99.878744182997977,99.852362204724415,99.932208496535097,100,null,100,100,100,100,null,100,99.880037609830438,100,100,null,99.833652427732957,99.905645030095982,99.843218232572369,99.941885805608024,null,100,100,100,100,null,{"$f":"IFERROR(RANK(K7,K$7:K$999,0),\"\")","v":2},{"$f":"IFERROR(RANK(L7,L$7:L$999,0),\"\")","v":2},{"$f":"IFERROR(RANK(M7,M$7:M$999,0),\"\")","v":2},{"$f":"IFERROR(RANK(N7,N$7:N$999,0),\"\")","v":1},null,{"$f":"IFERROR(RANK(P7,P$7:P$999,0),\"\")","v":1},{"$f":"IFERROR(RANK(Q7,Q$7:Q$999,0),\"\")","v":1},{"$f":"IFERROR(RANK(R7,R$7:R$999,0),\"\")","v":1},{"$f":"IFERROR(RANK(S7,S$7:S$999,0),\"\")","v":1},null,{"$f":"IFERROR(RANK(U7,U$7:U$999,0),\"\")","v":1},{"$f":"IFERROR(RANK(V7,V$7:V$999,0),\"\")","v":2},{"$f":"IFERROR(RANK(W7,W$7:W$999,0),\"\")","v":1},{"$f":"IFERROR(RANK(X7,X$7:X$999,0),\"\")","v":1},null,{"$f":"IFERROR(RANK(Z7,Z$7:Z$999,0),\"\")","v":3},{"$f":"IFERROR(RANK(AA7,AA$7:AA$999,0),\"\")","v":2},{"$f":"IFERROR(RANK(AB7,AB$7:AB$999,0),\"\")","v":2},{"$f":"IFERROR(RANK(AC7,AC$7:AC$999,0),\"\")","v":2},null,{"$f":"IFERROR(RANK(AE7,AE$7:AE$999,0),\"\")","v":1},{"$f":"IFERROR(RANK(AF7,AF$7:AF$999,0),\"\")","v":1},{"$f":"IFERROR(RANK(AG7,AG$7:AG$999,0),\"\")","v":1},{"$f":"IFERROR(RANK(AH7,AH$7:AH$999,0),\"\")","v":1},null,{"$f":"IF(SUMIF($AJ7:$BG7,BI$6)/BI$6=0,\"\",SUMIF($AJ7:$BG7,BI$6)/BI$6)","v":12},{"$f":"IF(SUMIF($AJ7:$BG7,BJ$6)/BJ$6=0,\"\",SUMIF($AJ7:$BG7,BJ$6)/BJ$6)","v":7},1,"","","","","","","","","","","","","","","","","",null,{"$f":"SUM(BI7:BK7)","v":20},{"$f":"SUM(BI7:BR7)","v":20},{"$f":"SUM(BI7:CB7)","v":20},{"$f":"COUNT(AJ7:BH7)","v":20},null,null,null,"[+] Tinjovic              ","[+] Tinjovic              "]
[null,null,2,"[x] Mike Nike             ",null,100,99.399585921325041,null,99.826882419832287,null,100,99.645669291338578,100,99.944000597326976,null,99.777916796997189,99.735219090057811,99.837692975502947,99.535520109458815,null,99.77344241661423,100,99.56159740642498,99.967257248881282,null,100,100,100,100,null,99.956616052060738,99.874773897314597,99.399585921325041,99.528356593342863,null,1,3,1,2,null,2,2,2,3,null,2,1,2,2,null,1,1,1,1,null,2,2,2,2,null,{"$f":"IF(SUMIF($AJ8:$BG8,BI$6)/BI$6=0,\"\",SUMIF($AJ8:$BG8,BI$6)/BI$6)","v":7},11,2,"","","","","","","","","","","","","",{"$f":"IF(SUMIF($AJ8:$BG8,BY$6)/BY$6=0,\"\",SUMIF($AJ8:$BG8,BY$6)/BY$6)","v":""},"","","",null,{"$f":"SUM(BI8:BK8)","v":20},{"$f":"SUM(BI8:BR8)","v":20},{"$f":"SUM(BI8:CB8)","v":20},{"$f":"COUNT(AJ8:BH8)","v":20},null,null,null,"[x] Mike Nike             ","[x] Mike Nike             "]
[null,null,3,"[fS]Palo                  ",null,100,98.431755327802179,null,99.246799996588649,null,99.839417972078394,100,99.811690268153058,99.544538191592622,null,99.177353769158586,98.605056669572804,99.135620730004135,98.840600583300329,null,99.606670862177467,99.007878611030051,98.77689360447981,99.392440062575034,null,99.915256897146975,98.431755327802179,99.166379870750646,"",null,98.925412981812116,"",99.018633540372662,"",null,3,1,5,6,null,3,3,4,4,null,3,3,4,5,null,2,5,6,"",null,4,"",4,"",null,1,1,5,5,3,2,"","","","","","","","","","","","","","",null,7,17,17,17,null,null,null,"[fS]Palo                  ","[fS]Palo                  "]
[null,null,4,"[fS]Hevonen               ",null,99.887014160891837,96.121685374979663,null,98.313525649361466,null,99.118437438552789,99.120734908136484,99.887014160891837,"",null,97.488270253362515,"",98.539236779526661,"",null,98.417243549402144,"",98.441644562334204,"",null,99.431907347540871,96.121685374979663,98.393942870253525,"",null,96.926414149841477,"",97.875776397515523,"",null,8,9,3,"",null,6,"",7,"",null,4,"",7,"",null,4,10,10,"",null,6,"",10,"",null,"","",1,2,"",2,2,1,1,3,"","","","","","","","","","",null,1,12,12,12,null,null,null,"[x] Whiplash              ","[x] Whiplash              "]
[null,null,5,"[+] dede                  ",null,99.883581329355692,99.062908615429322,null,99.578017801900103,null,"","","","",null,"","","",99.78756346091528,null,"","","",99.883581329355692,null,"","","",99.062908615429322,null,"","","","",null,"","","","",null,"","","",2,null,"","","",3,null,"","","",4,null,"","","","",null,"",1,1,1,"","","","","","","","","","","","","","","","",null,2,3,3,3,null,null,null,"[fS]Hevonen               ","[fS]Hevonen               "]
[null,null,6,"[+] Badeend               ",null,99.879481771617961,96.247860763989806,null,98.243020921246185,null,99.413384020449627,99.645669291338578,99.879481771617961,99.514671843500338,null,96.859555833594001,96.247860763989806,97.523874230928911,"",null,"","","","",null,"","","","",null,96.859669614550313,"","","",null,7,3,4,7,null,8,12,12,"",null,"","","","",null,"","","","",null,8,"","","",null,"","",1,1,"","",2,2,"","","",2,"","","","","","","","",null,1,6,8,8,null,null,null,"Kyna_Musti                ","Kyna_Musti                "]
[null,null,7,"[PahaJori] Ender          ",null,99.678936758007922,95.128928750918163,null,98.182223451805697,null,99.662450022940291,99.274934383202094,99.585718589936732,99.678936758007922,null,"","",97.127543124598944,96.817052533035678,null,"","","","",null,"","","","",null,"","","",95.128928750918163,null,4,6,6,3,null,"","",14,9,null,"","","","",null,"","","","",null,"","","",14,null,"","",1,1,"",2,"","",1,"","","","",2,"","","","","","",null,1,5,7,7,null,null,null,"[+] Iziwýn                ","[+] Iziwýn                "]
[null,null,8,"[x] Stylus                ",null,99.660270290450242,20.801446607898228,null,93.191713402120627,null,"",98.431758530183728,99.555589032841212,99.660270290450242,null,"",20.801446607898228,99.282829426641001,98.664170237280814,null,"","",98.898467432950184,99.472477898642978,null,"",99.469659996746373,99.445527895682773,98.913990992299873,null,"",95.731877000139136,98.741200828157346,97.614721459774998,null,"",16,7,4,null,"",30,3,5,null,"","",3,4,null,"",3,3,6,null,"",9,6,8,null,"","",4,2,1,2,1,1,1,"","","","","","",1,"","","","",null,4,12,13,14,null,null,null,"mc65532                   ","mc65532                   "]
[null,null,9,"Jurgen-NL                 ",null,99.626670648846414,93.412314366761223,null,97.117599936763696,null,97.201284656223379,98.914041994750662,99.461434166917741,99.626670648846414,null,96.212073819205514,96.829087151667792,98.267466878043251,96.932272350844343,null,"",96.832344454171121,97.933244916003531,97.555207916469598,null,"",94.999186595087039,98.321287904860242,97.123347377596971,null,93.412314366761223,94.848337275636567,97.246376811594189,96.40081957706731,null,19,11,11,5,null,10,8,9,8,null,"",9,10,11,null,"",14,11,11,null,12,12,13,11,null,"","","","",1,"","",2,2,2,6,2,1,1,"","","","",1,"",null,0,7,18,18,null,null,null,"[+] Badeend               ","[+] Badeend               "]
[null,null,10,"Kyna_Musti                ",null,99.521693281108767,96.681508278836787,null,98.404752056634095,null,98.443337484433371,99.189632545931758,99.521693281108767,99.074143209139109,null,97.150453550203309,97.584681455649203,98.441097648435431,"",null,"",98.220017508024512,98.673740053050381,"",null,99.378550579077881,99.248413860419717,99.365225039195437,98.420020339968048,null,96.893041882195888,96.681508278836787,98.19047619047619,"",null,11,7,8,12,null,7,6,8,"",null,"",4,5,"",null,5,4,5,7,null,7,6,9,"",null,"","","",2,3,2,4,2,1,"",1,1,"","","","","","","","",null,0,14,16,16,null,null,null,"Poisonous                 ","Poisonous                 "]
[null,null,11,"[x] Whiplash              ",null,99.518253916235167,97.387710290936099,null,98.626494863763256,null,99.518253916235167,99.30446194225722,99.514160891834891,98.999477338908392,null,98.326556146387233,97.387710290936099,98.61472841882761,"",null,98.407803650094394,"",98.157972295903335,"",null,98.327108377012649,"",98.933119192382705,"",null,98.044385115968637,"",98.608695652173907,"",null,5,5,9,13,null,5,7,6,"",null,5,"",8,"",null,6,"",7,"",null,5,"",7,"",null,"","","","",5,2,3,1,1,"","","",1,"","","","","","","",null,0,12,13,13,null,null,null,"Chukie                    ","Chukie                    "]
[null,null,12,"Double O Seven            ",null,99.518253916235167,91.717234907725981,null,97.030567737974067,null,99.518253916235167,99.176509186351709,99.404941247363652,98.555215411035633,null,91.717234907725981,95.02405631437891,95.817763182727504,"",null,"","","","",null,"","","","",null,"","","","",null,5,8,12,14,null,18,14,24,"",null,"","","","",null,"","","","",null,"","","","",null,"","","","",1,"","",1,"","","",1,"",2,"","","",1,"","",null,0,2,6,7,null,null,null,"Jurgen-NL                 ","Jurgen-NL                 "]
[null,null,13,"mc65532                   ",null,99.514160891834891,90.815951943934593,null,95.839084986677889,null,96.56551091302353,97.841207349081358,99.514160891834891,"",null,96.409133562715041,93.677548516258199,95.776242781111989,"",null,97.10509754562618,96.018545537074871,97.86693191865605,"",null,93.393176610903609,"",96.937019616840644,"",null,90.815951943934593,"",93.987577639751549,"",null,21,23,9,"",null,9,16,25,"",null,6,12,12,"",null,17,"",18,"",null,14,"",26,"",null,"","","","","",1,"","",2,"","",2,"",1,"",1,1,1,"","",null,0,3,9,13,null,null,null,"KyNa                      ","KyNa                      "]
[null,null,14,"Matti                     ",null,99.437880004588735,98.345382147137272,null,98.961085494493048,null,"","",99.035854172943658,99.301874113342805,null,"","","",98.653368379361254,null,"","","",98.857641794302765,null,"","",99.437880004588735,99.095597849774805,null,"","","",98.345382147137272,null,"","",17,9,null,"","","",6,null,"","","",6,null,"","",4,3,null,"","","",7,null,"","",1,1,"",2,1,"",1,"","","","","","","",1,"","","",null,1,6,7,7,null,null,null,"fatty                     ","Kyna_Musti                "]
[null,null,15,"Sig                       ",null,99.420110565585503,81.641915568162858,null,96.111840432287693,null,"",99.104330708661422,"",97.722690957963124,null,"",98.101327133585201,"","",null,"","",97.63483642793986,"",null,"","","","",null,81.641915568162858,96.855433421455402,98.414078674948229,99.420110565585503,null,"",10,"",28,null,"",4,"","",null,"","",13,"",null,"","","","",null,23,5,8,3,null,"","",1,1,1,"","",1,"",1,"","",1,"","","","","","","",null,1,5,6,8,null,null,null,"AnnicK                    ","fatty                     "]
[null,null,16,"majstorfantac             ",null,99.406406331665806,96.550606704353143,null,97.842530562240995,null,"","","",99.406406331665806,null,"","","",96.550606704353143,null,"","","",98.082730017826606,null,"","","",97.330379195118411,null,"","","","",null,"","","",8,null,"","","",12,null,"","","",8,null,"","","",10,null,"","","","",null,"","","","","","","",2,"",1,"",1,"","","","","","","","",null,0,3,4,4,null,null,null,"[FN] Pornfest             ","AnnicK                    "]
[null,null,17,"GOl V8                    ",null,99.404646847334448,96.012660530432569,null,97.499227094395934,null,"","","",98.540282236989484,null,"","","",96.039318762827207,null,"","","",96.012660530432569,null,"","","","",null,"","","",99.404646847334448,null,"","","",15,null,"","","",13,null,"","","",14,null,"","","","",null,"","","",4,null,"","","",1,"","","","","","","","",1,1,1,{"$f":"IF(SUMIF($AJ23:$BG23,BX$6)/BX$6=0,\"\",SUMIF($AJ23:$BG23,BX$6)/BX$6)","v":""},"","","","",null,0,1,4,4,null,null,null,"Double O Seven            ","[FN] Pornfest             "]
[null,null,18,"kikiriki                  ",null,99.383022774327117,68.966556191623965,null,90.699093741068793,null,"",98.769685039370074,68.966556191623965,88.583588441723293,null,"",97.662178307339602,"","",null,"",98.028726129105465,"","",null,"",96.980640963071409,"","",null,69.851493408977134,98.065952414080982,99.383022774327117,"",null,"",12,48,42,null,"",5,"","",null,"",6,"","",null,"",8,"","",null,25,4,3,"",null,{"$f":"IF(SUMIF($AJ24:$BG24,BI$6)/BI$6=0,\"\",SUMIF($AJ24:$BG24,BI$6)/BI$6)","v":""},"",1,1,1,1,"",1,"","","",1,"","","","","","","","",null,1,5,6,9,null,null,null,"chill                     ","Double O Seven            "]
[null,null,19,"Qri                       ",null,99.273124435070798,96.800567460613763,null,98.030688199698872,null,"",98.018372703412069,99.273124435070798,96.800567460613763,null,"","","","",null,"","","","",null,"","","","",null,"","","","",null,"",22,13,34,null,"","","","",null,"","","","",null,"","","","",null,"","","","",null,"","","","","","","","","","","","",1,"","","","","","","",null,0,0,1,3,null,null,null,"Guillo                    ","chill                     "]
[null,null,20,"[FUN] GR8 Arjen!          ",null,99.261825851159983,86.573316551290134,null,95.767252711570293,null,97.270105525332625,98.474409448818903,99.261825851159983,97.905622340028373,null,"","",97.4030876080474,"",null,86.573316551290134,"","","",null,"","","","",null,"","",93.482401656314693,"",null,17,15,14,26,null,"","",13,"",null,13,"","","",null,"","","","",null,"","",27,"",null,"","","","","","","","","","","","",2,1,1,"",1,"","","",null,0,0,5,7,null,null,null,"Ande                      ","Guillo                    "]
[null,null,21,"messi                     ",null,99.230941536623618,92.028453241581943,null,95.878719994193375,null,"","",98.651702319975897,99.230941536623618,null,"","",94.466462839240549,94.750297051092787,null,"","","",98.057263433623163,null,"","",96.019272685556956,93.825366845852102,null,"","","",92.028453241581943,null,"","",23,10,null,"","",31,18,null,"","","",9,null,"","",20,14,null,"","","",20,null,"","","","","","","","",1,1,"","","",1,"","","",1,"",2,null,0,2,6,8,null,null,null,"Scud                      ","Ande                      "]
[null,null,22,"batjunior                 ",null,99.204808482042864,97.641076115485561,null,98.599627496153133,null,"",97.641076115485561,98.952997890931002,99.204808482042864,null,"","","","",null,"","","","",null,"","","","",null,"","","","",null,"",25,18,11,null,"","","","",null,"","","","",null,"","","","",null,"","","","",null,"","","","","","","","","","",1,"","","","","","",1,"","",null,0,0,2,3,null,null,null,"Diego Armando             ","Scud                      "]
[null,null,23,"[iR] iBlaze²              ",null,99.156372401325697,95.45982856312655,null,97.547245825838218,null,"",98.671259842519675,99.156372401325697,97.84215635033226,null,"",96.441602893215801,97.822066206167662,96.561408562272703,null,"",98.031968355866809,97.892720306513397,98.686651871793941,null,"",96.118431755327791,97.074681656533215,95.45982856312655,null,"",98.354668150827891,97.623188405797094,97.471682065952763,null,"",13,15,27,null,"",10,11,11,null,"",5,11,7,null,"",11,17,13,null,"",3,11,9,null,"","",1,"",1,"",1,"",1,1,5,"",2,"",1,"",1,"","","",null,1,5,14,15,null,null,null,"lds                       ","Diego Armando             "]
[null,null,24,"power79                   ",null,99.077282313949979,96.961942257217856,null,98.017704141010256,null,"",96.961942257217856,99.077282313949979,98.013887851862918,null,"","","","",null,"","","","",null,"","","","",null,"","","","",null,"",32,16,24,null,"","","","",null,"","","","",null,"","","","",null,"","","","",null,"","","","","","","","","","","","","","","",1,"","","","",null,0,0,1,3,null,null,null,"[PahaJori] Ender          ","lds                       "]
[null,null,25,"[+] olio                  ",null,99.055644341130318,99.055644341130318,null,99.055644341130318,null,"","","","",null,"","","","",null,"","","","",null,"","","",99.055644341130318,null,"","","","",null,"","","","",null,"","","","",null,"","","","",null,"","","",5,null,"","","","",null,"","","","",1,"","","","","","","","","","","","","","","",null,0,1,1,1,null,null,null,"laf                       ","[PahaJori] Ender          "]
[null,null,26,"Janneosaursrex            ",null,98.986549890522369,98.986549890522369,null,98.986549890522369,null,"","","","",null,98.986549890522369,"","","",null,"","","","",null,"","","","",null,"","","","",null,"","","","",null,4,"","","",null,"","","","",null,"","","","",null,"","","","",null,"","","",1,"","","","","","","","","","","","","","","","",null,0,1,1,1,null,null,null,"REIROM                    ","laf                       "]
[null,null,27,"[+] xzeal                 ",null,98.97331370550711,88.930418821958966,null,96.797771784818565,null,96.306613357802973,97.339238845144351,98.907803555287742,98.264018517135824,null,"",96.493267461009395,98.97331370550711,96.799049436503083,null,"",96.540544045650549,98.017978190391986,97.904463928402521,null,"",95.62388156824467,98.7342740239379,97.733546418712777,null,88.930418821958966,95.157924029497707,97.291925465838503,96.543858970889559,null,24,29,19,18,null,"",9,5,10,null,"",10,9,10,null,"",12,8,9,null,18,11,12,10,null,"","","","",1,"","",1,3,4,1,2,"","","","","",2,1,"",null,0,9,15,17,null,null,null,"Janneosaursrex            ","REIROM                    "]
[null,null,28,"[+] Iziwýn                ",null,98.958785249457691,94.150766343446961,null,96.832155269095637,null,"","","","",null,94.150766343446961,"","","",null,96.466331025802404,"","","",null,97.752738457675534,"","","",null,98.958785249457691,"","","",null,"","","","",null,15,"","","",null,7,"","","",null,8,"","","",null,3,"","","",null,"","",1,"","","",1,1,"","","","","","",1,"","","","","",null,1,3,4,4,null,null,null,"R.E.I.R.O.M               ","Janneosaursrex            "]
[null,null,29,"Qpa                       ",null,98.888972582103037,89.357410118757116,null,95.251523958300311,null,"",98.047900262467195,98.888972582103037,98.3760173224819,null,"","",96.029139772770151,97.227523133979048,null,"","","","",null,"",89.357410118757116,96.734350502848841,93.520267325294213,null,"",91.773340754139426,94.600414078674945,93.211427687787534,null,"",20,20,16,null,"","",22,7,null,"","","","",null,"",17,19,15,null,"",16,22,16,null,"","","","","","",1,"","","","","","","",1,3,1,"",1,2,null,0,1,9,11,null,null,null,"Testaaja                  ","R.E.I.R.O.M               "]
[null,null,30,"Alukin                    ",null,98.873907803555284,94.149068322981364,null,96.323712952065137,null,"",95.94816272965879,98.873907803555284,"",null,"","","","",null,"","","","",null,"","","","",null,"","",94.149068322981364,"",null,"",38,21,"",null,"","","","",null,"","","","",null,"","","","",null,"","",25,"",null,"","","","","","","","","","","","","","","","","","","","",null,0,0,0,3,null,null,null,"[FUN] GR8 Arjen!          ","Testaaja                  "]
[null,null,31,"Gol_v8                    ",null,98.840579710144922,56.678054335448195,null,91.487551030624203,null,"",94.747375328083976,98.583910816510993,96.109908160979629,null,"","",95.093043445438411,"",null,"","","","",null,"",56.678054335448195,"","",null,89.093942933422341,95.857103102824553,98.840579710144922,98.384041442764911,null,"",43,25,36,null,"","",27,"",null,"","","","",null,"",18,"","",null,17,8,5,6,null,"","","","",1,1,"",1,"","","","","","","","",1,1,"","",null,0,3,5,9,null,null,null,"stoner                    ","[FUN] GR8 Arjen!          "]
[null,null,32,"Testaaja                  ",null,98.71206659238382,98.71206659238382,null,98.71206659238382,null,98.71206659238382,"","","",null,"","","","",null,"","","","",null,"","","","",null,"","","","",null,9,"","","",null,"","","","",null,"","","","",null,"","","","",null,"","","","",null,"","","","","","","","",1,"","","","","","","","","","","",null,0,1,1,1,null,null,null,"[+] xzeal                 ","stoner                    "]
[null,null,33,"\\/\\/ | |_ |_              ",null,{"$f":"IF($I39=\"\",0,MAX($K39:$AH39))","v":98.693130460982218},{"$f":"IF($I39=\"\",0,MIN($K39:$AH39))","v":93.188232110410951},null,{"$f":"IF(COUNT(K39:AH39)=0,0,SUM(K39:AH39)/COUNT(K39:AH39))","v":96.521524051250182},null,"",97.624671916010499,98.693130460982218,98.278951691181973,null,"","",96.308458838183668,95.931300183631592,null,"",96.375190480822226,"","",null,"","","","",null,"","",95.772256728778459,93.188232110410951,null,{"$f":"IFERROR(RANK(K39,K$7:K$999,0),\"\")","v":""},{"$f":"IFERROR(RANK(L39,L$7:L$999,0),\"\")","v":27},{"$f":"IFERROR(RANK(M39,M$7:M$999,0),\"\")","v":22},{"$f":"IFERROR(RANK(N39,N$7:N$999,0),\"\")","v":17},null,{"$f":"IFERROR(RANK(P39,P$7:P$999,0),\"\")","v":""},{"$f":"IFERROR(RANK(Q39,Q$7:Q$999,0),\"\")","v":""},{"$f":"IFERROR(RANK(R39,R$7:R$999,0),\"\")","v":20},{"$f":"IFERROR(RANK(S39,S$7:S$999,0),\"\")","v":15},null,{"$f":"IFERROR(RANK(U39,U$7:U$999,0),\"\")","v":""},{"$f":"IFERROR(RANK(V39,V$7:V$999,0),\"\")","v":11},{"$f":"IFERROR(RANK(W39,W$7:W$999,0),\"\")","v":""},{"$f":"IFERROR(RANK(X39,X$7:X$999,0),\"\")","v":""},null,{"$f":"IFERROR(RANK(Z39,Z$7:Z$999,0),\"\")","v":""},{"$f":"IFERROR(RANK(AA39,AA$7:AA$999,0),\"\")","v":""},{"$f":"IFERROR(RANK(AB39,AB$7:AB$999,0),\"\")","v":""},{"$f":"IFERROR(RANK(AC39,AC$7:AC$999,0),\"\")","v":""},null,{"$f":"IFERROR(RANK(AE39,AE$7:AE$999,0),\"\")","v":""},{"$f":"IFERROR(RANK(AF39,AF$7:AF$999,0),\"\")","v":""},{"$f":"IFERROR(RANK(AG39,AG$7:AG$999,0),\"\")","v":17},{"$f":"IFERROR(RANK(AH39,AH$7:AH$999,0),\"\")","v":17},null,"","","","","","","","","","",1,"","","",1,{"$f":"IF(SUMIF($AJ39:$BG39,BX$6)/BX$6=0,\"\",SUMIF($AJ39:$BG39,BX$6)/BX$6)","v":""},3,"","",1,null,0,0,6,8,null,null,null,"Matic                     ","Chukie                    "]
[null,null,34,"Popowitch                 ",null,98.635170603674538,97.853269056944868,null,98.244219830309703,null,"",98.635170603674538,97.853269056944868,"",null,"","","","",null,"","","","",null,"","","","",null,"","","","",null,"",14,32,"",null,"","","","",null,"","","","",null,"","","","",null,"","","","",null,{"$f":"IF(SUMIF($AJ40:$BG40,BI$6)/BI$6=0,\"\",SUMIF($AJ40:$BG40,BI$6)/BI$6)","v":""},"","","","","","","","","","","","",1,"","","","","","",null,0,0,1,2,null,null,null,"Serif                     ","[+] xzeal                 "]
[null,null,35,"Ku Dern [Ri]              ",null,98.600058944886527,98.116483599441352,null,98.358271272163933,null,"","","","",null,"","",98.116483599441352,"",null,"","",98.600058944886527,"",null,"","","","",null,"","","","",null,"","","","",null,"","",10,"",null,"","",6,"",null,"","","","",null,"","","","",null,"","","","","",1,"","","",1,"","","","","","","","","","",null,0,2,2,2,null,null,null,"Augusto                   ","Matic                     "]
[null,null,36,"Serif  v2.5.3W            ",null,98.591443205784884,93.199651264167386,null,96.610811017543142,null,"",98.041338582677156,98.591443205784884,"",null,"",93.199651264167386,"","",null,"","","","",null,"","","","",null,"","","","",null,"",21,24,"",null,"",17,"","",null,"","","","",null,"","","","",null,"","","","",null,"","","","","","","","","","","","","","","","",1,"","","",null,0,0,1,3,null,null,null,"NBA                       ","Serif                     "]
[null,null,37,"Diego Armando             ",null,98.505603985056041,-223.22645225871025,null,15.733691847823536,null,98.505603985056041,98.087270341207358,"","",null,89.568345323740999,-223.22645225871025,"","",null,"","","","",null,"","","","",null,"","","","",null,10,19,"","",null,20,31,"","",null,"","","","",null,"","","","",null,"","","","",null,"","","","","","","","","",1,"","","","","","","","",1,1,null,0,1,3,4,null,null,null,"Pro08                     ","Augusto                   "]
[null,null,38,"Gol_V8 ( 17 )             ",null,98.480689681833994,42.764782798198468,null,70.622736240016224,null,"","","","",null,"","","","",null,"","","","",null,"","","",42.764782798198468,null,"","","",98.480689681833994,null,"","","","",null,"","","","",null,"","","","",null,"","","",20,null,"","","",5,null,"","","","",1,"","","","","","","","","","","","","","",1,null,0,1,2,2,null,null,null,"RiantHoff                 ","NBA                       "]
[null,null,39,"REIROM                    ",null,98.467158782765893,76.180643187640996,null,90.89057545527794,null,95.510257586681519,95.728346456692918,98.467158782765893,"",null,83.769158586174541,"",90.193636054806916,"",null,91.526117054751424,"",93.302387267904507,"",null,"","",76.180643187640996,"",null,"","",93.337474120082803,"",null,27,39,26,"",null,25,"",35,"",null,11,"",21,"",null,"","",22,"",null,"","",28,"",null,"","","","","","","","","","",1,"","","","","","","","","",null,0,0,1,9,null,null,null,"CrazybikE                 ","Augusto                   "]
[null,null,40,"AnnicK                    ",null,98.462773890099797,89.024709969194461,null,96.431092398333405,null,89.024709969194461,96.896325459317595,98.267550467008135,97.117897409094311,null,"",96.338273757628599,95.897029403993514,95.920498325712032,null,"",97.552118795188534,96.831712348953715,97.387856077418419,null,97.332161576849444,97.628111273792101,98.462773890099797,98.031381664971661,null,94.016352411146343,95.411854737720887,97.242236024844715,96.40081957706731,null,39,34,28,31,null,"",11,23,16,null,"",7,16,12,null,10,6,9,8,null,10,10,14,11,null,"","","","","",1,1,1,1,3,2,1,"",1,"",2,"","","","",null,0,7,13,18,null,null,null,"Sharp                     ","Pro08                     "]
[null,null,41,"[FN] Pornfest             ",null,98.417120010486983,94.720050046918985,null,96.568585028702984,null,98.417120010486983,"","","",null,94.720050046918985,"","","",null,"","","","",null,"","","","",null,"","","","",null,12,"","","",null,13,"","","",null,"","","","",null,"","","","",null,"","","","",null,"","","","","","","","","","","",1,1,"","","","","","","",null,0,0,2,2,null,null,null,"[+] Eddie                 ","lds                       "]
[null,null,42,"Poisonous                 ",null,98.39895013123359,90.635870321413663,null,94.732026658971421,null,97.473290948417116,98.39895013123359,"","",null,94.497966843916174,92.437598889211799,"","",null,"","","","",null,95.687517654813092,"","","",null,93.992991823794426,90.635870321413663,"","",null,15,17,"","",null,14,22,"","",null,"","","","",null,14,"","","",null,11,18,"","",null,"","","","","","","","","","",1,"","",2,1,"",1,1,"","",null,0,0,6,7,null,null,null,"Fama                      ","RiantHoff                 "]
[null,null,43,"lds                       ",null,98.320277191925271,92.679776550744307,null,96.111012715348252,null,96.352493937209147,98.179133858267718,98.320277191925271,98.249085343089689,null,95.877385048482964,92.679776550744307,93.118937077718641,"",null,"","","","",null,"","","","",null,"","","","",null,23,18,27,19,null,12,19,32,"",null,"","","","",null,"","","","",null,"","","","",null,"","","","","","","","","","","",1,"","","","","",1,2,"",null,0,0,4,7,null,null,null,"Rubao                     ","CrazybikE                 "]
[null,null,44,"Nico Hulkenberg           ",null,98.226685582020465,94.383033881827686,null,96.304859731924068,null,"","","",98.226685582020465,null,"","","",94.383033881827686,null,"","","","",null,"","","","",null,"","","","",null,"","","",20,null,"","","",21,null,"","","","",null,"","","","",null,"","","","",null,"","","","","","","","","","","","","","","","","","","",1,null,0,0,1,2,null,null,null,"Jim                       ","Sharp                     "]
[null,null,45,"chill                     ",null,98.195992768906294,95.103886740512536,null,97.031420148198791,null,95.103886740512536,"",98.195992768906294,"",null,"","",96.504737100366128,"",null,"","",96.916445623342156,"",null,97.658579454505514,"",97.808879201560174,"",null,"","","","",null,30,"",29,"",null,"","",18,"",null,"","",14,"",null,9,"",14,"",null,"","","","",null,"","","","","","","","",1,"","","","",2,"","","",1,"","",null,0,1,4,6,null,null,null,"#5 Burnout                ","[+] Eddie                 "]
[null,null,46,"Chukie                    ",null,98.163899438184629,93.235891721832587,null,96.577300745013886,null,93.235891721832587,"","","",null,96.061933062245856,"",97.116219378703803,"",null,"","","","",null,98.163899438184629,97.006669920286313,97.938893350158693,"",null,"","",96.517598343685293,"",null,36,"","","",null,11,"",15,"",null,"","","","",null,7,7,13,"",null,"","",15,"",null,"","","","","","",2,"","","",1,"",1,"",2,"","","","","",null,0,2,6,7,null,null,null,"suzuck                    ","Fama                      "]
[null,null,47,"fatty                     ",null,98.105604097619761,54.10303796647537,null,90.593106109556544,null,97.41102444779446,96.935695538057743,98.105604097619761,"",null,92.29590240850797,90.028738415835193,96.153700977616722,"",null,"",54.10303796647537,94.680223990568805,"",null,82.276136969963275,92.331218480559627,97.977132805628855,"",null,89.467712331052894,91.175038263531377,95.362318840579704,"",null,16,33,30,"",null,17,24,21,"",null,"",15,19,"",null,24,16,12,"",null,16,17,19,"",null,"","","","","","","","","","","",1,"","",1,3,2,"",2,"",null,0,0,9,14,null,null,null,"Brian                     ","Rubao                     "]
[null,null,48,"Shaytun                   ",null,98.043754199955217,91.077434569142156,null,94.73389936910651,null,"","","",98.043754199955217,null,"","","",95.949303280164187,null,"","","",95.728890020737069,null,"","","",92.870114775533921,null,"","","",91.077434569142156,null,"","","",21,null,"","","",14,null,"","","",15,null,"","","",16,null,"","","",21,null,"","","","","","","","","","","","","",1,1,1,"","","","",null,0,0,3,5,null,null,null,"Reinikainen               ","Jim                       "]
[null,null,49,"ROMREI                    ",null,98.028821025909068,98.028821025909068,null,98.028821025909068,null,"","","",98.028821025909068,null,"","","","",null,"","","","",null,"","","","",null,"","","","",null,"","","",22,null,"","","","",null,"","","","",null,"","","","",null,"","","","",null,"","","","","","","","","","","","","","","",{"$f":"IF(SUMIF($AJ55:$BG55,BX$6)/BX$6=0,\"\",SUMIF($AJ55:$BG55,BX$6)/BX$6)","v":""},"","","","",null,0,0,0,1,null,null,null,"Niksi                     ","#5 Burnout                "]
[null,null,50,"KLE621                    ",null,98.017621145374449,98.017621145374449,null,98.017621145374449,null,"","","",98.017621145374449,null,"","","","",null,"","","","",null,"","","","",null,"","","","",null,"","","",23,null,"","","","",null,"","","","",null,"","","","",null,"","","","",null,{"$f":"IF(SUMIF($AJ56:$BG56,BI$6)/BI$6=0,\"\",SUMIF($AJ56:$BG56,BI$6)/BI$6)","v":""},"","","","","","","","","","","","","","","","","","","",null,0,0,0,1,null,null,null,"Lavon                     ","suzuck                    "]
[null,null,51,"Fa la la la la            ",null,97.961621742701411,95.016816793598025,null,96.489219268149725,null,"","","",97.961621742701411,null,"","","","",null,"","","","",null,"","","","",null,"","","",95.016816793598025,null,"","","",25,null,"","","","",null,"","","","",null,"","","","",null,"","","",15,null,"","","","","","","","","","","","","","",1,"","","","","",null,0,0,1,2,null,null,null,"Gol_v8                    ","Brian                     "]
[null,null,52,"Augusto                   ",null,97.939891533594448,53.297671491504097,null,91.095107161254859,null,97.204561840466667,"",97.939891533594448,96.408571641902483,null,"","",94.859019363605469,94.253411586792922,null,53.297671491504097,"","","",null,96.073569567810168,"",95.820427517112151,92.543222432079034,null,"","",92.550724637681142,"",null,18,"",31,35,null,"","",30,22,null,16,"","","",null,12,"",21,17,null,"","",30,"",null,"","","","","","","","","","","",1,"","","",1,1,1,"","",null,0,0,4,10,null,null,null,"BIXOMAU                   ","Reinikainen               "]
[null,null,53,"Matic                     ",null,97.811840915938532,96.028985507246361,null,97.257574551614141,null,97.79117782001704,97.398293963254602,97.811840915938532,"",null,"","","","",null,"","","","",null,"","","","",null,"","",96.028985507246361,"",null,13,28,33,"",null,"","","","",null,"","","","",null,"","","","",null,"","",16,"",null,"","","","","","","","","","","","",1,"","",1,"","","","",null,0,0,2,4,null,null,null,"Reiska                    ","Niksi                     "]
[null,null,54,"pozdro600                 ",null,97.729658792650923,92.476347315056998,null,95.639243852550692,null,"",97.729658792650923,97.054835793913824,97.046964832375124,null,"",92.476347315056998,96.380175895519557,94.674684045655852,null,"","",95.560713233127018,94.539236730090579,null,"","",97.330886008183242,96.912683422926051,null,"","",94.865424430641809,93.099315730467396,null,"",24,37,32,null,"",20,19,19,null,"","",18,16,null,"","",16,12,null,"","",21,18,null,"","","","","","","","","","","",1,"","","",2,"",2,2,1,null,0,0,8,12,null,null,null,"DustyBadSkillz            ","Lavon                     "]
[null,null,55,"straits                   ",null,97.725218439288952,97.725218439288952,null,97.725218439288952,null,"","",97.725218439288952,"",null,"","","","",null,"","","","",null,"","","","",null,"","","","",null,"","",34,"",null,"","","","",null,"","","","",null,"","","","",null,"","","","",null,"","","","","","","","","","","","","","","","","","","","",null,0,0,0,1,null,null,null,"Kiki                      ","Gol_v8                    "]
[null,null,56,"R.E.I.R.O.M               ",null,97.696139476961392,86.922114482327174,null,92.508964785962078,null,97.696139476961392,97.132545931758528,"","",null,86.922114482327174,88.28505925280119,"","",null,"","","","",null,"","","","",null,"","","","",null,14,31,"","",null,21,26,"","",null,"","","","",null,"","","","",null,"","","","",null,"","","","","","","","","","","","","",1,"","","","","","",null,0,0,1,4,null,null,null,"Rahim                     ","BIXOMAU                   "]
[null,null,57,"RiantHoff                 ",null,97.691322687556493,75.420706912730665,null,89.337151951172814,null,94.854820738021886,"",97.691322687556493,97.610692152617048,null,75.420706912730665,"",81.108217264937906,"",null,"","","","",null,"","","","",null,"","","","",null,31,"",35,29,null,28,"",38,"",null,"","","","",null,"","","","",null,"","","","",null,"","","","","","","","","","","","","","","","","","","","",null,0,0,0,5,null,null,null,"Iron Man                  ","Reiska                    "]
[null,null,58,"[fS]Jan                   ",null,97.652097434132529,94.310559006211165,null,96.464621284547121,null,"","",96.975745706538106,"",null,"","",96.519835428226315,"",null,"","",96.864868847627463,"",null,"","",97.652097434132529,"",null,"","",94.310559006211165,"",null,"","",39,"",null,"","",17,"",null,"","",15,"",null,"","",15,"",null,"","",23,"",null,"","","","","","","","","","","","","","",2,"",1,"","","",null,0,0,3,5,null,null,null,"Sig                       ","DustyBadSkillz            "]
[null,null,59,"CrazybikE                 ",null,97.627952755905511,94.625417840991005,null,96.407194638053582,null,94.625417840991005,97.627952755905511,96.968213317264244,"",null,"","","","",null,"","","","",null,"","","","",null,"","","","",null,33,26,40,"",null,"","","","",null,"","","","",null,"","","","",null,"","","","",null,"","","","","","","","","","","","","","","","","","","","",null,0,0,0,3,null,null,null,"Waenoo                    ","Kiki                      "]
[null,null,60,"Rub                       ",null,97.612232600180775,91.668737060041408,null,94.809735897228819,null,"","",97.612232600180775,"",null,"",92.918725176789707,95.466727059978098,"",null,"","",96.382257589154136,"",null,"","","","",null,"","",91.668737060041408,"",null,"","",36,"",null,"",18,26,"",null,"","",17,"",null,"","","","",null,"","",32,"",null,"","","","","","","","","","","","","","","","",1,1,"","",null,0,0,2,5,null,null,null,"Jukra                     ","Rahim                     "]
[null,null,61,"Delux                     ",null,97.312992125984252,97.312992125984252,null,97.312992125984252,null,"",97.312992125984252,"","",null,"","","","",null,"","","","",null,"","","","",null,"","","","",null,"",30,"","",null,"","","","",null,"","","","",null,"","","","",null,"","","","",null,"","","","","","","","","","","","","","","","","","","","",null,0,0,0,1,null,null,null,"JJN                       ","Iron Man                  "]
[null,null,62,"put                       ",null,97.140297170163521,97.140297170163521,null,97.140297170163521,null,"","","",97.140297170163521,null,"","","","",null,"","","","",null,"","","","",null,"","","","",null,"","","",30,null,"","","","",null,"","","","",null,"","","","",null,"","","","",null,"","","","","","","","","","","","","","","","","","","","",null,0,0,0,1,null,null,null,"Storm                     ","Sig                       "]
[null,null,63,"Ande                      ",null,97.020393606328824,89.497747371933912,null,94.307824062843736,null,93.704529068624225,95.052493438320212,"","",null,"",95.476121282572905,"","",null,"",97.020393606328824,"","",null,95.944885596811162,95.41564991052546,"","",null,89.497747371933912,92.350772227633229,"","",null,34,42,"","",null,"",13,"","",null,"",8,"","",null,13,13,"","",null,15,15,"","",null,"","","","","","","",1,"","","","",3,"",2,"","","","","",null,0,1,6,8,null,null,null,"kikiriki                  ","Waenoo                    "]
[null,null,64,"stoner                    ",null,96.990810485085873,74.726339242468285,null,91.170443627293693,null,95.369338664219697,95.314960629921259,96.990810485085873,"",null,"",74.726339242468285,92.91888423357112,"",null,91.70232850849591,"","","",null,"","","","",null,"","","","",null,29,40,38,"",null,"",29,33,"",null,10,"","","",null,"","","","",null,"","","","",null,"","","","","","","","","",1,"","","","","","","","","","",null,0,1,1,6,null,null,null,"{l}rard{l}                ","Jukra                     "]
[null,null,65,"Bleached Anus             ",null,{"$f":"IF($I71=\"\",0,MAX($K71:$AH71))","v":96.878966624356011},{"$f":"IF($I71=\"\",0,MIN($K71:$AH71))","v":95.826882223742487},null,{"$f":"IF(COUNT(K71:AH71)=0,0,SUM(K71:AH71)/COUNT(K71:AH71))","v":96.352924424049249},null,"","","",96.878966624356011,null,"","","",95.826882223742487,null,"","","","",null,"","","","",null,"","","","",null,{"$f":"IFERROR(RANK(K71,K$7:K$999,0),\"\")","v":""},{"$f":"IFERROR(RANK(L71,L$7:L$999,0),\"\")","v":""},{"$f":"IFERROR(RANK(M71,M$7:M$999,0),\"\")","v":""},{"$f":"IFERROR(RANK(N71,N$7:N$999,0),\"\")","v":33},null,{"$f":"IFERROR(RANK(P71,P$7:P$999,0),\"\")","v":""},{"$f":"IFERROR(RANK(Q71,Q$7:Q$999,0),\"\")","v":""},{"$f":"IFERROR(RANK(R71,R$7:R$999,0),\"\")","v":""},{"$f":"IFERROR(RANK(S71,S$7:S$999,0),\"\")","v":17},null,{"$f":"IFERROR(RANK(U71,U$7:U$999,0),\"\")","v":""},{"$f":"IFERROR(RANK(V71,V$7:V$999,0),\"\")","v":""},{"$f":"IFERROR(RANK(W71,W$7:W$999,0),\"\")","v":""},{"$f":"IFERROR(RANK(X71,X$7:X$999,0),\"\")","v":""},null,{"$f":"IFERROR(RANK(Z71,Z$7:Z$999,0),\"\")","v":""},{"$f":"IFERROR(RANK(AA71,AA$7:AA$999,0),\"\")","v":""},{"$f":"IFERROR(RANK(AB71,AB$7:AB$999,0),\"\")","v":""},{"$f":"IFERROR(RANK(AC71,AC$7:AC$999,0),\"\")","v":""},null,{"$f":"IFERROR(RANK(AE71,AE$7:AE$999,0),\"\")","v":""},{"$f":"IFERROR(RANK(AF71,AF$7:AF$999,0),\"\")","v":""},{"$f":"IFERROR(RANK(AG71,AG$7:AG$999,0),\"\")","v":""},{"$f":"IFERROR(RANK(AH71,AH$7:AH$999,0),\"\")","v":""},null,"","","","","","","","","","","","","","","",{"$f":"IF(SUMIF($AJ71:$BG71,BX$6)/BX$6=0,\"\",SUMIF($AJ71:$BG71,BX$6)/BX$6)","v":""},1,"","","",null,0,0,1,2,null,null,null,"shamino                   ","JJN                       "]
[null,null,66,"NBA                       ",null,96.817585301837269,85.85861745386299,null,91.438596206127386,null,95.490594481221734,96.817585301837269,"","",null,85.85861745386299,87.587587587587592,"","",null,"","","","",null,"","","","",null,"","","","",null,28,35,"","",null,24,27,"","",null,"","","","",null,"","","","",null,"","","","",null,{"$f":"IF(SUMIF($AJ72:$BG72,BI$6)/BI$6=0,\"\",SUMIF($AJ72:$BG72,BI$6)/BI$6)","v":""},"","","","","","","","","","","","","","","","","","","",null,{"$f":"SUM(BI72:BK72)","v":0},{"$f":"SUM(BI72:BR72)","v":0},{"$f":"SUM(BI72:CB72)","v":0},{"$f":"COUNT(AJ72:BH72)","v":4},null,null,null,"[iR] iBlaze²              ","Storm                     "]
[null,null,67,"KyNa                      ",null,96.814576915514181,93.058568329718,null,95.256645226489184,null,96.814576915514181,"","","",null,"","","","",null,95.896790434235356,"","","",null,"","","","",null,93.058568329718,"","","",null,20,"","","",null,"","","","",null,8,"","","",null,"","","","",null,13,"","","",null,"","","","","","","",1,"","","","",1,"","","","","","",1,null,0,1,3,3,null,null,null,"[x] Stylus                ","kikiriki                  "]
[null,null,68,"Ninjinha_br               ",null,96.798734558601979,93.380409071935446,null,95.478530278124552,null,"","",96.798734558601979,"",null,"","","","",null,"","","","",null,"","","","",null,"",93.380409071935446,95.345755693581765,96.389221788379018,null,"","",41,"",null,"","","","",null,"","","","",null,"","","","",null,"",13,20,13,null,"","","","","","","","","","","","",2,"","","","","","",1,null,0,0,3,4,null,null,null,"Hazard                    ","{l}rard{l}                "]
[null,null,69,"[$pectre]Jaw$             ",null,96.787435974691164,94.930736420941386,null,95.859086197816282,null,"","",96.787435974691164,"",null,"","",94.930736420941386,"",null,"","","","",null,"","","","",null,"","","","",null,"","",42,"",null,"","",28,"",null,"","","","",null,"","","","",null,"","","","",null,"","","","","","","","","","","","","","","","","","","","",null,0,0,0,2,null,null,null,"\\/\\/ | |_ |_              ","shamino                   "]
[null,null,70,"Scud                      ",null,96.784776902887131,92.712536524279955,null,94.864012593163849,null,96.486858491184378,96.784776902887131,"","",null,"",93.800251864767986,"","",null,"","","","",null,94.535639182699867,"","","",null,"",92.712536524279955,"","",null,22,36,"","",null,"",15,"","",null,"","","","",null,16,"","","",null,"",14,"","",null,"","","","","","","","","","","","","",1,1,1,"","","","",null,0,0,3,5,null,null,null,"Qpa                       ","[+] Tinjovic              "]
[null,null,71,"koripallo tits            ",null,96.734986600234009,96.734986600234009,null,96.734986600234009,null,"","","","",null,"","",96.734986600234009,"",null,"","","","",null,"","","","",null,"","","","",null,"","","","",null,"","",16,"",null,"","","","",null,"","","","",null,"","","","",null,"","","","","","","","","","","","","","","",1,"","","","",null,0,0,1,1,null,null,null,"Serif  v2.5.3W            ","[x] Mike Nike             "]
[null,null,72,"bohun                     ",null,96.68574871949383,93.00524934383202,null,94.845499031662925,null,"",93.00524934383202,96.68574871949383,"",null,"","","","",null,"","","","",null,"","","","",null,"","","","",null,"",50,43,"",null,"","","","",null,"","","","",null,"","","","",null,"","","","",null,"","","","","","","","","","","","","","","","","","","","",null,0,0,0,2,null,null,null,"Hengari                   ","Kyna_Musti                "]
[null,null,73,"Guillo                    ",null,96.531810049904266,96.136199777151461,null,96.334004913527863,null,96.136199777151461,"","","",null,"","","","",null,"","","","",null,96.531810049904266,"","","",null,"","","","",null,25,"","","",null,"","","","",null,"","","","",null,11,"","","",null,"","","","",null,"","","","","","","","","","",1,"","","","","","","","","",null,0,0,1,2,null,null,null,"pozdro600                 ","kikiriki                  "]
[null,null,74,"Rendy                     ",null,96.501205182283812,96.501205182283812,null,96.501205182283812,null,"","",96.501205182283812,"",null,"","","","",null,"","","","",null,"","","","",null,"","","","",null,"","",44,"",null,"","","","",null,"","","","",null,"","","","",null,"","","","",null,"","","","","","","","","","","","","","","","","","","","",null,0,0,0,1,null,null,null,"Bubba                     ","[fS]Palo                  "]
[null,null,75,"[ITA]_AIR_GIGI            ",null,96.433413678818923,84.090137017325333,null,90.261775348072121,null,"","",96.433413678818923,"",null,"","",84.090137017325333,"",null,"","","","",null,"","","","",null,"","","","",null,"","",45,"",null,"","",37,"",null,"","","","",null,"","","","",null,"","","","",null,"","","","","","","","","","","","","","","","","","","","",null,0,0,0,2,null,null,null,"Popowitch                 ","[iR] iBlaze²              "]
[null,null,76,"Hengari                   ",null,96.303888075483982,95.265748031496074,null,95.784818053490028,null,"",95.265748031496074,"","",null,"","","","",null,"","","","",null,"",96.303888075483982,"","",null,"","","","",null,"",41,"","",null,"","","","",null,"","","","",null,"",9,"","",null,"","","","",null,"","","","","","","","",1,"","","","","","","","","","","",null,0,1,1,2,null,null,null,"Qri                       ","AnnicK                    "]
[null,null,77,"Hazard                    ",null,96.184383202099738,93.710753212949413,null,95.374541481141094,null,"",96.184383202099738,"","",null,"","","","",null,"","","","",null,"",93.710753212949413,"","",null,"",95.93015166272437,95.672877846790882,"",null,"",37,"","",null,"","","","",null,"","","","",null,"",15,"","",null,"",7,18,"",null,"","","","","","",1,"","","","","","","",1,"","",1,"","",null,0,1,3,4,null,null,null,"batjunior                 ","Jurgen-NL                 "]
[null,null,78,"JJ Nylander               ",null,96.172736202568473,90.551668148606339,null,93.662081042046026,null,"","","",95.632046591503027,null,"","","",94.671083426349327,null,"","","",96.172736202568473,null,"","","",91.282870841202964,null,"","","",90.551668148606339,null,"","","",38,null,"","","",20,null,"","","",13,null,"","","",18,null,"","","",22,null,"","","","","","","","","","","","",1,"","","","",1,"",1,null,0,0,3,5,null,null,null,"Delux                     ","[+] xzeal                 "]
[null,null,79,"laf                       ",null,96.012842529679688,87.518771900550647,null,92.476960707015806,null,93.389919381267617,94.49475065616798,"",96.012842529679688,null,"","","","",null,93.882945248584036,"","","",null,"","","","",null,87.518771900550647,"",91.79710144927536,90.242393783585271,null,35,46,"",37,null,"","","","",null,9,"","","",null,"","","","",null,19,"",31,23,null,"","","","","","","","",1,"","","","","","","","","",1,"",null,0,1,2,7,null,null,null,"power79                   ","Ande                      "]
[null,null,80,"Pro08                     ",null,95.893688143147401,95.893688143147401,null,95.893688143147401,null,95.893688143147401,"","","",null,"","","","",null,"","","","",null,"","","","",null,"","","","",null,26,"","","",null,"","","","",null,"","","","",null,"","","","",null,"","","","",null,"","","","","","","","","","","","","","","","","","","","",null,0,0,0,1,null,null,null,"TD Juquinha               ","Sig                       "]
[null,null,81,"Frank05                   ",null,95.454203073214813,95.454203073214813,null,95.454203073214813,null,"","",95.454203073214813,"",null,"","","","",null,"","","","",null,"","","","",null,"","","","",null,"","",46,"",null,"","","","",null,"","","","",null,"","","","",null,"","","","",null,"","","","","","","","","","","","","","","",{"$f":"IF(SUMIF($AJ87:$BG87,BX$6)/BX$6=0,\"\",SUMIF($AJ87:$BG87,BX$6)/BX$6)","v":""},"","","","",null,0,0,0,1,null,null,null,"Alukin                    ","[x] Stylus                "]
[null,null,82,"Jaka                      ",null,95.355782871649367,92.805505083697369,null,94.080643977673361,null,"","","",95.355782871649367,null,"","","","",null,"","","","",null,"","","","",null,"","","",92.805505083697369,null,"","","",39,null,"","","","",null,"","","","",null,"","","","",null,"","","",19,null,{"$f":"IF(SUMIF($AJ88:$BG88,BI$6)/BI$6=0,\"\",SUMIF($AJ88:$BG88,BI$6)/BI$6)","v":""},"","","","","","","","","","","","","","","","","",1,"",null,0,0,1,2,null,null,null,"GoingDillon               ","mc65532                   "]
[null,null,83,"Magnat                    ",null,94.900539765220998,93.093167701863337,null,93.996853733542167,null,"","","","",null,"","",94.900539765220998,"",null,"","","","",null,"","","","",null,"","",93.093167701863337,"",null,"","","","",null,"","",29,"",null,"","","","",null,"","","","",null,"","",29,"",null,"","","","","","","","","","","","","","","","","","","","",null,0,0,0,2,null,null,null,"[Qc]RSX                   ","[x] Whiplash              "]
[null,null,84,"Serif                     ",null,94.710624631316776,90.772417689338056,null,92.741521160327409,null,94.710624631316776,"","","",null,"","","","",null,"","","","",null,90.772417689338056,"","","",null,"","","","",null,32,"","","",null,"","","","",null,"","","","",null,19,"","","",null,"","","","",null,"","","","","","","","","","","","","","","","","","",1,"",null,0,0,1,2,null,null,null,"dire                      ","[+] Badeend               "]
[null,null,85,"[Qc]RSX                   ",null,94.642388451443566,94.642388451443566,null,94.642388451443566,null,"",94.642388451443566,"","",null,"","","","",null,"","","","",null,"","","","",null,"","","","",null,"",44,"","",null,"","","","",null,"","","","",null,"","","","",null,"","","","",null,"","","","","","","","","","","","","","","","","","","","",null,0,0,0,1,null,null,null,"cavani                    ","Hazard                    "]
[null,null,86,"Sharp                     ",null,94.573302783967847,94.573302783967847,null,94.573302783967847,null,"","","","",null,"","","","",null,"","","","",null,94.573302783967847,"","","",null,"","","","",null,"","","","",null,"","","","",null,"","","","",null,15,"","","",null,"","","","",null,"","","","","","","","","","","","","","",1,"","","","","",null,0,0,1,1,null,null,null,"Ninjinha_br               ","[fS]Hevonen               "]
[null,null,87,"DEAD FISH                 ",null,94.538191592623022,79.355936134843631,null,85.456637854210101,null,"","","",94.538191592623022,null,"","","",82.475785835163649,null,"","","","",null,"","","","",null,"","","",79.355936134843631,null,"","","",40,null,"","","",24,null,"","","","",null,"","","","",null,"","","",24,null,"","","","","","","","","","","","","","","","","","","","",null,0,0,0,3,null,null,null,"bohun                     ","fatty                     "]
[null,null,88,"Bubba                     ",null,94.537401574803141,89.867286641480192,null,92.135371598686106,null,"",94.537401574803141,"","",null,"",89.867286641480192,"","",null,"",92.001426579774986,"","",null,"","","","",null,"","","","",null,"",45,"","",null,"",25,"","",null,"",13,"","",null,"","","","",null,"","","","",null,"","","","","","","","","","","","",1,"","","","","","","",null,0,0,1,3,null,null,null,"Rub                       ","Double O Seven            "]
[null,null,89,"GoingDillon               ",null,94.409448818897644,83.183183183183189,null,88.796316001040424,null,"",94.409448818897644,"","",null,"",83.183183183183189,"","",null,"","","","",null,"","","","",null,"","","","",null,"",47,"","",null,"",28,"","",null,"","","","",null,"","","","",null,"","","","",null,"","","","","","","","","","","","","","","","","","","","",null,0,0,0,2,null,null,null,"Kooler                    ","Scud                      "]
[null,null,90,"[+] Eddie                 ",null,94.253295511429997,94.253295511429997,null,94.253295511429997,null,"","","","",null,"","","","",null,"","","","",null,"","","","",null,94.253295511429997,"","","",null,"","","","",null,"","","","",null,"","","","",null,"","","","",null,9,"","","",null,"","","","","","","","",1,"","","","","","","","","","","",null,0,1,1,1,null,null,null,"KORINGA                   ","Poisonous                 "]
[null,null,91,"[5] Burnout               ",null,94.231884057971016,94.231884057971016,null,94.231884057971016,null,"","","","",null,"","","","",null,"","","","",null,"","","","",null,"","",94.231884057971016,"",null,"","","","",null,"","","","",null,"","","","",null,"","","","",null,"","",24,"",null,"","","","","","","","","","","","","","","","","","","","",null,0,0,0,1,null,null,null,"Oppy                      ","\\/\\/ | |_ |_              "]
[null,null,92,"[LWD] JamsleJ             ",null,94.131299734748012,94.131299734748012,null,94.131299734748012,null,"","","","",null,"","","","",null,"","",94.131299734748012,"",null,"","","","",null,"","","","",null,"","","","",null,"","","","",null,"","",20,"",null,"","","","",null,"","","","",null,"","","","","","","","","","","","","","","","","","","",1,null,0,0,1,1,null,null,null,"[fS]Jan                   ","Qpa                       "]
[null,null,93,"dire                      ",null,93.868110236220488,93.868110236220488,null,93.868110236220488,null,"",93.868110236220488,"","",null,"","","","",null,"","","","",null,"","","","",null,"","","","",null,"",48,"","",null,"","","","",null,"","","","",null,"","","","",null,"","","","",null,"","","","","","","","","","","","","","","","","","","","",null,0,0,0,1,null,null,null,"Matti                     ","Serif  v2.5.3W            "]
[null,null,94,"cavani                    ",null,93.605643044619413,93.605643044619413,null,93.605643044619413,null,"",93.605643044619413,"","",null,"","","","",null,"","","","",null,"","","","",null,"","","","",null,"",49,"","",null,"","","","",null,"","","","",null,"","","","",null,"","","","",null,"","","","","","","","","","","","","","","","","","","","",null,0,0,0,1,null,null,null,"messi                     ","lds                       "]
[null,null,95,"BrunoA                    ",null,92.870593552274784,92.186615332351934,null,92.528604442313366,null,"","",92.870593552274784,"",null,"","",92.186615332351934,"",null,"","","","",null,"","","","",null,"","","","",null,"","",47,"",null,"","",34,"",null,"","","","",null,"","","","",null,"","","","",null,"","","","","","","","","","","","","","","","","","","","",null,0,0,0,2,null,null,null,"Ku Dern [Ri]              ","Hengari                   "]
[null,null,96,"Rubao                     ",null,92.77760400375351,92.77760400375351,null,92.77760400375351,null,"","","","",null,92.77760400375351,"","","",null,"","","","",null,"","","","",null,"","","","",null,"","","","",null,16,"","","",null,"","","","",null,"","","","",null,"","","","",null,"","","","","","","","","","","","","","","",1,"","","","",null,0,0,1,1,null,null,null,"[$pectre]Jaw$             ","pozdro600                 "]
[null,null,97,"Fama                      ",null,{"$f":"IF($I103=\"\",0,MAX($K103:$AH103))","v":92.631233595800524},{"$f":"IF($I103=\"\",0,MIN($K103:$AH103))","v":87.388620056732861},null,{"$f":"IF(COUNT(K103:AH103)=0,0,SUM(K103:AH103)/COUNT(K103:AH103))","v":90.83628085152813},null,90.866487513928021,92.631233595800524,"","",null,"",91.510865704414101,"","",null,"",91.784197386765214,"","",null,"","","","",null,87.388620056732861,"","","",null,{"$f":"IFERROR(RANK(K103,K$7:K$999,0),\"\")","v":37},{"$f":"IFERROR(RANK(L103,L$7:L$999,0),\"\")","v":51},{"$f":"IFERROR(RANK(M103,M$7:M$999,0),\"\")","v":""},{"$f":"IFERROR(RANK(N103,N$7:N$999,0),\"\")","v":""},null,{"$f":"IFERROR(RANK(P103,P$7:P$999,0),\"\")","v":""},{"$f":"IFERROR(RANK(Q103,Q$7:Q$999,0),\"\")","v":23},{"$f":"IFERROR(RANK(R103,R$7:R$999,0),\"\")","v":""},{"$f":"IFERROR(RANK(S103,S$7:S$999,0),\"\")","v":""},null,{"$f":"IFERROR(RANK(U103,U$7:U$999,0),\"\")","v":""},{"$f":"IFERROR(RANK(V103,V$7:V$999,0),\"\")","v":14},{"$f":"IFERROR(RANK(W103,W$7:W$999,0),\"\")","v":""},{"$f":"IFERROR(RANK(X103,X$7:X$999,0),\"\")","v":""},null,{"$f":"IFERROR(RANK(Z103,Z$7:Z$999,0),\"\")","v":""},{"$f":"IFERROR(RANK(AA103,AA$7:AA$999,0),\"\")","v":""},{"$f":"IFERROR(RANK(AB103,AB$7:AB$999,0),\"\")","v":""},{"$f":"IFERROR(RANK(AC103,AC$7:AC$999,0),\"\")","v":""},null,{"$f":"IFERROR(RANK(AE103,AE$7:AE$999,0),\"\")","v":20},{"$f":"IFERROR(RANK(AF103,AF$7:AF$999,0),\"\")","v":""},{"$f":"IFERROR(RANK(AG103,AG$7:AG$999,0),\"\")","v":""},{"$f":"IFERROR(RANK(AH103,AH$7:AH$999,0),\"\")","v":""},null,"","","","","","","","","","","","","",1,"",{"$f":"IF(SUMIF($AJ103:$BG103,BX$6)/BX$6=0,\"\",SUMIF($AJ103:$BG103,BX$6)/BX$6)","v":""},"","","",1,null,0,0,2,5,null,null,null,"Magnat                    ","Gol_v8                    "]
[null,null,98,"TD Juquinha               ",null,92.440827924698894,90.329762070404911,null,91.38529499755191,null,"","","","",null,"",92.440827924698894,"","",null,"","","","",null,"","","","",null,"",90.329762070404911,"","",null,"","","","",null,"",21,"","",null,"","","","",null,"","","","",null,"",19,"","",null,{"$f":"IF(SUMIF($AJ104:$BG104,BI$6)/BI$6=0,\"\",SUMIF($AJ104:$BG104,BI$6)/BI$6)","v":""},"","","","","","","","","","","","","","","","","",1,"",null,0,0,1,2,null,null,null,"straits                   ","Bubba                     "]
[null,null,99,"#5 Burnout                ",null,91.299708107090169,91.299708107090169,null,91.299708107090169,null,"","","","",null,"","","","",null,"","","","",null,91.299708107090169,"","","",null,"","","","",null,"","","","",null,"","","","",null,"","","","",null,18,"","","",null,"","","","",null,"","","","","","","","","","","","","","","","","",1,"","",null,0,0,1,1,null,null,null,"[ITA]_AIR_GIGI            ","[PahaJori] Ender          "]
[null,null,100,"Xenor                     ",null,90.58090047039498,90.58090047039498,null,90.58090047039498,null,"","","",90.58090047039498,null,"","","","",null,"","","","",null,"","","","",null,"","","","",null,"","","",41,null,"","","","",null,"","","","",null,"","","","",null,"","","","",null,"","","","","","","","","","","","","","","","","","","","",null,0,0,0,1,null,null,null,"BrunoA                    ","Fama                      "]
[null,null,101,"Reinikainen               ",null,90.515049747340001,90.515049747340001,null,90.515049747340001,null,"","","","",null,"","","","",null,"","","","",null,90.515049747340001,"","","",null,"","","","",null,"","","","",null,"","","","",null,"","","","",null,20,"","","",null,"","","","",null,"","","","","","","","","","","","","","","","","","","",1,null,0,0,1,1,null,null,null,"koripallo tits            ","R.E.I.R.O.M               "]
[null,null,102,"Brian                     ",null,90.13450109477634,77.577602711779292,null,83.856051903277816,null,"","","","",null,90.13450109477634,"","","",null,"","","","",null,77.577602711779292,"","","",null,"","","","",null,"","","","",null,19,"","","",null,"","","","",null,26,"","","",null,"","","","",null,"","","","","","","","","","","","","","","","","","",1,"",null,0,0,1,2,null,null,null,"Rendy                     ","Popowitch                 "]
[null,null,103,"Lavon                     ",null,90.075519194461933,90.075519194461933,null,90.075519194461933,null,"","","","",null,"","","","",null,90.075519194461933,"","","",null,"","","","",null,"","","","",null,"","","","",null,"","","","",null,12,"","","",null,"","","","",null,"","","","",null,"","","","","","","","","","","",1,"","","","","","","","",null,0,0,1,1,null,null,null,"Frank05                   ","[FUN] GR8 Arjen!          "]
[null,null,104,"Jim                       ",null,89.65392934390772,82.830778855176717,null,86.242354099542212,null,89.65392934390772,"","","",null,82.830778855176717,"","","",null,"","","","",null,"","","","",null,"","","","",null,38,"","","",null,26,"","","",null,"","","","",null,"","","","",null,"","","","",null,"","","","","","","","","","","","","","","","","","","","",null,0,0,0,2,null,null,null,"[5] Burnout               ","Poisonous                 "]
[null,null,105,"FliZeR                    ",null,89.089060002905711,71.736188966637044,null,84.483358791129163,null,"","","",88.374524005077291,null,"","","",88.733662189896663,null,"","","","",null,"","","",89.089060002905711,null,"","","",71.736188966637044,null,"","","",43,null,"","","",23,null,"","","","",null,"","","",19,null,"","","",26,null,"","","","","","","","","","","","","","","","","","",1,"",null,0,0,1,4,null,null,null,"[LWD] JamsleJ             ","NBA                       "]
[null,null,106,"BIXOMAU                   ",null,88.939503178868705,88.939503178868705,null,88.939503178868705,null,88.939503178868705,"","","",null,"","","","",null,"","","","",null,"","","","",null,"","","","",null,40,"","","",null,"","","","",null,"","","","",null,"","","","",null,"","","","",null,"","","","","","","","","","","","","","","","","","","","",null,0,0,0,1,null,null,null,"Thunda                    ","Diego Armando             "]
[null,null,107,"Reiska                    ",null,88.603621982988614,88.603621982988614,null,88.603621982988614,null,"","","","",null,"","","","",null,"","","","",null,88.603621982988614,"","","",null,"","","","",null,"","","","",null,"","","","",null,"","","","",null,21,"","","",null,"","","","",null,"","","","","","","","","","","","","","","","","","","","",null,0,0,0,1,null,null,null,"Broomstig                 ","Qri                       "]
[null,null,108,"DustyBadSkillz            ",null,88.057499764602511,88.057499764602511,null,88.057499764602511,null,"","","","",null,"","","","",null,"","","","",null,88.057499764602511,"","","",null,"","","","",null,"","","","",null,"","","","",null,"","","","",null,22,"","","",null,"","","","",null,"","","","","","","","","","","","","","","","","","","","",null,0,0,0,1,null,null,null,"[+] dede                  ","batjunior                 "]
[null,null,109,"Thunda                    ",null,86.600234024081828,86.600234024081828,null,86.600234024081828,null,"","","","",null,"","",86.600234024081828,"",null,"","","","",null,"","","","",null,"","","","",null,"","","","",null,"","",36,"",null,"","","","",null,"","","","",null,"","","","",null,"","","","","","","","","","","","","","","","","","","","",null,0,0,0,1,null,null,null,"GOl V8                    ","CrazybikE                 "]
[null,null,110,"Kiki                      ",null,86.18054396796262,86.18054396796262,null,86.18054396796262,null,"","","","",null,"","","","",null,"","","","",null,"","","","",null,86.18054396796262,"","","",null,"","","","",null,"","","","",null,"","","","",null,"","","","",null,21,"","","",null,"","","","","","","","","","","","","","","","","","","","",null,0,0,0,1,null,null,null,"majstorfantac             ","Matic                     "]
[null,null,111,"Rahim                     ",null,85.964967156709406,85.964967156709406,null,85.964967156709406,null,"","","","",null,85.964967156709406,"","","",null,"","","","",null,"","","","",null,"","","","",null,"","","","",null,22,"","","",null,"","","","",null,"","","","",null,"","","","",null,"","","","","","","","","","","","","","","","","","","","",null,0,0,0,1,null,null,null,"Shaytun                   ","Delux                     "]
[null,null,112,"Niksi                     ",null,85.918048170159523,84.758796020212799,null,85.338422095186161,null,"","","","",null,85.918048170159523,"","","",null,"","","","",null,84.758796020212799,"","","",null,"","","","",null,"","","","",null,23,"","","",null,"","","","",null,23,"","","",null,"","","","",null,"","","","","","","","","","","","","","","","","","","","",null,0,0,0,2,null,null,null,"JJ Nylander               ","Chukie                    "]
[null,null,113,"suzuck                    ",null,85.415355569540594,81.995661605206067,null,83.369161456710799,null,82.696467195385736,"","","",null,"","","","",null,85.415355569540594,"","","",null,"","","","",null,81.995661605206067,"","","",null,41,"","","",null,"","","","",null,14,"","","",null,"","","","",null,22,"","","",null,"","","","","","","","","","","","","",1,"",{"$f":"IF(SUMIF($AJ119:$BG119,BX$6)/BX$6=0,\"\",SUMIF($AJ119:$BG119,BX$6)/BX$6)","v":""},"","","","",null,0,0,1,3,null,null,null,"Fa la la la la            ","power79                   "]
[null,null,114,"Iron Man                  ",null,82.828823159219638,53.081928917069909,null,69.153838553406075,null,71.550763583928685,"","","",null,"","","","",null,82.828823159219638,"","","",null,"","","","",null,53.081928917069909,"","","",null,43,"","","",null,"","","","",null,15,"","","",null,"","","","",null,26,"","","",null,{"$f":"IF(SUMIF($AJ120:$BG120,BI$6)/BI$6=0,\"\",SUMIF($AJ120:$BG120,BI$6)/BI$6)","v":""},"","","","","","","","","","","","","",1,"","","","","",null,0,0,1,3,null,null,null,"Nico Hulkenberg           ","NBA                       "]
[null,null,115,"Waenoo                    ",null,81.06462446250903,81.06462446250903,null,81.06462446250903,null,"","","","",null,"","","","",null,"","","","",null,81.06462446250903,"","","",null,"","","","",null,"","","","",null,"","","","",null,"","","","",null,25,"","","",null,"","","","",null,"","","","","","","","","","","","","","","","","","","","",null,0,0,0,1,null,null,null,"Bleached Anus             ","TD Juquinha               "]
[null,null,116,"Jukra                     ",null,80.459806068188925,80.459806068188925,null,80.459806068188925,null,"","","","",null,80.459806068188925,"","","",null,"","","","",null,"","","","",null,"","","","",null,"","","","",null,27,"","","",null,"","","","",null,"","","","",null,"","","","",null,"","","","","","","","","","","","","","","","","","","","",null,0,0,0,1,null,null,null,"[+] olio                  ","Alukin                    "]
[null,null,117,"Kooler                    ",null,79.421177125365233,78.872694939498203,null,79.146936032431711,null,"","","","",null,"","","","",null,"","","","",null,"","","","",null,"",79.421177125365233,"",78.872694939498203,null,"","","","",null,"","","","",null,"","","","",null,"","","","",null,"",20,"",25,null,"","","","","","","","","","","","","","","","","","","",1,null,0,0,1,2,null,null,null,"Jaka                      ","REIROM                    "]
[null,null,118,"KORINGA                   ",null,77.910104986876632,77.910104986876632,null,77.910104986876632,null,"",77.910104986876632,"","",null,"","","","",null,"","","","",null,"","","","",null,"","","","",null,"",52,"","",null,"","","","",null,"","","","",null,"","","","",null,"","","","",null,"","","","","","","","","","","","","","","","","","","","",null,0,0,0,1,null,null,null,"Gol_V8 ( 17 )             ","stoner                    "]
[null,null,119,"JJN                       ",null,77.497079926581023,77.497079926581023,null,77.497079926581023,null,"","","","",null,"","","","",null,"","","","",null,"","","","",null,77.497079926581023,"","","",null,"","","","",null,"","","","",null,"","","","",null,"","","","",null,24,"","","",null,"","","","","","","","","","","","","","","","","","","","",null,0,0,0,1,null,null,null,"ROMREI                    ","GoingDillon               "]
[null,null,120,"Broomstig                 ",null,77.186426603253693,77.186426603253693,null,77.186426603253693,null,"","","","",null,"","",77.186426603253693,"",null,"","","","",null,"","","","",null,"","","","",null,"","","","",null,"","",39,"",null,"","","","",null,"","","","",null,"","","","",null,"","","","","","","","","","","","","","","","","","","","",null,0,0,0,1,null,null,null,"KLE621                    ","[Qc]RSX                   "]
[null,null,121,"Storm                     ",null,77.11869961329225,77.11869961329225,null,77.11869961329225,null,77.11869961329225,"","","",null,"","","","",null,"","","","",null,"","","","",null,"","","","",null,42,"","","",null,"","","","",null,"","","","",null,"","","","",null,"","","","",null,"","","","","","","","","","","","","","","","","","","","",null,0,0,0,1,null,null,null,"put                       ","laf                       "]
[null,null,122,"{l}rard{l}                ",null,65.510913023530193,-80.528620581795451,null,-7.5088537791326289,null,65.510913023530193,"","","",null,-80.528620581795451,"","","",null,"","","","",null,"","","","",null,"","","","",null,44,"","","",null,30,"","","",null,"","","","",null,"","","","",null,"","","","",null,"","","","","","","","","","","","","","","","","","","","",null,0,0,0,2,null,null,null,"DEAD FISH                 ","dire                      "]
[null,null,123,"[iR] Etmil                ",null,62.733590177510543,62.733590177510543,null,62.733590177510543,null,"","","","",null,"","","",62.733590177510543,null,"","","","",null,"","","","",null,"","","","",null,"","","","",null,"","","",25,null,"","","","",null,"","","","",null,"","","","",null,"","","","","","","","","","","","","","","","","","","","",null,0,0,0,1,null,null,null,"FliZeR                    ","cavani                    "]
[null,null,124,"I-IenR!Kubica             ",null,46.68562992834768,46.68562992834768,null,46.68562992834768,null,"","","","",null,"","","",46.68562992834768,null,"","","","",null,"","","","",null,"","","","",null,"","","","",null,"","","",26,null,"","","","",null,"","","","",null,"","","","",null,"","","","","","","","","","","","","","","","","","","","",null,0,0,0,1,null,null,null,"Xenor                     ","Ninjinha_br               "]
[null,null,125,"shamino                   ",null,44.527792599102369,36.196434157022196,null,40.362113378062283,null,"","","","",null,36.196434157022196,"","","",null,"","","","",null,44.527792599102369,"","","",null,"","","","",null,"","","","",null,29,"","","",null,"","","","",null,27,"","","",null,"","","","",null,"","","","","","","","","","","","","","","","","","","","",null,0,0,0,2,null,null,null,"[iR] Etmil                ","bohun                     "]
[null,null,126,"Oppy                      ",null,1.5583989501312345,1.5583989501312345,null,1.5583989501312345,null,"",1.5583989501312345,"","",null,"","","","",null,"","","","",null,"","","","",null,"","","","",null,"",53,"","",null,"","","","",null,"","","","",null,"","","","",null,"","","","",null,"","","","","","","","","","","","","","","","","","","","",null,0,0,0,1,null,null,null,"I-IenR!Kubica             ","Rub                       "]
[null,null,null,null,null,null,null,null,null,null,null,null,null,null,null,null,null,null,null,null,null,null,null,null,null,null,null,null,null,null,null,null,null,null,null,null,null,null,null,null,null,null,null,null,null,null,null,null,null,null,null,null,null,null,null,null,null,null,null,null,null,null,null,null,null,null,null,null,null,null,null,null,null,null,null,null,null,null,null,null,null,null,null,null,null,null,null,null,null,"Kooler                    "]
[null,null,null,null,null,null,null,null,null,null,null,null,null,null,null,null,null,null,null,null,null,null,null,null,null,null,null,null,null,null,null,null,null,null,null,null,null,null,null,null,null,null,null,null,null,null,null,null,null,null,null,null,null,null,null,null,null,null,null,null,null,null,null,null,null,null,null,null,null,null,null,null,null,null,null,null,null,null,null,null,null,null,null,null,null,null,null,null,null,"KORINGA                   "]
[null,null,null,null,null,null,null,null,null,null,null,null,null,null,null,null,null,null,null,null,null,null,null,null,null,null,null,null,null,null,null,null,null,null,null,null,null,null,null,null,null,null,null,null,null,null,null,null,null,null,null,null,null,null,null,null,null,null,null,null,null,null,null,null,null,null,null,null,null,null,null,null,null,null,null,null,null,null,null,null,null,null,null,null,null,null,null,null,null,"Oppy                      "]
[null,null,null,null,null,null,null,null,null,null,null,null,null,null,null,null,null,null,null,null,null,null,null,null,null,null,null,null,null,null,null,null,null,null,null,null,null,null,null,null,null,null,null,null,null,null,null,null,null,null,null,null,null,null,null,null,null,null,null,null,null,null,null,null,null,null,null,null,null,null,null,null,null,null,null,null,null,null,null,null,null,null,null,null,null,null,null,null,null,"[+] Tinjovic              "]
[null,null,null,null,null,null,null,null,null,null,null,null,null,null,null,null,null,null,null,null,null,null,null,null,null,null,null,null,null,null,null,null,null,null,null,null,null,null,null,null,null,null,null,null,null,null,null,null,null,null,null,null,null,null,null,null,null,null,null,null,null,null,null,null,null,null,null,null,null,null,null,null,null,null,null,null,null,null,null,null,null,null,null,null,null,null,null,null,null,"[x] Mike Nike             "]
[null,null,null,null,null,null,null,null,null,null,null,null,null,null,null,null,null,null,null,null,null,null,null,null,null,null,null,null,null,null,null,null,null,null,null,null,null,null,null,null,null,null,null,null,null,null,null,null,null,null,null,null,null,null,null,null,null,null,null,null,null,null,null,null,null,null,null,null,null,null,null,null,null,null,null,null,null,null,null,null,null,null,null,null,null,null,null,null,null,"[x] Stylus                "]
[null,null,null,null,null,null,null,null,null,null,null,null,null,null,null,null,null,null,null,null,null,null,null,null,null,null,null,null,null,null,null,null,null,null,null,null,null,null,null,null,null,null,null,null,null,null,null,null,null,null,null,null,null,null,null,null,null,null,null,null,null,null,null,null,null,null,null,null,null,null,null,null,null,null,null,null,null,null,null,null,null,null,null,null,null,null,null,null,null,"[fS]Palo                  "]
[null,null,null,null,null,null,null,null,null,null,null,null,null,null,null,null,null,null,null,null,null,null,null,null,null,null,null,null,null,null,null,null,null,null,null,null,null,null,null,null,null,null,null,null,null,null,null,null,null,null,null,null,null,null,null,null,null,null,null,null,null,null,null,null,null,null,null,null,null,null,null,null,null,null,null,null,null,null,null,null,null,null,null,null,null,null,null,null,null,"Kyna_Musti                "]
[null,null,null,null,null,null,null,null,null,null,null,null,null,null,null,null,null,null,null,null,null,null,null,null,null,null,null,null,null,null,null,null,null,null,null,null,null,null,null,null,null,null,null,null,null,null,null,null,null,null,null,null,null,null,null,null,null,null,null,null,null,null,null,null,null,null,null,null,null,null,null,null,null,null,null,null,null,null,null,null,null,null,null,null,null,null,null,null,null,"[x] Whiplash              "]
[null,null,null,null,null,null,null,null,null,null,null,null,null,null,null,null,null,null,null,null,null,null,null,null,null,null,null,null,null,null,null,null,null,null,null,null,null,null,null,null,null,null,null,null,null,null,null,null,null,null,null,null,null,null,null,null,null,null,null,null,null,null,null,null,null,null,null,null,null,null,null,null,null,null,null,null,null,null,null,null,null,null,null,null,null,null,null,null,null,"[fS]Hevonen               "]
[null,null,null,null,null,null,null,null,null,null,null,null,null,null,null,null,null,null,null,null,null,null,null,null,null,null,null,null,null,null,null,null,null,null,null,null,null,null,null,null,null,null,null,null,null,null,null,null,null,null,null,null,null,null,null,null,null,null,null,null,null,null,null,null,null,null,null,null,null,null,null,null,null,null,null,null,null,null,null,null,null,null,null,null,null,null,null,null,null,"[+] xzeal                 "]
[null,null,null,null,null,null,null,null,null,null,null,null,null,null,null,null,null,null,null,null,null,null,null,null,null,null,null,null,null,null,null,null,null,null,null,null,null,null,null,null,null,null,null,null,null,null,null,null,null,null,null,null,null,null,null,null,null,null,null,null,null,null,null,null,null,null,null,null,null,null,null,null,null,null,null,null,null,null,null,null,null,null,null,null,null,null,null,null,null,"Jurgen-NL                 "]
[null,null,null,null,null,null,null,null,null,null,null,null,null,null,null,null,null,null,null,null,null,null,null,null,null,null,null,null,null,null,null,null,null,null,null,null,null,null,null,null,null,null,null,null,null,null,null,null,null,null,null,null,null,null,null,null,null,null,null,null,null,null,null,null,null,null,null,null,null,null,null,null,null,null,null,null,null,null,null,null,null,null,null,null,null,null,null,null,null,"[iR] iBlaze²              "]
[null,null,null,null,null,null,null,null,null,null,null,null,null,null,null,null,null,null,null,null,null,null,null,null,null,null,null,null,null,null,null,null,null,null,null,null,null,null,null,null,null,null,null,null,null,null,null,null,null,null,null,null,null,null,null,null,null,null,null,null,null,null,null,null,null,null,null,null,null,null,null,null,null,null,null,null,null,null,null,null,null,null,null,null,null,null,null,null,null,"AnnicK                    "]
[null,null,null,null,null,null,null,null,null,null,null,null,null,null,null,null,null,null,null,null,null,null,null,null,null,null,null,null,null,null,null,null,null,null,null,null,null,null,null,null,null,null,null,null,null,null,null,null,null,null,null,null,null,null,null,null,null,null,null,null,null,null,null,null,null,null,null,null,null,null,null,null,null,null,null,null,null,null,null,null,null,null,null,null,null,null,null,null,null,"mc65532                   "]
[null,null,null,null,null,null,null,null,null,null,null,null,null,null,null,null,null,null,null,null,null,null,null,null,null,null,null,null,null,null,null,null,null,null,null,null,null,null,null,null,null,null,null,null,null,null,null,null,null,null,null,null,null,null,null,null,null,null,null,null,null,null,null,null,null,null,null,null,null,null,null,null,null,null,null,null,null,null,null,null,null,null,null,null,null,null,null,null,null,"fatty                     "]
[null,null,null,null,null,null,null,null,null,null,null,null,null,null,null,null,null,null,null,null,null,null,null,null,null,null,null,null,null,null,null,null,null,null,null,null,null,null,null,null,null,null,null,null,null,null,null,null,null,null,null,null,null,null,null,null,null,null,null,null,null,null,null,null,null,null,null,null,null,null,null,null,null,null,null,null,null,null,null,null,null,null,null,null,null,null,null,null,null,"[fS]Jan                   "]
[null,null,null,null,null,null,null,null,null,null,null,null,null,null,null,null,null,null,null,null,null,null,null,null,null,null,null,null,null,null,null,null,null,null,null,null,null,null,null,null,null,null,null,null,null,null,null,null,null,null,null,null,null,null,null,null,null,null,null,null,null,null,null,null,null,null,null,null,null,null,null,null,null,null,null,null,null,null,null,null,null,null,null,null,null,null,null,null,null,"pozdro600                 "]
[null,null,null,null,null,null,null,null,null,null,null,null,null,null,null,null,null,null,null,null,null,null,null,null,null,null,null,null,null,null,null,null,null,null,null,null,null,null,null,null,null,null,null,null,null,null,null,null,null,null,null,null,null,null,null,null,null,null,null,null,null,null,null,null,null,null,null,null,null,null,null,null,null,null,null,null,null,null,null,null,null,null,null,null,null,null,null,null,null,"chill                     "]
[null,null,null,null,null,null,null,null,null,null,null,null,null,null,null,null,null,null,null,null,null,null,null,null,null,null,null,null,null,null,null,null,null,null,null,null,null,null,null,null,null,null,null,null,null,null,null,null,null,null,null,null,null,null,null,null,null,null,null,null,null,null,null,null,null,null,null,null,null,null,null,null,null,null,null,null,null,null,null,null,null,null,null,null,null,null,null,null,null,"Qpa                       "]
[null,null,null,null,null,null,null,null,null,null,null,null,null,null,null,null,null,null,null,null,null,null,null,null,null,null,null,null,null,null,null,null,null,null,null,null,null,null,null,null,null,null,null,null,null,null,null,null,null,null,null,null,null,null,null,null,null,null,null,null,null,null,null,null,null,null,null,null,null,null,null,null,null,null,null,null,null,null,null,null,null,null,null,null,null,null,null,null,null,"Gol_v8                    "]
[null,null,null,null,null,null,null,null,null,null,null,null,null,null,null,null,null,null,null,null,null,null,null,null,null,null,null,null,null,null,null,null,null,null,null,null,null,null,null,null,null,null,null,null,null,null,null,null,null,null,null,null,null,null,null,null,null,null,null,null,null,null,null,null,null,null,null,null,null,null,null,null,null,null,null,null,null,null,null,null,null,null,null,null,null,null,null,null,null,"Rub                       "]
[null,null,null,null,null,null,null,null,null,null,null,null,null,null,null,null,null,null,null,null,null,null,null,null,null,null,null,null,null,null,null,null,null,null,null,null,null,null,null,null,null,null,null,null,null,null,null,null,null,null,null,null,null,null,null,null,null,null,null,null,null,null,null,null,null,null,null,null,null,null,null,null,null,null,null,null,null,null,null,null,null,null,null,null,null,null,null,null,null,"Augusto                   "]
[null,null,null,null,null,null,null,null,null,null,null,null,null,null,null,null,null,null,null,null,null,null,null,null,null,null,null,null,null,null,null,null,null,null,null,null,null,null,null,null,null,null,null,null,null,null,null,null,null,null,null,null,null,null,null,null,null,null,null,null,null,null,null,null,null,null,null,null,null,null,null,null,null,null,null,null,null,null,null,null,null,null,null,null,null,null,null,null,null,"Chukie                    "]
[null,null,null,null,null,null,null,null,null,null,null,null,null,null,null,null,null,null,null,null,null,null,null,null,null,null,null,null,null,null,null,null,null,null,null,null,null,null,null,null,null,null,null,null,null,null,null,null,null,null,null,null,null,null,null,null,null,null,null,null,null,null,null,null,null,null,null,null,null,null,null,null,null,null,null,null,null,null,null,null,null,null,null,null,null,null,null,null,null,"[FUN] GR8 Arjen!          "]
[null,null,null,null,null,null,null,null,null,null,null,null,null,null,null,null,null,null,null,null,null,null,null,null,null,null,null,null,null,null,null,null,null,null,null,null,null,null,null,null,null,null,null,null,null,null,null,null,null,null,null,null,null,null,null,null,null,null,null,null,null,null,null,null,null,null,null,null,null,null,null,null,null,null,null,null,null,null,null,null,null,null,null,null,null,null,null,null,null,"\\/\\/ | |_ |_              "]
[null,null,null,null,null,null,null,null,null,null,null,null,null,null,null,null,null,null,null,null,null,null,null,null,null,null,null,null,null,null,null,null,null,null,null,null,null,null,null,null,null,null,null,null,null,null,null,null,null,null,null,null,null,null,null,null,null,null,null,null,null,null,null,null,null,null,null,null,null,null,null,null,null,null,null,null,null,null,null,null,null,null,null,null,null,null,null,null,null,"Matti                     "]
[null,null,null,null,null,null,null,null,null,null,null,null,null,null,null,null,null,null,null,null,null,null,null,null,null,null,null,null,null,null,null,null,null,null,null,null,null,null,null,null,null,null,null,null,null,null,null,null,null,null,null,null,null,null,null,null,null,null,null,null,null,null,null,null,null,null,null,null,null,null,null,null,null,null,null,null,null,null,null,null,null,null,null,null,null,null,null,null,null,"messi                     "]
[null,null,null,null,null,null,null,null,null,null,null,null,null,null,null,null,null,null,null,null,null,null,null,null,null,null,null,null,null,null,null,null,null,null,null,null,null,null,null,null,null,null,null,null,null,null,null,null,null,null,null,null,null,null,null,null,null,null,null,null,null,null,null,null,null,null,null,null,null,null,null,null,null,null,null,null,null,null,null,null,null,null,null,null,null,null,null,null,null,"REIROM                    "]
[null,null,null,null,null,null,null,null,null,null,null,null,null,null,null,null,null,null,null,null,null,null,null,null,null,null,null,null,null,null,null,null,null,null,null,null,null,null,null,null,null,null,null,null,null,null,null,null,null,null,null,null,null,null,null,null,null,null,null,null,null,null,null,null,null,null,null,null,null,null,null,null,null,null,null,null,null,null,null,null,null,null,null,null,null,null,null,null,null,"[+] Badeend               "]
[null,null,null,null,null,null,null,null,null,null,null,null,null,null,null,null,null,null,null,null,null,null,null,null,null,null,null,null,null,null,null,null,null,null,null,null,null,null,null,null,null,null,null,null,null,null,null,null,null,null,null,null,null,null,null,null,null,null,null,null,null,null,null,null,null,null,null,null,null,null,null,null,null,null,null,null,null,null,null,null,null,null,null,null,null,null,null,null,null,"[PahaJori] Ender          "]
[null,null,null,null,null,null,null,null,null,null,null,null,null,null,null,null,null,null,null,null,null,null,null,null,null,null,null,null,null,null,null,null,null,null,null,null,null,null,null,null,null,null,null,null,null,null,null,null,null,null,null,null,null,null,null,null,null,null,null,null,null,null,null,null,null,null,null,null,null,null,null,null,null,null,null,null,null,null,null,null,null,null,null,null,null,null,null,null,null,"Ku Dern [Ri]              "]
[null,null,null,null,null,null,null,null,null,null,null,null,null,null,null,null,null,null,null,null,null,null,null,null,null,null,null,null,null,null,null,null,null,null,null,null,null,null,null,null,null,null,null,null,null,null,null,null,null,null,null,null,null,null,null,null,null,null,null,null,null,null,null,null,null,null,null,null,null,null,null,null,null,null,null,null,null,null,null,null,null,null,null,null,null,null,null,null,null,"Sig                       "]
[null,null,null,null,null,null,null,null,null,null,null,null,null,null,null,null,null,null,null,null,null,null,null,null,null,null,null,null,null,null,null,null,null,null,null,null,null,null,null,null,null,null,null,null,null,null,null,null,null,null,null,null,null,null,null,null,null,null,null,null,null,null,null,null,null,null,null,null,null,null,null,null,null,null,null,null,null,null,null,null,null,null,null,null,null,null,null,null,null,"Double O Seven            "]
[null,null,null,null,null,null,null,null,null,null,null,null,null,null,null,null,null,null,null,null,null,null,null,null,null,null,null,null,null,null,null,null,null,null,null,null,null,null,null,null,null,null,null,null,null,null,null,null,null,null,null,null,null,null,null,null,null,null,null,null,null,null,null,null,null,null,null,null,null,null,null,null,null,null,null,null,null,null,null,null,null,null,null,null,null,null,null,null,null,"Matic                     "]
[null,null,null,null,null,null,null,null,null,null,null,null,null,null,null,null,null,null,null,null,null,null,null,null,null,null,null,null,null,null,null,null,null,null,null,null,null,null,null,null,null,null,null,null,null,null,null,null,null,null,null,null,null,null,null,null,null,null,null,null,null,null,null,null,null,null,null,null,null,null,null,null,null,null,null,null,null,null,null,null,null,null,null,null,null,null,null,null,null,"Alukin                    "]
[null,null,null,null,null,null,null,null,null,null,null,null,null,null,null,null,null,null,null,null,null,null,null,null,null,null,null,null,null,null,null,null,null,null,null,null,null,null,null,null,null,null,null,null,null,null,null,null,null,null,null,null,null,null,null,null,null,null,null,null,null,null,null,null,null,null,null,null,null,null,null,null,null,null,null,null,null,null,null,null,null,null,null,null,null,null,null,null,null,"lds                       "]
[null,null,null,null,null,null,null,null,null,null,null,null,null,null,null,null,null,null,null,null,null,null,null,null,null,null,null,null,null,null,null,null,null,null,null,null,null,null,null,null,null,null,null,null,null,null,null,null,null,null,null,null,null,null,null,null,null,null,null,null,null,null,null,null,null,null,null,null,null,null,null,null,null,null,null,null,null,null,null,null,null,null,null,null,null,null,null,null,null,"Ninjinha_br               "]
[null,null,null,null,null,null,null,null,null,null,null,null,null,null,null,null,null,null,null,null,null,null,null,null,null,null,null,null,null,null,null,null,null,null,null,null,null,null,null,null,null,null,null,null,null,null,null,null,null,null,null,null,null,null,null,null,null,null,null,null,null,null,null,null,null,null,null,null,null,null,null,null,null,null,null,null,null,null,null,null,null,null,null,null,null,null,null,null,null,"[$pectre]Jaw$             "]
[null,null,null,null,null,null,null,null,null,null,null,null,null,null,null,null,null,null,null,null,null,null,null,null,null,null,null,null,null,null,null,null,null,null,null,null,null,null,null,null,null,null,null,null,null,null,null,null,null,null,null,null,null,null,null,null,null,null,null,null,null,null,null,null,null,null,null,null,null,null,null,null,null,null,null,null,null,null,null,null,null,null,null,null,null,null,null,null,null,"stoner                    "]
[null,null,null,null,null,null,null,null,null,null,null,null,null,null,null,null,null,null,null,null,null,null,null,null,null,null,null,null,null,null,null,null,null,null,null,null,null,null,null,null,null,null,null,null,null,null,null,null,null,null,null,null,null,null,null,null,null,null,null,null,null,null,null,null,null,null,null,null,null,null,null,null,null,null,null,null,null,null,null,null,null,null,null,null,null,null,null,null,null,"kikiriki                  "]
[null,null,null,null,null,null,null,null,null,null,null,null,null,null,null,null,null,null,null,null,null,null,null,null,null,null,null,null,null,null,null,null,null,null,null,null,null,null,null,null,null,null,null,null,null,null,null,null,null,null,null,null,null,null,null,null,null,null,null,null,null,null,null,null,null,null,null,null,null,null,null,null,null,null,null,null,null,null,null,null,null,null,null,null,null,null,null,null,null,"Qri                       "]
[null,null,null,null,null,null,null,null,null,null,null,null,null,null,null,null,null,null,null,null,null,null,null,null,null,null,null,null,null,null,null,null,null,null,null,null,null,null,null,null,null,null,null,null,null,null,null,null,null,null,null,null,null,null,null,null,null,null,null,null,null,null,null,null,null,null,null,null,null,null,null,null,null,null,null,null,null,null,null,null,null,null,null,null,null,null,null,null,null,"power79                   "]
[null,null,null,null,null,null,null,null,null,null,null,null,null,null,null,null,null,null,null,null,null,null,null,null,null,null,null,null,null,null,null,null,null,null,null,null,null,null,null,null,null,null,null,null,null,null,null,null,null,null,null,null,null,null,null,null,null,null,null,null,null,null,null,null,null,null,null,null,null,null,null,null,null,null,null,null,null,null,null,null,null,null,null,null,null,null,null,null,null,"batjunior                 "]
[null,null,null,null,null,null,null,null,null,null,null,null,null,null,null,null,null,null,null,null,null,null,null,null,null,null,null,null,null,null,null,null,null,null,null,null,null,null,null,null,null,null,null,null,null,null,null,null,null,null,null,null,null,null,null,null,null,null,null,null,null,null,null,null,null,null,null,null,null,null,null,null,null,null,null,null,null,null,null,null,null,null,null,null,null,null,null,null,null,"Serif  v2.5.3W            "]
[null,null,null,null,null,null,null,null,null,null,null,null,null,null,null,null,null,null,null,null,null,null,null,null,null,null,null,null,null,null,null,null,null,null,null,null,null,null,null,null,null,null,null,null,null,null,null,null,null,null,null,null,null,null,null,null,null,null,null,null,null,null,null,null,null,null,null,null,null,null,null,null,null,null,null,null,null,null,null,null,null,null,null,null,null,null,null,null,null,"Magnat                    "]
[null,null,null,null,null,null,null,null,null,null,null,null,null,null,null,null,null,null,null,null,null,null,null,null,null,null,null,null,null,null,null,null,null,null,null,null,null,null,null,null,null,null,null,null,null,null,null,null,null,null,null,null,null,null,null,null,null,null,null,null,null,null,null,null,null,null,null,null,null,null,null,null,null,null,null,null,null,null,null,null,null,null,null,null,null,null,null,null,null,"RiantHoff                 "]
[null,null,null,null,null,null,null,null,null,null,null,null,null,null,null,null,null,null,null,null,null,null,null,null,null,null,null,null,null,null,null,null,null,null,null,null,null,null,null,null,null,null,null,null,null,null,null,null,null,null,null,null,null,null,null,null,null,null,null,null,null,null,null,null,null,null,null,null,null,null,null,null,null,null,null,null,null,null,null,null,null,null,null,null,null,null,null,null,null,"Popowitch                 "]
[null,null,null,null,null,null,null,null,null,null,null,null,null,null,null,null,null,null,null,null,null,null,null,null,null,null,null,null,null,null,null,null,null,null,null,null,null,null,null,null,null,null,null,null,null,null,null,null,null,null,null,null,null,null,null,null,null,null,null,null,null,null,null,null,null,null,null,null,null,null,null,null,null,null,null,null,null,null,null,null,null,null,null,null,null,null,null,null,null,"straits                   "]
[null,null,null,null,null,null,null,null,null,null,null,null,null,null,null,null,null,null,null,null,null,null,null,null,null,null,null,null,null,null,null,null,null,null,null,null,null,null,null,null,null,null,null,null,null,null,null,null,null,null,null,null,null,null,null,null,null,null,null,null,null,null,null,null,null,null,null,null,null,null,null,null,null,null,null,null,null,null,null,null,null,null,null,null,null,null,null,null,null,"[ITA]_AIR_GIGI            "]
[null,null,null,null,null,null,null,null,null,null,null,null,null,null,null,null,null,null,null,null,null,null,null,null,null,null,null,null,null,null,null,null,null,null,null,null,null,null,null,null,null,null,null,null,null,null,null,null,null,null,null,null,null,null,null,null,null,null,null,null,null,null,null,null,null,null,null,null,null,null,null,null,null,null,null,null,null,null,null,null,null,null,null,null,null,null,null,null,null,"BrunoA                    "]
[null,null,null,null,null,null,null,null,null,null,null,null,null,null,null,null,null,null,null,null,null,null,null,null,null,null,null,null,null,null,null,null,null,null,null,null,null,null,null,null,null,null,null,null,null,null,null,null,null,null,null,null,null,null,null,null,null,null,null,null,null,null,null,null,null,null,null,null,null,null,null,null,null,null,null,null,null,null,null,null,null,null,null,null,null,null,null,null,null,"CrazybikE                 "]
[null,null,null,null,null,null,null,null,null,null,null,null,null,null,null,null,null,null,null,null,null,null,null,null,null,null,null,null,null,null,null,null,null,null,null,null,null,null,null,null,null,null,null,null,null,null,null,null,null,null,null,null,null,null,null,null,null,null,null,null,null,null,null,null,null,null,null,null,null,null,null,null,null,null,null,null,null,null,null,null,null,null,null,null,null,null,null,null,null,"koripallo tits            "]
[null,null,null,null,null,null,null,null,null,null,null,null,null,null,null,null,null,null,null,null,null,null,null,null,null,null,null,null,null,null,null,null,null,null,null,null,null,null,null,null,null,null,null,null,null,null,null,null,null,null,null,null,null,null,null,null,null,null,null,null,null,null,null,null,null,null,null,null,null,null,null,null,null,null,null,null,null,null,null,null,null,null,null,null,null,null,null,null,null,"bohun                     "]
[null,null,null,null,null,null,null,null,null,null,null,null,null,null,null,null,null,null,null,null,null,null,null,null,null,null,null,null,null,null,null,null,null,null,null,null,null,null,null,null,null,null,null,null,null,null,null,null,null,null,null,null,null,null,null,null,null,null,null,null,null,null,null,null,null,null,null,null,null,null,null,null,null,null,null,null,null,null,null,null,null,null,null,null,null,null,null,null,null,"Rendy                     "]
[null,null,null,null,null,null,null,null,null,null,null,null,null,null,null,null,null,null,null,null,null,null,null,null,null,null,null,null,null,null,null,null,null,null,null,null,null,null,null,null,null,null,null,null,null,null,null,null,null,null,null,null,null,null,null,null,null,null,null,null,null,null,null,null,null,null,null,null,null,null,null,null,null,null,null,null,null,null,null,null,null,null,null,null,null,null,null,null,null,"Hazard                    "]
[null,null,null,null,null,null,null,null,null,null,null,null,null,null,null,null,null,null,null,null,null,null,null,null,null,null,null,null,null,null,null,null,null,null,null,null,null,null,null,null,null,null,null,null,null,null,null,null,null,null,null,null,null,null,null,null,null,null,null,null,null,null,null,null,null,null,null,null,null,null,null,null,null,null,null,null,null,null,null,null,null,null,null,null,null,null,null,null,null,"Frank05                   "]
[null,null,null,null,null,null,null,null,null,null,null,null,null,null,null,null,null,null,null,null,null,null,null,null,null,null,null,null,null,null,null,null,null,null,null,null,null,null,null,null,null,null,null,null,null,null,null,null,null,null,null,null,null,null,null,null,null,null,null,null,null,null,null,null,null,null,null,null,null,null,null,null,null,null,null,null,null,null,null,null,null,null,null,null,null,null,null,null,null,"[5] Burnout               "]
[null,null,null,null,null,null,null,null,null,null,null,null,null,null,null,null,null,null,null,null,null,null,null,null,null,null,null,null,null,null,null,null,null,null,null,null,null,null,null,null,null,null,null,null,null,null,null,null,null,null,null,null,null,null,null,null,null,null,null,null,null,null,null,null,null,null,null,null,null,null,null,null,null,null,null,null,null,null,null,null,null,null,null,null,null,null,null,null,null,"[LWD] JamsleJ             "]
[null,null,null,null,null,null,null,null,null,null,null,null,null,null,null,null,null,null,null,null,null,null,null,null,null,null,null,null,null,null,null,null,null,null,null,null,null,null,null,null,null,null,null,null,null,null,null,null,null,null,null,null,null,null,null,null,null,null,null,null,null,null,null,null,null,null,null,null,null,null,null,null,null,null,null,null,null,null,null,null,null,null,null,null,null,null,null,null,null,"CrazybikE                 "]
[null,null,null,null,null,null,null,null,null,null,null,null,null,null,null,null,null,null,null,null,null,null,null,null,null,null,null,null,null,null,null,null,null,null,null,null,null,null,null,null,null,null,null,null,null,null,null,null,null,null,null,null,null,null,null,null,null,null,null,null,null,null,null,null,null,null,null,null,null,null,null,null,null,null,null,null,null,null,null,null,null,null,null,null,null,null,null,null,null,"laf                       "]
[null,null,null,null,null,null,null,null,null,null,null,null,null,null,null,null,null,null,null,null,null,null,null,null,null,null,null,null,null,null,null,null,null,null,null,null,null,null,null,null,null,null,null,null,null,null,null,null,null,null,null,null,null,null,null,null,null,null,null,null,null,null,null,null,null,null,null,null,null,null,null,null,null,null,null,null,null,null,null,null,null,null,null,null,null,null,null,null,null,"Thunda                    "]
[null,null,null,null,null,null,null,null,null,null,null,null,null,null,null,null,null,null,null,null,null,null,null,null,null,null,null,null,null,null,null,null,null,null,null,null,null,null,null,null,null,null,null,null,null,null,null,null,null,null,null,null,null,null,null,null,null,null,null,null,null,null,null,null,null,null,null,null,null,null,null,null,null,null,null,null,null,null,null,null,null,null,null,null,null,null,null,null,null,"Broomstig                 "]
[null,null,null,null,null,null,null,null,null,null,null,null,null,null,null,null,null,null,null,null,null,null,null,null,null,null,null,null,null,null,null,null,null,null,null,null,null,null,null,null,null,null,null,null,null,null,null,null,null,null,null,null,null,null,null,null,null,null,null,null,null,null,null,null,null,null,null,null,null,null,null,null,null,null,null,null,null,null,null,null,null,null,null,null,null,null,null,null,null,"[+] Tinjovic              "]
[null,null,null,null,null,null,null,null,null,null,null,null,null,null,null,null,null,null,null,null,null,null,null,null,null,null,null,null,null,null,null,null,null,null,null,null,null,null,null,null,null,null,null,null,null,null,null,null,null,null,null,null,null,null,null,null,null,null,null,null,null,null,null,null,null,null,null,null,null,null,null,null,null,null,null,null,null,null,null,null,null,null,null,null,null,null,null,null,null,"[x] Mike Nike             "]
[null,null,null,null,null,null,null,null,null,null,null,null,null,null,null,null,null,null,null,null,null,null,null,null,null,null,null,null,null,null,null,null,null,null,null,null,null,null,null,null,null,null,null,null,null,null,null,null,null,null,null,null,null,null,null,null,null,null,null,null,null,null,null,null,null,null,null,null,null,null,null,null,null,null,null,null,null,null,null,null,null,null,null,null,null,null,null,null,null,"[x] Stylus                "]
[null,null,null,null,null,null,null,null,null,null,null,null,null,null,null,null,null,null,null,null,null,null,null,null,null,null,null,null,null,null,null,null,null,null,null,null,null,null,null,null,null,null,null,null,null,null,null,null,null,null,null,null,null,null,null,null,null,null,null,null,null,null,null,null,null,null,null,null,null,null,null,null,null,null,null,null,null,null,null,null,null,null,null,null,null,null,null,null,null,"Matti                     "]
[null,null,null,null,null,null,null,null,null,null,null,null,null,null,null,null,null,null,null,null,null,null,null,null,null,null,null,null,null,null,null,null,null,null,null,null,null,null,null,null,null,null,null,null,null,null,null,null,null,null,null,null,null,null,null,null,null,null,null,null,null,null,null,null,null,null,null,null,null,null,null,null,null,null,null,null,null,null,null,null,null,null,null,null,null,null,null,null,null,"Jurgen-NL                 "]
[null,null,null,null,null,null,null,null,null,null,null,null,null,null,null,null,null,null,null,null,null,null,null,null,null,null,null,null,null,null,null,null,null,null,null,null,null,null,null,null,null,null,null,null,null,null,null,null,null,null,null,null,null,null,null,null,null,null,null,null,null,null,null,null,null,null,null,null,null,null,null,null,null,null,null,null,null,null,null,null,null,null,null,null,null,null,null,null,null,"[+] xzeal                 "]
[null,null,null,null,null,null,null,null,null,null,null,null,null,null,null,null,null,null,null,null,null,null,null,null,null,null,null,null,null,null,null,null,null,null,null,null,null,null,null,null,null,null,null,null,null,null,null,null,null,null,null,null,null,null,null,null,null,null,null,null,null,null,null,null,null,null,null,null,null,null,null,null,null,null,null,null,null,null,null,null,null,null,null,null,null,null,null,null,null,"[iR] iBlaze²              "]
[null,null,null,null,null,null,null,null,null,null,null,null,null,null,null,null,null,null,null,null,null,null,null,null,null,null,null,null,null,null,null,null,null,null,null,null,null,null,null,null,null,null,null,null,null,null,null,null,null,null,null,null,null,null,null,null,null,null,null,null,null,null,null,null,null,null,null,null,null,null,null,null,null,null,null,null,null,null,null,null,null,null,null,null,null,null,null,null,null,"AnnicK                    "]
[null,null,null,null,null,null,null,null,null,null,null,null,null,null,null,null,null,null,null,null,null,null,null,null,null,null,null,null,null,null,null,null,null,null,null,null,null,null,null,null,null,null,null,null,null,null,null,null,null,null,null,null,null,null,null,null,null,null,null,null,null,null,null,null,null,null,null,null,null,null,null,null,null,null,null,null,null,null,null,null,null,null,null,null,null,null,null,null,null,"[+] dede                  "]
[null,null,null,null,null,null,null,null,null,null,null,null,null,null,null,null,null,null,null,null,null,null,null,null,null,null,null,null,null,null,null,null,null,null,null,null,null,null,null,null,null,null,null,null,null,null,null,null,null,null,null,null,null,null,null,null,null,null,null,null,null,null,null,null,null,null,null,null,null,null,null,null,null,null,null,null,null,null,null,null,null,null,null,null,null,null,null,null,null,"GOl V8                    "]
[null,null,null,null,null,null,null,null,null,null,null,null,null,null,null,null,null,null,null,null,null,null,null,null,null,null,null,null,null,null,null,null,null,null,null,null,null,null,null,null,null,null,null,null,null,null,null,null,null,null,null,null,null,null,null,null,null,null,null,null,null,null,null,null,null,null,null,null,null,null,null,null,null,null,null,null,null,null,null,null,null,null,null,null,null,null,null,null,null,"messi                     "]
[null,null,null,null,null,null,null,null,null,null,null,null,null,null,null,null,null,null,null,null,null,null,null,null,null,null,null,null,null,null,null,null,null,null,null,null,null,null,null,null,null,null,null,null,null,null,null,null,null,null,null,null,null,null,null,null,null,null,null,null,null,null,null,null,null,null,null,null,null,null,null,null,null,null,null,null,null,null,null,null,null,null,null,null,null,null,null,null,null,"[fS]Palo                  "]
[null,null,null,null,null,null,null,null,null,null,null,null,null,null,null,null,null,null,null,null,null,null,null,null,null,null,null,null,null,null,null,null,null,null,null,null,null,null,null,null,null,null,null,null,null,null,null,null,null,null,null,null,null,null,null,null,null,null,null,null,null,null,null,null,null,null,null,null,null,null,null,null,null,null,null,null,null,null,null,null,null,null,null,null,null,null,null,null,null,"majstorfantac             "]
[null,null,null,null,null,null,null,null,null,null,null,null,null,null,null,null,null,null,null,null,null,null,null,null,null,null,null,null,null,null,null,null,null,null,null,null,null,null,null,null,null,null,null,null,null,null,null,null,null,null,null,null,null,null,null,null,null,null,null,null,null,null,null,null,null,null,null,null,null,null,null,null,null,null,null,null,null,null,null,null,null,null,null,null,null,null,null,null,null,"pozdro600                 "]
[null,null,null,null,null,null,null,null,null,null,null,null,null,null,null,null,null,null,null,null,null,null,null,null,null,null,null,null,null,null,null,null,null,null,null,null,null,null,null,null,null,null,null,null,null,null,null,null,null,null,null,null,null,null,null,null,null,null,null,null,null,null,null,null,null,null,null,null,null,null,null,null,null,null,null,null,null,null,null,null,null,null,null,null,null,null,null,null,null,"Shaytun                   "]
[null,null,null,null,null,null,null,null,null,null,null,null,null,null,null,null,null,null,null,null,null,null,null,null,null,null,null,null,null,null,null,null,null,null,null,null,null,null,null,null,null,null,null,null,null,null,null,null,null,null,null,null,null,null,null,null,null,null,null,null,null,null,null,null,null,null,null,null,null,null,null,null,null,null,null,null,null,null,null,null,null,null,null,null,null,null,null,null,null,"majstorfantac             "]
[null,null,null,null,null,null,null,null,null,null,null,null,null,null,null,null,null,null,null,null,null,null,null,null,null,null,null,null,null,null,null,null,null,null,null,null,null,null,null,null,null,null,null,null,null,null,null,null,null,null,null,null,null,null,null,null,null,null,null,null,null,null,null,null,null,null,null,null,null,null,null,null,null,null,null,null,null,null,null,null,null,null,null,null,null,null,null,null,null,"Qpa                       "]
[null,null,null,null,null,null,null,null,null,null,null,null,null,null,null,null,null,null,null,null,null,null,null,null,null,null,null,null,null,null,null,null,null,null,null,null,null,null,null,null,null,null,null,null,null,null,null,null,null,null,null,null,null,null,null,null,null,null,null,null,null,null,null,null,null,null,null,null,null,null,null,null,null,null,null,null,null,null,null,null,null,null,null,null,null,null,null,null,null,"[PahaJori] Ender          "]
[null,null,null,null,null,null,null,null,null,null,null,null,null,null,null,null,null,null,null,null,null,null,null,null,null,null,null,null,null,null,null,null,null,null,null,null,null,null,null,null,null,null,null,null,null,null,null,null,null,null,null,null,null,null,null,null,null,null,null,null,null,null,null,null,null,null,null,null,null,null,null,null,null,null,null,null,null,null,null,null,null,null,null,null,null,null,null,null,null,"JJ Nylander               "]
[null,null,null,null,null,null,null,null,null,null,null,null,null,null,null,null,null,null,null,null,null,null,null,null,null,null,null,null,null,null,null,null,null,null,null,null,null,null,null,null,null,null,null,null,null,null,null,null,null,null,null,null,null,null,null,null,null,null,null,null,null,null,null,null,null,null,null,null,null,null,null,null,null,null,null,null,null,null,null,null,null,null,null,null,null,null,null,null,null,"Kyna_Musti                "]
[null,null,null,null,null,null,null,null,null,null,null,null,null,null,null,null,null,null,null,null,null,null,null,null,null,null,null,null,null,null,null,null,null,null,null,null,null,null,null,null,null,null,null,null,null,null,null,null,null,null,null,null,null,null,null,null,null,null,null,null,null,null,null,null,null,null,null,null,null,null,null,null,null,null,null,null,null,null,null,null,null,null,null,null,null,null,null,null,null,"\\/\\/ | |_ |_              "]
[null,null,null,null,null,null,null,null,null,null,null,null,null,null,null,null,null,null,null,null,null,null,null,null,null,null,null,null,null,null,null,null,null,null,null,null,null,null,null,null,null,null,null,null,null,null,null,null,null,null,null,null,null,null,null,null,null,null,null,null,null,null,null,null,null,null,null,null,null,null,null,null,null,null,null,null,null,null,null,null,null,null,null,null,null,null,null,null,null,"Sig                       "]
[null,null,null,null,null,null,null,null,null,null,null,null,null,null,null,null,null,null,null,null,null,null,null,null,null,null,null,null,null,null,null,null,null,null,null,null,null,null,null,null,null,null,null,null,null,null,null,null,null,null,null,null,null,null,null,null,null,null,null,null,null,null,null,null,null,null,null,null,null,null,null,null,null,null,null,null,null,null,null,null,null,null,null,null,null,null,null,null,null,"majstorfantac             "]
[null,null,null,null,null,null,null,null,null,null,null,null,null,null,null,null,null,null,null,null,null,null,null,null,null,null,null,null,null,null,null,null,null,null,null,null,null,null,null,null,null,null,null,null,null,null,null,null,null,null,null,null,null,null,null,null,null,null,null,null,null,null,null,null,null,null,null,null,null,null,null,null,null,null,null,null,null,null,null,null,null,null,null,null,null,null,null,null,null,"Gol_v8                    "]
[null,null,null,null,null,null,null,null,null,null,null,null,null,null,null,null,null,null,null,null,null,null,null,null,null,null,null,null,null,null,null,null,null,null,null,null,null,null,null,null,null,null,null,null,null,null,null,null,null,null,null,null,null,null,null,null,null,null,null,null,null,null,null,null,null,null,null,null,null,null,null,null,null,null,null,null,null,null,null,null,null,null,null,null,null,null,null,null,null,"Augusto                   "]
[null,null,null,null,null,null,null,null,null,null,null,null,null,null,null,null,null,null,null,null,null,null,null,null,null,null,null,null,null,null,null,null,null,null,null,null,null,null,null,null,null,null,null,null,null,null,null,null,null,null,null,null,null,null,null,null,null,null,null,null,null,null,null,null,null,null,null,null,null,null,null,null,null,null,null,null,null,null,null,null,null,null,null,null,null,null,null,null,null,"majstorfantac             "]
[null,null,null,null,null,null,null,null,null,null,null,null,null,null,null,null,null,null,null,null,null,null,null,null,null,null,null,null,null,null,null,null,null,null,null,null,null,null,null,null,null,null,null,null,null,null,null,null,null,null,null,null,null,null,null,null,null,null,null,null,null,null,null,null,null,null,null,null,null,null,null,null,null,null,null,null,null,null,null,null,null,null,null,null,null,null,null,null,null,"Fa la la la la            "]
[null,null,null,null,null,null,null,null,null,null,null,null,null,null,null,null,null,null,null,null,null,null,null,null,null,null,null,null,null,null,null,null,null,null,null,null,null,null,null,null,null,null,null,null,null,null,null,null,null,null,null,null,null,null,null,null,null,null,null,null,null,null,null,null,null,null,null,null,null,null,null,null,null,null,null,null,null,null,null,null,null,null,null,null,null,null,null,null,null,"Nico Hulkenberg           "]
[null,null,null,null,null,null,null,null,null,null,null,null,null,null,null,null,null,null,null,null,null,null,null,null,null,null,null,null,null,null,null,null,null,null,null,null,null,null,null,null,null,null,null,null,null,null,null,null,null,null,null,null,null,null,null,null,null,null,null,null,null,null,null,null,null,null,null,null,null,null,null,null,null,null,null,null,null,null,null,null,null,null,null,null,null,null,null,null,null,"Bleached Anus             "]
[null,null,null,null,null,null,null,null,null,null,null,null,null,null,null,null,null,null,null,null,null,null,null,null,null,null,null,null,null,null,null,null,null,null,null,null,null,null,null,null,null,null,null,null,null,null,null,null,null,null,null,null,null,null,null,null,null,null,null,null,null,null,null,null,null,null,null,null,null,null,null,null,null,null,null,null,null,null,null,null,null,null,null,null,null,null,null,null,null,"JJ Nylander               "]
[null,null,null,null,null,null,null,null,null,null,null,null,null,null,null,null,null,null,null,null,null,null,null,null,null,null,null,null,null,null,null,null,null,null,null,null,null,null,null,null,null,null,null,null,null,null,null,null,null,null,null,null,null,null,null,null,null,null,null,null,null,null,null,null,null,null,null,null,null,null,null,null,null,null,null,null,null,null,null,null,null,null,null,null,null,null,null,null,null,"[+] Badeend               "]
[null,null,null,null,null,null,null,null,null,null,null,null,null,null,null,null,null,null,null,null,null,null,null,null,null,null,null,null,null,null,null,null,null,null,null,null,null,null,null,null,null,null,null,null,null,null,null,null,null,null,null,null,null,null,null,null,null,null,null,null,null,null,null,null,null,null,null,null,null,null,null,null,null,null,null,null,null,null,null,null,null,null,null,null,null,null,null,null,null,"batjunior                 "]
[null,null,null,null,null,null,null,null,null,null,null,null,null,null,null,null,null,null,null,null,null,null,null,null,null,null,null,null,null,null,null,null,null,null,null,null,null,null,null,null,null,null,null,null,null,null,null,null,null,null,null,null,null,null,null,null,null,null,null,null,null,null,null,null,null,null,null,null,null,null,null,null,null,null,null,null,null,null,null,null,null,null,null,null,null,null,null,null,null,"[+] olio                  "]
[null,null,null,null,null,null,null,null,null,null,null,null,null,null,null,null,null,null,null,null,null,null,null,null,null,null,null,null,null,null,null,null,null,null,null,null,null,null,null,null,null,null,null,null,null,null,null,null,null,null,null,null,null,null,null,null,null,null,null,null,null,null,null,null,null,null,null,null,null,null,null,null,null,null,null,null,null,null,null,null,null,null,null,null,null,null,null,null,null,"[x] Whiplash              "]
[null,null,null,null,null,null,null,null,null,null,null,null,null,null,null,null,null,null,null,null,null,null,null,null,null,null,null,null,null,null,null,null,null,null,null,null,null,null,null,null,null,null,null,null,null,null,null,null,null,null,null,null,null,null,null,null,null,null,null,null,null,null,null,null,null,null,null,null,null,null,null,null,null,null,null,null,null,null,null,null,null,null,null,null,null,null,null,null,null,"Jaka                      "]
[null,null,null,null,null,null,null,null,null,null,null,null,null,null,null,null,null,null,null,null,null,null,null,null,null,null,null,null,null,null,null,null,null,null,null,null,null,null,null,null,null,null,null,null,null,null,null,null,null,null,null,null,null,null,null,null,null,null,null,null,null,null,null,null,null,null,null,null,null,null,null,null,null,null,null,null,null,null,null,null,null,null,null,null,null,null,null,null,null,"Double O Seven            "]
[null,null,null,null,null,null,null,null,null,null,null,null,null,null,null,null,null,null,null,null,null,null,null,null,null,null,null,null,null,null,null,null,null,null,null,null,null,null,null,null,null,null,null,null,null,null,null,null,null,null,null,null,null,null,null,null,null,null,null,null,null,null,null,null,null,null,null,null,null,null,null,null,null,null,null,null,null,null,null,null,null,null,null,null,null,null,null,null,null,"Gol_V8 ( 17 )             "]
[null,null,null,null,null,null,null,null,null,null,null,null,null,null,null,null,null,null,null,null,null,null,null,null,null,null,null,null,null,null,null,null,null,null,null,null,null,null,null,null,null,null,null,null,null,null,null,null,null,null,null,null,null,null,null,null,null,null,null,null,null,null,null,null,null,null,null,null,null,null,null,null,null,null,null,null,null,null,null,null,null,null,null,null,null,null,null,null,null,"laf                       "]
[null,null,null,null,null,null,null,null,null,null,null,null,null,null,null,null,null,null,null,null,null,null,null,null,null,null,null,null,null,null,null,null,null,null,null,null,null,null,null,null,null,null,null,null,null,null,null,null,null,null,null,null,null,null,null,null,null,null,null,null,null,null,null,null,null,null,null,null,null,null,null,null,null,null,null,null,null,null,null,null,null,null,null,null,null,null,null,null,null,"lds                       "]
[null,null,null,null,null,null,null,null,null,null,null,null,null,null,null,null,null,null,null,null,null,null,null,null,null,null,null,null,null,null,null,null,null,null,null,null,null,null,null,null,null,null,null,null,null,null,null,null,null,null,null,null,null,null,null,null,null,null,null,null,null,null,null,null,null,null,null,null,null,null,null,null,null,null,null,null,null,null,null,null,null,null,null,null,null,null,null,null,null,"ROMREI                    "]
[null,null,null,null,null,null,null,null,null,null,null,null,null,null,null,null,null,null,null,null,null,null,null,null,null,null,null,null,null,null,null,null,null,null,null,null,null,null,null,null,null,null,null,null,null,null,null,null,null,null,null,null,null,null,null,null,null,null,null,null,null,null,null,null,null,null,null,null,null,null,null,null,null,null,null,null,null,null,null,null,null,null,null,null,null,null,null,null,null,"KLE621                    "]
[null,null,null,null,null,null,null,null,null,null,null,null,null,null,null,null,null,null,null,null,null,null,null,null,null,null,null,null,null,null,null,null,null,null,null,null,null,null,null,null,null,null,null,null,null,null,null,null,null,null,null,null,null,null,null,null,null,null,null,null,null,null,null,null,null,null,null,null,null,null,null,null,null,null,null,null,null,null,null,null,null,null,null,null,null,null,null,null,null,"power79                   "]
[null,null,null,null,null,null,null,null,null,null,null,null,null,null,null,null,null,null,null,null,null,null,null,null,null,null,null,null,null,null,null,null,null,null,null,null,null,null,null,null,null,null,null,null,null,null,null,null,null,null,null,null,null,null,null,null,null,null,null,null,null,null,null,null,null,null,null,null,null,null,null,null,null,null,null,null,null,null,null,null,null,null,null,null,null,null,null,null,null,"[FUN] GR8 Arjen!          "]
[null,null,null,null,null,null,null,null,null,null,null,null,null,null,null,null,null,null,null,null,null,null,null,null,null,null,null,null,null,null,null,null,null,null,null,null,null,null,null,null,null,null,null,null,null,null,null,null,null,null,null,null,null,null,null,null,null,null,null,null,null,null,null,null,null,null,null,null,null,null,null,null,null,null,null,null,null,null,null,null,null,null,null,null,null,null,null,null,null,"RiantHoff                 "]
[null,null,null,null,null,null,null,null,null,null,null,null,null,null,null,null,null,null,null,null,null,null,null,null,null,null,null,null,null,null,null,null,null,null,null,null,null,null,null,null,null,null,null,null,null,null,null,null,null,null,null,null,null,null,null,null,null,null,null,null,null,null,null,null,null,null,null,null,null,null,null,null,null,null,null,null,null,null,null,null,null,null,null,null,null,null,null,null,null,"put                       "]
[null,null,null,null,null,null,null,null,null,null,null,null,null,null,null,null,null,null,null,null,null,null,null,null,null,null,null,null,null,null,null,null,null,null,null,null,null,null,null,null,null,null,null,null,null,null,null,null,null,null,null,null,null,null,null,null,null,null,null,null,null,null,null,null,null,null,null,null,null,null,null,null,null,null,null,null,null,null,null,null,null,null,null,null,null,null,null,null,null,"Qri                       "]
[null,null,null,null,null,null,null,null,null,null,null,null,null,null,null,null,null,null,null,null,null,null,null,null,null,null,null,null,null,null,null,null,null,null,null,null,null,null,null,null,null,null,null,null,null,null,null,null,null,null,null,null,null,null,null,null,null,null,null,null,null,null,null,null,null,null,null,null,null,null,null,null,null,null,null,null,null,null,null,null,null,null,null,null,null,null,null,null,null,"Ninjinha_br               "]
[null,null,null,null,null,null,null,null,null,null,null,null,null,null,null,null,null,null,null,null,null,null,null,null,null,null,null,null,null,null,null,null,null,null,null,null,null,null,null,null,null,null,null,null,null,null,null,null,null,null,null,null,null,null,null,null,null,null,null,null,null,null,null,null,null,null,null,null,null,null,null,null,null,null,null,null,null,null,null,null,null,null,null,null,null,null,null,null,null,"DEAD FISH                 "]
[null,null,null,null,null,null,null,null,null,null,null,null,null,null,null,null,null,null,null,null,null,null,null,null,null,null,null,null,null,null,null,null,null,null,null,null,null,null,null,null,null,null,null,null,null,null,null,null,null,null,null,null,null,null,null,null,null,null,null,null,null,null,null,null,null,null,null,null,null,null,null,null,null,null,null,null,null,null,null,null,null,null,null,null,null,null,null,null,null,"FliZeR                    "]
[null,null,null,null,null,null,null,null,null,null,null,null,null,null,null,null,null,null,null,null,null,null,null,null,null,null,null,null,null,null,null,null,null,null,null,null,null,null,null,null,null,null,null,null,null,null,null,null,null,null,null,null,null,null,null,null,null,null,null,null,null,null,null,null,null,null,null,null,null,null,null,null,null,null,null,null,null,null,null,null,null,null,null,null,null,null,null,null,null,"Xenor                     "]
[null,null,null,null,null,null,null,null,null,null,null,null,null,null,null,null,null,null,null,null,null,null,null,null,null,null,null,null,null,null,null,null,null,null,null,null,null,null,null,null,null,null,null,null,null,null,null,null,null,null,null,null,null,null,null,null,null,null,null,null,null,null,null,null,null,null,null,null,null,null,null,null,null,null,null,null,null,null,null,null,null,null,null,null,null,null,null,null,null,"FliZeR                    "]
[null,null,null,null,null,null,null,null,null,null,null,null,null,null,null,null,null,null,null,null,null,null,null,null,null,null,null,null,null,null,null,null,null,null,null,null,null,null,null,null,null,null,null,null,null,null,null,null,null,null,null,null,null,null,null,null,null,null,null,null,null,null,null,null,null,null,null,null,null,null,null,null,null,null,null,null,null,null,null,null,null,null,null,null,null,null,null,null,null,"kikiriki                  "]
[null,null,null,null,null,null,null,null,null,null,null,null,null,null,null,null,null,null,null,null,null,null,null,null,null,null,null,null,null,null,null,null,null,null,null,null,null,null,null,null,null,null,null,null,null,null,null,null,null,null,null,null,null,null,null,null,null,null,null,null,null,null,null,null,null,null,null,null,null,null,null,null,null,null,null,null,null,null,null,null,null,null,null,null,null,null,null,null,null,"Kooler                    "]
[null,null,null,null,null,null,null,null,null,null,null,null,null,null,null,null,null,null,null,null,null,null,null,null,null,null,null,null,null,null,null,null,null,null,null,null,null,null,null,null,null,null,null,null,null,null,null,null,null,null,null,null,null,null,null,null,null,null,null,null,null,null,null,null,null,null,null,null,null,null,null,null,null,null,null,null,null,null,null,null,null,null,null,null,null,null,null,null,null,"[iR] Etmil                "]
[null,null,null,null,null,null,null,null,null,null,null,null,null,null,null,null,null,null,null,null,null,null,null,null,null,null,null,null,null,null,null,null,null,null,null,null,null,null,null,null,null,null,null,null,null,null,null,null,null,null,null,null,null,null,null,null,null,null,null,null,null,null,null,null,null,null,null,null,null,null,null,null,null,null,null,null,null,null,null,null,null,null,null,null,null,null,null,null,null,"I-IenR!Kubica             "]

{"sheet":"all_anti_public","index":8,"n_rows":250,"n_cols":49,"rows_kept":250,"cut":false,"hidden":false,"merged":[]}
[]
[]
[]
[]
[null,null,null,"AntiSlider"]
[null,null,null,null,null,"Max","Min",null,"Av",null,"Week 1","Week 2","Week 3","Week 4",null,1,2,3,4,null,1,2,3,4,5,6,7,8,9,10,11,12,13,14,15,16,17,18,19,20,null,null,null,null,null,null,null,null,"copy from all weeks under here..values..and then copy to left and filter out duplicates"]
[null,null,{"$f":"ROW()-6","v":1},"[+] Tinjovic              ",null,{"$f":"IF($I7=\"\",0,MAX($K7:$N7))","v":100},{"$f":"IF($I7=\"\",0,MIN($K7:$N7))","v":99.852362204724415},null,{"$f":"IF(COUNT(K7:N7)=0,0,SUM(K7:N7)/COUNT(K7:N7))","v":99.915828721064372},null,99.878744182997977,99.852362204724415,99.932208496535097,100,null,{"$f":"IFERROR(RANK(K7,K$7:K$999,0),\"\")","v":2},{"$f":"IFERROR(RANK(L7,L$7:L$999,0),\"\")","v":2},{"$f":"IFERROR(RANK(M7,M$7:M$999,0),\"\")","v":2},{"$f":"IFERROR(RANK(N7,N$7:N$999,0),\"\")","v":1},null,{"$f":"IF(SUMIF($P7:$S7,U$6)/U$6=0,\"\",SUMIF($P7:$S7,U$6)/U$6)","v":1},3,"","","","","","","","",{"$f":"IF(SUMIF($P7:$S7,AE$6)/AE$6=0,\"\",SUMIF($P7:$S7,AE$6)/AE$6)","v":""},"","","","","","","","","",null,null,null,null,null,null,null,"[+] Tinjovic              ","[+] Tinjovic              "]
[null,null,2,"[x] Mike Nike             ",null,100,99.645669291338578,null,99.897417472166381,null,100,99.645669291338578,100,99.944000597326976,null,1,3,1,2,null,2,1,1,"","","","","","","","","","","","","","","","","",null,null,null,null,null,null,null,"[x] Mike Nike             ","[x] Mike Nike             "]
[null,null,3,"[fS]Palo                  ",null,100,99.544538191592622,null,99.798911607956015,null,99.839417972078394,100,99.811690268153058,99.544538191592622,null,3,1,5,6,null,1,"",1,"",1,1,"","","","","","","","","","","","","","",null,null,null,null,null,null,null,"[fS]Palo                  ","[fS]Palo                  "]
[null,null,4,"[fS]Hevonen               ",null,99.887014160891837,99.118437438552789,null,99.375395502527041,null,99.118437438552789,99.120734908136484,99.887014160891837,"",null,8,9,3,"",null,"","",1,"","","","",1,1,"","","","","","","","","","","",null,null,null,null,null,null,null,"[x] Whiplash              ","[x] Whiplash              "]
[null,null,5,"[+] Badeend               ",null,99.879481771617961,99.413384020449627,null,99.613301731726636,null,99.413384020449627,99.645669291338578,99.879481771617961,99.514671843500338,null,7,3,4,7,null,"","",1,1,"","",2,"","","","","","","","","","","","","",null,null,null,null,null,null,null,"[fS]Hevonen               ","[fS]Hevonen               "]
[null,null,6,"[PahaJori] Ender          ",null,99.678936758007922,99.274934383202094,null,99.550509938521756,null,99.662450022940291,99.274934383202094,99.585718589936732,99.678936758007922,null,4,6,6,3,null,"","",1,1,"",2,"","","","","","","","","","","","","","",null,null,null,null,null,null,null,"Kyna_Musti                ","Kyna_Musti                "]
[null,null,7,"[x] Stylus                ",null,99.660270290450242,98.431758530183728,null,99.21587261782507,null,"",98.431758530183728,99.555589032841212,99.660270290450242,null,"",16,7,4,null,"","","",1,"","",1,"","","","","","","","",1,"","","","",null,null,null,null,null,null,null,"[+] Iziwýn                ","[+] Iziwýn                "]
[null,null,8,"Jurgen-NL                 ",null,99.626670648846414,97.201284656223379,null,98.800857866684552,null,97.201284656223379,98.914041994750662,99.461434166917741,99.626670648846414,null,19,11,11,5,null,"","","","",1,"","","","","",2,"","","","","","","",1,"",null,null,null,null,null,null,null,"mc65532                   ","mc65532                   "]
[null,null,9,"Kyna_Musti                ",null,99.521693281108767,98.443337484433371,null,99.057201630153244,null,98.443337484433371,99.189632545931758,99.521693281108767,99.074143209139109,null,11,7,8,12,null,"","","","","","",1,1,"","",1,1,"","","","","","","","",null,null,null,null,null,null,null,"[+] Badeend               ","[+] Badeend               "]
[null,null,10,"[x] Whiplash              ",null,99.518253916235167,98.999477338908392,null,99.334088522308917,null,99.518253916235167,99.30446194225722,99.514160891834891,98.999477338908392,null,5,5,9,13,null,"","","","",2,"","","",1,"","","",1,"","","","","","","",null,null,null,null,null,null,null,"Poisonous                 ","Poisonous                 "]
[null,null,11,"Double O Seven            ",null,99.518253916235167,98.555215411035633,null,99.16372994024654,null,99.518253916235167,99.176509186351709,99.404941247363652,98.555215411035633,null,5,8,12,14,null,{"$f":"IF(SUMIF($P17:$S17,U$6)/U$6=0,\"\",SUMIF($P17:$S17,U$6)/U$6)","v":""},"","","",1,"","",1,"","",{"$f":"IF(SUMIF($P17:$S17,AE$6)/AE$6=0,\"\",SUMIF($P17:$S17,AE$6)/AE$6)","v":""},1,"",1,"","","","","","",null,null,null,null,null,null,null,"Chukie                    ","Chukie                    "]
[null,null,12,"mc65532                   ",null,99.514160891834891,96.56551091302353,null,97.973626384646593,null,96.56551091302353,97.841207349081358,99.514160891834891,"",null,21,23,9,"",null,"","","","","","","","",1,"","","","","","","","","","","",null,null,null,null,null,null,null,"Jurgen-NL                 ","Jurgen-NL                 "]
[null,null,13,"majstorfantac             ",null,99.406406331665806,99.406406331665806,null,99.406406331665806,null,"","","",99.406406331665806,null,"","","",8,null,"","","","","","","",1,"","","","","","","","","","","","",null,null,null,null,null,null,null,"KyNa                      ","KyNa                      "]
[null,null,14,"Matti                     ",null,99.301874113342805,99.035854172943658,null,99.168864143143225,null,"","",99.035854172943658,99.301874113342805,null,"","",17,9,null,"","","","","","","","",1,"","","","","","","",1,"","","",null,null,null,null,null,null,null,"fatty                     ","Kyna_Musti                "]
[null,null,15,"Qri                       ",null,99.273124435070798,96.800567460613763,null,98.030688199698872,null,"",98.018372703412069,99.273124435070798,96.800567460613763,null,"",22,13,34,null,"","","","","","","","","","","","",1,"","","","","","","",null,null,null,null,null,null,null,"AnnicK                    ","fatty                     "]
[null,null,16,"[FUN] GR8 Arjen!          ",null,99.261825851159983,97.270105525332625,null,98.227990791334975,null,97.270105525332625,98.474409448818903,99.261825851159983,97.905622340028373,null,17,15,14,26,null,"","","","","","","","","","","","","",1,1,"",1,"","","",null,null,null,null,null,null,null,"[FN] Pornfest             ","AnnicK                    "]
[null,null,17,"messi                     ",null,99.230941536623618,98.651702319975897,null,98.941321928299757,null,"","",98.651702319975897,99.230941536623618,null,"","",23,10,null,"","","","","","","","","",1,"","","","","","","","","","",null,null,null,null,null,null,null,"Double O Seven            ","[FN] Pornfest             "]
[null,null,18,"batjunior                 ",null,99.204808482042864,97.641076115485561,null,98.599627496153133,null,"",97.641076115485561,98.952997890931002,99.204808482042864,null,"",25,18,11,null,"","","","","","","","","","",1,"","","","","","",1,"","",null,null,null,null,null,null,null,"chill                     ","Double O Seven            "]
[null,null,19,"[iR] iBlaze²              ",null,99.156372401325697,97.84215635033226,null,98.556596198059196,null,"",98.671259842519675,99.156372401325697,97.84215635033226,null,"",13,15,27,null,"","","","","","","","","","","","",1,"",1,"","","","","",null,null,null,null,null,null,null,"Guillo                    ","chill                     "]
[null,null,20,"Sig                       ",null,99.104330708661422,97.722690957963124,null,98.413510833312273,null,"",99.104330708661422,"",97.722690957963124,null,"",10,"",28,null,"","","","","","","","","",1,"","","","","","","","","","",null,null,null,null,null,null,null,"Ande                      ","Guillo                    "]
[null,null,21,"power79                   ",null,99.077282313949979,96.961942257217856,null,98.017704141010256,null,"",96.961942257217856,99.077282313949979,98.013887851862918,null,"",32,16,24,null,{"$f":"IF(SUMIF($P27:$S27,U$6)/U$6=0,\"\",SUMIF($P27:$S27,U$6)/U$6)","v":""},"","","","","","","","","",{"$f":"IF(SUMIF($P27:$S27,AE$6)/AE$6=0,\"\",SUMIF($P27:$S27,AE$6)/AE$6)","v":""},"","","","",1,"","","","",null,null,null,null,null,null,null,"Scud                      ","Ande                      "]
[null,null,22,"[+] xzeal                 ",null,98.907803555287742,96.306613357802973,null,97.704418568842712,null,96.306613357802973,97.339238845144351,98.907803555287742,98.264018517135824,null,24,29,19,18,null,"","","","","","","","","","","","","","","","","",1,1,"",null,null,null,null,null,null,null,"Diego Armando             ","Scud                      "]
[null,null,23,"Qpa                       ",null,98.888972582103037,98.047900262467195,null,98.437630055684053,null,"",98.047900262467195,98.888972582103037,98.3760173224819,null,"",20,20,16,null,"","","","","","","","","","","","","","","",1,"","","",2,null,null,null,null,null,null,null,"lds                       ","Diego Armando             "]
[null,null,24,"Alukin                    ",null,98.873907803555284,95.94816272965879,null,97.41103526660703,null,"",95.94816272965879,98.873907803555284,"",null,"",38,21,"",null,"","","","","","","","","","","","","","","","","","","","",null,null,null,null,null,null,null,"[PahaJori] Ender          ","lds                       "]
[null,null,25,"kikiriki                  ",null,98.769685039370074,68.966556191623965,null,85.439943224239116,null,"",98.769685039370074,68.966556191623965,88.583588441723293,null,"",12,48,42,null,"","","","","","","","","","","",1,"","","","","","","","",null,null,null,null,null,null,null,"laf                       ","[PahaJori] Ender          "]
[null,null,26,"Testaaja                  ",null,98.71206659238382,98.71206659238382,null,98.71206659238382,null,98.71206659238382,"","","",null,9,"","","",null,"","","","","","","","",1,"","","","","","","","","","","",null,null,null,null,null,null,null,"REIROM                    ","laf                       "]
[null,null,27,"\\/\\/ | |_ |_              ",null,98.693130460982218,97.624671916010499,null,98.198918022724897,null,"",97.624671916010499,98.693130460982218,98.278951691181973,null,"",27,22,17,null,"","","","","","","","","","","","","","","","",1,"","","",null,null,null,null,null,null,null,"Janneosaursrex            ","REIROM                    "]
[null,null,28,"Popowitch                 ",null,98.635170603674538,97.853269056944868,null,98.244219830309703,null,"",98.635170603674538,97.853269056944868,"",null,"",14,32,"",null,"","","","","","","","","","","","","",1,"","","","","","",null,null,null,null,null,null,null,"R.E.I.R.O.M               ","Janneosaursrex            "]
[null,null,29,"Serif  v2.5.3W            ",null,98.591443205784884,98.041338582677156,null,98.31639089423102,null,"",98.041338582677156,98.591443205784884,"",null,"",21,24,"",null,"","","","","","","","","","","","","","","","","","","","",null,null,null,null,null,null,null,"Testaaja                  ","R.E.I.R.O.M               "]
[null,null,30,"Gol_v8                    ",null,98.583910816510993,94.747375328083976,null,96.480398101858199,null,"",94.747375328083976,98.583910816510993,96.109908160979629,null,"",43,25,36,null,"","","","","","","","","","","","","","","","","","","","",null,null,null,null,null,null,null,"[FUN] GR8 Arjen!          ","Testaaja                  "]
[null,null,31,"GOl V8                    ",null,98.540282236989484,98.540282236989484,null,98.540282236989484,null,"","","",98.540282236989484,null,"","","",15,null,{"$f":"IF(SUMIF($P37:$S37,U$6)/U$6=0,\"\",SUMIF($P37:$S37,U$6)/U$6)","v":""},"","","","","","","","","",{"$f":"IF(SUMIF($P37:$S37,AE$6)/AE$6=0,\"\",SUMIF($P37:$S37,AE$6)/AE$6)","v":""},"","","",1,"","","","","",null,null,null,null,null,null,null,"stoner                    ","[FUN] GR8 Arjen!          "]
[null,null,32,"Diego Armando             ",null,98.505603985056041,98.087270341207358,null,98.296437163131699,null,98.505603985056041,98.087270341207358,"","",null,10,19,"","",null,"","","","","","","","","",1,"","","","","","","","",1,"",null,null,null,null,null,null,null,"[+] xzeal                 ","stoner                    "]
[null,null,33,"REIROM                    ",null,{"$f":"IF($I39=\"\",0,MAX($K39:$N39))","v":98.467158782765893},{"$f":"IF($I39=\"\",0,MIN($K39:$N39))","v":95.510257586681519},null,{"$f":"IF(COUNT(K39:N39)=0,0,SUM(K39:N39)/COUNT(K39:N39))","v":96.568587608713457},null,95.510257586681519,95.728346456692918,98.467158782765893,"",null,{"$f":"IFERROR(RANK(K39,K$7:K$999,0),\"\")","v":27},{"$f":"IFERROR(RANK(L39,L$7:L$999,0),\"\")","v":39},{"$f":"IFERROR(RANK(M39,M$7:M$999,0),\"\")","v":26},{"$f":"IFERROR(RANK(N39,N$7:N$999,0),\"\")","v":""},null,"","","","","","","","","","","","","","","","","","","","",null,null,null,null,null,null,null,"Matic                     ","Chukie                    "]
[null,null,34,"[FN] Pornfest             ",null,98.417120010486983,98.417120010486983,null,98.417120010486983,null,98.417120010486983,"","","",null,12,"","","",null,"","","","","","","","","","","",1,"","","","","","","","",null,null,null,null,null,null,null,"Serif                     ","[+] xzeal                 "]
[null,null,35,"Poisonous                 ",null,98.39895013123359,97.473290948417116,null,97.936120539825353,null,97.473290948417116,98.39895013123359,"","",null,15,17,"","",null,"","","","","","","","","","","","","","",1,"",1,"","","",null,null,null,null,null,null,null,"Augusto                   ","Matic                     "]
[null,null,36,"lds                       ",null,98.320277191925271,96.352493937209147,null,97.775247582622953,null,96.352493937209147,98.179133858267718,98.320277191925271,98.249085343089689,null,23,18,27,19,null,"","","","","","","","","","","","","","","","","",1,1,"",null,null,null,null,null,null,null,"NBA                       ","Serif                     "]
[null,null,37,"AnnicK                    ",null,98.267550467008135,89.024709969194461,null,95.326620826153629,null,89.024709969194461,96.896325459317595,98.267550467008135,97.117897409094311,null,39,34,28,31,null,"","","","","","","","","","","","","","","","","","","","",null,null,null,null,null,null,null,"Pro08                     ","Augusto                   "]
[null,null,38,"Nico Hulkenberg           ",null,98.226685582020465,98.226685582020465,null,98.226685582020465,null,"","","",98.226685582020465,null,"","","",20,null,"","","","","","","","","","","","","","","","","","","",1,null,null,null,null,null,null,null,"RiantHoff                 ","NBA                       "]
[null,null,39,"chill                     ",null,98.195992768906294,95.103886740512536,null,96.649939754709408,null,95.103886740512536,"",98.195992768906294,"",null,30,"",29,"",null,"","","","","","","","","","","","","","","","","","","","",null,null,null,null,null,null,null,"CrazybikE                 ","Augusto                   "]
[null,null,40,"fatty                     ",null,98.105604097619761,96.935695538057743,null,97.484108027823979,null,97.41102444779446,96.935695538057743,98.105604097619761,"",null,16,33,30,"",null,"","","","","","","","","","","","","","","",1,"","","","",null,null,null,null,null,null,null,"Sharp                     ","Pro08                     "]
[null,null,41,"Shaytun                   ",null,98.043754199955217,98.043754199955217,null,98.043754199955217,null,"","","",98.043754199955217,null,"","","",21,null,{"$f":"IF(SUMIF($P47:$S47,U$6)/U$6=0,\"\",SUMIF($P47:$S47,U$6)/U$6)","v":""},"","","","","","","","","",{"$f":"IF(SUMIF($P47:$S47,AE$6)/AE$6=0,\"\",SUMIF($P47:$S47,AE$6)/AE$6)","v":""},"","","","","","","","","",null,null,null,null,null,null,null,"[+] Eddie                 ","lds                       "]
[null,null,42,"ROMREI                    ",null,98.028821025909068,98.028821025909068,null,98.028821025909068,null,"","","",98.028821025909068,null,"","","",22,null,"","","","","","","","","","","","","","","","","","","","",null,null,null,null,null,null,null,"Fama                      ","RiantHoff                 "]
[null,null,43,"KLE621                    ",null,98.017621145374449,98.017621145374449,null,98.017621145374449,null,"","","",98.017621145374449,null,"","","",23,null,"","","","","","","","","","","","","","","","","","","","",null,null,null,null,null,null,null,"Rubao                     ","CrazybikE                 "]
[null,null,44,"Fa la la la la            ",null,97.961621742701411,97.961621742701411,null,97.961621742701411,null,"","","",97.961621742701411,null,"","","",25,null,"","","","","","","","","","","","","","","","","","","","",null,null,null,null,null,null,null,"Jim                       ","Sharp                     "]
[null,null,45,"Augusto                   ",null,97.939891533594448,96.408571641902483,null,97.184341671987866,null,97.204561840466667,"",97.939891533594448,96.408571641902483,null,18,"",31,35,null,"","","","","","","","","","","","","","","","","",1,"","",null,null,null,null,null,null,null,"#5 Burnout                ","[+] Eddie                 "]
[null,null,46,"Matic                     ",null,97.811840915938532,97.398293963254602,null,97.667104233070063,null,97.79117782001704,97.398293963254602,97.811840915938532,"",null,13,28,33,"",null,"","","","","","","","","","","","",1,"","","","","","","",null,null,null,null,null,null,null,"suzuck                    ","Fama                      "]
[null,null,47,"pozdro600                 ",null,97.729658792650923,97.046964832375124,null,97.277153139646614,null,"",97.729658792650923,97.054835793913824,97.046964832375124,null,"",24,37,32,null,"","","","","","","","","","","","","","","","","","","","",null,null,null,null,null,null,null,"Brian                     ","Rubao                     "]
[null,null,48,"straits                   ",null,97.725218439288952,97.725218439288952,null,97.725218439288952,null,"","",97.725218439288952,"",null,"","",34,"",null,"","","","","","","","","","","","","","","","","","","","",null,null,null,null,null,null,null,"Reinikainen               ","Jim                       "]
[null,null,49,"R.E.I.R.O.M               ",null,97.696139476961392,97.132545931758528,null,97.414342704359967,null,97.696139476961392,97.132545931758528,"","",null,14,31,"","",null,"","","","","","","","","","","","","",1,"","","","","","",null,null,null,null,null,null,null,"Niksi                     ","#5 Burnout                "]
[null,null,50,"RiantHoff                 ",null,97.691322687556493,94.854820738021886,null,96.718945192731823,null,94.854820738021886,"",97.691322687556493,97.610692152617048,null,31,"",35,29,null,"","","","","","","","","","","","","","","","","","","","",null,null,null,null,null,null,null,"Lavon                     ","suzuck                    "]
[null,null,51,"CrazybikE                 ",null,97.627952755905511,94.625417840991005,null,96.407194638053582,null,94.625417840991005,97.627952755905511,96.968213317264244,"",null,33,26,40,"",null,{"$f":"IF(SUMIF($P57:$S57,U$6)/U$6=0,\"\",SUMIF($P57:$S57,U$6)/U$6)","v":""},"","","","","","","","","",{"$f":"IF(SUMIF($P57:$S57,AE$6)/AE$6=0,\"\",SUMIF($P57:$S57,AE$6)/AE$6)","v":""},"","","","","","","","","",null,null,null,null,null,null,null,"Gol_v8                    ","Brian                     "]
[null,null,52,"Rub                       ",null,97.612232600180775,97.612232600180775,null,97.612232600180775,null,"","",97.612232600180775,"",null,"","",36,"",null,"","","","","","","","","","","","","","","","","","","","",null,null,null,null,null,null,null,"BIXOMAU                   ","Reinikainen               "]
[null,null,53,"Delux                     ",null,97.312992125984252,97.312992125984252,null,97.312992125984252,null,"",97.312992125984252,"","",null,"",30,"","",null,"","","","","","","","","","","","","","","","","","","","",null,null,null,null,null,null,null,"Reiska                    ","Niksi                     "]
[null,null,54,"put                       ",null,97.140297170163521,97.140297170163521,null,97.140297170163521,null,"","","",97.140297170163521,null,"","","",30,null,"","","","","","","","","","","","","","","","","","","","",null,null,null,null,null,null,null,"DustyBadSkillz            ","Lavon                     "]
[null,null,55,"stoner                    ",null,96.990810485085873,95.314960629921259,null,95.891703259742272,null,95.369338664219697,95.314960629921259,96.990810485085873,"",null,29,40,38,"",null,"","","","","","","","","","","","","","","","","","","","",null,null,null,null,null,null,null,"Kiki                      ","Gol_v8                    "]
[null,null,56,"[fS]Jan                   ",null,96.975745706538106,96.975745706538106,null,96.975745706538106,null,"","",96.975745706538106,"",null,"","",39,"",null,"","","","","","","","","","","","","","","","","","","","",null,null,null,null,null,null,null,"Rahim                     ","BIXOMAU                   "]
[null,null,57,"Bleached Anus             ",null,96.878966624356011,96.878966624356011,null,96.878966624356011,null,"","","",96.878966624356011,null,"","","",33,null,"","","","","","","","","","","","","","","","","","","","",null,null,null,null,null,null,null,"Iron Man                  ","Reiska                    "]
[null,null,58,"NBA                       ",null,96.817585301837269,95.490594481221734,null,96.154089891529509,null,95.490594481221734,96.817585301837269,"","",null,28,35,"","",null,"","","","","","","","","","","","","","","","","","","","",null,null,null,null,null,null,null,"Sig                       ","DustyBadSkillz            "]
[null,null,59,"KyNa                      ",null,96.814576915514181,96.814576915514181,null,96.814576915514181,null,96.814576915514181,"","","",null,20,"","","",null,"","","","","","","","","","","","","","","","","","","",1,null,null,null,null,null,null,null,"Waenoo                    ","Kiki                      "]
[null,null,60,"Ninjinha_br               ",null,96.798734558601979,96.798734558601979,null,96.798734558601979,null,"","",96.798734558601979,"",null,"","",41,"",null,"","","","","","","","","","","","","","","","","","","","",null,null,null,null,null,null,null,"Jukra                     ","Rahim                     "]
[null,null,61,"[$pectre]Jaw$             ",null,96.787435974691164,96.787435974691164,null,96.787435974691164,null,"","",96.787435974691164,"",null,"","",42,"",null,{"$f":"IF(SUMIF($P67:$S67,U$6)/U$6=0,\"\",SUMIF($P67:$S67,U$6)/U$6)","v":""},"","","","","","","","","",{"$f":"IF(SUMIF($P67:$S67,AE$6)/AE$6=0,\"\",SUMIF($P67:$S67,AE$6)/AE$6)","v":""},"","","","","","","","","",null,null,null,null,null,null,null,"JJN                       ","Iron Man                  "]
[null,null,62,"Scud                      ",null,96.784776902887131,96.486858491184378,null,96.635817697035748,null,96.486858491184378,96.784776902887131,"","",null,22,36,"","",null,"","","","","","","","","","","","","","","","","","","","",null,null,null,null,null,null,null,"Storm                     ","Sig                       "]
[null,null,63,"bohun                     ",null,96.68574871949383,93.00524934383202,null,94.845499031662925,null,"",93.00524934383202,96.68574871949383,"",null,"",50,43,"",null,"","","","","","","","","","","","","","","","","","","","",null,null,null,null,null,null,null,"kikiriki                  ","Waenoo                    "]
[null,null,64,"Rendy                     ",null,96.501205182283812,96.501205182283812,null,96.501205182283812,null,"","",96.501205182283812,"",null,"","",44,"",null,"","","","","","","","","","","","","","","","","","","","",null,null,null,null,null,null,null,"{l}rard{l}                ","Jukra                     "]
[null,null,65,"[ITA]_AIR_GIGI            ",null,{"$f":"IF($I71=\"\",0,MAX($K71:$N71))","v":96.433413678818923},{"$f":"IF($I71=\"\",0,MIN($K71:$N71))","v":96.433413678818923},null,{"$f":"IF(COUNT(K71:N71)=0,0,SUM(K71:N71)/COUNT(K71:N71))","v":96.433413678818923},null,"","",96.433413678818923,"",null,{"$f":"IFERROR(RANK(K71,K$7:K$999,0),\"\")","v":""},{"$f":"IFERROR(RANK(L71,L$7:L$999,0),\"\")","v":""},{"$f":"IFERROR(RANK(M71,M$7:M$999,0),\"\")","v":45},{"$f":"IFERROR(RANK(N71,N$7:N$999,0),\"\")","v":""},null,"","","","","","","","","","","","","","","","","","","","",null,null,null,null,null,null,null,"shamino                   ","JJN                       "]
[null,null,66,"Hazard                    ",null,96.184383202099738,96.184383202099738,null,96.184383202099738,null,"",96.184383202099738,"","",null,"",37,"","",null,"","","","","","","","","","","","","","","","","","","","",null,null,null,null,null,null,null,"[iR] iBlaze²              ","Storm                     "]
[null,null,67,"Guillo                    ",null,96.136199777151461,96.136199777151461,null,96.136199777151461,null,96.136199777151461,"","","",null,25,"","","",null,"","","","","","","","","","","","","","","","","","","","",null,null,null,null,null,null,null,"[x] Stylus                ","kikiriki                  "]
[null,null,68,"laf                       ",null,96.012842529679688,93.389919381267617,null,94.632504189038443,null,93.389919381267617,94.49475065616798,"",96.012842529679688,null,35,46,"",37,null,"","","","","","","","","","","","","","","","","","","","",null,null,null,null,null,null,null,"Hazard                    ","{l}rard{l}                "]
[null,null,69,"Pro08                     ",null,95.893688143147401,95.893688143147401,null,95.893688143147401,null,95.893688143147401,"","","",null,26,"","","",null,"","","","","","","","","","","","","","","","","","","","",null,null,null,null,null,null,null,"\\/\\/ | |_ |_              ","shamino                   "]
[null,null,70,"JJ Nylander               ",null,95.632046591503027,95.632046591503027,null,95.632046591503027,null,"","","",95.632046591503027,null,"","","",38,null,"","","","","","","","","","","","","","","","","","","","",null,null,null,null,null,null,null,"Qpa                       ","[+] Tinjovic              "]
[null,null,71,"Frank05                   ",null,95.454203073214813,95.454203073214813,null,95.454203073214813,null,"","",95.454203073214813,"",null,"","",46,"",null,{"$f":"IF(SUMIF($P77:$S77,U$6)/U$6=0,\"\",SUMIF($P77:$S77,U$6)/U$6)","v":""},"","","","","","","","","",{"$f":"IF(SUMIF($P77:$S77,AE$6)/AE$6=0,\"\",SUMIF($P77:$S77,AE$6)/AE$6)","v":""},"","","","","","","","","",null,null,null,null,null,null,null,"Serif  v2.5.3W            ","[x] Mike Nike             "]
[null,null,72,"Jaka                      ",null,95.355782871649367,95.355782871649367,null,95.355782871649367,null,"","","",95.355782871649367,null,"","","",39,null,"","","","","","","","","","","","","","","","","","","","",null,null,null,null,null,null,null,"Hengari                   ","Kyna_Musti                "]
[null,null,73,"Hengari                   ",null,95.265748031496074,95.265748031496074,null,95.265748031496074,null,"",95.265748031496074,"","",null,"",41,"","",null,"","","","","","","","","","","","","","","","","","","","",null,null,null,null,null,null,null,"pozdro600                 ","kikiriki                  "]
[null,null,74,"Ande                      ",null,95.052493438320212,93.704529068624225,null,94.378511253472226,null,93.704529068624225,95.052493438320212,"","",null,34,42,"","",null,"","","","","","","","","","","","","","","","","","","","",null,null,null,null,null,null,null,"Bubba                     ","[fS]Palo                  "]
[null,null,75,"Serif                     ",null,94.710624631316776,94.710624631316776,null,94.710624631316776,null,94.710624631316776,"","","",null,32,"","","",null,"","","","","","","","","","","","","","","","","","","","",null,null,null,null,null,null,null,"Popowitch                 ","[iR] iBlaze²              "]
[null,null,76,"[Qc]RSX                   ",null,94.642388451443566,94.642388451443566,null,94.642388451443566,null,"",94.642388451443566,"","",null,"",44,"","",null,"","","","","","","","","","","","","","","","","","","","",null,null,null,null,null,null,null,"Qri                       ","AnnicK                    "]
[null,null,77,"DEAD FISH                 ",null,94.538191592623022,94.538191592623022,null,94.538191592623022,null,"","","",94.538191592623022,null,"","","",40,null,"","","","","","","","","","","","","","","","","","","","",null,null,null,null,null,null,null,"batjunior                 ","Jurgen-NL                 "]
[null,null,78,"Bubba                     ",null,94.537401574803141,94.537401574803141,null,94.537401574803141,null,"",94.537401574803141,"","",null,"",45,"","",null,"","","","","","","","","","","","","","","","","","","","",null,null,null,null,null,null,null,"Delux                     ","[+] xzeal                 "]
[null,null,79,"GoingDillon               ",null,94.409448818897644,94.409448818897644,null,94.409448818897644,null,"",94.409448818897644,"","",null,"",47,"","",null,"","","","","","","","","","","","","","","","","","","","",null,null,null,null,null,null,null,"power79                   ","Ande                      "]
[null,null,80,"dire                      ",null,93.868110236220488,93.868110236220488,null,93.868110236220488,null,"",93.868110236220488,"","",null,"",48,"","",null,"","","","","","","","","","","","","","","","","","","","",null,null,null,null,null,null,null,"TD Juquinha               ","Sig                       "]
[null,null,81,"cavani                    ",null,93.605643044619413,93.605643044619413,null,93.605643044619413,null,"",93.605643044619413,"","",null,"",49,"","",null,{"$f":"IF(SUMIF($P87:$S87,U$6)/U$6=0,\"\",SUMIF($P87:$S87,U$6)/U$6)","v":""},"","","","","","","","","",{"$f":"IF(SUMIF($P87:$S87,AE$6)/AE$6=0,\"\",SUMIF($P87:$S87,AE$6)/AE$6)","v":""},"","","","","","","","","",null,null,null,null,null,null,null,"Alukin                    ","[x] Stylus                "]
[null,null,82,"Chukie                    ",null,93.235891721832587,93.235891721832587,null,93.235891721832587,null,93.235891721832587,"","","",null,36,"","","",null,"","","","","","","","","","","","","","","","","","","","",null,null,null,null,null,null,null,"GoingDillon               ","mc65532                   "]
[null,null,83,"BrunoA                    ",null,92.870593552274784,92.870593552274784,null,92.870593552274784,null,"","",92.870593552274784,"",null,"","",47,"",null,"","","","","","","","","","","","","","","","","","","","",null,null,null,null,null,null,null,"[Qc]RSX                   ","[x] Whiplash              "]
[null,null,84,"Fama                      ",null,92.631233595800524,90.866487513928021,null,91.748860554864279,null,90.866487513928021,92.631233595800524,"","",null,37,51,"","",null,"","","","","","","","","","","","","","","","","","","","",null,null,null,null,null,null,null,"dire                      ","[+] Badeend               "]
[null,null,85,"Xenor                     ",null,90.58090047039498,90.58090047039498,null,90.58090047039498,null,"","","",90.58090047039498,null,"","","",41,null,"","","","","","","","","","","","","","","","","","","","",null,null,null,null,null,null,null,"cavani                    ","Hazard                    "]
[null,null,86,"Jim                       ",null,89.65392934390772,89.65392934390772,null,89.65392934390772,null,89.65392934390772,"","","",null,38,"","","",null,"","","","","","","","","","","","","","","","","","","","",null,null,null,null,null,null,null,"Ninjinha_br               ","[fS]Hevonen               "]
[null,null,87,"BIXOMAU                   ",null,88.939503178868705,88.939503178868705,null,88.939503178868705,null,88.939503178868705,"","","",null,40,"","","",null,"","","","","","","","","","","","","","","","","","","","",null,null,null,null,null,null,null,"bohun                     ","fatty                     "]
[null,null,88,"FliZeR                    ",null,88.374524005077291,88.374524005077291,null,88.374524005077291,null,"","","",88.374524005077291,null,"","","",43,null,"","","","","","","","","","","","","","","","","","","","",null,null,null,null,null,null,null,"Rub                       ","Double O Seven            "]
[null,null,89,"suzuck                    ",null,82.696467195385736,82.696467195385736,null,82.696467195385736,null,82.696467195385736,"","","",null,41,"","","",null,"","","","","","","","","","","","","","","","","","","","",null,null,null,null,null,null,null,"Kooler                    ","Scud                      "]
[null,null,90,"KORINGA                   ",null,77.910104986876632,77.910104986876632,null,77.910104986876632,null,"",77.910104986876632,"","",null,"",52,"","",null,"","","","","","","","","","","","","","","","","","","","",null,null,null,null,null,null,null,"KORINGA                   ","Poisonous                 "]
[null,null,91,"Storm                     ",null,77.11869961329225,77.11869961329225,null,77.11869961329225,null,77.11869961329225,"","","",null,42,"","","",null,{"$f":"IF(SUMIF($P97:$S97,U$6)/U$6=0,\"\",SUMIF($P97:$S97,U$6)/U$6)","v":""},"","","","","","","","","",{"$f":"IF(SUMIF($P97:$S97,AE$6)/AE$6=0,\"\",SUMIF($P97:$S97,AE$6)/AE$6)","v":""},"","","","","","","","","",null,null,null,null,null,null,null,"Oppy                      ","\\/\\/ | |_ |_              "]
[null,null,92,"Iron Man                  ",null,71.550763583928685,71.550763583928685,null,71.550763583928685,null,71.550763583928685,"","","",null,43,"","","",null,"","","","","","","","","","","","","","","","","","","","",null,null,null,null,null,null,null,"[fS]Jan                   ","Qpa                       "]
[null,null,93,"{l}rard{l}                ",null,65.510913023530193,65.510913023530193,null,65.510913023530193,null,65.510913023530193,"","","",null,44,"","","",null,"","","","","","","","","","","","","","","","","","","","",null,null,null,null,null,null,null,"Matti                     ","Serif  v2.5.3W            "]
[null,null,94,"Oppy                      ",null,1.5583989501312345,1.5583989501312345,null,1.5583989501312345,null,"",1.5583989501312345,"","",null,"",53,"","",null,"","","","","","","","","","","","","","","","","","","","",null,null,null,null,null,null,null,"messi                     ","lds                       "]
[null,null,95,"[+] Iziwýn                ",null,0,0,null,0,null,"","","","",null,"","","","",null,"","","","","","","","","","","","","","","","","","","","",null,null,null,null,null,null,null,"Ku Dern [Ri]              ","Hengari                   "]
[null,null,96,"Janneosaursrex            ",null,0,0,null,0,null,"","","","",null,"","","","",null,"","","","","","","","","","","","","","","","","","","","",null,null,null,null,null,null,null,"[$pectre]Jaw$             ","pozdro600                 "]
[null,null,97,"Sharp                     ",null,{"$f":"IF($I103=\"\",0,MAX($K103:$N103))","v":0},{"$f":"IF($I103=\"\",0,MIN($K103:$N103))","v":0},null,{"$f":"IF(COUNT(K103:N103)=0,0,SUM(K103:N103)/COUNT(K103:N103))","v":0},null,"","","","",null,{"$f":"IFERROR(RANK(K103,K$7:K$999,0),\"\")","v":""},{"$f":"IFERROR(RANK(L103,L$7:L$999,0),\"\")","v":""},{"$f":"IFERROR(RANK(M103,M$7:M$999,0),\"\")","v":""},{"$f":"IFERROR(RANK(N103,N$7:N$999,0),\"\")","v":""},null,"","","","","","","","","","","","","","","","","","","","",null,null,null,null,null,null,null,"Magnat                    ","Gol_v8                    "]
[null,null,98,"[+] Eddie                 ",null,0,0,null,0,null,"","","","",null,"","","","",null,"","","","","","","","","","","","","","","","","","","","",null,null,null,null,null,null,null,"straits                   ","Bubba                     "]
[null,null,99,"Rubao                     ",null,0,0,null,0,null,"","","","",null,"","","","",null,"","","","","","","","","","","","","","","","","","","","",null,null,null,null,null,null,null,"[ITA]_AIR_GIGI            ","[PahaJori] Ender          "]
[null,null,100,"#5 Burnout                ",null,0,0,null,0,null,"","","","",null,"","","","",null,"","","","","","","","","","","","","","","","","","","","",null,null,null,null,null,null,null,"BrunoA                    ","Fama                      "]
[null,null,101,"Brian                     ",null,0,0,null,0,null,"","","","",null,"","","","",null,{"$f":"IF(SUMIF($P107:$S107,U$6)/U$6=0,\"\",SUMIF($P107:$S107,U$6)/U$6)","v":""},"","","","","","","","","",{"$f":"IF(SUMIF($P107:$S107,AE$6)/AE$6=0,\"\",SUMIF($P107:$S107,AE$6)/AE$6)","v":""},"","","","","","","","","",null,null,null,null,null,null,null,"koripallo tits            ","R.E.I.R.O.M               "]
[null,null,102,"Reinikainen               ",null,0,0,null,0,null,"","","","",null,"","","","",null,"","","","","","","","","","","","","","","","","","","","",null,null,null,null,null,null,null,"Rendy                     ","Popowitch                 "]
[null,null,103,"Niksi                     ",null,0,0,null,0,null,"","","","",null,"","","","",null,"","","","","","","","","","","","","","","","","","","","",null,null,null,null,null,null,null,"Frank05                   ","[FUN] GR8 Arjen!          "]
[null,null,104,"Lavon                     ",null,0,0,null,0,null,"","","","",null,"","","","",null,"","","","","","","","","","","","","","","","","","","","",null,null,null,null,null,null,null,"[5] Burnout               ","Poisonous                 "]
[null,null,105,"Reiska                    ",null,0,0,null,0,null,"","","","",null,"","","","",null,"","","","","","","","","","","","","","","","","","","","",null,null,null,null,null,null,null,"[LWD] JamsleJ             ","NBA                       "]
[null,null,106,"DustyBadSkillz            ",null,0,0,null,0,null,"","","","",null,"","","","",null,"","","","","","","","","","","","","","","","","","","","",null,null,null,null,null,null,null,"Thunda                    ","Diego Armando             "]
[null,null,107,"Kiki                      ",null,0,0,null,0,null,"","","","",null,"","","","",null,"","","","","","","","","","","","","","","","","","","","",null,null,null,null,null,null,null,"Broomstig                 ","Qri                       "]
[null,null,108,"Rahim                     ",null,0,0,null,0,null,"","","","",null,"","","","",null,"","","","","","","","","","","","","","","","","","","","",null,null,null,null,null,null,null,"[+] dede                  ","batjunior                 "]
[null,null,109,"Waenoo                    ",null,0,0,null,0,null,"","","","",null,"","","","",null,"","","","","","","","","","","","","","","","","","","","",null,null,null,null,null,null,null,"GOl V8                    ","CrazybikE                 "]
[null,null,110,"Jukra                     ",null,0,0,null,0,null,"","","","",null,"","","","",null,"","","","","","","","","","","","","","","","","","","","",null,null,null,null,null,null,null,"majstorfantac             ","Matic                     "]
[null,null,111,"JJN                       ",null,0,0,null,0,null,"","","","",null,"","","","",null,{"$f":"IF(SUMIF($P117:$S117,U$6)/U$6=0,\"\",SUMIF($P117:$S117,U$6)/U$6)","v":""},"","","","","","","","","",{"$f":"IF(SUMIF($P117:$S117,AE$6)/AE$6=0,\"\",SUMIF($P117:$S117,AE$6)/AE$6)","v":""},"","","","","","","","","",null,null,null,null,null,null,null,"Shaytun                   ","Delux                     "]
[null,null,112,"shamino                   ",null,0,0,null,0,null,"","","","",null,"","","","",null,"","","","","","","","","","","","","","","","","","","","",null,null,null,null,null,null,null,"JJ Nylander               ","Chukie                    "]
[null,null,113,"TD Juquinha               ",null,0,0,null,0,null,"","","","",null,"","","","",null,"","","","","","","","","","","","","","","","","","","","",null,null,null,null,null,null,null,"Fa la la la la            ","power79                   "]
[null,null,114,"Kooler                    ",null,0,0,null,0,null,"","","","",null,"","","","",null,"","","","","","","","","","","","","","","","","","","","",null,null,null,null,null,null,null,"Nico Hulkenberg           ","NBA                       "]
[null,null,115,"Ku Dern [Ri]              ",null,0,0,null,0,null,"","","","",null,"","","","",null,"","","","","","","","","","","","","","","","","","","","",null,null,null,null,null,null,null,"Bleached Anus             ","TD Juquinha               "]
[null,null,116,"Magnat                    ",null,0,0,null,0,null,"","","","",null,"","","","",null,"","","","","","","","","","","","","","","","","","","","",null,null,null,null,null,null,null,"[+] olio                  ","Alukin                    "]
[null,null,117,"koripallo tits            ",null,0,0,null,0,null,"","","","",null,"","","","",null,"","","","","","","","","","","","","","","","","","","","",null,null,null,null,null,null,null,"Jaka                      ","REIROM                    "]
[null,null,118,"[5] Burnout               ",null,0,0,null,0,null,"","","","",null,"","","","",null,"","","","","","","","","","","","","","","","","","","","",null,null,null,null,null,null,null,"Gol_V8 ( 17 )             ","stoner                    "]
[null,null,119,"[LWD] JamsleJ             ",null,0,0,null,0,null,"","","","",null,"","","","",null,"","","","","","","","","","","","","","","","","","","","",null,null,null,null,null,null,null,"ROMREI                    ","GoingDillon               "]
[null,null,120,"Thunda                    ",null,0,0,null,0,null,"","","","",null,"","","","",null,"","","","","","","","","","","","","","","","","","","","",null,null,null,null,null,null,null,"KLE621                    ","[Qc]RSX                   "]
[null,null,121,"Broomstig                 ",null,0,0,null,0,null,"","","","",null,"","","","",null,{"$f":"IF(SUMIF($P127:$S127,U$6)/U$6=0,\"\",SUMIF($P127:$S127,U$6)/U$6)","v":""},"","","","","","","","","",{"$f":"IF(SUMIF($P127:$S127,AE$6)/AE$6=0,\"\",SUMIF($P127:$S127,AE$6)/AE$6)","v":""},"","","","","","","","","",null,null,null,null,null,null,null,"put                       ","laf                       "]
[null,null,122,"[+] dede                  ",null,0,0,null,0,null,"","","","",null,"","","","",null,"","","","","","","","","","","","","","","","","","","","",null,null,null,null,null,null,null,"DEAD FISH                 ","dire                      "]
[null,null,123,"[+] olio                  ",null,0,0,null,0,null,"","","","",null,"","","","",null,"","","","","","","","","","","","","","","","","","","","",null,null,null,null,null,null,null,"FliZeR                    ","cavani                    "]
[null,null,124,"Gol_V8 ( 17 )             ",null,0,0,null,0,null,"","","","",null,"","","","",null,"","","","","","","","","","","","","","","","","","","","",null,null,null,null,null,null,null,"Xenor                     ","Ninjinha_br               "]
[null,null,125,"[iR] Etmil                ",null,0,0,null,0,null,"","","","",null,"","","","",null,"","","","","","","","","","","","","","","","","","","","",null,null,null,null,null,null,null,"[iR] Etmil                ","bohun                     "]
[null,null,126,"I-IenR!Kubica             ",null,0,0,null,0,null,"","","","",null,"","","","",null,"","","","","","","","","","","","","","","","","","","","",null,null,null,null,null,null,null,"I-IenR!Kubica             ","Rub                       "]
[null,null,null,null,null,null,null,null,null,null,null,null,null,null,null,null,null,null,null,null,null,null,null,null,null,null,null,null,null,null,null,null,null,null,null,null,null,null,null,null,null,null,null,null,null,null,null,null,"Kooler                    "]
[null,null,null,null,null,null,null,null,null,null,null,null,null,null,null,null,null,null,null,null,null,null,null,null,null,null,null,null,null,null,null,null,null,null,null,null,null,null,null,null,null,null,null,null,null,null,null,null,"KORINGA                   "]
[null,null,null,null,null,null,null,null,null,null,null,null,null,null,null,null,null,null,null,null,null,null,null,null,null,null,null,null,null,null,null,null,null,null,null,null,null,null,null,null,null,null,null,null,null,null,null,null,"Oppy                      "]
[null,null,null,null,null,null,null,null,null,null,null,null,null,null,null,null,null,null,null,null,null,null,null,null,null,null,null,null,null,null,null,null,null,null,null,null,null,null,null,null,null,null,null,null,null,null,null,null,"[+] Tinjovic              "]
[null,null,null,null,null,null,null,null,null,null,null,null,null,null,null,null,null,null,null,null,null,null,null,null,null,null,null,null,null,null,null,null,null,null,null,null,null,null,null,null,null,null,null,null,null,null,null,null,"[x] Mike Nike             "]
[null,null,null,null,null,null,null,null,null,null,null,null,null,null,null,null,null,null,null,null,null,null,null,null,null,null,null,null,null,null,null,null,null,null,null,null,null,null,null,null,null,null,null,null,null,null,null,null,"[x] Stylus                "]
[null,null,null,null,null,null,null,null,null,null,null,null,null,null,null,null,null,null,null,null,null,null,null,null,null,null,null,null,null,null,null,null,null,null,null,null,null,null,null,null,null,null,null,null,null,null,null,null,"[fS]Palo                  "]
[null,null,null,null,null,null,null,null,null,null,null,null,null,null,null,null,null,null,null,null,null,null,null,null,null,null,null,null,null,null,null,null,null,null,null,null,null,null,null,null,null,null,null,null,null,null,null,null,"Kyna_Musti                "]
[null,null,null,null,null,null,null,null,null,null,null,null,null,null,null,null,null,null,null,null,null,null,null,null,null,null,null,null,null,null,null,null,null,null,null,null,null,null,null,null,null,null,null,null,null,null,null,null,"[x] Whiplash              "]
[null,null,null,null,null,null,null,null,null,null,null,null,null,null,null,null,null,null,null,null,null,null,null,null,null,null,null,null,null,null,null,null,null,null,null,null,null,null,null,null,null,null,null,null,null,null,null,null,"[fS]Hevonen               "]
[null,null,null,null,null,null,null,null,null,null,null,null,null,null,null,null,null,null,null,null,null,null,null,null,null,null,null,null,null,null,null,null,null,null,null,null,null,null,null,null,null,null,null,null,null,null,null,null,"[+] xzeal                 "]
[null,null,null,null,null,null,null,null,null,null,null,null,null,null,null,null,null,null,null,null,null,null,null,null,null,null,null,null,null,null,null,null,null,null,null,null,null,null,null,null,null,null,null,null,null,null,null,null,"Jurgen-NL                 "]
[null,null,null,null,null,null,null,null,null,null,null,null,null,null,null,null,null,null,null,null,null,null,null,null,null,null,null,null,null,null,null,null,null,null,null,null,null,null,null,null,null,null,null,null,null,null,null,null,"[iR] iBlaze²              "]
[null,null,null,null,null,null,null,null,null,null,null,null,null,null,null,null,null,null,null,null,null,null,null,null,null,null,null,null,null,null,null,null,null,null,null,null,null,null,null,null,null,null,null,null,null,null,null,null,"AnnicK                    "]
[null,null,null,null,null,null,null,null,null,null,null,null,null,null,null,null,null,null,null,null,null,null,null,null,null,null,null,null,null,null,null,null,null,null,null,null,null,null,null,null,null,null,null,null,null,null,null,null,"mc65532                   "]
[null,null,null,null,null,null,null,null,null,null,null,null,null,null,null,null,null,null,null,null,null,null,null,null,null,null,null,null,null,null,null,null,null,null,null,null,null,null,null,null,null,null,null,null,null,null,null,null,"fatty                     "]
[null,null,null,null,null,null,null,null,null,null,null,null,null,null,null,null,null,null,null,null,null,null,null,null,null,null,null,null,null,null,null,null,null,null,null,null,null,null,null,null,null,null,null,null,null,null,null,null,"[fS]Jan                   "]
[null,null,null,null,null,null,null,null,null,null,null,null,null,null,null,null,null,null,null,null,null,null,null,null,null,null,null,null,null,null,null,null,null,null,null,null,null,null,null,null,null,null,null,null,null,null,null,null,"pozdro600                 "]
[null,null,null,null,null,null,null,null,null,null,null,null,null,null,null,null,null,null,null,null,null,null,null,null,null,null,null,null,null,null,null,null,null,null,null,null,null,null,null,null,null,null,null,null,null,null,null,null,"chill                     "]
[null,null,null,null,null,null,null,null,null,null,null,null,null,null,null,null,null,null,null,null,null,null,null,null,null,null,null,null,null,null,null,null,null,null,null,null,null,null,null,null,null,null,null,null,null,null,null,null,"Qpa                       "]
[null,null,null,null,null,null,null,null,null,null,null,null,null,null,null,null,null,null,null,null,null,null,null,null,null,null,null,null,null,null,null,null,null,null,null,null,null,null,null,null,null,null,null,null,null,null,null,null,"Gol_v8                    "]
[null,null,null,null,null,null,null,null,null,null,null,null,null,null,null,null,null,null,null,null,null,null,null,null,null,null,null,null,null,null,null,null,null,null,null,null,null,null,null,null,null,null,null,null,null,null,null,null,"Rub                       "]
[null,null,null,null,null,null,null,null,null,null,null,null,null,null,null,null,null,null,null,null,null,null,null,null,null,null,null,null,null,null,null,null,null,null,null,null,null,null,null,null,null,null,null,null,null,null,null,null,"Augusto                   "]
[null,null,null,null,null,null,null,null,null,null,null,null,null,null,null,null,null,null,null,null,null,null,null,null,null,null,null,null,null,null,null,null,null,null,null,null,null,null,null,null,null,null,null,null,null,null,null,null,"Chukie                    "]
[null,null,null,null,null,null,null,null,null,null,null,null,null,null,null,null,null,null,null,null,null,null,null,null,null,null,null,null,null,null,null,null,null,null,null,null,null,null,null,null,null,null,null,null,null,null,null,null,"[FUN] GR8 Arjen!          "]
[null,null,null,null,null,null,null,null,null,null,null,null,null,null,null,null,null,null,null,null,null,null,null,null,null,null,null,null,null,null,null,null,null,null,null,null,null,null,null,null,null,null,null,null,null,null,null,null,"\\/\\/ | |_ |_              "]
[null,null,null,null,null,null,null,null,null,null,null,null,null,null,null,null,null,null,null,null,null,null,null,null,null,null,null,null,null,null,null,null,null,null,null,null,null,null,null,null,null,null,null,null,null,null,null,null,"Matti                     "]
[null,null,null,null,null,null,null,null,null,null,null,null,null,null,null,null,null,null,null,null,null,null,null,null,null,null,null,null,null,null,null,null,null,null,null,null,null,null,null,null,null,null,null,null,null,null,null,null,"messi                     "]
[null,null,null,null,null,null,null,null,null,null,null,null,null,null,null,null,null,null,null,null,null,null,null,null,null,null,null,null,null,null,null,null,null,null,null,null,null,null,null,null,null,null,null,null,null,null,null,null,"REIROM                    "]
[null,null,null,null,null,null,null,null,null,null,null,null,null,null,null,null,null,null,null,null,null,null,null,null,null,null,null,null,null,null,null,null,null,null,null,null,null,null,null,null,null,null,null,null,null,null,null,null,"[+] Badeend               "]
[null,null,null,null,null,null,null,null,null,null,null,null,null,null,null,null,null,null,null,null,null,null,null,null,null,null,null,null,null,null,null,null,null,null,null,null,null,null,null,null,null,null,null,null,null,null,null,null,"[PahaJori] Ender          "]
[null,null,null,null,null,null,null,null,null,null,null,null,null,null,null,null,null,null,null,null,null,null,null,null,null,null,null,null,null,null,null,null,null,null,null,null,null,null,null,null,null,null,null,null,null,null,null,null,"Ku Dern [Ri]              "]
[null,null,null,null,null,null,null,null,null,null,null,null,null,null,null,null,null,null,null,null,null,null,null,null,null,null,null,null,null,null,null,null,null,null,null,null,null,null,null,null,null,null,null,null,null,null,null,null,"Sig                       "]
[null,null,null,null,null,null,null,null,null,null,null,null,null,null,null,null,null,null,null,null,null,null,null,null,null,null,null,null,null,null,null,null,null,null,null,null,null,null,null,null,null,null,null,null,null,null,null,null,"Double O Seven            "]
[null,null,null,null,null,null,null,null,null,null,null,null,null,null,null,null,null,null,null,null,null,null,null,null,null,null,null,null,null,null,null,null,null,null,null,null,null,null,null,null,null,null,null,null,null,null,null,null,"Matic                     "]
[null,null,null,null,null,null,null,null,null,null,null,null,null,null,null,null,null,null,null,null,null,null,null,null,null,null,null,null,null,null,null,null,null,null,null,null,null,null,null,null,null,null,null,null,null,null,null,null,"Alukin                    "]
[null,null,null,null,null,null,null,null,null,null,null,null,null,null,null,null,null,null,null,null,null,null,null,null,null,null,null,null,null,null,null,null,null,null,null,null,null,null,null,null,null,null,null,null,null,null,null,null,"lds                       "]
[null,null,null,null,null,null,null,null,null,null,null,null,null,null,null,null,null,null,null,null,null,null,null,null,null,null,null,null,null,null,null,null,null,null,null,null,null,null,null,null,null,null,null,null,null,null,null,null,"Ninjinha_br               "]
[null,null,null,null,null,null,null,null,null,null,null,null,null,null,null,null,null,null,null,null,null,null,null,null,null,null,null,null,null,null,null,null,null,null,null,null,null,null,null,null,null,null,null,null,null,null,null,null,"[$pectre]Jaw$             "]
[null,null,null,null,null,null,null,null,null,null,null,null,null,null,null,null,null,null,null,null,null,null,null,null,null,null,null,null,null,null,null,null,null,null,null,null,null,null,null,null,null,null,null,null,null,null,null,null,"stoner                    "]
[null,null,null,null,null,null,null,null,null,null,null,null,null,null,null,null,null,null,null,null,null,null,null,null,null,null,null,null,null,null,null,null,null,null,null,null,null,null,null,null,null,null,null,null,null,null,null,null,"kikiriki                  "]
[null,null,null,null,null,null,null,null,null,null,null,null,null,null,null,null,null,null,null,null,null,null,null,null,null,null,null,null,null,null,null,null,null,null,null,null,null,null,null,null,null,null,null,null,null,null,null,null,"Qri                       "]
[null,null,null,null,null,null,null,null,null,null,null,null,null,null,null,null,null,null,null,null,null,null,null,null,null,null,null,null,null,null,null,null,null,null,null,null,null,null,null,null,null,null,null,null,null,null,null,null,"power79                   "]
[null,null,null,null,null,null,null,null,null,null,null,null,null,null,null,null,null,null,null,null,null,null,null,null,null,null,null,null,null,null,null,null,null,null,null,null,null,null,null,null,null,null,null,null,null,null,null,null,"batjunior                 "]
[null,null,null,null,null,null,null,null,null,null,null,null,null,null,null,null,null,null,null,null,null,null,null,null,null,null,null,null,null,null,null,null,null,null,null,null,null,null,null,null,null,null,null,null,null,null,null,null,"Serif  v2.5.3W            "]
[null,null,null,null,null,null,null,null,null,null,null,null,null,null,null,null,null,null,null,null,null,null,null,null,null,null,null,null,null,null,null,null,null,null,null,null,null,null,null,null,null,null,null,null,null,null,null,null,"Magnat                    "]
[null,null,null,null,null,null,null,null,null,null,null,null,null,null,null,null,null,null,null,null,null,null,null,null,null,null,null,null,null,null,null,null,null,null,null,null,null,null,null,null,null,null,null,null,null,null,null,null,"RiantHoff                 "]
[null,null,null,null,null,null,null,null,null,null,null,null,null,null,null,null,null,null,null,null,null,null,null,null,null,null,null,null,null,null,null,null,null,null,null,null,null,null,null,null,null,null,null,null,null,null,null,null,"Popowitch                 "]
[null,null,null,null,null,null,null,null,null,null,null,null,null,null,null,null,null,null,null,null,null,null,null,null,null,null,null,null,null,null,null,null,null,null,null,null,null,null,null,null,null,null,null,null,null,null,null,null,"straits                   "]
[null,null,null,null,null,null,null,null,null,null,null,null,null,null,null,null,null,null,null,null,null,null,null,null,null,null,null,null,null,null,null,null,null,null,null,null,null,null,null,null,null,null,null,null,null,null,null,null,"[ITA]_AIR_GIGI            "]
[null,null,null,null,null,null,null,null,null,null,null,null,null,null,null,null,null,null,null,null,null,null,null,null,null,null,null,null,null,null,null,null,null,null,null,null,null,null,null,null,null,null,null,null,null,null,null,null,"BrunoA                    "]
[null,null,null,null,null,null,null,null,null,null,null,null,null,null,null,null,null,null,null,null,null,null,null,null,null,null,null,null,null,null,null,null,null,null,null,null,null,null,null,null,null,null,null,null,null,null,null,null,"CrazybikE                 "]
[null,null,null,null,null,null,null,null,null,null,null,null,null,null,null,null,null,null,null,null,null,null,null,null,null,null,null,null,null,null,null,null,null,null,null,null,null,null,null,null,null,null,null,null,null,null,null,null,"koripallo tits            "]
[null,null,null,null,null,null,null,null,null,null,null,null,null,null,null,null,null,null,null,null,null,null,null,null,null,null,null,null,null,null,null,null,null,null,null,null,null,null,null,null,null,null,null,null,null,null,null,null,"bohun                     "]
[null,null,null,null,null,null,null,null,null,null,null,null,null,null,null,null,null,null,null,null,null,null,null,null,null,null,null,null,null,null,null,null,null,null,null,null,null,null,null,null,null,null,null,null,null,null,null,null,"Rendy                     "]
[null,null,null,null,null,null,null,null,null,null,null,null,null,null,null,null,null,null,null,null,null,null,null,null,null,null,null,null,null,null,null,null,null,null,null,null,null,null,null,null,null,null,null,null,null,null,null,null,"Hazard                    "]
[null,null,null,null,null,null,null,null,null,null,null,null,null,null,null,null,null,null,null,null,null,null,null,null,null,null,null,null,null,null,null,null,null,null,null,null,null,null,null,null,null,null,null,null,null,null,null,null,"Frank05                   "]
[null,null,null,null,null,null,null,null,null,null,null,null,null,null,null,null,null,null,null,null,null,null,null,null,null,null,null,null,null,null,null,null,null,null,null,null,null,null,null,null,null,null,null,null,null,null,null,null,"[5] Burnout               "]
[null,null,null,null,null,null,null,null,null,null,null,null,null,null,null,null,null,null,null,null,null,null,null,null,null,null,null,null,null,null,null,null,null,null,null,null,null,null,null,null,null,null,null,null,null,null,null,null,"[LWD] JamsleJ             "]
[null,null,null,null,null,null,null,null,null,null,null,null,null,null,null,null,null,null,null,null,null,null,null,null,null,null,null,null,null,null,null,null,null,null,null,null,null,null,null,null,null,null,null,null,null,null,null,null,"CrazybikE                 "]
[null,null,null,null,null,null,null,null,null,null,null,null,null,null,null,null,null,null,null,null,null,null,null,null,null,null,null,null,null,null,null,null,null,null,null,null,null,null,null,null,null,null,null,null,null,null,null,null,"laf                       "]
[null,null,null,null,null,null,null,null,null,null,null,null,null,null,null,null,null,null,null,null,null,null,null,null,null,null,null,null,null,null,null,null,null,null,null,null,null,null,null,null,null,null,null,null,null,null,null,null,"Thunda                    "]
[null,null,null,null,null,null,null,null,null,null,null,null,null,null,null,null,null,null,null,null,null,null,null,null,null,null,null,null,null,null,null,null,null,null,null,null,null,null,null,null,null,null,null,null,null,null,null,null,"Broomstig                 "]
[null,null,null,null,null,null,null,null,null,null,null,null,null,null,null,null,null,null,null,null,null,null,null,null,null,null,null,null,null,null,null,null,null,null,null,null,null,null,null,null,null,null,null,null,null,null,null,null,"[+] Tinjovic              "]
[null,null,null,null,null,null,null,null,null,null,null,null,null,null,null,null,null,null,null,null,null,null,null,null,null,null,null,null,null,null,null,null,null,null,null,null,null,null,null,null,null,null,null,null,null,null,null,null,"[x] Mike Nike             "]
[null,null,null,null,null,null,null,null,null,null,null,null,null,null,null,null,null,null,null,null,null,null,null,null,null,null,null,null,null,null,null,null,null,null,null,null,null,null,null,null,null,null,null,null,null,null,null,null,"[x] Stylus                "]
[null,null,null,null,null,null,null,null,null,null,null,null,null,null,null,null,null,null,null,null,null,null,null,null,null,null,null,null,null,null,null,null,null,null,null,null,null,null,null,null,null,null,null,null,null,null,null,null,"Matti                     "]
[null,null,null,null,null,null,null,null,null,null,null,null,null,null,null,null,null,null,null,null,null,null,null,null,null,null,null,null,null,null,null,null,null,null,null,null,null,null,null,null,null,null,null,null,null,null,null,null,"Jurgen-NL                 "]
[null,null,null,null,null,null,null,null,null,null,null,null,null,null,null,null,null,null,null,null,null,null,null,null,null,null,null,null,null,null,null,null,null,null,null,null,null,null,null,null,null,null,null,null,null,null,null,null,"[+] xzeal                 "]
[null,null,null,null,null,null,null,null,null,null,null,null,null,null,null,null,null,null,null,null,null,null,null,null,null,null,null,null,null,null,null,null,null,null,null,null,null,null,null,null,null,null,null,null,null,null,null,null,"[iR] iBlaze²              "]
[null,null,null,null,null,null,null,null,null,null,null,null,null,null,null,null,null,null,null,null,null,null,null,null,null,null,null,null,null,null,null,null,null,null,null,null,null,null,null,null,null,null,null,null,null,null,null,null,"AnnicK                    "]
[null,null,null,null,null,null,null,null,null,null,null,null,null,null,null,null,null,null,null,null,null,null,null,null,null,null,null,null,null,null,null,null,null,null,null,null,null,null,null,null,null,null,null,null,null,null,null,null,"[+] dede                  "]
[null,null,null,null,null,null,null,null,null,null,null,null,null,null,null,null,null,null,null,null,null,null,null,null,null,null,null,null,null,null,null,null,null,null,null,null,null,null,null,null,null,null,null,null,null,null,null,null,"GOl V8                    "]
[null,null,null,null,null,null,null,null,null,null,null,null,null,null,null,null,null,null,null,null,null,null,null,null,null,null,null,null,null,null,null,null,null,null,null,null,null,null,null,null,null,null,null,null,null,null,null,null,"messi                     "]
[null,null,null,null,null,null,null,null,null,null,null,null,null,null,null,null,null,null,null,null,null,null,null,null,null,null,null,null,null,null,null,null,null,null,null,null,null,null,null,null,null,null,null,null,null,null,null,null,"[fS]Palo                  "]
[null,null,null,null,null,null,null,null,null,null,null,null,null,null,null,null,null,null,null,null,null,null,null,null,null,null,null,null,null,null,null,null,null,null,null,null,null,null,null,null,null,null,null,null,null,null,null,null,"majstorfantac             "]
[null,null,null,null,null,null,null,null,null,null,null,null,null,null,null,null,null,null,null,null,null,null,null,null,null,null,null,null,null,null,null,null,null,null,null,null,null,null,null,null,null,null,null,null,null,null,null,null,"pozdro600                 "]
[null,null,null,null,null,null,null,null,null,null,null,null,null,null,null,null,null,null,null,null,null,null,null,null,null,null,null,null,null,null,null,null,null,null,null,null,null,null,null,null,null,null,null,null,null,null,null,null,"Shaytun                   "]
[null,null,null,null,null,null,null,null,null,null,null,null,null,null,null,null,null,null,null,null,null,null,null,null,null,null,null,null,null,null,null,null,null,null,null,null,null,null,null,null,null,null,null,null,null,null,null,null,"majstorfantac             "]
[null,null,null,null,null,null,null,null,null,null,null,null,null,null,null,null,null,null,null,null,null,null,null,null,null,null,null,null,null,null,null,null,null,null,null,null,null,null,null,null,null,null,null,null,null,null,null,null,"Qpa                       "]
[null,null,null,null,null,null,null,null,null,null,null,null,null,null,null,null,null,null,null,null,null,null,null,null,null,null,null,null,null,null,null,null,null,null,null,null,null,null,null,null,null,null,null,null,null,null,null,null,"[PahaJori] Ender          "]
[null,null,null,null,null,null,null,null,null,null,null,null,null,null,null,null,null,null,null,null,null,null,null,null,null,null,null,null,null,null,null,null,null,null,null,null,null,null,null,null,null,null,null,null,null,null,null,null,"JJ Nylander               "]
[null,null,null,null,null,null,null,null,null,null,null,null,null,null,null,null,null,null,null,null,null,null,null,null,null,null,null,null,null,null,null,null,null,null,null,null,null,null,null,null,null,null,null,null,null,null,null,null,"Kyna_Musti                "]
[null,null,null,null,null,null,null,null,null,null,null,null,null,null,null,null,null,null,null,null,null,null,null,null,null,null,null,null,null,null,null,null,null,null,null,null,null,null,null,null,null,null,null,null,null,null,null,null,"\\/\\/ | |_ |_              "]
[null,null,null,null,null,null,null,null,null,null,null,null,null,null,null,null,null,null,null,null,null,null,null,null,null,null,null,null,null,null,null,null,null,null,null,null,null,null,null,null,null,null,null,null,null,null,null,null,"Sig                       "]
[null,null,null,null,null,null,null,null,null,null,null,null,null,null,null,null,null,null,null,null,null,null,null,null,null,null,null,null,null,null,null,null,null,null,null,null,null,null,null,null,null,null,null,null,null,null,null,null,"majstorfantac             "]
[null,null,null,null,null,null,null,null,null,null,null,null,null,null,null,null,null,null,null,null,null,null,null,null,null,null,null,null,null,null,null,null,null,null,null,null,null,null,null,null,null,null,null,null,null,null,null,null,"Gol_v8                    "]
[null,null,null,null,null,null,null,null,null,null,null,null,null,null,null,null,null,null,null,null,null,null,null,null,null,null,null,null,null,null,null,null,null,null,null,null,null,null,null,null,null,null,null,null,null,null,null,null,"Augusto                   "]
[null,null,null,null,null,null,null,null,null,null,null,null,null,null,null,null,null,null,null,null,null,null,null,null,null,null,null,null,null,null,null,null,null,null,null,null,null,null,null,null,null,null,null,null,null,null,null,null,"majstorfantac             "]
[null,null,null,null,null,null,null,null,null,null,null,null,null,null,null,null,null,null,null,null,null,null,null,null,null,null,null,null,null,null,null,null,null,null,null,null,null,null,null,null,null,null,null,null,null,null,null,null,"Fa la la la la            "]
[null,null,null,null,null,null,null,null,null,null,null,null,null,null,null,null,null,null,null,null,null,null,null,null,null,null,null,null,null,null,null,null,null,null,null,null,null,null,null,null,null,null,null,null,null,null,null,null,"Nico Hulkenberg           "]
[null,null,null,null,null,null,null,null,null,null,null,null,null,null,null,null,null,null,null,null,null,null,null,null,null,null,null,null,null,null,null,null,null,null,null,null,null,null,null,null,null,null,null,null,null,null,null,null,"Bleached Anus             "]
[null,null,null,null,null,null,null,null,null,null,null,null,null,null,null,null,null,null,null,null,null,null,null,null,null,null,null,null,null,null,null,null,null,null,null,null,null,null,null,null,null,null,null,null,null,null,null,null,"JJ Nylander               "]
[null,null,null,null,null,null,null,null,null,null,null,null,null,null,null,null,null,null,null,null,null,null,null,null,null,null,null,null,null,null,null,null,null,null,null,null,null,null,null,null,null,null,null,null,null,null,null,null,"[+] Badeend               "]
[null,null,null,null,null,null,null,null,null,null,null,null,null,null,null,null,null,null,null,null,null,null,null,null,null,null,null,null,null,null,null,null,null,null,null,null,null,null,null,null,null,null,null,null,null,null,null,null,"batjunior                 "]
[null,null,null,null,null,null,null,null,null,null,null,null,null,null,null,null,null,null,null,null,null,null,null,null,null,null,null,null,null,null,null,null,null,null,null,null,null,null,null,null,null,null,null,null,null,null,null,null,"[+] olio                  "]
[null,null,null,null,null,null,null,null,null,null,null,null,null,null,null,null,null,null,null,null,null,null,null,null,null,null,null,null,null,null,null,null,null,null,null,null,null,null,null,null,null,null,null,null,null,null,null,null,"[x] Whiplash              "]
[null,null,null,null,null,null,null,null,null,null,null,null,null,null,null,null,null,null,null,null,null,null,null,null,null,null,null,null,null,null,null,null,null,null,null,null,null,null,null,null,null,null,null,null,null,null,null,null,"Jaka                      "]
[null,null,null,null,null,null,null,null,null,null,null,null,null,null,null,null,null,null,null,null,null,null,null,null,null,null,null,null,null,null,null,null,null,null,null,null,null,null,null,null,null,null,null,null,null,null,null,null,"Double O Seven            "]
[null,null,null,null,null,null,null,null,null,null,null,null,null,null,null,null,null,null,null,null,null,null,null,null,null,null,null,null,null,null,null,null,null,null,null,null,null,null,null,null,null,null,null,null,null,null,null,null,"Gol_V8 ( 17 )             "]
[null,null,null,null,null,null,null,null,null,null,null,null,null,null,null,null,null,null,null,null,null,null,null,null,null,null,null,null,null,null,null,null,null,null,null,null,null,null,null,null,null,null,null,null,null,null,null,null,"laf                       "]
[null,null,null,null,null,null,null,null,null,null,null,null,null,null,null,null,null,null,null,null,null,null,null,null,null,null,null,null,null,null,null,null,null,null,null,null,null,null,null,null,null,null,null,null,null,null,null,null,"lds                       "]
[null,null,null,null,null,null,null,null,null,null,null,null,null,null,null,null,null,null,null,null,null,null,null,null,null,null,null,null,null,null,null,null,null,null,null,null,null,null,null,null,null,null,null,null,null,null,null,null,"ROMREI                    "]
[null,null,null,null,null,null,null,null,null,null,null,null,null,null,null,null,null,null,null,null,null,null,null,null,null,null,null,null,null,null,null,null,null,null,null,null,null,null,null,null,null,null,null,null,null,null,null,null,"KLE621                    "]
[null,null,null,null,null,null,null,null,null,null,null,null,null,null,null,null,null,null,null,null,null,null,null,null,null,null,null,null,null,null,null,null,null,null,null,null,null,null,null,null,null,null,null,null,null,null,null,null,"power79                   "]
[null,null,null,null,null,null,null,null,null,null,null,null,null,null,null,null,null,null,null,null,null,null,null,null,null,null,null,null,null,null,null,null,null,null,null,null,null,null,null,null,null,null,null,null,null,null,null,null,"[FUN] GR8 Arjen!          "]
[null,null,null,null,null,null,null,null,null,null,null,null,null,null,null,null,null,null,null,null,null,null,null,null,null,null,null,null,null,null,null,null,null,null,null,null,null,null,null,null,null,null,null,null,null,null,null,null,"RiantHoff                 "]
[null,null,null,null,null,null,null,null,null,null,null,null,null,null,null,null,null,null,null,null,null,null,null,null,null,null,null,null,null,null,null,null,null,null,null,null,null,null,null,null,null,null,null,null,null,null,null,null,"put                       "]
[null,null,null,null,null,null,null,null,null,null,null,null,null,null,null,null,null,null,null,null,null,null,null,null,null,null,null,null,null,null,null,null,null,null,null,null,null,null,null,null,null,null,null,null,null,null,null,null,"Qri                       "]
[null,null,null,null,null,null,null,null,null,null,null,null,null,null,null,null,null,null,null,null,null,null,null,null,null,null,null,null,null,null,null,null,null,null,null,null,null,null,null,null,null,null,null,null,null,null,null,null,"Ninjinha_br               "]
[null,null,null,null,null,null,null,null,null,null,null,null,null,null,null,null,null,null,null,null,null,null,null,null,null,null,null,null,null,null,null,null,null,null,null,null,null,null,null,null,null,null,null,null,null,null,null,null,"DEAD FISH                 "]
[null,null,null,null,null,null,null,null,null,null,null,null,null,null,null,null,null,null,null,null,null,null,null,null,null,null,null,null,null,null,null,null,null,null,null,null,null,null,null,null,null,null,null,null,null,null,null,null,"FliZeR                    "]
[null,null,null,null,null,null,null,null,null,null,null,null,null,null,null,null,null,null,null,null,null,null,null,null,null,null,null,null,null,null,null,null,null,null,null,null,null,null,null,null,null,null,null,null,null,null,null,null,"Xenor                     "]
[null,null,null,null,null,null,null,null,null,null,null,null,null,null,null,null,null,null,null,null,null,null,null,null,null,null,null,null,null,null,null,null,null,null,null,null,null,null,null,null,null,null,null,null,null,null,null,null,"FliZeR                    "]
[null,null,null,null,null,null,null,null,null,null,null,null,null,null,null,null,null,null,null,null,null,null,null,null,null,null,null,null,null,null,null,null,null,null,null,null,null,null,null,null,null,null,null,null,null,null,null,null,"kikiriki                  "]
[null,null,null,null,null,null,null,null,null,null,null,null,null,null,null,null,null,null,null,null,null,null,null,null,null,null,null,null,null,null,null,null,null,null,null,null,null,null,null,null,null,null,null,null,null,null,null,null,"Kooler                    "]
[null,null,null,null,null,null,null,null,null,null,null,null,null,null,null,null,null,null,null,null,null,null,null,null,null,null,null,null,null,null,null,null,null,null,null,null,null,null,null,null,null,null,null,null,null,null,null,null,"[iR] Etmil                "]
[null,null,null,null,null,null,null,null,null,null,null,null,null,null,null,null,null,null,null,null,null,null,null,null,null,null,null,null,null,null,null,null,null,null,null,null,null,null,null,null,null,null,null,null,null,null,null,null,"I-IenR!Kubica             "]

{"sheet":"all_easy_public","index":9,"n_rows":250,"n_cols":49,"rows_kept":250,"cut":false,"hidden":false,"merged":[]}
[]
[]
[]
[]
[null,null,null,"EasySlider"]
[null,null,null,null,null,"Max","Min",null,"Av",null,"Week 1","Week 2","Week 3","Week 4",null,1,2,3,4,null,1,2,3,4,5,6,7,8,9,10,11,12,13,14,15,16,17,18,19,20,null,null,null,null,null,null,null,null,"copy from all weeks under here..values..and then copy to left and filter out duplicates"]
[null,null,{"$f":"ROW()-6","v":1},"[+] Tinjovic              ",null,{"$f":"IF($I7=\"\",0,MAX($K7:$N7))","v":100},{"$f":"IF($I7=\"\",0,MIN($K7:$N7))","v":100},null,{"$f":"IF(COUNT(K7:N7)=0,0,SUM(K7:N7)/COUNT(K7:N7))","v":100},null,100,100,100,100,null,{"$f":"IFERROR(RANK(K7,K$7:K$999,0),\"\")","v":1},{"$f":"IFERROR(RANK(L7,L$7:L$999,0),\"\")","v":1},{"$f":"IFERROR(RANK(M7,M$7:M$999,0),\"\")","v":1},{"$f":"IFERROR(RANK(N7,N$7:N$999,0),\"\")","v":1},null,{"$f":"IF(SUMIF($P7:$S7,U$6)/U$6=0,\"\",SUMIF($P7:$S7,U$6)/U$6)","v":4},"","","","","","","","","",{"$f":"IF(SUMIF($P7:$S7,AE$6)/AE$6=0,\"\",SUMIF($P7:$S7,AE$6)/AE$6)","v":""},"","","","","","","","","",null,null,null,null,null,null,null,"[+] Tinjovic              ","[+] Tinjovic              "]
[null,null,2,"[x] Mike Nike             ",null,99.837692975502947,99.535520109458815,null,99.721587243004194,null,99.777916796997189,99.735219090057811,99.837692975502947,99.535520109458815,null,2,2,2,3,null,"",3,1,"","","","","","","","","","","","","","","","","",null,null,null,null,null,null,null,"[x] Mike Nike             ","[x] Mike Nike             "]
[null,null,3,"[+] dede                  ",null,99.78756346091528,99.78756346091528,null,99.78756346091528,null,"","","",99.78756346091528,null,"","","",2,null,"",1,"","","","","","","","","","","","","","","","","","",null,null,null,null,null,null,null,"[fS]Palo                  ","[fS]Palo                  "]
[null,null,4,"[x] Stylus                ",null,99.282829426641001,20.801446607898228,null,72.916148757273348,null,"",20.801446607898228,99.282829426641001,98.664170237280814,null,"",30,3,5,null,"","",1,"",1,"","","","","","","","","","","","","","","",null,null,null,null,null,null,null,"[x] Whiplash              ","[x] Whiplash              "]
[null,null,5,"[fS]Palo                  ",null,99.177353769158586,98.605056669572804,null,98.939657938008963,null,99.177353769158586,98.605056669572804,99.135620730004135,98.840600583300329,null,3,3,4,4,null,"","",2,2,"","","","","","","","","","","","","","","","",null,null,null,null,null,null,null,"[fS]Hevonen               ","[fS]Hevonen               "]
[null,null,6,"Janneosaursrex            ",null,98.986549890522369,98.986549890522369,null,98.986549890522369,null,98.986549890522369,"","","",null,4,"","","",null,"","","",1,"","","","","","","","","","","","","","","","",null,null,null,null,null,null,null,"Kyna_Musti                ","Kyna_Musti                "]
[null,null,7,"[+] xzeal                 ",null,98.97331370550711,96.493267461009395,null,97.421876867673191,null,"",96.493267461009395,98.97331370550711,96.799049436503083,null,"",9,5,10,null,"","","","",1,"","","",1,1,"","","","","","","","","","",null,null,null,null,null,null,null,"[+] Iziwýn                ","[+] Iziwýn                "]
[null,null,8,"Matti                     ",null,98.653368379361254,98.653368379361254,null,98.653368379361254,null,"","","",98.653368379361254,null,"","","",6,null,"","","","","",1,"","","","","","","","","","","","","","",null,null,null,null,null,null,null,"mc65532                   ","mc65532                   "]
[null,null,9,"[x] Whiplash              ",null,98.61472841882761,97.387710290936099,null,98.109664952050309,null,98.326556146387233,97.387710290936099,98.61472841882761,"",null,5,7,6,"",null,"","","","",1,1,1,"","","","","","","","","","","","","",null,null,null,null,null,null,null,"[+] Badeend               ","[+] Badeend               "]
[null,null,10,"[fS]Hevonen               ",null,98.539236779526661,97.488270253362515,null,98.013753516444581,null,97.488270253362515,"",98.539236779526661,"",null,6,"",7,"",null,"","","","","",1,1,"","","","","","","","","","","","","",null,null,null,null,null,null,null,"Poisonous                 ","Poisonous                 "]
[null,null,11,"Kyna_Musti                ",null,98.441097648435431,97.150453550203309,null,97.725410884762638,null,97.150453550203309,97.584681455649203,98.441097648435431,"",null,7,6,8,"",null,{"$f":"IF(SUMIF($P17:$S17,U$6)/U$6=0,\"\",SUMIF($P17:$S17,U$6)/U$6)","v":""},"","","","",1,1,1,"","",{"$f":"IF(SUMIF($P17:$S17,AE$6)/AE$6=0,\"\",SUMIF($P17:$S17,AE$6)/AE$6)","v":""},"","","","","","","","","",null,null,null,null,null,null,null,"Chukie                    ","Chukie                    "]
[null,null,12,"Jurgen-NL                 ",null,98.267466878043251,96.212073819205514,null,97.060225049940229,null,96.212073819205514,96.829087151667792,98.267466878043251,96.932272350844343,null,10,8,9,8,null,"","","","","","","",2,1,1,"","","","","","","","","","",null,null,null,null,null,null,null,"Jurgen-NL                 ","Jurgen-NL                 "]
[null,null,13,"Ku Dern [Ri]              ",null,98.116483599441352,98.116483599441352,null,98.116483599441352,null,"","",98.116483599441352,"",null,"","",10,"",null,"","","","","","","","","",1,"","","","","","","","","","",null,null,null,null,null,null,null,"KyNa                      ","KyNa                      "]
[null,null,14,"Sig                       ",null,98.101327133585201,98.101327133585201,null,98.101327133585201,null,"",98.101327133585201,"","",null,"",4,"","",null,"","","",1,"","","","","","","","","","","","","","","","",null,null,null,null,null,null,null,"fatty                     ","Kyna_Musti                "]
[null,null,15,"[iR] iBlaze²              ",null,97.822066206167662,96.441602893215801,null,96.941692553885389,null,"",96.441602893215801,97.822066206167662,96.561408562272703,null,"",10,11,11,null,"","","","","","","","","",1,2,"","","","","","","","","",null,null,null,null,null,null,null,"AnnicK                    ","fatty                     "]
[null,null,16,"kikiriki                  ",null,97.662178307339602,97.662178307339602,null,97.662178307339602,null,"",97.662178307339602,"","",null,"",5,"","",null,"","","","",1,"","","","","","","","","","","","","","","",null,null,null,null,null,null,null,"[FN] Pornfest             ","AnnicK                    "]
[null,null,17,"[+] Badeend               ",null,97.523874230928911,96.247860763989806,null,96.877096942837568,null,96.859555833594001,96.247860763989806,97.523874230928911,"",null,8,12,12,"",null,"","","","","","","",1,"","","",2,"","","","","","","","",null,null,null,null,null,null,null,"Double O Seven            ","[FN] Pornfest             "]
[null,null,18,"[FUN] GR8 Arjen!          ",null,97.4030876080474,97.4030876080474,null,97.4030876080474,null,"","",97.4030876080474,"",null,"","",13,"",null,"","","","","","","","","","","","",1,"","","","","","","",null,null,null,null,null,null,null,"chill                     ","Double O Seven            "]
[null,null,19,"Qpa                       ",null,97.227523133979048,96.029139772770151,null,96.628331453374599,null,"","",96.029139772770151,97.227523133979048,null,"","",22,7,null,"","","","","","",1,"","","","","","","","","","","","","",null,null,null,null,null,null,null,"Guillo                    ","chill                     "]
[null,null,20,"[PahaJori] Ender          ",null,97.127543124598944,96.817052533035678,null,96.972297828817318,null,"","",97.127543124598944,96.817052533035678,null,"","",14,9,null,"","","","","","","","",1,"","","","",1,"","","","","","",null,null,null,null,null,null,null,"Ande                      ","Guillo                    "]
[null,null,21,"Chukie                    ",null,97.116219378703803,96.061933062245856,null,96.589076220474823,null,96.061933062245856,"",97.116219378703803,"",null,11,"",15,"",null,{"$f":"IF(SUMIF($P27:$S27,U$6)/U$6=0,\"\",SUMIF($P27:$S27,U$6)/U$6)","v":""},"","","","","","","","","",{"$f":"IF(SUMIF($P27:$S27,AE$6)/AE$6=0,\"\",SUMIF($P27:$S27,AE$6)/AE$6)","v":1},"","","",1,"","","","","",null,null,null,null,null,null,null,"Scud                      ","Ande                      "]
[null,null,22,"koripallo tits            ",null,96.734986600234009,96.734986600234009,null,96.734986600234009,null,"","",96.734986600234009,"",null,"","",16,"",null,"","","","","","","","","","","","","","","",1,"","","","",null,null,null,null,null,null,null,"Diego Armando             ","Scud                      "]
[null,null,23,"majstorfantac             ",null,96.550606704353143,96.550606704353143,null,96.550606704353143,null,"","","",96.550606704353143,null,"","","",12,null,"","","","","","","","","","","",1,"","","","","","","","",null,null,null,null,null,null,null,"lds                       ","Diego Armando             "]
[null,null,24,"[fS]Jan                   ",null,96.519835428226315,96.519835428226315,null,96.519835428226315,null,"","",96.519835428226315,"",null,"","",17,"",null,"","","","","","","","","","","","","","","","",1,"","","",null,null,null,null,null,null,null,"[PahaJori] Ender          ","lds                       "]
[null,null,25,"chill                     ",null,96.504737100366128,96.504737100366128,null,96.504737100366128,null,"","",96.504737100366128,"",null,"","",18,"",null,"","","","","","","","","","","","","","","","","",1,"","",null,null,null,null,null,null,null,"laf                       ","[PahaJori] Ender          "]
[null,null,26,"mc65532                   ",null,96.409133562715041,93.677548516258199,null,95.28764162002841,null,96.409133562715041,93.677548516258199,95.776242781111989,"",null,9,16,25,"",null,"","","","","","","","",1,"","","","","","",1,"","","","",null,null,null,null,null,null,null,"REIROM                    ","laf                       "]
[null,null,27,"pozdro600                 ",null,96.380175895519557,92.476347315056998,null,94.510402418744135,null,"",92.476347315056998,96.380175895519557,94.674684045655852,null,"",20,19,19,null,"","","","","","","","","","","","","","","","","","",2,1,null,null,null,null,null,null,null,"Janneosaursrex            ","REIROM                    "]
[null,null,28,"AnnicK                    ",null,96.338273757628599,95.897029403993514,null,96.051933829111377,null,"",96.338273757628599,95.897029403993514,95.920498325712032,null,"",11,23,16,null,"","","","","","","","","","",1,"","","","",1,"","","","",null,null,null,null,null,null,null,"R.E.I.R.O.M               ","Janneosaursrex            "]
[null,null,29,"\\/\\/ | |_ |_              ",null,96.308458838183668,95.931300183631592,null,96.119879510907623,null,"","",96.308458838183668,95.931300183631592,null,"","",20,15,null,"","","","","","","","","","","","","","",1,"","","","",1,null,null,null,null,null,null,null,"Testaaja                  ","R.E.I.R.O.M               "]
[null,null,30,"fatty                     ",null,96.153700977616722,90.028738415835193,null,92.826113933986633,null,92.29590240850797,90.028738415835193,96.153700977616722,"",null,17,24,21,"",null,"","","","","","","","","","","","","","","","",1,"","","",null,null,null,null,null,null,null,"[FUN] GR8 Arjen!          ","Testaaja                  "]
[null,null,31,"GOl V8                    ",null,96.039318762827207,96.039318762827207,null,96.039318762827207,null,"","","",96.039318762827207,null,"","","",13,null,{"$f":"IF(SUMIF($P37:$S37,U$6)/U$6=0,\"\",SUMIF($P37:$S37,U$6)/U$6)","v":""},"","","","","","","","","",{"$f":"IF(SUMIF($P37:$S37,AE$6)/AE$6=0,\"\",SUMIF($P37:$S37,AE$6)/AE$6)","v":""},"",1,"","","","","","","",null,null,null,null,null,null,null,"stoner                    ","[FUN] GR8 Arjen!          "]
[null,null,32,"Shaytun                   ",null,95.949303280164187,95.949303280164187,null,95.949303280164187,null,"","","",95.949303280164187,null,"","","",14,null,"","","","","","","","","","","","","",1,"","","","","","",null,null,null,null,null,null,null,"[+] xzeal                 ","stoner                    "]
[null,null,33,"lds                       ",null,{"$f":"IF($I39=\"\",0,MAX($K39:$N39))","v":95.877385048482964},{"$f":"IF($I39=\"\",0,MIN($K39:$N39))","v":92.679776550744307},null,{"$f":"IF(COUNT(K39:N39)=0,0,SUM(K39:N39)/COUNT(K39:N39))","v":93.892032892315299},null,95.877385048482964,92.679776550744307,93.118937077718641,"",null,{"$f":"IFERROR(RANK(K39,K$7:K$999,0),\"\")","v":12},{"$f":"IFERROR(RANK(L39,L$7:L$999,0),\"\")","v":19},{"$f":"IFERROR(RANK(M39,M$7:M$999,0),\"\")","v":32},{"$f":"IFERROR(RANK(N39,N$7:N$999,0),\"\")","v":""},null,"","","","","","","","","","","",1,"","","","","","",1,"",null,null,null,null,null,null,null,"Matic                     ","Chukie                    "]
[null,null,34,"Bleached Anus             ",null,95.826882223742487,95.826882223742487,null,95.826882223742487,null,"","","",95.826882223742487,null,"","","",17,null,"","","","","","","","","","","","","","","","",1,"","","",null,null,null,null,null,null,null,"Serif                     ","[+] xzeal                 "]
[null,null,35,"Double O Seven            ",null,95.817763182727504,91.717234907725981,null,94.186351468277465,null,91.717234907725981,95.02405631437891,95.817763182727504,"",null,18,14,24,"",null,"","","","","","","","","","","","","",1,"","","",1,"","",null,null,null,null,null,null,null,"Augusto                   ","Matic                     "]
[null,null,36,"Ande                      ",null,95.476121282572905,95.476121282572905,null,95.476121282572905,null,"",95.476121282572905,"","",null,"",13,"","",null,"","","","","","","","","","","","",1,"","","","","","","",null,null,null,null,null,null,null,"NBA                       ","Serif                     "]
[null,null,37,"Rub                       ",null,95.466727059978098,92.918725176789707,null,94.192726118383902,null,"",92.918725176789707,95.466727059978098,"",null,"",18,26,"",null,"","","","","","","","","","","","","","","","","",1,"","",null,null,null,null,null,null,null,"Pro08                     ","Augusto                   "]
[null,null,38,"Gol_v8                    ",null,95.093043445438411,95.093043445438411,null,95.093043445438411,null,"","",95.093043445438411,"",null,"","",27,"",null,"","","","","","","","","","","","","","","","","","","","",null,null,null,null,null,null,null,"RiantHoff                 ","NBA                       "]
[null,null,39,"[$pectre]Jaw$             ",null,94.930736420941386,94.930736420941386,null,94.930736420941386,null,"","",94.930736420941386,"",null,"","",28,"",null,"","","","","","","","","","","","","","","","","","","","",null,null,null,null,null,null,null,"CrazybikE                 ","Augusto                   "]
[null,null,40,"Magnat                    ",null,94.900539765220998,94.900539765220998,null,94.900539765220998,null,"","",94.900539765220998,"",null,"","",29,"",null,"","","","","","","","","","","","","","","","","","","","",null,null,null,null,null,null,null,"Sharp                     ","Pro08                     "]
[null,null,41,"Augusto                   ",null,94.859019363605469,94.253411586792922,null,94.556215475199195,null,"","",94.859019363605469,94.253411586792922,null,"","",30,22,null,{"$f":"IF(SUMIF($P47:$S47,U$6)/U$6=0,\"\",SUMIF($P47:$S47,U$6)/U$6)","v":""},"","","","","","","","","",{"$f":"IF(SUMIF($P47:$S47,AE$6)/AE$6=0,\"\",SUMIF($P47:$S47,AE$6)/AE$6)","v":""},"","","","","","","","","",null,null,null,null,null,null,null,"[+] Eddie                 ","lds                       "]
[null,null,42,"messi                     ",null,94.750297051092787,94.466462839240549,null,94.608379945166661,null,"","",94.466462839240549,94.750297051092787,null,"","",31,18,null,"","","","","","","","","","","","","","","","","",1,"","",null,null,null,null,null,null,null,"Fama                      ","RiantHoff                 "]
[null,null,43,"[FN] Pornfest             ",null,94.720050046918985,94.720050046918985,null,94.720050046918985,null,94.720050046918985,"","","",null,13,"","","",null,"","","","","","","","","","","","",1,"","","","","","","",null,null,null,null,null,null,null,"Rubao                     ","CrazybikE                 "]
[null,null,44,"JJ Nylander               ",null,94.671083426349327,94.671083426349327,null,94.671083426349327,null,"","","",94.671083426349327,null,"","","",20,null,"","","","","","","","","","","","","","","","","","","",1,null,null,null,null,null,null,null,"Jim                       ","Sharp                     "]
[null,null,45,"Poisonous                 ",null,94.497966843916174,92.437598889211799,null,93.467782866563994,null,94.497966843916174,92.437598889211799,"","",null,14,22,"","",null,"","","","","","","","","","","","","",1,"","","","","","",null,null,null,null,null,null,null,"#5 Burnout                ","[+] Eddie                 "]
[null,null,46,"Nico Hulkenberg           ",null,94.383033881827686,94.383033881827686,null,94.383033881827686,null,"","","",94.383033881827686,null,"","","",21,null,"","","","","","","","","","","","","","","","","","","","",null,null,null,null,null,null,null,"suzuck                    ","Fama                      "]
[null,null,47,"[+] Iziwýn                ",null,94.150766343446961,94.150766343446961,null,94.150766343446961,null,94.150766343446961,"","","",null,15,"","","",null,"","","","","","","","","","","","","","",1,"","","","","",null,null,null,null,null,null,null,"Brian                     ","Rubao                     "]
[null,null,48,"Scud                      ",null,93.800251864767986,93.800251864767986,null,93.800251864767986,null,"",93.800251864767986,"","",null,"",15,"","",null,"","","","","","","","","","","","","","",1,"","","","","",null,null,null,null,null,null,null,"Reinikainen               ","Jim                       "]
[null,null,49,"Serif  v2.5.3W            ",null,93.199651264167386,93.199651264167386,null,93.199651264167386,null,"",93.199651264167386,"","",null,"",17,"","",null,"","","","","","","","","","","","","","","","",1,"","","",null,null,null,null,null,null,null,"Niksi                     ","#5 Burnout                "]
[null,null,50,"stoner                    ",null,92.91888423357112,74.726339242468285,null,83.822611738019702,null,"",74.726339242468285,92.91888423357112,"",null,"",29,33,"",null,"","","","","","","","","","","","","","","","","","","","",null,null,null,null,null,null,null,"Lavon                     ","suzuck                    "]
[null,null,51,"Rubao                     ",null,92.77760400375351,92.77760400375351,null,92.77760400375351,null,92.77760400375351,"","","",null,16,"","","",null,{"$f":"IF(SUMIF($P57:$S57,U$6)/U$6=0,\"\",SUMIF($P57:$S57,U$6)/U$6)","v":""},"","","","","","","","","",{"$f":"IF(SUMIF($P57:$S57,AE$6)/AE$6=0,\"\",SUMIF($P57:$S57,AE$6)/AE$6)","v":""},"","","","",1,"","","","",null,null,null,null,null,null,null,"Gol_v8                    ","Brian                     "]
[null,null,52,"TD Juquinha               ",null,92.440827924698894,92.440827924698894,null,92.440827924698894,null,"",92.440827924698894,"","",null,"",21,"","",null,"","","","","","","","","","","","","","","","","","","","",null,null,null,null,null,null,null,"BIXOMAU                   ","Reinikainen               "]
[null,null,53,"BrunoA                    ",null,92.186615332351934,92.186615332351934,null,92.186615332351934,null,"","",92.186615332351934,"",null,"","",34,"",null,"","","","","","","","","","","","","","","","","","","","",null,null,null,null,null,null,null,"Reiska                    ","Niksi                     "]
[null,null,54,"Fama                      ",null,91.510865704414101,91.510865704414101,null,91.510865704414101,null,"",91.510865704414101,"","",null,"",23,"","",null,"","","","","","","","","","","","","","","","","","","","",null,null,null,null,null,null,null,"DustyBadSkillz            ","Lavon                     "]
[null,null,55,"REIROM                    ",null,90.193636054806916,83.769158586174541,null,86.981397320490728,null,83.769158586174541,"",90.193636054806916,"",null,25,"",35,"",null,"","","","","","","","","","","","","","","","","","","","",null,null,null,null,null,null,null,"Kiki                      ","Gol_v8                    "]
[null,null,56,"Brian                     ",null,90.13450109477634,90.13450109477634,null,90.13450109477634,null,90.13450109477634,"","","",null,19,"","","",null,"","","","","","","","","","","","","","","","","","",1,"",null,null,null,null,null,null,null,"Rahim                     ","BIXOMAU                   "]
[null,null,57,"Bubba                     ",null,89.867286641480192,89.867286641480192,null,89.867286641480192,null,"",89.867286641480192,"","",null,"",25,"","",null,"","","","","","","","","","","","","","","","","","","","",null,null,null,null,null,null,null,"Iron Man                  ","Reiska                    "]
[null,null,58,"Diego Armando             ",null,89.568345323740999,-223.22645225871025,null,-66.829053467484627,null,89.568345323740999,-223.22645225871025,"","",null,20,31,"","",null,"","","","","","","","","","","","","","","","","","","",1,null,null,null,null,null,null,null,"Sig                       ","DustyBadSkillz            "]
[null,null,59,"FliZeR                    ",null,88.733662189896663,88.733662189896663,null,88.733662189896663,null,"","","",88.733662189896663,null,"","","",23,null,"","","","","","","","","","","","","","","","","","","","",null,null,null,null,null,null,null,"Waenoo                    ","Kiki                      "]
[null,null,60,"R.E.I.R.O.M               ",null,88.28505925280119,86.922114482327174,null,87.603586867564189,null,86.922114482327174,88.28505925280119,"","",null,21,26,"","",null,"","","","","","","","","","","","","","","","","","","","",null,null,null,null,null,null,null,"Jukra                     ","Rahim                     "]
[null,null,61,"NBA                       ",null,87.587587587587592,85.85861745386299,null,86.723102520725291,null,85.85861745386299,87.587587587587592,"","",null,24,27,"","",null,{"$f":"IF(SUMIF($P67:$S67,U$6)/U$6=0,\"\",SUMIF($P67:$S67,U$6)/U$6)","v":""},"","","","","","","","","",{"$f":"IF(SUMIF($P67:$S67,AE$6)/AE$6=0,\"\",SUMIF($P67:$S67,AE$6)/AE$6)","v":""},"","","","","","","","","",null,null,null,null,null,null,null,"JJN                       ","Iron Man                  "]
[null,null,62,"Thunda                    ",null,86.600234024081828,86.600234024081828,null,86.600234024081828,null,"","",86.600234024081828,"",null,"","",36,"",null,"","","","","","","","","","","","","","","","","","","","",null,null,null,null,null,null,null,"Storm                     ","Sig                       "]
[null,null,63,"Rahim                     ",null,85.964967156709406,85.964967156709406,null,85.964967156709406,null,85.964967156709406,"","","",null,22,"","","",null,"","","","","","","","","","","","","","","","","","","","",null,null,null,null,null,null,null,"kikiriki                  ","Waenoo                    "]
[null,null,64,"Niksi                     ",null,85.918048170159523,85.918048170159523,null,85.918048170159523,null,85.918048170159523,"","","",null,23,"","","",null,"","","","","","","","","","","","","","","","","","","","",null,null,null,null,null,null,null,"{l}rard{l}                ","Jukra                     "]
[null,null,65,"[ITA]_AIR_GIGI            ",null,{"$f":"IF($I71=\"\",0,MAX($K71:$N71))","v":84.090137017325333},{"$f":"IF($I71=\"\",0,MIN($K71:$N71))","v":84.090137017325333},null,{"$f":"IF(COUNT(K71:N71)=0,0,SUM(K71:N71)/COUNT(K71:N71))","v":84.090137017325333},null,"","",84.090137017325333,"",null,{"$f":"IFERROR(RANK(K71,K$7:K$999,0),\"\")","v":""},{"$f":"IFERROR(RANK(L71,L$7:L$999,0),\"\")","v":""},{"$f":"IFERROR(RANK(M71,M$7:M$999,0),\"\")","v":37},{"$f":"IFERROR(RANK(N71,N$7:N$999,0),\"\")","v":""},null,"","","","","","","","","","","","","","","","","","","","",null,null,null,null,null,null,null,"shamino                   ","JJN                       "]
[null,null,66,"GoingDillon               ",null,83.183183183183189,83.183183183183189,null,83.183183183183189,null,"",83.183183183183189,"","",null,"",28,"","",null,"","","","","","","","","","","","","","","","","","","","",null,null,null,null,null,null,null,"[iR] iBlaze²              ","Storm                     "]
[null,null,67,"Jim                       ",null,82.830778855176717,82.830778855176717,null,82.830778855176717,null,82.830778855176717,"","","",null,26,"","","",null,"","","","","","","","","","","","","","","","","","","","",null,null,null,null,null,null,null,"[x] Stylus                ","kikiriki                  "]
[null,null,68,"DEAD FISH                 ",null,82.475785835163649,82.475785835163649,null,82.475785835163649,null,"","","",82.475785835163649,null,"","","",24,null,"","","","","","","","","","","","","","","","","","","","",null,null,null,null,null,null,null,"Hazard                    ","{l}rard{l}                "]
[null,null,69,"RiantHoff                 ",null,81.108217264937906,75.420706912730665,null,78.264462088834279,null,75.420706912730665,"",81.108217264937906,"",null,28,"",38,"",null,"","","","","","","","","","","","","","","","","","","","",null,null,null,null,null,null,null,"\\/\\/ | |_ |_              ","shamino                   "]
[null,null,70,"Jukra                     ",null,80.459806068188925,80.459806068188925,null,80.459806068188925,null,80.459806068188925,"","","",null,27,"","","",null,"","","","","","","","","","","","","","","","","","","","",null,null,null,null,null,null,null,"Qpa                       ","[+] Tinjovic              "]
[null,null,71,"Broomstig                 ",null,77.186426603253693,77.186426603253693,null,77.186426603253693,null,"","",77.186426603253693,"",null,"","",39,"",null,{"$f":"IF(SUMIF($P77:$S77,U$6)/U$6=0,\"\",SUMIF($P77:$S77,U$6)/U$6)","v":""},"","","","","","","","","",{"$f":"IF(SUMIF($P77:$S77,AE$6)/AE$6=0,\"\",SUMIF($P77:$S77,AE$6)/AE$6)","v":""},"","","","","","","","","",null,null,null,null,null,null,null,"Serif  v2.5.3W            ","[x] Mike Nike             "]
[null,null,72,"[iR] Etmil                ",null,62.733590177510543,62.733590177510543,null,62.733590177510543,null,"","","",62.733590177510543,null,"","","",25,null,"","","","","","","","","","","","","","","","","","","","",null,null,null,null,null,null,null,"Hengari                   ","Kyna_Musti                "]
[null,null,73,"I-IenR!Kubica             ",null,46.68562992834768,46.68562992834768,null,46.68562992834768,null,"","","",46.68562992834768,null,"","","",26,null,"","","","","","","","","","","","","","","","","","","","",null,null,null,null,null,null,null,"pozdro600                 ","kikiriki                  "]
[null,null,74,"shamino                   ",null,36.196434157022196,36.196434157022196,null,36.196434157022196,null,36.196434157022196,"","","",null,29,"","","",null,"","","","","","","","","","","","","","","","","","","","",null,null,null,null,null,null,null,"Bubba                     ","[fS]Palo                  "]
[null,null,75,"KyNa                      ",null,0,0,null,0,null,"","","","",null,"","","","",null,"","","","","","","","","","","","","","","","","","","","",null,null,null,null,null,null,null,"Popowitch                 ","[iR] iBlaze²              "]
[null,null,76,"Guillo                    ",null,0,0,null,0,null,"","","","",null,"","","","",null,"","","","","","","","","","","","","","","","","","","","",null,null,null,null,null,null,null,"Qri                       ","AnnicK                    "]
[null,null,77,"laf                       ",null,0,0,null,0,null,"","","","",null,"","","","",null,"","","","","","","","","","","","","","","","","","","","",null,null,null,null,null,null,null,"batjunior                 ","Jurgen-NL                 "]
[null,null,78,"Testaaja                  ",null,0,0,null,0,null,"","","","",null,"","","","",null,"","","","","","","","","","","","","","","","","","","","",null,null,null,null,null,null,null,"Delux                     ","[+] xzeal                 "]
[null,null,79,"Matic                     ",null,0,0,null,0,null,"","","","",null,"","","","",null,"","","","","","","","","","","","","","","","","","","","",null,null,null,null,null,null,null,"power79                   ","Ande                      "]
[null,null,80,"Serif                     ",null,0,0,null,0,null,"","","","",null,"","","","",null,"","","","","","","","","","","","","","","","","","","","",null,null,null,null,null,null,null,"TD Juquinha               ","Sig                       "]
[null,null,81,"Pro08                     ",null,0,0,null,0,null,"","","","",null,"","","","",null,{"$f":"IF(SUMIF($P87:$S87,U$6)/U$6=0,\"\",SUMIF($P87:$S87,U$6)/U$6)","v":""},"","","","","","","","","",{"$f":"IF(SUMIF($P87:$S87,AE$6)/AE$6=0,\"\",SUMIF($P87:$S87,AE$6)/AE$6)","v":""},"","","","","","","","","",null,null,null,null,null,null,null,"Alukin                    ","[x] Stylus                "]
[null,null,82,"CrazybikE                 ",null,0,0,null,0,null,"","","","",null,"","","","",null,"","","","","","","","","","","","","","","","","","","","",null,null,null,null,null,null,null,"GoingDillon               ","mc65532                   "]
[null,null,83,"Sharp                     ",null,0,0,null,0,null,"","","","",null,"","","","",null,"","","","","","","","","","","","","","","","","","","","",null,null,null,null,null,null,null,"[Qc]RSX                   ","[x] Whiplash              "]
[null,null,84,"[+] Eddie                 ",null,0,0,null,0,null,"","","","",null,"","","","",null,"","","","","","","","","","","","","","","","","","","","",null,null,null,null,null,null,null,"dire                      ","[+] Badeend               "]
[null,null,85,"#5 Burnout                ",null,0,0,null,0,null,"","","","",null,"","","","",null,"","","","","","","","","","","","","","","","","","","","",null,null,null,null,null,null,null,"cavani                    ","Hazard                    "]
[null,null,86,"suzuck                    ",null,0,0,null,0,null,"","","","",null,"","","","",null,"","","","","","","","","","","","","","","","","","","","",null,null,null,null,null,null,null,"Ninjinha_br               ","[fS]Hevonen               "]
[null,null,87,"Reinikainen               ",null,0,0,null,0,null,"","","","",null,"","","","",null,"","","","","","","","","","","","","","","","","","","","",null,null,null,null,null,null,null,"bohun                     ","fatty                     "]
[null,null,88,"Lavon                     ",null,0,0,null,0,null,"","","","",null,"","","","",null,"","","","","","","","","","","","","","","","","","","","",null,null,null,null,null,null,null,"Rub                       ","Double O Seven            "]
[null,null,89,"BIXOMAU                   ",null,0,0,null,0,null,"","","","",null,"","","","",null,"","","","","","","","","","","","","","","","","","","","",null,null,null,null,null,null,null,"Kooler                    ","Scud                      "]
[null,null,90,"Reiska                    ",null,0,0,null,0,null,"","","","",null,"","","","",null,"","","","","","","","","","","","","","","","","","","","",null,null,null,null,null,null,null,"KORINGA                   ","Poisonous                 "]
[null,null,91,"DustyBadSkillz            ",null,0,0,null,0,null,"","","","",null,"","","","",null,{"$f":"IF(SUMIF($P97:$S97,U$6)/U$6=0,\"\",SUMIF($P97:$S97,U$6)/U$6)","v":""},"","","","","","","","","",{"$f":"IF(SUMIF($P97:$S97,AE$6)/AE$6=0,\"\",SUMIF($P97:$S97,AE$6)/AE$6)","v":""},"","","","","","","","","",null,null,null,null,null,null,null,"Oppy                      ","\\/\\/ | |_ |_              "]
[null,null,92,"Kiki                      ",null,0,0,null,0,null,"","","","",null,"","","","",null,"","","","","","","","","","","","","","","","","","","","",null,null,null,null,null,null,null,"[fS]Jan                   ","Qpa                       "]
[null,null,93,"Iron Man                  ",null,0,0,null,0,null,"","","","",null,"","","","",null,"","","","","","","","","","","","","","","","","","","","",null,null,null,null,null,null,null,"Matti                     ","Serif  v2.5.3W            "]
[null,null,94,"Waenoo                    ",null,0,0,null,0,null,"","","","",null,"","","","",null,"","","","","","","","","","","","","","","","","","","","",null,null,null,null,null,null,null,"messi                     ","lds                       "]
[null,null,95,"JJN                       ",null,0,0,null,0,null,"","","","",null,"","","","",null,"","","","","","","","","","","","","","","","","","","","",null,null,null,null,null,null,null,"Ku Dern [Ri]              ","Hengari                   "]
[null,null,96,"Storm                     ",null,0,0,null,0,null,"","","","",null,"","","","",null,"","","","","","","","","","","","","","","","","","","","",null,null,null,null,null,null,null,"[$pectre]Jaw$             ","pozdro600                 "]
[null,null,97,"Hazard                    ",null,{"$f":"IF($I103=\"\",0,MAX($K103:$N103))","v":0},{"$f":"IF($I103=\"\",0,MIN($K103:$N103))","v":0},null,{"$f":"IF(COUNT(K103:N103)=0,0,SUM(K103:N103)/COUNT(K103:N103))","v":0},null,"","","","",null,{"$f":"IFERROR(RANK(K103,K$7:K$999,0),\"\")","v":""},{"$f":"IFERROR(RANK(L103,L$7:L$999,0),\"\")","v":""},{"$f":"IFERROR(RANK(M103,M$7:M$999,0),\"\")","v":""},{"$f":"IFERROR(RANK(N103,N$7:N$999,0),\"\")","v":""},null,"","","","","","","","","","","","","","","","","","","","",null,null,null,null,null,null,null,"Magnat                    ","Gol_v8                    "]
[null,null,98,"Hengari                   ",null,0,0,null,0,null,"","","","",null,"","","","",null,"","","","","","","","","","","","","","","","","","","","",null,null,null,null,null,null,null,"straits                   ","Bubba                     "]
[null,null,99,"Popowitch                 ",null,0,0,null,0,null,"","","","",null,"","","","",null,"","","","","","","","","","","","","","","","","","","","",null,null,null,null,null,null,null,"[ITA]_AIR_GIGI            ","[PahaJori] Ender          "]
[null,null,100,"Qri                       ",null,0,0,null,0,null,"","","","",null,"","","","",null,"","","","","","","","","","","","","","","","","","","","",null,null,null,null,null,null,null,"BrunoA                    ","Fama                      "]
[null,null,101,"batjunior                 ",null,0,0,null,0,null,"","","","",null,"","","","",null,{"$f":"IF(SUMIF($P107:$S107,U$6)/U$6=0,\"\",SUMIF($P107:$S107,U$6)/U$6)","v":""},"","","","","","","","","",{"$f":"IF(SUMIF($P107:$S107,AE$6)/AE$6=0,\"\",SUMIF($P107:$S107,AE$6)/AE$6)","v":""},"","","","","","","","","",null,null,null,null,null,null,null,"koripallo tits            ","R.E.I.R.O.M               "]
[null,null,102,"Delux                     ",null,0,0,null,0,null,"","","","",null,"","","","",null,"","","","","","","","","","","","","","","","","","","","",null,null,null,null,null,null,null,"Rendy                     ","Popowitch                 "]
[null,null,103,"power79                   ",null,0,0,null,0,null,"","","","",null,"","","","",null,"","","","","","","","","","","","","","","","","","","","",null,null,null,null,null,null,null,"Frank05                   ","[FUN] GR8 Arjen!          "]
[null,null,104,"Alukin                    ",null,0,0,null,0,null,"","","","",null,"","","","",null,"","","","","","","","","","","","","","","","","","","","",null,null,null,null,null,null,null,"[5] Burnout               ","Poisonous                 "]
[null,null,105,"[Qc]RSX                   ",null,0,0,null,0,null,"","","","",null,"","","","",null,"","","","","","","","","","","","","","","","","","","","",null,null,null,null,null,null,null,"[LWD] JamsleJ             ","NBA                       "]
[null,null,106,"dire                      ",null,0,0,null,0,null,"","","","",null,"","","","",null,"","","","","","","","","","","","","","","","","","","","",null,null,null,null,null,null,null,"Thunda                    ","Diego Armando             "]
[null,null,107,"cavani                    ",null,0,0,null,0,null,"","","","",null,"","","","",null,"","","","","","","","","","","","","","","","","","","","",null,null,null,null,null,null,null,"Broomstig                 ","Qri                       "]
[null,null,108,"Ninjinha_br               ",null,0,0,null,0,null,"","","","",null,"","","","",null,"","","","","","","","","","","","","","","","","","","","",null,null,null,null,null,null,null,"[+] dede                  ","batjunior                 "]
[null,null,109,"bohun                     ",null,0,0,null,0,null,"","","","",null,"","","","",null,"","","","","","","","","","","","","","","","","","","","",null,null,null,null,null,null,null,"GOl V8                    ","CrazybikE                 "]
[null,null,110,"Kooler                    ",null,0,0,null,0,null,"","","","",null,"","","","",null,"","","","","","","","","","","","","","","","","","","","",null,null,null,null,null,null,null,"majstorfantac             ","Matic                     "]
[null,null,111,"KORINGA                   ",null,0,0,null,0,null,"","","","",null,"","","","",null,{"$f":"IF(SUMIF($P117:$S117,U$6)/U$6=0,\"\",SUMIF($P117:$S117,U$6)/U$6)","v":""},"","","","","","","","","",{"$f":"IF(SUMIF($P117:$S117,AE$6)/AE$6=0,\"\",SUMIF($P117:$S117,AE$6)/AE$6)","v":""},"","","","","","","","","",null,null,null,null,null,null,null,"Shaytun                   ","Delux                     "]
[null,null,112,"Oppy                      ",null,0,0,null,0,null,"","","","",null,"","","","",null,"","","","","","","","","","","","","","","","","","","","",null,null,null,null,null,null,null,"JJ Nylander               ","Chukie                    "]
[null,null,113,"straits                   ",null,0,0,null,0,null,"","","","",null,"","","","",null,"","","","","","","","","","","","","","","","","","","","",null,null,null,null,null,null,null,"Fa la la la la            ","power79                   "]
[null,null,114,"Rendy                     ",null,0,0,null,0,null,"","","","",null,"","","","",null,"","","","","","","","","","","","","","","","","","","","",null,null,null,null,null,null,null,"Nico Hulkenberg           ","NBA                       "]
[null,null,115,"Frank05                   ",null,0,0,null,0,null,"","","","",null,"","","","",null,"","","","","","","","","","","","","","","","","","","","",null,null,null,null,null,null,null,"Bleached Anus             ","TD Juquinha               "]
[null,null,116,"[5] Burnout               ",null,0,0,null,0,null,"","","","",null,"","","","",null,"","","","","","","","","","","","","","","","","","","","",null,null,null,null,null,null,null,"[+] olio                  ","Alukin                    "]
[null,null,117,"[LWD] JamsleJ             ",null,0,0,null,0,null,"","","","",null,"","","","",null,"","","","","","","","","","","","","","","","","","","","",null,null,null,null,null,null,null,"Jaka                      ","REIROM                    "]
[null,null,118,"Fa la la la la            ",null,0,0,null,0,null,"","","","",null,"","","","",null,"","","","","","","","","","","","","","","","","","","","",null,null,null,null,null,null,null,"Gol_V8 ( 17 )             ","stoner                    "]
[null,null,119,"[+] olio                  ",null,0,0,null,0,null,"","","","",null,"","","","",null,"","","","","","","","","","","","","","","","","","","","",null,null,null,null,null,null,null,"ROMREI                    ","GoingDillon               "]
[null,null,120,"Jaka                      ",null,0,0,null,0,null,"","","","",null,"","","","",null,"","","","","","","","","","","","","","","","","","","","",null,null,null,null,null,null,null,"KLE621                    ","[Qc]RSX                   "]
[null,null,121,"Gol_V8 ( 17 )             ",null,0,0,null,0,null,"","","","",null,"","","","",null,{"$f":"IF(SUMIF($P127:$S127,U$6)/U$6=0,\"\",SUMIF($P127:$S127,U$6)/U$6)","v":""},"","","","","","","","","",{"$f":"IF(SUMIF($P127:$S127,AE$6)/AE$6=0,\"\",SUMIF($P127:$S127,AE$6)/AE$6)","v":""},"","","","","","","","","",null,null,null,null,null,null,null,"put                       ","laf                       "]
[null,null,122,"ROMREI                    ",null,0,0,null,0,null,"","","","",null,"","","","",null,"","","","","","","","","","","","","","","","","","","","",null,null,null,null,null,null,null,"DEAD FISH                 ","dire                      "]
[null,null,123,"KLE621                    ",null,0,0,null,0,null,"","","","",null,"","","","",null,"","","","","","","","","","","","","","","","","","","","",null,null,null,null,null,null,null,"FliZeR                    ","cavani                    "]
[null,null,124,"put                       ",null,0,0,null,0,null,"","","","",null,"","","","",null,"","","","","","","","","","","","","","","","","","","","",null,null,null,null,null,null,null,"Xenor                     ","Ninjinha_br               "]
[null,null,125,"Xenor                     ",null,0,0,null,0,null,"","","","",null,"","","","",null,"","","","","","","","","","","","","","","","","","","","",null,null,null,null,null,null,null,"[iR] Etmil                ","bohun                     "]
[null,null,126,"{l}rard{l}                ",null,-80.528620581795451,-80.528620581795451,null,-80.528620581795451,null,-80.528620581795451,"","","",null,30,"","","",null,"","","","","","","","","","","","","","","","","","","","",null,null,null,null,null,null,null,"I-IenR!Kubica             ","Rub                       "]
[null,null,null,null,null,null,null,null,null,null,null,null,null,null,null,null,null,null,null,null,null,null,null,null,null,null,null,null,null,null,null,null,null,null,null,null,null,null,null,null,null,null,null,null,null,null,null,null,"Kooler                    "]
[null,null,null,null,null,null,null,null,null,null,null,null,null,null,null,null,null,null,null,null,null,null,null,null,null,null,null,null,null,null,null,null,null,null,null,null,null,null,null,null,null,null,null,null,null,null,null,null,"KORINGA                   "]
[null,null,null,null,null,null,null,null,null,null,null,null,null,null,null,null,null,null,null,null,null,null,null,null,null,null,null,null,null,null,null,null,null,null,null,null,null,null,null,null,null,null,null,null,null,null,null,null,"Oppy                      "]
[null,null,null,null,null,null,null,null,null,null,null,null,null,null,null,null,null,null,null,null,null,null,null,null,null,null,null,null,null,null,null,null,null,null,null,null,null,null,null,null,null,null,null,null,null,null,null,null,"[+] Tinjovic              "]
[null,null,null,null,null,null,null,null,null,null,null,null,null,null,null,null,null,null,null,null,null,null,null,null,null,null,null,null,null,null,null,null,null,null,null,null,null,null,null,null,null,null,null,null,null,null,null,null,"[x] Mike Nike             "]
[null,null,null,null,null,null,null,null,null,null,null,null,null,null,null,null,null,null,null,null,null,null,null,null,null,null,null,null,null,null,null,null,null,null,null,null,null,null,null,null,null,null,null,null,null,null,null,null,"[x] Stylus                "]
[null,null,null,null,null,null,null,null,null,null,null,null,null,null,null,null,null,null,null,null,null,null,null,null,null,null,null,null,null,null,null,null,null,null,null,null,null,null,null,null,null,null,null,null,null,null,null,null,"[fS]Palo                  "]
[null,null,null,null,null,null,null,null,null,null,null,null,null,null,null,null,null,null,null,null,null,null,null,null,null,null,null,null,null,null,null,null,null,null,null,null,null,null,null,null,null,null,null,null,null,null,null,null,"Kyna_Musti                "]
[null,null,null,null,null,null,null,null,null,null,null,null,null,null,null,null,null,null,null,null,null,null,null,null,null,null,null,null,null,null,null,null,null,null,null,null,null,null,null,null,null,null,null,null,null,null,null,null,"[x] Whiplash              "]
[null,null,null,null,null,null,null,null,null,null,null,null,null,null,null,null,null,null,null,null,null,null,null,null,null,null,null,null,null,null,null,null,null,null,null,null,null,null,null,null,null,null,null,null,null,null,null,null,"[fS]Hevonen               "]
[null,null,null,null,null,null,null,null,null,null,null,null,null,null,null,null,null,null,null,null,null,null,null,null,null,null,null,null,null,null,null,null,null,null,null,null,null,null,null,null,null,null,null,null,null,null,null,null,"[+] xzeal                 "]
[null,null,null,null,null,null,null,null,null,null,null,null,null,null,null,null,null,null,null,null,null,null,null,null,null,null,null,null,null,null,null,null,null,null,null,null,null,null,null,null,null,null,null,null,null,null,null,null,"Jurgen-NL                 "]
[null,null,null,null,null,null,null,null,null,null,null,null,null,null,null,null,null,null,null,null,null,null,null,null,null,null,null,null,null,null,null,null,null,null,null,null,null,null,null,null,null,null,null,null,null,null,null,null,"[iR] iBlaze²              "]
[null,null,null,null,null,null,null,null,null,null,null,null,null,null,null,null,null,null,null,null,null,null,null,null,null,null,null,null,null,null,null,null,null,null,null,null,null,null,null,null,null,null,null,null,null,null,null,null,"AnnicK                    "]
[null,null,null,null,null,null,null,null,null,null,null,null,null,null,null,null,null,null,null,null,null,null,null,null,null,null,null,null,null,null,null,null,null,null,null,null,null,null,null,null,null,null,null,null,null,null,null,null,"mc65532                   "]
[null,null,null,null,null,null,null,null,null,null,null,null,null,null,null,null,null,null,null,null,null,null,null,null,null,null,null,null,null,null,null,null,null,null,null,null,null,null,null,null,null,null,null,null,null,null,null,null,"fatty                     "]
[null,null,null,null,null,null,null,null,null,null,null,null,null,null,null,null,null,null,null,null,null,null,null,null,null,null,null,null,null,null,null,null,null,null,null,null,null,null,null,null,null,null,null,null,null,null,null,null,"[fS]Jan                   "]
[null,null,null,null,null,null,null,null,null,null,null,null,null,null,null,null,null,null,null,null,null,null,null,null,null,null,null,null,null,null,null,null,null,null,null,null,null,null,null,null,null,null,null,null,null,null,null,null,"pozdro600                 "]
[null,null,null,null,null,null,null,null,null,null,null,null,null,null,null,null,null,null,null,null,null,null,null,null,null,null,null,null,null,null,null,null,null,null,null,null,null,null,null,null,null,null,null,null,null,null,null,null,"chill                     "]
[null,null,null,null,null,null,null,null,null,null,null,null,null,null,null,null,null,null,null,null,null,null,null,null,null,null,null,null,null,null,null,null,null,null,null,null,null,null,null,null,null,null,null,null,null,null,null,null,"Qpa                       "]
[null,null,null,null,null,null,null,null,null,null,null,null,null,null,null,null,null,null,null,null,null,null,null,null,null,null,null,null,null,null,null,null,null,null,null,null,null,null,null,null,null,null,null,null,null,null,null,null,"Gol_v8                    "]
[null,null,null,null,null,null,null,null,null,null,null,null,null,null,null,null,null,null,null,null,null,null,null,null,null,null,null,null,null,null,null,null,null,null,null,null,null,null,null,null,null,null,null,null,null,null,null,null,"Rub                       "]
[null,null,null,null,null,null,null,null,null,null,null,null,null,null,null,null,null,null,null,null,null,null,null,null,null,null,null,null,null,null,null,null,null,null,null,null,null,null,null,null,null,null,null,null,null,null,null,null,"Augusto                   "]
[null,null,null,null,null,null,null,null,null,null,null,null,null,null,null,null,null,null,null,null,null,null,null,null,null,null,null,null,null,null,null,null,null,null,null,null,null,null,null,null,null,null,null,null,null,null,null,null,"Chukie                    "]
[null,null,null,null,null,null,null,null,null,null,null,null,null,null,null,null,null,null,null,null,null,null,null,null,null,null,null,null,null,null,null,null,null,null,null,null,null,null,null,null,null,null,null,null,null,null,null,null,"[FUN] GR8 Arjen!          "]
[null,null,null,null,null,null,null,null,null,null,null,null,null,null,null,null,null,null,null,null,null,null,null,null,null,null,null,null,null,null,null,null,null,null,null,null,null,null,null,null,null,null,null,null,null,null,null,null,"\\/\\/ | |_ |_              "]
[null,null,null,null,null,null,null,null,null,null,null,null,null,null,null,null,null,null,null,null,null,null,null,null,null,null,null,null,null,null,null,null,null,null,null,null,null,null,null,null,null,null,null,null,null,null,null,null,"Matti                     "]
[null,null,null,null,null,null,null,null,null,null,null,null,null,null,null,null,null,null,null,null,null,null,null,null,null,null,null,null,null,null,null,null,null,null,null,null,null,null,null,null,null,null,null,null,null,null,null,null,"messi                     "]
[null,null,null,null,null,null,null,null,null,null,null,null,null,null,null,null,null,null,null,null,null,null,null,null,null,null,null,null,null,null,null,null,null,null,null,null,null,null,null,null,null,null,null,null,null,null,null,null,"REIROM                    "]
[null,null,null,null,null,null,null,null,null,null,null,null,null,null,null,null,null,null,null,null,null,null,null,null,null,null,null,null,null,null,null,null,null,null,null,null,null,null,null,null,null,null,null,null,null,null,null,null,"[+] Badeend               "]
[null,null,null,null,null,null,null,null,null,null,null,null,null,null,null,null,null,null,null,null,null,null,null,null,null,null,null,null,null,null,null,null,null,null,null,null,null,null,null,null,null,null,null,null,null,null,null,null,"[PahaJori] Ender          "]
[null,null,null,null,null,null,null,null,null,null,null,null,null,null,null,null,null,null,null,null,null,null,null,null,null,null,null,null,null,null,null,null,null,null,null,null,null,null,null,null,null,null,null,null,null,null,null,null,"Ku Dern [Ri]              "]
[null,null,null,null,null,null,null,null,null,null,null,null,null,null,null,null,null,null,null,null,null,null,null,null,null,null,null,null,null,null,null,null,null,null,null,null,null,null,null,null,null,null,null,null,null,null,null,null,"Sig                       "]
[null,null,null,null,null,null,null,null,null,null,null,null,null,null,null,null,null,null,null,null,null,null,null,null,null,null,null,null,null,null,null,null,null,null,null,null,null,null,null,null,null,null,null,null,null,null,null,null,"Double O Seven            "]
[null,null,null,null,null,null,null,null,null,null,null,null,null,null,null,null,null,null,null,null,null,null,null,null,null,null,null,null,null,null,null,null,null,null,null,null,null,null,null,null,null,null,null,null,null,null,null,null,"Matic                     "]
[null,null,null,null,null,null,null,null,null,null,null,null,null,null,null,null,null,null,null,null,null,null,null,null,null,null,null,null,null,null,null,null,null,null,null,null,null,null,null,null,null,null,null,null,null,null,null,null,"Alukin                    "]
[null,null,null,null,null,null,null,null,null,null,null,null,null,null,null,null,null,null,null,null,null,null,null,null,null,null,null,null,null,null,null,null,null,null,null,null,null,null,null,null,null,null,null,null,null,null,null,null,"lds                       "]
[null,null,null,null,null,null,null,null,null,null,null,null,null,null,null,null,null,null,null,null,null,null,null,null,null,null,null,null,null,null,null,null,null,null,null,null,null,null,null,null,null,null,null,null,null,null,null,null,"Ninjinha_br               "]
[null,null,null,null,null,null,null,null,null,null,null,null,null,null,null,null,null,null,null,null,null,null,null,null,null,null,null,null,null,null,null,null,null,null,null,null,null,null,null,null,null,null,null,null,null,null,null,null,"[$pectre]Jaw$             "]
[null,null,null,null,null,null,null,null,null,null,null,null,null,null,null,null,null,null,null,null,null,null,null,null,null,null,null,null,null,null,null,null,null,null,null,null,null,null,null,null,null,null,null,null,null,null,null,null,"stoner                    "]
[null,null,null,null,null,null,null,null,null,null,null,null,null,null,null,null,null,null,null,null,null,null,null,null,null,null,null,null,null,null,null,null,null,null,null,null,null,null,null,null,null,null,null,null,null,null,null,null,"kikiriki                  "]
[null,null,null,null,null,null,null,null,null,null,null,null,null,null,null,null,null,null,null,null,null,null,null,null,null,null,null,null,null,null,null,null,null,null,null,null,null,null,null,null,null,null,null,null,null,null,null,null,"Qri                       "]
[null,null,null,null,null,null,null,null,null,null,null,null,null,null,null,null,null,null,null,null,null,null,null,null,null,null,null,null,null,null,null,null,null,null,null,null,null,null,null,null,null,null,null,null,null,null,null,null,"power79                   "]
[null,null,null,null,null,null,null,null,null,null,null,null,null,null,null,null,null,null,null,null,null,null,null,null,null,null,null,null,null,null,null,null,null,null,null,null,null,null,null,null,null,null,null,null,null,null,null,null,"batjunior                 "]
[null,null,null,null,null,null,null,null,null,null,null,null,null,null,null,null,null,null,null,null,null,null,null,null,null,null,null,null,null,null,null,null,null,null,null,null,null,null,null,null,null,null,null,null,null,null,null,null,"Serif  v2.5.3W            "]
[null,null,null,null,null,null,null,null,null,null,null,null,null,null,null,null,null,null,null,null,null,null,null,null,null,null,null,null,null,null,null,null,null,null,null,null,null,null,null,null,null,null,null,null,null,null,null,null,"Magnat                    "]
[null,null,null,null,null,null,null,null,null,null,null,null,null,null,null,null,null,null,null,null,null,null,null,null,null,null,null,null,null,null,null,null,null,null,null,null,null,null,null,null,null,null,null,null,null,null,null,null,"RiantHoff                 "]
[null,null,null,null,null,null,null,null,null,null,null,null,null,null,null,null,null,null,null,null,null,null,null,null,null,null,null,null,null,null,null,null,null,null,null,null,null,null,null,null,null,null,null,null,null,null,null,null,"Popowitch                 "]
[null,null,null,null,null,null,null,null,null,null,null,null,null,null,null,null,null,null,null,null,null,null,null,null,null,null,null,null,null,null,null,null,null,null,null,null,null,null,null,null,null,null,null,null,null,null,null,null,"straits                   "]
[null,null,null,null,null,null,null,null,null,null,null,null,null,null,null,null,null,null,null,null,null,null,null,null,null,null,null,null,null,null,null,null,null,null,null,null,null,null,null,null,null,null,null,null,null,null,null,null,"[ITA]_AIR_GIGI            "]
[null,null,null,null,null,null,null,null,null,null,null,null,null,null,null,null,null,null,null,null,null,null,null,null,null,null,null,null,null,null,null,null,null,null,null,null,null,null,null,null,null,null,null,null,null,null,null,null,"BrunoA                    "]
[null,null,null,null,null,null,null,null,null,null,null,null,null,null,null,null,null,null,null,null,null,null,null,null,null,null,null,null,null,null,null,null,null,null,null,null,null,null,null,null,null,null,null,null,null,null,null,null,"CrazybikE                 "]
[null,null,null,null,null,null,null,null,null,null,null,null,null,null,null,null,null,null,null,null,null,null,null,null,null,null,null,null,null,null,null,null,null,null,null,null,null,null,null,null,null,null,null,null,null,null,null,null,"koripallo tits            "]
[null,null,null,null,null,null,null,null,null,null,null,null,null,null,null,null,null,null,null,null,null,null,null,null,null,null,null,null,null,null,null,null,null,null,null,null,null,null,null,null,null,null,null,null,null,null,null,null,"bohun                     "]
[null,null,null,null,null,null,null,null,null,null,null,null,null,null,null,null,null,null,null,null,null,null,null,null,null,null,null,null,null,null,null,null,null,null,null,null,null,null,null,null,null,null,null,null,null,null,null,null,"Rendy                     "]
[null,null,null,null,null,null,null,null,null,null,null,null,null,null,null,null,null,null,null,null,null,null,null,null,null,null,null,null,null,null,null,null,null,null,null,null,null,null,null,null,null,null,null,null,null,null,null,null,"Hazard                    "]
[null,null,null,null,null,null,null,null,null,null,null,null,null,null,null,null,null,null,null,null,null,null,null,null,null,null,null,null,null,null,null,null,null,null,null,null,null,null,null,null,null,null,null,null,null,null,null,null,"Frank05                   "]
[null,null,null,null,null,null,null,null,null,null,null,null,null,null,null,null,null,null,null,null,null,null,null,null,null,null,null,null,null,null,null,null,null,null,null,null,null,null,null,null,null,null,null,null,null,null,null,null,"[5] Burnout               "]
[null,null,null,null,null,null,null,null,null,null,null,null,null,null,null,null,null,null,null,null,null,null,null,null,null,null,null,null,null,null,null,null,null,null,null,null,null,null,null,null,null,null,null,null,null,null,null,null,"[LWD] JamsleJ             "]
[null,null,null,null,null,null,null,null,null,null,null,null,null,null,null,null,null,null,null,null,null,null,null,null,null,null,null,null,null,null,null,null,null,null,null,null,null,null,null,null,null,null,null,null,null,null,null,null,"CrazybikE                 "]
[null,null,null,null,null,null,null,null,null,null,null,null,null,null,null,null,null,null,null,null,null,null,null,null,null,null,null,null,null,null,null,null,null,null,null,null,null,null,null,null,null,null,null,null,null,null,null,null,"laf                       "]
[null,null,null,null,null,null,null,null,null,null,null,null,null,null,null,null,null,null,null,null,null,null,null,null,null,null,null,null,null,null,null,null,null,null,null,null,null,null,null,null,null,null,null,null,null,null,null,null,"Thunda                    "]
[null,null,null,null,null,null,null,null,null,null,null,null,null,null,null,null,null,null,null,null,null,null,null,null,null,null,null,null,null,null,null,null,null,null,null,null,null,null,null,null,null,null,null,null,null,null,null,null,"Broomstig                 "]
[null,null,null,null,null,null,null,null,null,null,null,null,null,null,null,null,null,null,null,null,null,null,null,null,null,null,null,null,null,null,null,null,null,null,null,null,null,null,null,null,null,null,null,null,null,null,null,null,"[+] Tinjovic              "]
[null,null,null,null,null,null,null,null,null,null,null,null,null,null,null,null,null,null,null,null,null,null,null,null,null,null,null,null,null,null,null,null,null,null,null,null,null,null,null,null,null,null,null,null,null,null,null,null,"[x] Mike Nike             "]
[null,null,null,null,null,null,null,null,null,null,null,null,null,null,null,null,null,null,null,null,null,null,null,null,null,null,null,null,null,null,null,null,null,null,null,null,null,null,null,null,null,null,null,null,null,null,null,null,"[x] Stylus                "]
[null,null,null,null,null,null,null,null,null,null,null,null,null,null,null,null,null,null,null,null,null,null,null,null,null,null,null,null,null,null,null,null,null,null,null,null,null,null,null,null,null,null,null,null,null,null,null,null,"Matti                     "]
[null,null,null,null,null,null,null,null,null,null,null,null,null,null,null,null,null,null,null,null,null,null,null,null,null,null,null,null,null,null,null,null,null,null,null,null,null,null,null,null,null,null,null,null,null,null,null,null,"Jurgen-NL                 "]
[null,null,null,null,null,null,null,null,null,null,null,null,null,null,null,null,null,null,null,null,null,null,null,null,null,null,null,null,null,null,null,null,null,null,null,null,null,null,null,null,null,null,null,null,null,null,null,null,"[+] xzeal                 "]
[null,null,null,null,null,null,null,null,null,null,null,null,null,null,null,null,null,null,null,null,null,null,null,null,null,null,null,null,null,null,null,null,null,null,null,null,null,null,null,null,null,null,null,null,null,null,null,null,"[iR] iBlaze²              "]
[null,null,null,null,null,null,null,null,null,null,null,null,null,null,null,null,null,null,null,null,null,null,null,null,null,null,null,null,null,null,null,null,null,null,null,null,null,null,null,null,null,null,null,null,null,null,null,null,"AnnicK                    "]
[null,null,null,null,null,null,null,null,null,null,null,null,null,null,null,null,null,null,null,null,null,null,null,null,null,null,null,null,null,null,null,null,null,null,null,null,null,null,null,null,null,null,null,null,null,null,null,null,"[+] dede                  "]
[null,null,null,null,null,null,null,null,null,null,null,null,null,null,null,null,null,null,null,null,null,null,null,null,null,null,null,null,null,null,null,null,null,null,null,null,null,null,null,null,null,null,null,null,null,null,null,null,"GOl V8                    "]
[null,null,null,null,null,null,null,null,null,null,null,null,null,null,null,null,null,null,null,null,null,null,null,null,null,null,null,null,null,null,null,null,null,null,null,null,null,null,null,null,null,null,null,null,null,null,null,null,"messi                     "]
[null,null,null,null,null,null,null,null,null,null,null,null,null,null,null,null,null,null,null,null,null,null,null,null,null,null,null,null,null,null,null,null,null,null,null,null,null,null,null,null,null,null,null,null,null,null,null,null,"[fS]Palo                  "]
[null,null,null,null,null,null,null,null,null,null,null,null,null,null,null,null,null,null,null,null,null,null,null,null,null,null,null,null,null,null,null,null,null,null,null,null,null,null,null,null,null,null,null,null,null,null,null,null,"majstorfantac             "]
[null,null,null,null,null,null,null,null,null,null,null,null,null,null,null,null,null,null,null,null,null,null,null,null,null,null,null,null,null,null,null,null,null,null,null,null,null,null,null,null,null,null,null,null,null,null,null,null,"pozdro600                 "]
[null,null,null,null,null,null,null,null,null,null,null,null,null,null,null,null,null,null,null,null,null,null,null,null,null,null,null,null,null,null,null,null,null,null,null,null,null,null,null,null,null,null,null,null,null,null,null,null,"Shaytun                   "]
[null,null,null,null,null,null,null,null,null,null,null,null,null,null,null,null,null,null,null,null,null,null,null,null,null,null,null,null,null,null,null,null,null,null,null,null,null,null,null,null,null,null,null,null,null,null,null,null,"majstorfantac             "]
[null,null,null,null,null,null,null,null,null,null,null,null,null,null,null,null,null,null,null,null,null,null,null,null,null,null,null,null,null,null,null,null,null,null,null,null,null,null,null,null,null,null,null,null,null,null,null,null,"Qpa                       "]
[null,null,null,null,null,null,null,null,null,null,null,null,null,null,null,null,null,null,null,null,null,null,null,null,null,null,null,null,null,null,null,null,null,null,null,null,null,null,null,null,null,null,null,null,null,null,null,null,"[PahaJori] Ender          "]
[null,null,null,null,null,null,null,null,null,null,null,null,null,null,null,null,null,null,null,null,null,null,null,null,null,null,null,null,null,null,null,null,null,null,null,null,null,null,null,null,null,null,null,null,null,null,null,null,"JJ Nylander               "]
[null,null,null,null,null,null,null,null,null,null,null,null,null,null,null,null,null,null,null,null,null,null,null,null,null,null,null,null,null,null,null,null,null,null,null,null,null,null,null,null,null,null,null,null,null,null,null,null,"Kyna_Musti                "]
[null,null,null,null,null,null,null,null,null,null,null,null,null,null,null,null,null,null,null,null,null,null,null,null,null,null,null,null,null,null,null,null,null,null,null,null,null,null,null,null,null,null,null,null,null,null,null,null,"\\/\\/ | |_ |_              "]
[null,null,null,null,null,null,null,null,null,null,null,null,null,null,null,null,null,null,null,null,null,null,null,null,null,null,null,null,null,null,null,null,null,null,null,null,null,null,null,null,null,null,null,null,null,null,null,null,"Sig                       "]
[null,null,null,null,null,null,null,null,null,null,null,null,null,null,null,null,null,null,null,null,null,null,null,null,null,null,null,null,null,null,null,null,null,null,null,null,null,null,null,null,null,null,null,null,null,null,null,null,"majstorfantac             "]
[null,null,null,null,null,null,null,null,null,null,null,null,null,null,null,null,null,null,null,null,null,null,null,null,null,null,null,null,null,null,null,null,null,null,null,null,null,null,null,null,null,null,null,null,null,null,null,null,"Gol_v8                    "]
[null,null,null,null,null,null,null,null,null,null,null,null,null,null,null,null,null,null,null,null,null,null,null,null,null,null,null,null,null,null,null,null,null,null,null,null,null,null,null,null,null,null,null,null,null,null,null,null,"Augusto                   "]
[null,null,null,null,null,null,null,null,null,null,null,null,null,null,null,null,null,null,null,null,null,null,null,null,null,null,null,null,null,null,null,null,null,null,null,null,null,null,null,null,null,null,null,null,null,null,null,null,"majstorfantac             "]
[null,null,null,null,null,null,null,null,null,null,null,null,null,null,null,null,null,null,null,null,null,null,null,null,null,null,null,null,null,null,null,null,null,null,null,null,null,null,null,null,null,null,null,null,null,null,null,null,"Fa la la la la            "]
[null,null,null,null,null,null,null,null,null,null,null,null,null,null,null,null,null,null,null,null,null,null,null,null,null,null,null,null,null,null,null,null,null,null,null,null,null,null,null,null,null,null,null,null,null,null,null,null,"Nico Hulkenberg           "]
[null,null,null,null,null,null,null,null,null,null,null,null,null,null,null,null,null,null,null,null,null,null,null,null,null,null,null,null,null,null,null,null,null,null,null,null,null,null,null,null,null,null,null,null,null,null,null,null,"Bleached Anus             "]
[null,null,null,null,null,null,null,null,null,null,null,null,null,null,null,null,null,null,null,null,null,null,null,null,null,null,null,null,null,null,null,null,null,null,null,null,null,null,null,null,null,null,null,null,null,null,null,null,"JJ Nylander               "]
[null,null,null,null,null,null,null,null,null,null,null,null,null,null,null,null,null,null,null,null,null,null,null,null,null,null,null,null,null,null,null,null,null,null,null,null,null,null,null,null,null,null,null,null,null,null,null,null,"[+] Badeend               "]
[null,null,null,null,null,null,null,null,null,null,null,null,null,null,null,null,null,null,null,null,null,null,null,null,null,null,null,null,null,null,null,null,null,null,null,null,null,null,null,null,null,null,null,null,null,null,null,null,"batjunior                 "]
[null,null,null,null,null,null,null,null,null,null,null,null,null,null,null,null,null,null,null,null,null,null,null,null,null,null,null,null,null,null,null,null,null,null,null,null,null,null,null,null,null,null,null,null,null,null,null,null,"[+] olio                  "]
[null,null,null,null,null,null,null,null,null,null,null,null,null,null,null,null,null,null,null,null,null,null,null,null,null,null,null,null,null,null,null,null,null,null,null,null,null,null,null,null,null,null,null,null,null,null,null,null,"[x] Whiplash              "]
[null,null,null,null,null,null,null,null,null,null,null,null,null,null,null,null,null,null,null,null,null,null,null,null,null,null,null,null,null,null,null,null,null,null,null,null,null,null,null,null,null,null,null,null,null,null,null,null,"Jaka                      "]
[null,null,null,null,null,null,null,null,null,null,null,null,null,null,null,null,null,null,null,null,null,null,null,null,null,null,null,null,null,null,null,null,null,null,null,null,null,null,null,null,null,null,null,null,null,null,null,null,"Double O Seven            "]
[null,null,null,null,null,null,null,null,null,null,null,null,null,null,null,null,null,null,null,null,null,null,null,null,null,null,null,null,null,null,null,null,null,null,null,null,null,null,null,null,null,null,null,null,null,null,null,null,"Gol_V8 ( 17 )             "]
[null,null,null,null,null,null,null,null,null,null,null,null,null,null,null,null,null,null,null,null,null,null,null,null,null,null,null,null,null,null,null,null,null,null,null,null,null,null,null,null,null,null,null,null,null,null,null,null,"laf                       "]
[null,null,null,null,null,null,null,null,null,null,null,null,null,null,null,null,null,null,null,null,null,null,null,null,null,null,null,null,null,null,null,null,null,null,null,null,null,null,null,null,null,null,null,null,null,null,null,null,"lds                       "]
[null,null,null,null,null,null,null,null,null,null,null,null,null,null,null,null,null,null,null,null,null,null,null,null,null,null,null,null,null,null,null,null,null,null,null,null,null,null,null,null,null,null,null,null,null,null,null,null,"ROMREI                    "]
[null,null,null,null,null,null,null,null,null,null,null,null,null,null,null,null,null,null,null,null,null,null,null,null,null,null,null,null,null,null,null,null,null,null,null,null,null,null,null,null,null,null,null,null,null,null,null,null,"KLE621                    "]
[null,null,null,null,null,null,null,null,null,null,null,null,null,null,null,null,null,null,null,null,null,null,null,null,null,null,null,null,null,null,null,null,null,null,null,null,null,null,null,null,null,null,null,null,null,null,null,null,"power79                   "]
[null,null,null,null,null,null,null,null,null,null,null,null,null,null,null,null,null,null,null,null,null,null,null,null,null,null,null,null,null,null,null,null,null,null,null,null,null,null,null,null,null,null,null,null,null,null,null,null,"[FUN] GR8 Arjen!          "]
[null,null,null,null,null,null,null,null,null,null,null,null,null,null,null,null,null,null,null,null,null,null,null,null,null,null,null,null,null,null,null,null,null,null,null,null,null,null,null,null,null,null,null,null,null,null,null,null,"RiantHoff                 "]
[null,null,null,null,null,null,null,null,null,null,null,null,null,null,null,null,null,null,null,null,null,null,null,null,null,null,null,null,null,null,null,null,null,null,null,null,null,null,null,null,null,null,null,null,null,null,null,null,"put                       "]
[null,null,null,null,null,null,null,null,null,null,null,null,null,null,null,null,null,null,null,null,null,null,null,null,null,null,null,null,null,null,null,null,null,null,null,null,null,null,null,null,null,null,null,null,null,null,null,null,"Qri                       "]
[null,null,null,null,null,null,null,null,null,null,null,null,null,null,null,null,null,null,null,null,null,null,null,null,null,null,null,null,null,null,null,null,null,null,null,null,null,null,null,null,null,null,null,null,null,null,null,null,"Ninjinha_br               "]
[null,null,null,null,null,null,null,null,null,null,null,null,null,null,null,null,null,null,null,null,null,null,null,null,null,null,null,null,null,null,null,null,null,null,null,null,null,null,null,null,null,null,null,null,null,null,null,null,"DEAD FISH                 "]
[null,null,null,null,null,null,null,null,null,null,null,null,null,null,null,null,null,null,null,null,null,null,null,null,null,null,null,null,null,null,null,null,null,null,null,null,null,null,null,null,null,null,null,null,null,null,null,null,"FliZeR                    "]
[null,null,null,null,null,null,null,null,null,null,null,null,null,null,null,null,null,null,null,null,null,null,null,null,null,null,null,null,null,null,null,null,null,null,null,null,null,null,null,null,null,null,null,null,null,null,null,null,"Xenor                     "]
[null,null,null,null,null,null,null,null,null,null,null,null,null,null,null,null,null,null,null,null,null,null,null,null,null,null,null,null,null,null,null,null,null,null,null,null,null,null,null,null,null,null,null,null,null,null,null,null,"FliZeR                    "]
[null,null,null,null,null,null,null,null,null,null,null,null,null,null,null,null,null,null,null,null,null,null,null,null,null,null,null,null,null,null,null,null,null,null,null,null,null,null,null,null,null,null,null,null,null,null,null,null,"kikiriki                  "]
[null,null,null,null,null,null,null,null,null,null,null,null,null,null,null,null,null,null,null,null,null,null,null,null,null,null,null,null,null,null,null,null,null,null,null,null,null,null,null,null,null,null,null,null,null,null,null,null,"Kooler                    "]
[null,null,null,null,null,null,null,null,null,null,null,null,null,null,null,null,null,null,null,null,null,null,null,null,null,null,null,null,null,null,null,null,null,null,null,null,null,null,null,null,null,null,null,null,null,null,null,null,"[iR] Etmil                "]
[null,null,null,null,null,null,null,null,null,null,null,null,null,null,null,null,null,null,null,null,null,null,null,null,null,null,null,null,null,null,null,null,null,null,null,null,null,null,null,null,null,null,null,null,null,null,null,null,"I-IenR!Kubica             "]

{"sheet":"all_spin_public","index":10,"n_rows":250,"n_cols":49,"rows_kept":250,"cut":false,"hidden":false,"merged":[]}
[]
[]
[]
[]
[null,null,null,"Spinner"]
[null,null,null,null,null,"Max","Min",null,"Av",null,"Week 1","Week 2","Week 3","Week 4",null,1,2,3,4,null,1,2,3,4,5,6,7,8,9,10,11,12,13,14,15,16,17,18,19,20,null,null,null,null,null,null,null,null,"copy from all weeks under here..values..and then copy to left and filter out duplicates"]
[null,null,{"$f":"ROW()-6","v":1},"[+] Tinjovic              ",null,{"$f":"IF($I7=\"\",0,MAX($K7:$N7))","v":100},{"$f":"IF($I7=\"\",0,MIN($K7:$N7))","v":99.880037609830438},null,{"$f":"IF(COUNT(K7:N7)=0,0,SUM(K7:N7)/COUNT(K7:N7))","v":99.970009402457606},null,100,99.880037609830438,100,100,null,{"$f":"IFERROR(RANK(K7,K$7:K$999,0),\"\")","v":1},{"$f":"IFERROR(RANK(L7,L$7:L$999,0),\"\")","v":2},{"$f":"IFERROR(RANK(M7,M$7:M$999,0),\"\")","v":1},{"$f":"IFERROR(RANK(N7,N$7:N$999,0),\"\")","v":1},null,{"$f":"IF(SUMIF($P7:$S7,U$6)/U$6=0,\"\",SUMIF($P7:$S7,U$6)/U$6)","v":3},1,"","","","","","","","",{"$f":"IF(SUMIF($P7:$S7,AE$6)/AE$6=0,\"\",SUMIF($P7:$S7,AE$6)/AE$6)","v":""},"","","","","","","","","",null,null,null,null,null,null,null,"[+] Tinjovic              ","[+] Tinjovic              "]
[null,null,2,"[x] Mike Nike             ",null,100,99.56159740642498,null,99.82557426798013,null,99.77344241661423,100,99.56159740642498,99.967257248881282,null,2,1,2,2,null,1,3,"","","","","","","","","","","","","","","","","","",null,null,null,null,null,null,null,"[x] Mike Nike             ","[x] Mike Nike             "]
[null,null,3,"[+] dede                  ",null,99.883581329355692,99.883581329355692,null,99.883581329355692,null,"","","",99.883581329355692,null,"","","",3,null,"","",1,"","","","","","","","","","","","","","","","","",null,null,null,null,null,null,null,"[fS]Palo                  ","[fS]Palo                  "]
[null,null,4,"[fS]Palo                  ",null,99.606670862177467,98.77689360447981,null,99.195970785065583,null,99.606670862177467,99.007878611030051,98.77689360447981,99.392440062575034,null,3,3,4,5,null,"","",2,1,1,"","","","","","","","","","","","","","","",null,null,null,null,null,null,null,"[x] Whiplash              ","[x] Whiplash              "]
[null,null,5,"[x] Stylus                ",null,99.472477898642978,98.898467432950184,null,99.185472665796581,null,"","",98.898467432950184,99.472477898642978,null,"","",3,4,null,"","",1,1,"","","","","","","","","","","","","","","","",null,null,null,null,null,null,null,"[fS]Hevonen               ","[fS]Hevonen               "]
[null,null,6,"Matti                     ",null,98.857641794302765,98.857641794302765,null,98.857641794302765,null,"","","",98.857641794302765,null,"","","",6,null,"","","","","",1,"","","","","","","","","","","","","","",null,null,null,null,null,null,null,"Kyna_Musti                ","Kyna_Musti                "]
[null,null,7,"[iR] iBlaze²              ",null,98.686651871793941,97.892720306513397,null,98.203780178058039,null,"",98.031968355866809,97.892720306513397,98.686651871793941,null,"",5,11,7,null,"","","","",1,"",1,"","","",1,"","","","","","","","","",null,null,null,null,null,null,null,"[+] Iziwýn                ","[+] Iziwýn                "]
[null,null,8,"Kyna_Musti                ",null,98.673740053050381,98.220017508024512,null,98.446878780537446,null,"",98.220017508024512,98.673740053050381,"",null,"",4,5,"",null,"","","",1,1,"","","","","","","","","","","","","","","",null,null,null,null,null,null,null,"mc65532                   ","mc65532                   "]
[null,null,9,"Ku Dern [Ri]              ",null,98.600058944886527,98.600058944886527,null,98.600058944886527,null,"","",98.600058944886527,"",null,"","",6,"",null,"","","","","",1,"","","","","","","","","","","","","","",null,null,null,null,null,null,null,"[+] Badeend               ","[+] Badeend               "]
[null,null,10,"[fS]Hevonen               ",null,98.441644562334204,98.417243549402144,null,98.429444055868174,null,98.417243549402144,"",98.441644562334204,"",null,4,"",7,"",null,"","","",1,"","",1,"","","","","","","","","","","","","",null,null,null,null,null,null,null,"Poisonous                 ","Poisonous                 "]
[null,null,11,"[x] Whiplash              ",null,98.407803650094394,98.157972295903335,null,98.282887972998864,null,98.407803650094394,"",98.157972295903335,"",null,5,"",8,"",null,{"$f":"IF(SUMIF($P17:$S17,U$6)/U$6=0,\"\",SUMIF($P17:$S17,U$6)/U$6)","v":""},"","","",1,"","",1,"","",{"$f":"IF(SUMIF($P17:$S17,AE$6)/AE$6=0,\"\",SUMIF($P17:$S17,AE$6)/AE$6)","v":""},"","","","","","","","","",null,null,null,null,null,null,null,"Chukie                    ","Chukie                    "]
[null,null,12,"majstorfantac             ",null,98.082730017826606,98.082730017826606,null,98.082730017826606,null,"","","",98.082730017826606,null,"","","",8,null,"","","","","","","",1,"","","","","","","","","","","","",null,null,null,null,null,null,null,"Jurgen-NL                 ","Jurgen-NL                 "]
[null,null,13,"messi                     ",null,98.057263433623163,98.057263433623163,null,98.057263433623163,null,"","","",98.057263433623163,null,"","","",9,null,"","","","","","","","",1,"","","","","","","","","","","",null,null,null,null,null,null,null,"KyNa                      ","KyNa                      "]
[null,null,14,"kikiriki                  ",null,98.028726129105465,98.028726129105465,null,98.028726129105465,null,"",98.028726129105465,"","",null,"",6,"","",null,"","","","","",1,"","","","","","","","","","","","","","",null,null,null,null,null,null,null,"fatty                     ","Kyna_Musti                "]
[null,null,15,"[+] xzeal                 ",null,98.017978190391986,96.540544045650549,null,97.487662054815019,null,"",96.540544045650549,98.017978190391986,97.904463928402521,null,"",10,9,10,null,"","","","","","","","",1,2,"","","","","","","","","","",null,null,null,null,null,null,null,"AnnicK                    ","fatty                     "]
[null,null,16,"Jurgen-NL                 ",null,97.933244916003531,96.832344454171121,null,97.440265762214764,null,"",96.832344454171121,97.933244916003531,97.555207916469598,null,"",9,10,11,null,"","","","","","","","",1,1,1,"","","","","","","","","",null,null,null,null,null,null,null,"[FN] Pornfest             ","AnnicK                    "]
[null,null,17,"mc65532                   ",null,97.86693191865605,96.018545537074871,null,96.99685833378571,null,97.10509754562618,96.018545537074871,97.86693191865605,"",null,6,12,12,"",null,"","","","","",1,"","","","","",2,"","","","","","","","",null,null,null,null,null,null,null,"Double O Seven            ","[FN] Pornfest             "]
[null,null,18,"Sig                       ",null,97.63483642793986,97.63483642793986,null,97.63483642793986,null,"","",97.63483642793986,"",null,"","",13,"",null,"","","","","","","","","","","","",1,"","","","","","","",null,null,null,null,null,null,null,"chill                     ","Double O Seven            "]
[null,null,19,"AnnicK                    ",null,97.552118795188534,96.831712348953715,null,97.257229073853566,null,"",97.552118795188534,96.831712348953715,97.387856077418419,null,"",7,16,12,null,"","","","","","",1,"","","","",1,"","","",1,"","","","",null,null,null,null,null,null,null,"Guillo                    ","chill                     "]
[null,null,20,"Ande                      ",null,97.020393606328824,97.020393606328824,null,97.020393606328824,null,"",97.020393606328824,"","",null,"",8,"","",null,"","","","","","","",1,"","","","","","","","","","","","",null,null,null,null,null,null,null,"Ande                      ","Guillo                    "]
[null,null,21,"chill                     ",null,96.916445623342156,96.916445623342156,null,96.916445623342156,null,"","",96.916445623342156,"",null,"","",14,"",null,{"$f":"IF(SUMIF($P27:$S27,U$6)/U$6=0,\"\",SUMIF($P27:$S27,U$6)/U$6)","v":""},"","","","","","","","","",{"$f":"IF(SUMIF($P27:$S27,AE$6)/AE$6=0,\"\",SUMIF($P27:$S27,AE$6)/AE$6)","v":""},"","",1,"","","","","","",null,null,null,null,null,null,null,"Scud                      ","Ande                      "]
[null,null,22,"[fS]Jan                   ",null,96.864868847627463,96.864868847627463,null,96.864868847627463,null,"","",96.864868847627463,"",null,"","",15,"",null,"","","","","","","","","","","","","","",1,"","","","","",null,null,null,null,null,null,null,"Diego Armando             ","Scud                      "]
[null,null,23,"[+] Iziwýn                ",null,96.466331025802404,96.466331025802404,null,96.466331025802404,null,96.466331025802404,"","","",null,7,"","","",null,"","","","","","",1,"","","","","","","","","","","","","",null,null,null,null,null,null,null,"lds                       ","Diego Armando             "]
[null,null,24,"Rub                       ",null,96.382257589154136,96.382257589154136,null,96.382257589154136,null,"","",96.382257589154136,"",null,"","",17,"",null,"","","","","","","","","","","","","","","","",1,"","","",null,null,null,null,null,null,null,"[PahaJori] Ender          ","lds                       "]
[null,null,25,"\\/\\/ | |_ |_              ",null,96.375190480822226,96.375190480822226,null,96.375190480822226,null,"",96.375190480822226,"","",null,"",11,"","",null,"","","","","","","","","","",1,"","","","","","","","","",null,null,null,null,null,null,null,"laf                       ","[PahaJori] Ender          "]
[null,null,26,"JJ Nylander               ",null,96.172736202568473,96.172736202568473,null,96.172736202568473,null,"","","",96.172736202568473,null,"","","",13,null,"","","","","","","","","","","","",1,"","","","","","","",null,null,null,null,null,null,null,"REIROM                    ","laf                       "]
[null,null,27,"GOl V8                    ",null,96.012660530432569,96.012660530432569,null,96.012660530432569,null,"","","",96.012660530432569,null,"","","",14,null,"","","","","","","","","","","","","",1,"","","","","","",null,null,null,null,null,null,null,"Janneosaursrex            ","REIROM                    "]
[null,null,28,"KyNa                      ",null,95.896790434235356,95.896790434235356,null,95.896790434235356,null,95.896790434235356,"","","",null,8,"","","",null,"","","","","","","",1,"","","","","","","","","","","","",null,null,null,null,null,null,null,"R.E.I.R.O.M               ","Janneosaursrex            "]
[null,null,29,"Shaytun                   ",null,95.728890020737069,95.728890020737069,null,95.728890020737069,null,"","","",95.728890020737069,null,"","","",15,null,"","","","","","","","","","","","","","",1,"","","","","",null,null,null,null,null,null,null,"Testaaja                  ","R.E.I.R.O.M               "]
[null,null,30,"pozdro600                 ",null,95.560713233127018,94.539236730090579,null,95.049974981608798,null,"","",95.560713233127018,94.539236730090579,null,"","",18,16,null,"","","","","","","","","","","","","","","",1,"",1,"","",null,null,null,null,null,null,null,"[FUN] GR8 Arjen!          ","Testaaja                  "]
[null,null,31,"fatty                     ",null,94.680223990568805,54.10303796647537,null,74.391630978522088,null,"",54.10303796647537,94.680223990568805,"",null,"",15,19,"",null,{"$f":"IF(SUMIF($P37:$S37,U$6)/U$6=0,\"\",SUMIF($P37:$S37,U$6)/U$6)","v":""},"","","","","","","","","",{"$f":"IF(SUMIF($P37:$S37,AE$6)/AE$6=0,\"\",SUMIF($P37:$S37,AE$6)/AE$6)","v":""},"","","",1,"","","",1,"",null,null,null,null,null,null,null,"stoner                    ","[FUN] GR8 Arjen!          "]
[null,null,32,"[LWD] JamsleJ             ",null,94.131299734748012,94.131299734748012,null,94.131299734748012,null,"","",94.131299734748012,"",null,"","",20,"",null,"","","","","","","","","","","","","","","","","","","",1,null,null,null,null,null,null,null,"[+] xzeal                 ","stoner                    "]
[null,null,33,"laf                       ",null,{"$f":"IF($I39=\"\",0,MAX($K39:$N39))","v":93.882945248584036},{"$f":"IF($I39=\"\",0,MIN($K39:$N39))","v":93.882945248584036},null,{"$f":"IF(COUNT(K39:N39)=0,0,SUM(K39:N39)/COUNT(K39:N39))","v":93.882945248584036},null,93.882945248584036,"","","",null,{"$f":"IFERROR(RANK(K39,K$7:K$999,0),\"\")","v":9},{"$f":"IFERROR(RANK(L39,L$7:L$999,0),\"\")","v":""},{"$f":"IFERROR(RANK(M39,M$7:M$999,0),\"\")","v":""},{"$f":"IFERROR(RANK(N39,N$7:N$999,0),\"\")","v":""},null,"","","","","","","","",1,"","","","","","","","","","","",null,null,null,null,null,null,null,"Matic                     ","Chukie                    "]
[null,null,34,"REIROM                    ",null,93.302387267904507,91.526117054751424,null,92.414252161327965,null,91.526117054751424,"",93.302387267904507,"",null,11,"",21,"",null,"","","","","","","","","","",1,"","","","","","","","","",null,null,null,null,null,null,null,"Serif                     ","[+] xzeal                 "]
[null,null,35,"Bubba                     ",null,92.001426579774986,92.001426579774986,null,92.001426579774986,null,"",92.001426579774986,"","",null,"",13,"","",null,"","","","","","","","","","","","",1,"","","","","","","",null,null,null,null,null,null,null,"Augusto                   ","Matic                     "]
[null,null,36,"Fama                      ",null,91.784197386765214,91.784197386765214,null,91.784197386765214,null,"",91.784197386765214,"","",null,"",14,"","",null,"","","","","","","","","","","","","",1,"","","","","","",null,null,null,null,null,null,null,"NBA                       ","Serif                     "]
[null,null,37,"stoner                    ",null,91.70232850849591,91.70232850849591,null,91.70232850849591,null,91.70232850849591,"","","",null,10,"","","",null,"","","","","","","","","",1,"","","","","","","","","","",null,null,null,null,null,null,null,"Pro08                     ","Augusto                   "]
[null,null,38,"Lavon                     ",null,90.075519194461933,90.075519194461933,null,90.075519194461933,null,90.075519194461933,"","","",null,12,"","","",null,"","","","","","","","","","","",1,"","","","","","","","",null,null,null,null,null,null,null,"RiantHoff                 ","NBA                       "]
[null,null,39,"[FUN] GR8 Arjen!          ",null,86.573316551290134,86.573316551290134,null,86.573316551290134,null,86.573316551290134,"","","",null,13,"","","",null,"","","","","","","","","","","","",1,"","","","","","","",null,null,null,null,null,null,null,"CrazybikE                 ","Augusto                   "]
[null,null,40,"suzuck                    ",null,85.415355569540594,85.415355569540594,null,85.415355569540594,null,85.415355569540594,"","","",null,14,"","","",null,"","","","","","","","","","","","","",1,"","","","","","",null,null,null,null,null,null,null,"Sharp                     ","Pro08                     "]
[null,null,41,"Iron Man                  ",null,82.828823159219638,82.828823159219638,null,82.828823159219638,null,82.828823159219638,"","","",null,15,"","","",null,{"$f":"IF(SUMIF($P47:$S47,U$6)/U$6=0,\"\",SUMIF($P47:$S47,U$6)/U$6)","v":""},"","","","","","","","","",{"$f":"IF(SUMIF($P47:$S47,AE$6)/AE$6=0,\"\",SUMIF($P47:$S47,AE$6)/AE$6)","v":""},"","","",1,"","","","","",null,null,null,null,null,null,null,"[+] Eddie                 ","lds                       "]
[null,null,42,"Augusto                   ",null,53.297671491504097,53.297671491504097,null,53.297671491504097,null,53.297671491504097,"","","",null,16,"","","",null,"","","","","","","","","","","","","","","",1,"","","","",null,null,null,null,null,null,null,"Fama                      ","RiantHoff                 "]
[null,null,43,"[+] Badeend               ",null,0,0,null,0,null,"","","","",null,"","","","",null,"","","","","","","","","","","","","","","","","","","","",null,null,null,null,null,null,null,"Rubao                     ","CrazybikE                 "]
[null,null,44,"Poisonous                 ",null,0,0,null,0,null,"","","","",null,"","","","",null,"","","","","","","","","","","","","","","","","","","","",null,null,null,null,null,null,null,"Jim                       ","Sharp                     "]
[null,null,45,"Chukie                    ",null,0,0,null,0,null,"","","","",null,"","","","",null,"","","","","","","","","","","","","","","","","","","","",null,null,null,null,null,null,null,"#5 Burnout                ","[+] Eddie                 "]
[null,null,46,"[FN] Pornfest             ",null,0,0,null,0,null,"","","","",null,"","","","",null,"","","","","","","","","","","","","","","","","","","","",null,null,null,null,null,null,null,"suzuck                    ","Fama                      "]
[null,null,47,"Double O Seven            ",null,0,0,null,0,null,"","","","",null,"","","","",null,"","","","","","","","","","","","","","","","","","","","",null,null,null,null,null,null,null,"Brian                     ","Rubao                     "]
[null,null,48,"Guillo                    ",null,0,0,null,0,null,"","","","",null,"","","","",null,"","","","","","","","","","","","","","","","","","","","",null,null,null,null,null,null,null,"Reinikainen               ","Jim                       "]
[null,null,49,"Scud                      ",null,0,0,null,0,null,"","","","",null,"","","","",null,"","","","","","","","","","","","","","","","","","","","",null,null,null,null,null,null,null,"Niksi                     ","#5 Burnout                "]
[null,null,50,"Diego Armando             ",null,0,0,null,0,null,"","","","",null,"","","","",null,"","","","","","","","","","","","","","","","","","","","",null,null,null,null,null,null,null,"Lavon                     ","suzuck                    "]
[null,null,51,"lds                       ",null,0,0,null,0,null,"","","","",null,"","","","",null,{"$f":"IF(SUMIF($P57:$S57,U$6)/U$6=0,\"\",SUMIF($P57:$S57,U$6)/U$6)","v":""},"","","","","","","","","",{"$f":"IF(SUMIF($P57:$S57,AE$6)/AE$6=0,\"\",SUMIF($P57:$S57,AE$6)/AE$6)","v":""},"","","","","","","","","",null,null,null,null,null,null,null,"Gol_v8                    ","Brian                     "]
[null,null,52,"[PahaJori] Ender          ",null,0,0,null,0,null,"","","","",null,"","","","",null,"","","","","","","","","","","","","","","","","","","","",null,null,null,null,null,null,null,"BIXOMAU                   ","Reinikainen               "]
[null,null,53,"Janneosaursrex            ",null,0,0,null,0,null,"","","","",null,"","","","",null,"","","","","","","","","","","","","","","","","","","","",null,null,null,null,null,null,null,"Reiska                    ","Niksi                     "]
[null,null,54,"R.E.I.R.O.M               ",null,0,0,null,0,null,"","","","",null,"","","","",null,"","","","","","","","","","","","","","","","","","","","",null,null,null,null,null,null,null,"DustyBadSkillz            ","Lavon                     "]
[null,null,55,"Testaaja                  ",null,0,0,null,0,null,"","","","",null,"","","","",null,"","","","","","","","","","","","","","","","","","","","",null,null,null,null,null,null,null,"Kiki                      ","Gol_v8                    "]
[null,null,56,"Matic                     ",null,0,0,null,0,null,"","","","",null,"","","","",null,"","","","","","","","","","","","","","","","","","","","",null,null,null,null,null,null,null,"Rahim                     ","BIXOMAU                   "]
[null,null,57,"Serif                     ",null,0,0,null,0,null,"","","","",null,"","","","",null,"","","","","","","","","","","","","","","","","","","","",null,null,null,null,null,null,null,"Iron Man                  ","Reiska                    "]
[null,null,58,"NBA                       ",null,0,0,null,0,null,"","","","",null,"","","","",null,"","","","","","","","","","","","","","","","","","","","",null,null,null,null,null,null,null,"Sig                       ","DustyBadSkillz            "]
[null,null,59,"Pro08                     ",null,0,0,null,0,null,"","","","",null,"","","","",null,"","","","","","","","","","","","","","","","","","","","",null,null,null,null,null,null,null,"Waenoo                    ","Kiki                      "]
[null,null,60,"RiantHoff                 ",null,0,0,null,0,null,"","","","",null,"","","","",null,"","","","","","","","","","","","","","","","","","","","",null,null,null,null,null,null,null,"Jukra                     ","Rahim                     "]
[null,null,61,"CrazybikE                 ",null,0,0,null,0,null,"","","","",null,"","","","",null,{"$f":"IF(SUMIF($P67:$S67,U$6)/U$6=0,\"\",SUMIF($P67:$S67,U$6)/U$6)","v":""},"","","","","","","","","",{"$f":"IF(SUMIF($P67:$S67,AE$6)/AE$6=0,\"\",SUMIF($P67:$S67,AE$6)/AE$6)","v":""},"","","","","","","","","",null,null,null,null,null,null,null,"JJN                       ","Iron Man                  "]
[null,null,62,"Sharp                     ",null,0,0,null,0,null,"","","","",null,"","","","",null,"","","","","","","","","","","","","","","","","","","","",null,null,null,null,null,null,null,"Storm                     ","Sig                       "]
[null,null,63,"[+] Eddie                 ",null,0,0,null,0,null,"","","","",null,"","","","",null,"","","","","","","","","","","","","","","","","","","","",null,null,null,null,null,null,null,"kikiriki                  ","Waenoo                    "]
[null,null,64,"Rubao                     ",null,0,0,null,0,null,"","","","",null,"","","","",null,"","","","","","","","","","","","","","","","","","","","",null,null,null,null,null,null,null,"{l}rard{l}                ","Jukra                     "]
[null,null,65,"Jim                       ",null,{"$f":"IF($I71=\"\",0,MAX($K71:$N71))","v":0},{"$f":"IF($I71=\"\",0,MIN($K71:$N71))","v":0},null,{"$f":"IF(COUNT(K71:N71)=0,0,SUM(K71:N71)/COUNT(K71:N71))","v":0},null,"","","","",null,{"$f":"IFERROR(RANK(K71,K$7:K$999,0),\"\")","v":""},{"$f":"IFERROR(RANK(L71,L$7:L$999,0),\"\")","v":""},{"$f":"IFERROR(RANK(M71,M$7:M$999,0),\"\")","v":""},{"$f":"IFERROR(RANK(N71,N$7:N$999,0),\"\")","v":""},null,"","","","","","","","","","","","","","","","","","","","",null,null,null,null,null,null,null,"shamino                   ","JJN                       "]
[null,null,66,"#5 Burnout                ",null,0,0,null,0,null,"","","","",null,"","","","",null,"","","","","","","","","","","","","","","","","","","","",null,null,null,null,null,null,null,"[iR] iBlaze²              ","Storm                     "]
[null,null,67,"Brian                     ",null,0,0,null,0,null,"","","","",null,"","","","",null,"","","","","","","","","","","","","","","","","","","","",null,null,null,null,null,null,null,"[x] Stylus                ","kikiriki                  "]
[null,null,68,"Reinikainen               ",null,0,0,null,0,null,"","","","",null,"","","","",null,"","","","","","","","","","","","","","","","","","","","",null,null,null,null,null,null,null,"Hazard                    ","{l}rard{l}                "]
[null,null,69,"Niksi                     ",null,0,0,null,0,null,"","","","",null,"","","","",null,"","","","","","","","","","","","","","","","","","","","",null,null,null,null,null,null,null,"\\/\\/ | |_ |_              ","shamino                   "]
[null,null,70,"Gol_v8                    ",null,0,0,null,0,null,"","","","",null,"","","","",null,"","","","","","","","","","","","","","","","","","","","",null,null,null,null,null,null,null,"Qpa                       ","[+] Tinjovic              "]
[null,null,71,"BIXOMAU                   ",null,0,0,null,0,null,"","","","",null,"","","","",null,{"$f":"IF(SUMIF($P77:$S77,U$6)/U$6=0,\"\",SUMIF($P77:$S77,U$6)/U$6)","v":""},"","","","","","","","","",{"$f":"IF(SUMIF($P77:$S77,AE$6)/AE$6=0,\"\",SUMIF($P77:$S77,AE$6)/AE$6)","v":""},"","","","","","","","","",null,null,null,null,null,null,null,"Serif  v2.5.3W            ","[x] Mike Nike             "]
[null,null,72,"Reiska                    ",null,0,0,null,0,null,"","","","",null,"","","","",null,"","","","","","","","","","","","","","","","","","","","",null,null,null,null,null,null,null,"Hengari                   ","Kyna_Musti                "]
[null,null,73,"DustyBadSkillz            ",null,0,0,null,0,null,"","","","",null,"","","","",null,"","","","","","","","","","","","","","","","","","","","",null,null,null,null,null,null,null,"pozdro600                 ","kikiriki                  "]
[null,null,74,"Kiki                      ",null,0,0,null,0,null,"","","","",null,"","","","",null,"","","","","","","","","","","","","","","","","","","","",null,null,null,null,null,null,null,"Bubba                     ","[fS]Palo                  "]
[null,null,75,"Rahim                     ",null,0,0,null,0,null,"","","","",null,"","","","",null,"","","","","","","","","","","","","","","","","","","","",null,null,null,null,null,null,null,"Popowitch                 ","[iR] iBlaze²              "]
[null,null,76,"Waenoo                    ",null,0,0,null,0,null,"","","","",null,"","","","",null,"","","","","","","","","","","","","","","","","","","","",null,null,null,null,null,null,null,"Qri                       ","AnnicK                    "]
[null,null,77,"Jukra                     ",null,0,0,null,0,null,"","","","",null,"","","","",null,"","","","","","","","","","","","","","","","","","","","",null,null,null,null,null,null,null,"batjunior                 ","Jurgen-NL                 "]
[null,null,78,"JJN                       ",null,0,0,null,0,null,"","","","",null,"","","","",null,"","","","","","","","","","","","","","","","","","","","",null,null,null,null,null,null,null,"Delux                     ","[+] xzeal                 "]
[null,null,79,"Storm                     ",null,0,0,null,0,null,"","","","",null,"","","","",null,"","","","","","","","","","","","","","","","","","","","",null,null,null,null,null,null,null,"power79                   ","Ande                      "]
[null,null,80,"{l}rard{l}                ",null,0,0,null,0,null,"","","","",null,"","","","",null,"","","","","","","","","","","","","","","","","","","","",null,null,null,null,null,null,null,"TD Juquinha               ","Sig                       "]
[null,null,81,"shamino                   ",null,0,0,null,0,null,"","","","",null,"","","","",null,{"$f":"IF(SUMIF($P87:$S87,U$6)/U$6=0,\"\",SUMIF($P87:$S87,U$6)/U$6)","v":""},"","","","","","","","","",{"$f":"IF(SUMIF($P87:$S87,AE$6)/AE$6=0,\"\",SUMIF($P87:$S87,AE$6)/AE$6)","v":""},"","","","","","","","","",null,null,null,null,null,null,null,"Alukin                    ","[x] Stylus                "]
[null,null,82,"Hazard                    ",null,0,0,null,0,null,"","","","",null,"","","","",null,"","","","","","","","","","","","","","","","","","","","",null,null,null,null,null,null,null,"GoingDillon               ","mc65532                   "]
[null,null,83,"Qpa                       ",null,0,0,null,0,null,"","","","",null,"","","","",null,"","","","","","","","","","","","","","","","","","","","",null,null,null,null,null,null,null,"[Qc]RSX                   ","[x] Whiplash              "]
[null,null,84,"Serif  v2.5.3W            ",null,0,0,null,0,null,"","","","",null,"","","","",null,"","","","","","","","","","","","","","","","","","","","",null,null,null,null,null,null,null,"dire                      ","[+] Badeend               "]
[null,null,85,"Hengari                   ",null,0,0,null,0,null,"","","","",null,"","","","",null,"","","","","","","","","","","","","","","","","","","","",null,null,null,null,null,null,null,"cavani                    ","Hazard                    "]
[null,null,86,"Popowitch                 ",null,0,0,null,0,null,"","","","",null,"","","","",null,"","","","","","","","","","","","","","","","","","","","",null,null,null,null,null,null,null,"Ninjinha_br               ","[fS]Hevonen               "]
[null,null,87,"Qri                       ",null,0,0,null,0,null,"","","","",null,"","","","",null,"","","","","","","","","","","","","","","","","","","","",null,null,null,null,null,null,null,"bohun                     ","fatty                     "]
[null,null,88,"batjunior                 ",null,0,0,null,0,null,"","","","",null,"","","","",null,"","","","","","","","","","","","","","","","","","","","",null,null,null,null,null,null,null,"Rub                       ","Double O Seven            "]
[null,null,89,"Delux                     ",null,0,0,null,0,null,"","","","",null,"","","","",null,"","","","","","","","","","","","","","","","","","","","",null,null,null,null,null,null,null,"Kooler                    ","Scud                      "]
[null,null,90,"power79                   ",null,0,0,null,0,null,"","","","",null,"","","","",null,"","","","","","","","","","","","","","","","","","","","",null,null,null,null,null,null,null,"KORINGA                   ","Poisonous                 "]
[null,null,91,"TD Juquinha               ",null,0,0,null,0,null,"","","","",null,"","","","",null,{"$f":"IF(SUMIF($P97:$S97,U$6)/U$6=0,\"\",SUMIF($P97:$S97,U$6)/U$6)","v":""},"","","","","","","","","",{"$f":"IF(SUMIF($P97:$S97,AE$6)/AE$6=0,\"\",SUMIF($P97:$S97,AE$6)/AE$6)","v":""},"","","","","","","","","",null,null,null,null,null,null,null,"Oppy                      ","\\/\\/ | |_ |_              "]
[null,null,92,"Alukin                    ",null,0,0,null,0,null,"","","","",null,"","","","",null,"","","","","","","","","","","","","","","","","","","","",null,null,null,null,null,null,null,"[fS]Jan                   ","Qpa                       "]
[null,null,93,"GoingDillon               ",null,0,0,null,0,null,"","","","",null,"","","","",null,"","","","","","","","","","","","","","","","","","","","",null,null,null,null,null,null,null,"Matti                     ","Serif  v2.5.3W            "]
[null,null,94,"[Qc]RSX                   ",null,0,0,null,0,null,"","","","",null,"","","","",null,"","","","","","","","","","","","","","","","","","","","",null,null,null,null,null,null,null,"messi                     ","lds                       "]
[null,null,95,"dire                      ",null,0,0,null,0,null,"","","","",null,"","","","",null,"","","","","","","","","","","","","","","","","","","","",null,null,null,null,null,null,null,"Ku Dern [Ri]              ","Hengari                   "]
[null,null,96,"cavani                    ",null,0,0,null,0,null,"","","","",null,"","","","",null,"","","","","","","","","","","","","","","","","","","","",null,null,null,null,null,null,null,"[$pectre]Jaw$             ","pozdro600                 "]
[null,null,97,"Ninjinha_br               ",null,{"$f":"IF($I103=\"\",0,MAX($K103:$N103))","v":0},{"$f":"IF($I103=\"\",0,MIN($K103:$N103))","v":0},null,{"$f":"IF(COUNT(K103:N103)=0,0,SUM(K103:N103)/COUNT(K103:N103))","v":0},null,"","","","",null,{"$f":"IFERROR(RANK(K103,K$7:K$999,0),\"\")","v":""},{"$f":"IFERROR(RANK(L103,L$7:L$999,0),\"\")","v":""},{"$f":"IFERROR(RANK(M103,M$7:M$999,0),\"\")","v":""},{"$f":"IFERROR(RANK(N103,N$7:N$999,0),\"\")","v":""},null,"","","","","","","","","","","","","","","","","","","","",null,null,null,null,null,null,null,"Magnat                    ","Gol_v8                    "]
[null,null,98,"bohun                     ",null,0,0,null,0,null,"","","","",null,"","","","",null,"","","","","","","","","","","","","","","","","","","","",null,null,null,null,null,null,null,"straits                   ","Bubba                     "]
[null,null,99,"Kooler                    ",null,0,0,null,0,null,"","","","",null,"","","","",null,"","","","","","","","","","","","","","","","","","","","",null,null,null,null,null,null,null,"[ITA]_AIR_GIGI            ","[PahaJori] Ender          "]
[null,null,100,"KORINGA                   ",null,0,0,null,0,null,"","","","",null,"","","","",null,"","","","","","","","","","","","","","","","","","","","",null,null,null,null,null,null,null,"BrunoA                    ","Fama                      "]
[null,null,101,"Oppy                      ",null,0,0,null,0,null,"","","","",null,"","","","",null,{"$f":"IF(SUMIF($P107:$S107,U$6)/U$6=0,\"\",SUMIF($P107:$S107,U$6)/U$6)","v":""},"","","","","","","","","",{"$f":"IF(SUMIF($P107:$S107,AE$6)/AE$6=0,\"\",SUMIF($P107:$S107,AE$6)/AE$6)","v":""},"","","","","","","","","",null,null,null,null,null,null,null,"koripallo tits            ","R.E.I.R.O.M               "]
[null,null,102,"[$pectre]Jaw$             ",null,0,0,null,0,null,"","","","",null,"","","","",null,"","","","","","","","","","","","","","","","","","","","",null,null,null,null,null,null,null,"Rendy                     ","Popowitch                 "]
[null,null,103,"Magnat                    ",null,0,0,null,0,null,"","","","",null,"","","","",null,"","","","","","","","","","","","","","","","","","","","",null,null,null,null,null,null,null,"Frank05                   ","[FUN] GR8 Arjen!          "]
[null,null,104,"straits                   ",null,0,0,null,0,null,"","","","",null,"","","","",null,"","","","","","","","","","","","","","","","","","","","",null,null,null,null,null,null,null,"[5] Burnout               ","Poisonous                 "]
[null,null,105,"[ITA]_AIR_GIGI            ",null,0,0,null,0,null,"","","","",null,"","","","",null,"","","","","","","","","","","","","","","","","","","","",null,null,null,null,null,null,null,"[LWD] JamsleJ             ","NBA                       "]
[null,null,106,"BrunoA                    ",null,0,0,null,0,null,"","","","",null,"","","","",null,"","","","","","","","","","","","","","","","","","","","",null,null,null,null,null,null,null,"Thunda                    ","Diego Armando             "]
[null,null,107,"koripallo tits            ",null,0,0,null,0,null,"","","","",null,"","","","",null,"","","","","","","","","","","","","","","","","","","","",null,null,null,null,null,null,null,"Broomstig                 ","Qri                       "]
[null,null,108,"Rendy                     ",null,0,0,null,0,null,"","","","",null,"","","","",null,"","","","","","","","","","","","","","","","","","","","",null,null,null,null,null,null,null,"[+] dede                  ","batjunior                 "]
[null,null,109,"Frank05                   ",null,0,0,null,0,null,"","","","",null,"","","","",null,"","","","","","","","","","","","","","","","","","","","",null,null,null,null,null,null,null,"GOl V8                    ","CrazybikE                 "]
[null,null,110,"[5] Burnout               ",null,0,0,null,0,null,"","","","",null,"","","","",null,"","","","","","","","","","","","","","","","","","","","",null,null,null,null,null,null,null,"majstorfantac             ","Matic                     "]
[null,null,111,"Thunda                    ",null,0,0,null,0,null,"","","","",null,"","","","",null,{"$f":"IF(SUMIF($P117:$S117,U$6)/U$6=0,\"\",SUMIF($P117:$S117,U$6)/U$6)","v":""},"","","","","","","","","",{"$f":"IF(SUMIF($P117:$S117,AE$6)/AE$6=0,\"\",SUMIF($P117:$S117,AE$6)/AE$6)","v":""},"","","","","","","","","",null,null,null,null,null,null,null,"Shaytun                   ","Delux                     "]
[null,null,112,"Broomstig                 ",null,0,0,null,0,null,"","","","",null,"","","","",null,"","","","","","","","","","","","","","","","","","","","",null,null,null,null,null,null,null,"JJ Nylander               ","Chukie                    "]
[null,null,113,"Fa la la la la            ",null,0,0,null,0,null,"","","","",null,"","","","",null,"","","","","","","","","","","","","","","","","","","","",null,null,null,null,null,null,null,"Fa la la la la            ","power79                   "]
[null,null,114,"Nico Hulkenberg           ",null,0,0,null,0,null,"","","","",null,"","","","",null,"","","","","","","","","","","","","","","","","","","","",null,null,null,null,null,null,null,"Nico Hulkenberg           ","NBA                       "]
[null,null,115,"Bleached Anus             ",null,0,0,null,0,null,"","","","",null,"","","","",null,"","","","","","","","","","","","","","","","","","","","",null,null,null,null,null,null,null,"Bleached Anus             ","TD Juquinha               "]
[null,null,116,"[+] olio                  ",null,0,0,null,0,null,"","","","",null,"","","","",null,"","","","","","","","","","","","","","","","","","","","",null,null,null,null,null,null,null,"[+] olio                  ","Alukin                    "]
[null,null,117,"Jaka                      ",null,0,0,null,0,null,"","","","",null,"","","","",null,"","","","","","","","","","","","","","","","","","","","",null,null,null,null,null,null,null,"Jaka                      ","REIROM                    "]
[null,null,118,"Gol_V8 ( 17 )             ",null,0,0,null,0,null,"","","","",null,"","","","",null,"","","","","","","","","","","","","","","","","","","","",null,null,null,null,null,null,null,"Gol_V8 ( 17 )             ","stoner                    "]
[null,null,119,"ROMREI                    ",null,0,0,null,0,null,"","","","",null,"","","","",null,"","","","","","","","","","","","","","","","","","","","",null,null,null,null,null,null,null,"ROMREI                    ","GoingDillon               "]
[null,null,120,"KLE621                    ",null,0,0,null,0,null,"","","","",null,"","","","",null,"","","","","","","","","","","","","","","","","","","","",null,null,null,null,null,null,null,"KLE621                    ","[Qc]RSX                   "]
[null,null,121,"put                       ",null,0,0,null,0,null,"","","","",null,"","","","",null,{"$f":"IF(SUMIF($P127:$S127,U$6)/U$6=0,\"\",SUMIF($P127:$S127,U$6)/U$6)","v":""},"","","","","","","","","",{"$f":"IF(SUMIF($P127:$S127,AE$6)/AE$6=0,\"\",SUMIF($P127:$S127,AE$6)/AE$6)","v":""},"","","","","","","","","",null,null,null,null,null,null,null,"put                       ","laf                       "]
[null,null,122,"DEAD FISH                 ",null,0,0,null,0,null,"","","","",null,"","","","",null,"","","","","","","","","","","","","","","","","","","","",null,null,null,null,null,null,null,"DEAD FISH                 ","dire                      "]
[null,null,123,"FliZeR                    ",null,0,0,null,0,null,"","","","",null,"","","","",null,"","","","","","","","","","","","","","","","","","","","",null,null,null,null,null,null,null,"FliZeR                    ","cavani                    "]
[null,null,124,"Xenor                     ",null,0,0,null,0,null,"","","","",null,"","","","",null,"","","","","","","","","","","","","","","","","","","","",null,null,null,null,null,null,null,"Xenor                     ","Ninjinha_br               "]
[null,null,125,"[iR] Etmil                ",null,0,0,null,0,null,"","","","",null,"","","","",null,"","","","","","","","","","","","","","","","","","","","",null,null,null,null,null,null,null,"[iR] Etmil                ","bohun                     "]
[null,null,126,"I-IenR!Kubica             ",null,0,0,null,0,null,"","","","",null,"","","","",null,"","","","","","","","","","","","","","","","","","","","",null,null,null,null,null,null,null,"I-IenR!Kubica             ","Rub                       "]
[null,null,null,null,null,null,null,null,null,null,null,null,null,null,null,null,null,null,null,null,null,null,null,null,null,null,null,null,null,null,null,null,null,null,null,null,null,null,null,null,null,null,null,null,null,null,null,null,"Kooler                    "]
[null,null,null,null,null,null,null,null,null,null,null,null,null,null,null,null,null,null,null,null,null,null,null,null,null,null,null,null,null,null,null,null,null,null,null,null,null,null,null,null,null,null,null,null,null,null,null,null,"KORINGA                   "]
[null,null,null,null,null,null,null,null,null,null,null,null,null,null,null,null,null,null,null,null,null,null,null,null,null,null,null,null,null,null,null,null,null,null,null,null,null,null,null,null,null,null,null,null,null,null,null,null,"Oppy                      "]
[null,null,null,null,null,null,null,null,null,null,null,null,null,null,null,null,null,null,null,null,null,null,null,null,null,null,null,null,null,null,null,null,null,null,null,null,null,null,null,null,null,null,null,null,null,null,null,null,"[+] Tinjovic              "]
[null,null,null,null,null,null,null,null,null,null,null,null,null,null,null,null,null,null,null,null,null,null,null,null,null,null,null,null,null,null,null,null,null,null,null,null,null,null,null,null,null,null,null,null,null,null,null,null,"[x] Mike Nike             "]
[null,null,null,null,null,null,null,null,null,null,null,null,null,null,null,null,null,null,null,null,null,null,null,null,null,null,null,null,null,null,null,null,null,null,null,null,null,null,null,null,null,null,null,null,null,null,null,null,"[x] Stylus                "]
[null,null,null,null,null,null,null,null,null,null,null,null,null,null,null,null,null,null,null,null,null,null,null,null,null,null,null,null,null,null,null,null,null,null,null,null,null,null,null,null,null,null,null,null,null,null,null,null,"[fS]Palo                  "]
[null,null,null,null,null,null,null,null,null,null,null,null,null,null,null,null,null,null,null,null,null,null,null,null,null,null,null,null,null,null,null,null,null,null,null,null,null,null,null,null,null,null,null,null,null,null,null,null,"Kyna_Musti                "]
[null,null,null,null,null,null,null,null,null,null,null,null,null,null,null,null,null,null,null,null,null,null,null,null,null,null,null,null,null,null,null,null,null,null,null,null,null,null,null,null,null,null,null,null,null,null,null,null,"[x] Whiplash              "]
[null,null,null,null,null,null,null,null,null,null,null,null,null,null,null,null,null,null,null,null,null,null,null,null,null,null,null,null,null,null,null,null,null,null,null,null,null,null,null,null,null,null,null,null,null,null,null,null,"[fS]Hevonen               "]
[null,null,null,null,null,null,null,null,null,null,null,null,null,null,null,null,null,null,null,null,null,null,null,null,null,null,null,null,null,null,null,null,null,null,null,null,null,null,null,null,null,null,null,null,null,null,null,null,"[+] xzeal                 "]
[null,null,null,null,null,null,null,null,null,null,null,null,null,null,null,null,null,null,null,null,null,null,null,null,null,null,null,null,null,null,null,null,null,null,null,null,null,null,null,null,null,null,null,null,null,null,null,null,"Jurgen-NL                 "]
[null,null,null,null,null,null,null,null,null,null,null,null,null,null,null,null,null,null,null,null,null,null,null,null,null,null,null,null,null,null,null,null,null,null,null,null,null,null,null,null,null,null,null,null,null,null,null,null,"[iR] iBlaze²              "]
[null,null,null,null,null,null,null,null,null,null,null,null,null,null,null,null,null,null,null,null,null,null,null,null,null,null,null,null,null,null,null,null,null,null,null,null,null,null,null,null,null,null,null,null,null,null,null,null,"AnnicK                    "]
[null,null,null,null,null,null,null,null,null,null,null,null,null,null,null,null,null,null,null,null,null,null,null,null,null,null,null,null,null,null,null,null,null,null,null,null,null,null,null,null,null,null,null,null,null,null,null,null,"mc65532                   "]
[null,null,null,null,null,null,null,null,null,null,null,null,null,null,null,null,null,null,null,null,null,null,null,null,null,null,null,null,null,null,null,null,null,null,null,null,null,null,null,null,null,null,null,null,null,null,null,null,"fatty                     "]
[null,null,null,null,null,null,null,null,null,null,null,null,null,null,null,null,null,null,null,null,null,null,null,null,null,null,null,null,null,null,null,null,null,null,null,null,null,null,null,null,null,null,null,null,null,null,null,null,"[fS]Jan                   "]
[null,null,null,null,null,null,null,null,null,null,null,null,null,null,null,null,null,null,null,null,null,null,null,null,null,null,null,null,null,null,null,null,null,null,null,null,null,null,null,null,null,null,null,null,null,null,null,null,"pozdro600                 "]
[null,null,null,null,null,null,null,null,null,null,null,null,null,null,null,null,null,null,null,null,null,null,null,null,null,null,null,null,null,null,null,null,null,null,null,null,null,null,null,null,null,null,null,null,null,null,null,null,"chill                     "]
[null,null,null,null,null,null,null,null,null,null,null,null,null,null,null,null,null,null,null,null,null,null,null,null,null,null,null,null,null,null,null,null,null,null,null,null,null,null,null,null,null,null,null,null,null,null,null,null,"Qpa                       "]
[null,null,null,null,null,null,null,null,null,null,null,null,null,null,null,null,null,null,null,null,null,null,null,null,null,null,null,null,null,null,null,null,null,null,null,null,null,null,null,null,null,null,null,null,null,null,null,null,"Gol_v8                    "]
[null,null,null,null,null,null,null,null,null,null,null,null,null,null,null,null,null,null,null,null,null,null,null,null,null,null,null,null,null,null,null,null,null,null,null,null,null,null,null,null,null,null,null,null,null,null,null,null,"Rub                       "]
[null,null,null,null,null,null,null,null,null,null,null,null,null,null,null,null,null,null,null,null,null,null,null,null,null,null,null,null,null,null,null,null,null,null,null,null,null,null,null,null,null,null,null,null,null,null,null,null,"Augusto                   "]
[null,null,null,null,null,null,null,null,null,null,null,null,null,null,null,null,null,null,null,null,null,null,null,null,null,null,null,null,null,null,null,null,null,null,null,null,null,null,null,null,null,null,null,null,null,null,null,null,"Chukie                    "]
[null,null,null,null,null,null,null,null,null,null,null,null,null,null,null,null,null,null,null,null,null,null,null,null,null,null,null,null,null,null,null,null,null,null,null,null,null,null,null,null,null,null,null,null,null,null,null,null,"[FUN] GR8 Arjen!          "]
[null,null,null,null,null,null,null,null,null,null,null,null,null,null,null,null,null,null,null,null,null,null,null,null,null,null,null,null,null,null,null,null,null,null,null,null,null,null,null,null,null,null,null,null,null,null,null,null,"\\/\\/ | |_ |_              "]
[null,null,null,null,null,null,null,null,null,null,null,null,null,null,null,null,null,null,null,null,null,null,null,null,null,null,null,null,null,null,null,null,null,null,null,null,null,null,null,null,null,null,null,null,null,null,null,null,"Matti                     "]
[null,null,null,null,null,null,null,null,null,null,null,null,null,null,null,null,null,null,null,null,null,null,null,null,null,null,null,null,null,null,null,null,null,null,null,null,null,null,null,null,null,null,null,null,null,null,null,null,"messi                     "]
[null,null,null,null,null,null,null,null,null,null,null,null,null,null,null,null,null,null,null,null,null,null,null,null,null,null,null,null,null,null,null,null,null,null,null,null,null,null,null,null,null,null,null,null,null,null,null,null,"REIROM                    "]
[null,null,null,null,null,null,null,null,null,null,null,null,null,null,null,null,null,null,null,null,null,null,null,null,null,null,null,null,null,null,null,null,null,null,null,null,null,null,null,null,null,null,null,null,null,null,null,null,"[+] Badeend               "]
[null,null,null,null,null,null,null,null,null,null,null,null,null,null,null,null,null,null,null,null,null,null,null,null,null,null,null,null,null,null,null,null,null,null,null,null,null,null,null,null,null,null,null,null,null,null,null,null,"[PahaJori] Ender          "]
[null,null,null,null,null,null,null,null,null,null,null,null,null,null,null,null,null,null,null,null,null,null,null,null,null,null,null,null,null,null,null,null,null,null,null,null,null,null,null,null,null,null,null,null,null,null,null,null,"Ku Dern [Ri]              "]
[null,null,null,null,null,null,null,null,null,null,null,null,null,null,null,null,null,null,null,null,null,null,null,null,null,null,null,null,null,null,null,null,null,null,null,null,null,null,null,null,null,null,null,null,null,null,null,null,"Sig                       "]
[null,null,null,null,null,null,null,null,null,null,null,null,null,null,null,null,null,null,null,null,null,null,null,null,null,null,null,null,null,null,null,null,null,null,null,null,null,null,null,null,null,null,null,null,null,null,null,null,"Double O Seven            "]
[null,null,null,null,null,null,null,null,null,null,null,null,null,null,null,null,null,null,null,null,null,null,null,null,null,null,null,null,null,null,null,null,null,null,null,null,null,null,null,null,null,null,null,null,null,null,null,null,"Matic                     "]
[null,null,null,null,null,null,null,null,null,null,null,null,null,null,null,null,null,null,null,null,null,null,null,null,null,null,null,null,null,null,null,null,null,null,null,null,null,null,null,null,null,null,null,null,null,null,null,null,"Alukin                    "]
[null,null,null,null,null,null,null,null,null,null,null,null,null,null,null,null,null,null,null,null,null,null,null,null,null,null,null,null,null,null,null,null,null,null,null,null,null,null,null,null,null,null,null,null,null,null,null,null,"lds                       "]
[null,null,null,null,null,null,null,null,null,null,null,null,null,null,null,null,null,null,null,null,null,null,null,null,null,null,null,null,null,null,null,null,null,null,null,null,null,null,null,null,null,null,null,null,null,null,null,null,"Ninjinha_br               "]
[null,null,null,null,null,null,null,null,null,null,null,null,null,null,null,null,null,null,null,null,null,null,null,null,null,null,null,null,null,null,null,null,null,null,null,null,null,null,null,null,null,null,null,null,null,null,null,null,"[$pectre]Jaw$             "]
[null,null,null,null,null,null,null,null,null,null,null,null,null,null,null,null,null,null,null,null,null,null,null,null,null,null,null,null,null,null,null,null,null,null,null,null,null,null,null,null,null,null,null,null,null,null,null,null,"stoner                    "]
[null,null,null,null,null,null,null,null,null,null,null,null,null,null,null,null,null,null,null,null,null,null,null,null,null,null,null,null,null,null,null,null,null,null,null,null,null,null,null,null,null,null,null,null,null,null,null,null,"kikiriki                  "]
[null,null,null,null,null,null,null,null,null,null,null,null,null,null,null,null,null,null,null,null,null,null,null,null,null,null,null,null,null,null,null,null,null,null,null,null,null,null,null,null,null,null,null,null,null,null,null,null,"Qri                       "]
[null,null,null,null,null,null,null,null,null,null,null,null,null,null,null,null,null,null,null,null,null,null,null,null,null,null,null,null,null,null,null,null,null,null,null,null,null,null,null,null,null,null,null,null,null,null,null,null,"power79                   "]
[null,null,null,null,null,null,null,null,null,null,null,null,null,null,null,null,null,null,null,null,null,null,null,null,null,null,null,null,null,null,null,null,null,null,null,null,null,null,null,null,null,null,null,null,null,null,null,null,"batjunior                 "]
[null,null,null,null,null,null,null,null,null,null,null,null,null,null,null,null,null,null,null,null,null,null,null,null,null,null,null,null,null,null,null,null,null,null,null,null,null,null,null,null,null,null,null,null,null,null,null,null,"Serif  v2.5.3W            "]
[null,null,null,null,null,null,null,null,null,null,null,null,null,null,null,null,null,null,null,null,null,null,null,null,null,null,null,null,null,null,null,null,null,null,null,null,null,null,null,null,null,null,null,null,null,null,null,null,"Magnat                    "]
[null,null,null,null,null,null,null,null,null,null,null,null,null,null,null,null,null,null,null,null,null,null,null,null,null,null,null,null,null,null,null,null,null,null,null,null,null,null,null,null,null,null,null,null,null,null,null,null,"RiantHoff                 "]
[null,null,null,null,null,null,null,null,null,null,null,null,null,null,null,null,null,null,null,null,null,null,null,null,null,null,null,null,null,null,null,null,null,null,null,null,null,null,null,null,null,null,null,null,null,null,null,null,"Popowitch                 "]
[null,null,null,null,null,null,null,null,null,null,null,null,null,null,null,null,null,null,null,null,null,null,null,null,null,null,null,null,null,null,null,null,null,null,null,null,null,null,null,null,null,null,null,null,null,null,null,null,"straits                   "]
[null,null,null,null,null,null,null,null,null,null,null,null,null,null,null,null,null,null,null,null,null,null,null,null,null,null,null,null,null,null,null,null,null,null,null,null,null,null,null,null,null,null,null,null,null,null,null,null,"[ITA]_AIR_GIGI            "]
[null,null,null,null,null,null,null,null,null,null,null,null,null,null,null,null,null,null,null,null,null,null,null,null,null,null,null,null,null,null,null,null,null,null,null,null,null,null,null,null,null,null,null,null,null,null,null,null,"BrunoA                    "]
[null,null,null,null,null,null,null,null,null,null,null,null,null,null,null,null,null,null,null,null,null,null,null,null,null,null,null,null,null,null,null,null,null,null,null,null,null,null,null,null,null,null,null,null,null,null,null,null,"CrazybikE                 "]
[null,null,null,null,null,null,null,null,null,null,null,null,null,null,null,null,null,null,null,null,null,null,null,null,null,null,null,null,null,null,null,null,null,null,null,null,null,null,null,null,null,null,null,null,null,null,null,null,"koripallo tits            "]
[null,null,null,null,null,null,null,null,null,null,null,null,null,null,null,null,null,null,null,null,null,null,null,null,null,null,null,null,null,null,null,null,null,null,null,null,null,null,null,null,null,null,null,null,null,null,null,null,"bohun                     "]
[null,null,null,null,null,null,null,null,null,null,null,null,null,null,null,null,null,null,null,null,null,null,null,null,null,null,null,null,null,null,null,null,null,null,null,null,null,null,null,null,null,null,null,null,null,null,null,null,"Rendy                     "]
[null,null,null,null,null,null,null,null,null,null,null,null,null,null,null,null,null,null,null,null,null,null,null,null,null,null,null,null,null,null,null,null,null,null,null,null,null,null,null,null,null,null,null,null,null,null,null,null,"Hazard                    "]
[null,null,null,null,null,null,null,null,null,null,null,null,null,null,null,null,null,null,null,null,null,null,null,null,null,null,null,null,null,null,null,null,null,null,null,null,null,null,null,null,null,null,null,null,null,null,null,null,"Frank05                   "]
[null,null,null,null,null,null,null,null,null,null,null,null,null,null,null,null,null,null,null,null,null,null,null,null,null,null,null,null,null,null,null,null,null,null,null,null,null,null,null,null,null,null,null,null,null,null,null,null,"[5] Burnout               "]
[null,null,null,null,null,null,null,null,null,null,null,null,null,null,null,null,null,null,null,null,null,null,null,null,null,null,null,null,null,null,null,null,null,null,null,null,null,null,null,null,null,null,null,null,null,null,null,null,"[LWD] JamsleJ             "]
[null,null,null,null,null,null,null,null,null,null,null,null,null,null,null,null,null,null,null,null,null,null,null,null,null,null,null,null,null,null,null,null,null,null,null,null,null,null,null,null,null,null,null,null,null,null,null,null,"CrazybikE                 "]
[null,null,null,null,null,null,null,null,null,null,null,null,null,null,null,null,null,null,null,null,null,null,null,null,null,null,null,null,null,null,null,null,null,null,null,null,null,null,null,null,null,null,null,null,null,null,null,null,"laf                       "]
[null,null,null,null,null,null,null,null,null,null,null,null,null,null,null,null,null,null,null,null,null,null,null,null,null,null,null,null,null,null,null,null,null,null,null,null,null,null,null,null,null,null,null,null,null,null,null,null,"Thunda                    "]
[null,null,null,null,null,null,null,null,null,null,null,null,null,null,null,null,null,null,null,null,null,null,null,null,null,null,null,null,null,null,null,null,null,null,null,null,null,null,null,null,null,null,null,null,null,null,null,null,"Broomstig                 "]
[null,null,null,null,null,null,null,null,null,null,null,null,null,null,null,null,null,null,null,null,null,null,null,null,null,null,null,null,null,null,null,null,null,null,null,null,null,null,null,null,null,null,null,null,null,null,null,null,"[+] Tinjovic              "]
[null,null,null,null,null,null,null,null,null,null,null,null,null,null,null,null,null,null,null,null,null,null,null,null,null,null,null,null,null,null,null,null,null,null,null,null,null,null,null,null,null,null,null,null,null,null,null,null,"[x] Mike Nike             "]
[null,null,null,null,null,null,null,null,null,null,null,null,null,null,null,null,null,null,null,null,null,null,null,null,null,null,null,null,null,null,null,null,null,null,null,null,null,null,null,null,null,null,null,null,null,null,null,null,"[x] Stylus                "]
[null,null,null,null,null,null,null,null,null,null,null,null,null,null,null,null,null,null,null,null,null,null,null,null,null,null,null,null,null,null,null,null,null,null,null,null,null,null,null,null,null,null,null,null,null,null,null,null,"Matti                     "]
[null,null,null,null,null,null,null,null,null,null,null,null,null,null,null,null,null,null,null,null,null,null,null,null,null,null,null,null,null,null,null,null,null,null,null,null,null,null,null,null,null,null,null,null,null,null,null,null,"Jurgen-NL                 "]
[null,null,null,null,null,null,null,null,null,null,null,null,null,null,null,null,null,null,null,null,null,null,null,null,null,null,null,null,null,null,null,null,null,null,null,null,null,null,null,null,null,null,null,null,null,null,null,null,"[+] xzeal                 "]
[null,null,null,null,null,null,null,null,null,null,null,null,null,null,null,null,null,null,null,null,null,null,null,null,null,null,null,null,null,null,null,null,null,null,null,null,null,null,null,null,null,null,null,null,null,null,null,null,"[iR] iBlaze²              "]
[null,null,null,null,null,null,null,null,null,null,null,null,null,null,null,null,null,null,null,null,null,null,null,null,null,null,null,null,null,null,null,null,null,null,null,null,null,null,null,null,null,null,null,null,null,null,null,null,"AnnicK                    "]
[null,null,null,null,null,null,null,null,null,null,null,null,null,null,null,null,null,null,null,null,null,null,null,null,null,null,null,null,null,null,null,null,null,null,null,null,null,null,null,null,null,null,null,null,null,null,null,null,"[+] dede                  "]
[null,null,null,null,null,null,null,null,null,null,null,null,null,null,null,null,null,null,null,null,null,null,null,null,null,null,null,null,null,null,null,null,null,null,null,null,null,null,null,null,null,null,null,null,null,null,null,null,"GOl V8                    "]
[null,null,null,null,null,null,null,null,null,null,null,null,null,null,null,null,null,null,null,null,null,null,null,null,null,null,null,null,null,null,null,null,null,null,null,null,null,null,null,null,null,null,null,null,null,null,null,null,"messi                     "]
[null,null,null,null,null,null,null,null,null,null,null,null,null,null,null,null,null,null,null,null,null,null,null,null,null,null,null,null,null,null,null,null,null,null,null,null,null,null,null,null,null,null,null,null,null,null,null,null,"[fS]Palo                  "]
[null,null,null,null,null,null,null,null,null,null,null,null,null,null,null,null,null,null,null,null,null,null,null,null,null,null,null,null,null,null,null,null,null,null,null,null,null,null,null,null,null,null,null,null,null,null,null,null,"majstorfantac             "]
[null,null,null,null,null,null,null,null,null,null,null,null,null,null,null,null,null,null,null,null,null,null,null,null,null,null,null,null,null,null,null,null,null,null,null,null,null,null,null,null,null,null,null,null,null,null,null,null,"pozdro600                 "]
[null,null,null,null,null,null,null,null,null,null,null,null,null,null,null,null,null,null,null,null,null,null,null,null,null,null,null,null,null,null,null,null,null,null,null,null,null,null,null,null,null,null,null,null,null,null,null,null,"Shaytun                   "]
[null,null,null,null,null,null,null,null,null,null,null,null,null,null,null,null,null,null,null,null,null,null,null,null,null,null,null,null,null,null,null,null,null,null,null,null,null,null,null,null,null,null,null,null,null,null,null,null,"majstorfantac             "]
[null,null,null,null,null,null,null,null,null,null,null,null,null,null,null,null,null,null,null,null,null,null,null,null,null,null,null,null,null,null,null,null,null,null,null,null,null,null,null,null,null,null,null,null,null,null,null,null,"Qpa                       "]
[null,null,null,null,null,null,null,null,null,null,null,null,null,null,null,null,null,null,null,null,null,null,null,null,null,null,null,null,null,null,null,null,null,null,null,null,null,null,null,null,null,null,null,null,null,null,null,null,"[PahaJori] Ender          "]
[null,null,null,null,null,null,null,null,null,null,null,null,null,null,null,null,null,null,null,null,null,null,null,null,null,null,null,null,null,null,null,null,null,null,null,null,null,null,null,null,null,null,null,null,null,null,null,null,"JJ Nylander               "]
[null,null,null,null,null,null,null,null,null,null,null,null,null,null,null,null,null,null,null,null,null,null,null,null,null,null,null,null,null,null,null,null,null,null,null,null,null,null,null,null,null,null,null,null,null,null,null,null,"Kyna_Musti                "]
[null,null,null,null,null,null,null,null,null,null,null,null,null,null,null,null,null,null,null,null,null,null,null,null,null,null,null,null,null,null,null,null,null,null,null,null,null,null,null,null,null,null,null,null,null,null,null,null,"\\/\\/ | |_ |_              "]
[null,null,null,null,null,null,null,null,null,null,null,null,null,null,null,null,null,null,null,null,null,null,null,null,null,null,null,null,null,null,null,null,null,null,null,null,null,null,null,null,null,null,null,null,null,null,null,null,"Sig                       "]
[null,null,null,null,null,null,null,null,null,null,null,null,null,null,null,null,null,null,null,null,null,null,null,null,null,null,null,null,null,null,null,null,null,null,null,null,null,null,null,null,null,null,null,null,null,null,null,null,"majstorfantac             "]
[null,null,null,null,null,null,null,null,null,null,null,null,null,null,null,null,null,null,null,null,null,null,null,null,null,null,null,null,null,null,null,null,null,null,null,null,null,null,null,null,null,null,null,null,null,null,null,null,"Gol_v8                    "]
[null,null,null,null,null,null,null,null,null,null,null,null,null,null,null,null,null,null,null,null,null,null,null,null,null,null,null,null,null,null,null,null,null,null,null,null,null,null,null,null,null,null,null,null,null,null,null,null,"Augusto                   "]
[null,null,null,null,null,null,null,null,null,null,null,null,null,null,null,null,null,null,null,null,null,null,null,null,null,null,null,null,null,null,null,null,null,null,null,null,null,null,null,null,null,null,null,null,null,null,null,null,"majstorfantac             "]
[null,null,null,null,null,null,null,null,null,null,null,null,null,null,null,null,null,null,null,null,null,null,null,null,null,null,null,null,null,null,null,null,null,null,null,null,null,null,null,null,null,null,null,null,null,null,null,null,"Fa la la la la            "]
[null,null,null,null,null,null,null,null,null,null,null,null,null,null,null,null,null,null,null,null,null,null,null,null,null,null,null,null,null,null,null,null,null,null,null,null,null,null,null,null,null,null,null,null,null,null,null,null,"Nico Hulkenberg           "]
[null,null,null,null,null,null,null,null,null,null,null,null,null,null,null,null,null,null,null,null,null,null,null,null,null,null,null,null,null,null,null,null,null,null,null,null,null,null,null,null,null,null,null,null,null,null,null,null,"Bleached Anus             "]
[null,null,null,null,null,null,null,null,null,null,null,null,null,null,null,null,null,null,null,null,null,null,null,null,null,null,null,null,null,null,null,null,null,null,null,null,null,null,null,null,null,null,null,null,null,null,null,null,"JJ Nylander               "]
[null,null,null,null,null,null,null,null,null,null,null,null,null,null,null,null,null,null,null,null,null,null,null,null,null,null,null,null,null,null,null,null,null,null,null,null,null,null,null,null,null,null,null,null,null,null,null,null,"[+] Badeend               "]
[null,null,null,null,null,null,null,null,null,null,null,null,null,null,null,null,null,null,null,null,null,null,null,null,null,null,null,null,null,null,null,null,null,null,null,null,null,null,null,null,null,null,null,null,null,null,null,null,"batjunior                 "]
[null,null,null,null,null,null,null,null,null,null,null,null,null,null,null,null,null,null,null,null,null,null,null,null,null,null,null,null,null,null,null,null,null,null,null,null,null,null,null,null,null,null,null,null,null,null,null,null,"[+] olio                  "]
[null,null,null,null,null,null,null,null,null,null,null,null,null,null,null,null,null,null,null,null,null,null,null,null,null,null,null,null,null,null,null,null,null,null,null,null,null,null,null,null,null,null,null,null,null,null,null,null,"[x] Whiplash              "]
[null,null,null,null,null,null,null,null,null,null,null,null,null,null,null,null,null,null,null,null,null,null,null,null,null,null,null,null,null,null,null,null,null,null,null,null,null,null,null,null,null,null,null,null,null,null,null,null,"Jaka                      "]
[null,null,null,null,null,null,null,null,null,null,null,null,null,null,null,null,null,null,null,null,null,null,null,null,null,null,null,null,null,null,null,null,null,null,null,null,null,null,null,null,null,null,null,null,null,null,null,null,"Double O Seven            "]
[null,null,null,null,null,null,null,null,null,null,null,null,null,null,null,null,null,null,null,null,null,null,null,null,null,null,null,null,null,null,null,null,null,null,null,null,null,null,null,null,null,null,null,null,null,null,null,null,"Gol_V8 ( 17 )             "]
[null,null,null,null,null,null,null,null,null,null,null,null,null,null,null,null,null,null,null,null,null,null,null,null,null,null,null,null,null,null,null,null,null,null,null,null,null,null,null,null,null,null,null,null,null,null,null,null,"laf                       "]
[null,null,null,null,null,null,null,null,null,null,null,null,null,null,null,null,null,null,null,null,null,null,null,null,null,null,null,null,null,null,null,null,null,null,null,null,null,null,null,null,null,null,null,null,null,null,null,null,"lds                       "]
[null,null,null,null,null,null,null,null,null,null,null,null,null,null,null,null,null,null,null,null,null,null,null,null,null,null,null,null,null,null,null,null,null,null,null,null,null,null,null,null,null,null,null,null,null,null,null,null,"ROMREI                    "]
[null,null,null,null,null,null,null,null,null,null,null,null,null,null,null,null,null,null,null,null,null,null,null,null,null,null,null,null,null,null,null,null,null,null,null,null,null,null,null,null,null,null,null,null,null,null,null,null,"KLE621                    "]
[null,null,null,null,null,null,null,null,null,null,null,null,null,null,null,null,null,null,null,null,null,null,null,null,null,null,null,null,null,null,null,null,null,null,null,null,null,null,null,null,null,null,null,null,null,null,null,null,"power79                   "]
[null,null,null,null,null,null,null,null,null,null,null,null,null,null,null,null,null,null,null,null,null,null,null,null,null,null,null,null,null,null,null,null,null,null,null,null,null,null,null,null,null,null,null,null,null,null,null,null,"[FUN] GR8 Arjen!          "]
[null,null,null,null,null,null,null,null,null,null,null,null,null,null,null,null,null,null,null,null,null,null,null,null,null,null,null,null,null,null,null,null,null,null,null,null,null,null,null,null,null,null,null,null,null,null,null,null,"RiantHoff                 "]
[null,null,null,null,null,null,null,null,null,null,null,null,null,null,null,null,null,null,null,null,null,null,null,null,null,null,null,null,null,null,null,null,null,null,null,null,null,null,null,null,null,null,null,null,null,null,null,null,"put                       "]
[null,null,null,null,null,null,null,null,null,null,null,null,null,null,null,null,null,null,null,null,null,null,null,null,null,null,null,null,null,null,null,null,null,null,null,null,null,null,null,null,null,null,null,null,null,null,null,null,"Qri                       "]
[null,null,null,null,null,null,null,null,null,null,null,null,null,null,null,null,null,null,null,null,null,null,null,null,null,null,null,null,null,null,null,null,null,null,null,null,null,null,null,null,null,null,null,null,null,null,null,null,"Ninjinha_br               "]
[null,null,null,null,null,null,null,null,null,null,null,null,null,null,null,null,null,null,null,null,null,null,null,null,null,null,null,null,null,null,null,null,null,null,null,null,null,null,null,null,null,null,null,null,null,null,null,null,"DEAD FISH                 "]
[null,null,null,null,null,null,null,null,null,null,null,null,null,null,null,null,null,null,null,null,null,null,null,null,null,null,null,null,null,null,null,null,null,null,null,null,null,null,null,null,null,null,null,null,null,null,null,null,"FliZeR                    "]
[null,null,null,null,null,null,null,null,null,null,null,null,null,null,null,null,null,null,null,null,null,null,null,null,null,null,null,null,null,null,null,null,null,null,null,null,null,null,null,null,null,null,null,null,null,null,null,null,"Xenor                     "]
[null,null,null,null,null,null,null,null,null,null,null,null,null,null,null,null,null,null,null,null,null,null,null,null,null,null,null,null,null,null,null,null,null,null,null,null,null,null,null,null,null,null,null,null,null,null,null,null,"FliZeR                    "]
[null,null,null,null,null,null,null,null,null,null,null,null,null,null,null,null,null,null,null,null,null,null,null,null,null,null,null,null,null,null,null,null,null,null,null,null,null,null,null,null,null,null,null,null,null,null,null,null,"kikiriki                  "]
[null,null,null,null,null,null,null,null,null,null,null,null,null,null,null,null,null,null,null,null,null,null,null,null,null,null,null,null,null,null,null,null,null,null,null,null,null,null,null,null,null,null,null,null,null,null,null,null,"Kooler                    "]
[null,null,null,null,null,null,null,null,null,null,null,null,null,null,null,null,null,null,null,null,null,null,null,null,null,null,null,null,null,null,null,null,null,null,null,null,null,null,null,null,null,null,null,null,null,null,null,null,"[iR] Etmil                "]
[null,null,null,null,null,null,null,null,null,null,null,null,null,null,null,null,null,null,null,null,null,null,null,null,null,null,null,null,null,null,null,null,null,null,null,null,null,null,null,null,null,null,null,null,null,null,null,null,"I-IenR!Kubica             "]

{"sheet":"all_slid_public","index":11,"n_rows":250,"n_cols":49,"rows_kept":250,"cut":false,"hidden":false,"merged":[]}
[]
[]
[]
[]
[null,null,null,"Slider"]
[null,null,null,null,null,"Max","Min",null,"Av",null,"Week 1","Week 2","Week 3","Week 4",null,1,2,3,4,null,1,2,3,4,5,6,7,8,9,10,11,12,13,14,15,16,17,18,19,20,null,null,null,null,null,null,null,null,"copy from all weeks under here..values..and then copy to left and filter out duplicates"]
[null,null,{"$f":"ROW()-6","v":1},"[x] Mike Nike             ",null,{"$f":"IF($I7=\"\",0,MAX($K7:$N7))","v":100},{"$f":"IF($I7=\"\",0,MIN($K7:$N7))","v":100},null,{"$f":"IF(COUNT(K7:N7)=0,0,SUM(K7:N7)/COUNT(K7:N7))","v":100},null,100,100,100,100,null,{"$f":"IFERROR(RANK(K7,K$7:K$999,0),\"\")","v":1},{"$f":"IFERROR(RANK(L7,L$7:L$999,0),\"\")","v":1},{"$f":"IFERROR(RANK(M7,M$7:M$999,0),\"\")","v":1},{"$f":"IFERROR(RANK(N7,N$7:N$999,0),\"\")","v":1},null,{"$f":"IF(SUMIF($P7:$S7,U$6)/U$6=0,\"\",SUMIF($P7:$S7,U$6)/U$6)","v":4},"","","","","","","","","",{"$f":"IF(SUMIF($P7:$S7,AE$6)/AE$6=0,\"\",SUMIF($P7:$S7,AE$6)/AE$6)","v":""},"","","","","","","","","",null,null,null,null,null,null,null,"[+] Tinjovic              ","[+] Tinjovic              "]
[null,null,2,"[+] Tinjovic              ",null,99.941885805608024,99.833652427732957,null,99.88110037400233,null,99.833652427732957,99.905645030095982,99.843218232572369,99.941885805608024,null,3,2,2,2,null,"",3,1,"","","","","","","","","","","","","","","","","",null,null,null,null,null,null,null,"[x] Mike Nike             ","[x] Mike Nike             "]
[null,null,3,"[fS]Palo                  ",null,99.915256897146975,98.431755327802179,null,99.171130698566586,null,99.915256897146975,98.431755327802179,99.166379870750646,"",null,2,5,6,"",null,"",1,"","",1,1,"","","","","","","","","","","","","","",null,null,null,null,null,null,null,"[fS]Palo                  ","[fS]Palo                  "]
[null,null,4,"[x] Stylus                ",null,99.469659996746373,98.913990992299873,null,99.276392961576335,null,"",99.469659996746373,99.445527895682773,98.913990992299873,null,"",3,3,6,null,"","",2,"","",1,"","","","","","","","","","","","","","",null,null,null,null,null,null,null,"[x] Whiplash              ","[x] Whiplash              "]
[null,null,5,"Matti                     ",null,99.437880004588735,99.095597849774805,null,99.266738927181763,null,"","",99.437880004588735,99.095597849774805,null,"","",4,3,null,"","",1,1,"","","","","","","","","","","","","","","","",null,null,null,null,null,null,null,"[fS]Hevonen               ","[fS]Hevonen               "]
[null,null,6,"[fS]Hevonen               ",null,99.431907347540871,96.121685374979663,null,97.982511864258015,null,99.431907347540871,96.121685374979663,98.393942870253525,"",null,4,10,10,"",null,"","","",1,"","","","","",2,"","","","","","","","","","",null,null,null,null,null,null,null,"Kyna_Musti                ","Kyna_Musti                "]
[null,null,7,"Kyna_Musti                ",null,99.378550579077881,98.420020339968048,null,99.103052454665274,null,99.378550579077881,99.248413860419717,99.365225039195437,98.420020339968048,null,5,4,5,7,null,"","","",1,2,"",1,"","","","","","","","","","","","","",null,null,null,null,null,null,null,"[+] Iziwýn                ","[+] Iziwýn                "]
[null,null,8,"[+] dede                  ",null,99.062908615429322,99.062908615429322,null,99.062908615429322,null,"","","",99.062908615429322,null,"","","",4,null,"","","",1,"","","","","","","","","","","","","","","","",null,null,null,null,null,null,null,"mc65532                   ","mc65532                   "]
[null,null,9,"[+] olio                  ",null,99.055644341130318,99.055644341130318,null,99.055644341130318,null,"","","",99.055644341130318,null,"","","",5,null,"","","","",1,"","","","","","","","","","","","","","","",null,null,null,null,null,null,null,"[+] Badeend               ","[+] Badeend               "]
[null,null,10,"[x] Whiplash              ",null,98.933119192382705,98.327108377012649,null,98.63011378469767,null,98.327108377012649,"",98.933119192382705,"",null,6,"",7,"",null,"","","","","",1,1,"","","","","","","","","","","","","",null,null,null,null,null,null,null,"Poisonous                 ","Poisonous                 "]
[null,null,11,"[+] xzeal                 ",null,98.7342740239379,95.62388156824467,null,97.363900670298449,null,"",95.62388156824467,98.7342740239379,97.733546418712777,null,"",12,8,9,null,{"$f":"IF(SUMIF($P17:$S17,U$6)/U$6=0,\"\",SUMIF($P17:$S17,U$6)/U$6)","v":""},"","","","","","",1,1,"",{"$f":"IF(SUMIF($P17:$S17,AE$6)/AE$6=0,\"\",SUMIF($P17:$S17,AE$6)/AE$6)","v":""},1,"","","","","","","","",null,null,null,null,null,null,null,"Chukie                    ","Chukie                    "]
[null,null,12,"AnnicK                    ",null,98.462773890099797,97.332161576849444,null,97.863607101428258,null,97.332161576849444,97.628111273792101,98.462773890099797,98.031381664971661,null,10,6,9,8,null,"","","","","",1,"",1,1,1,"","","","","","","","","","",null,null,null,null,null,null,null,"Jurgen-NL                 ","Jurgen-NL                 "]
[null,null,13,"Jurgen-NL                 ",null,98.321287904860242,94.999186595087039,null,96.814607292514765,null,"",94.999186595087039,98.321287904860242,97.123347377596971,null,"",14,11,11,null,"","","","","","","","","","",2,"","",1,"","","","","","",null,null,null,null,null,null,null,"KyNa                      ","KyNa                      "]
[null,null,14,"Chukie                    ",null,98.163899438184629,97.006669920286313,null,97.703154236209869,null,98.163899438184629,97.006669920286313,97.938893350158693,"",null,7,7,13,"",null,"","","","","","",2,"","","","","",1,"","","","","","","",null,null,null,null,null,null,null,"fatty                     ","Kyna_Musti                "]
[null,null,15,"fatty                     ",null,97.977132805628855,82.276136969963275,null,90.861496085383919,null,82.276136969963275,92.331218480559627,97.977132805628855,"",null,24,16,12,"",null,"","","","","","","","","","","",1,"","","",1,"","","","",null,null,null,null,null,null,null,"AnnicK                    ","fatty                     "]
[null,null,16,"chill                     ",null,97.808879201560174,97.658579454505514,null,97.733729328032837,null,97.658579454505514,"",97.808879201560174,"",null,9,"",14,"",null,"","","","","","","","",1,"","","","",1,"","","","","","",null,null,null,null,null,null,null,"[FN] Pornfest             ","AnnicK                    "]
[null,null,17,"[+] Iziwýn                ",null,97.752738457675534,97.752738457675534,null,97.752738457675534,null,97.752738457675534,"","","",null,8,"","","",null,"","","","","","","",1,"","","","","","","","","","","","",null,null,null,null,null,null,null,"Double O Seven            ","[FN] Pornfest             "]
[null,null,18,"[fS]Jan                   ",null,97.652097434132529,97.652097434132529,null,97.652097434132529,null,"","",97.652097434132529,"",null,"","",15,"",null,"","","","","","","","","","","","","","",1,"","","","","",null,null,null,null,null,null,null,"chill                     ","Double O Seven            "]
[null,null,19,"pozdro600                 ",null,97.330886008183242,96.912683422926051,null,97.121784715554639,null,"","",97.330886008183242,96.912683422926051,null,"","",16,12,null,"","","","","","","","","","","",1,"","","",1,"","","","",null,null,null,null,null,null,null,"Guillo                    ","chill                     "]
[null,null,20,"majstorfantac             ",null,97.330379195118411,97.330379195118411,null,97.330379195118411,null,"","","",97.330379195118411,null,"","","",10,null,"","","","","","","","","",1,"","","","","","","","","","",null,null,null,null,null,null,null,"Ande                      ","Guillo                    "]
[null,null,21,"[iR] iBlaze²              ",null,97.074681656533215,95.45982856312655,null,96.217647324995866,null,"",96.118431755327791,97.074681656533215,95.45982856312655,null,"",11,17,13,null,{"$f":"IF(SUMIF($P27:$S27,U$6)/U$6=0,\"\",SUMIF($P27:$S27,U$6)/U$6)","v":""},"","","","","","","","","",{"$f":"IF(SUMIF($P27:$S27,AE$6)/AE$6=0,\"\",SUMIF($P27:$S27,AE$6)/AE$6)","v":1},"",1,"","","",1,"","","",null,null,null,null,null,null,null,"Scud                      ","Ande                      "]
[null,null,22,"kikiriki                  ",null,96.980640963071409,96.980640963071409,null,96.980640963071409,null,"",96.980640963071409,"","",null,"",8,"","",null,"","","","","","","",1,"","","","","","","","","","","","",null,null,null,null,null,null,null,"Diego Armando             ","Scud                      "]
[null,null,23,"mc65532                   ",null,96.937019616840644,93.393176610903609,null,95.165098113872119,null,93.393176610903609,"",96.937019616840644,"",null,17,"",18,"",null,"","","","","","","","","","","","","","","","",1,1,"","",null,null,null,null,null,null,null,"lds                       ","Diego Armando             "]
[null,null,24,"Qpa                       ",null,96.734350502848841,89.357410118757116,null,93.2040093156334,null,"",89.357410118757116,96.734350502848841,93.520267325294213,null,"",17,19,15,null,"","","","","","","","","","","","","","",1,"",1,"",1,"",null,null,null,null,null,null,null,"[PahaJori] Ender          ","lds                       "]
[null,null,25,"Guillo                    ",null,96.531810049904266,96.531810049904266,null,96.531810049904266,null,96.531810049904266,"","","",null,11,"","","",null,"","","","","","","","","","",1,"","","","","","","","","",null,null,null,null,null,null,null,"laf                       ","[PahaJori] Ender          "]
[null,null,26,"Hengari                   ",null,96.303888075483982,96.303888075483982,null,96.303888075483982,null,"",96.303888075483982,"","",null,"",9,"","",null,"","","","","","","","",1,"","","","","","","","","","","",null,null,null,null,null,null,null,"REIROM                    ","laf                       "]
[null,null,27,"Augusto                   ",null,96.073569567810168,92.543222432079034,null,94.812406505667127,null,96.073569567810168,"",95.820427517112151,92.543222432079034,null,12,"",21,17,null,"","","","","","","","","","","",1,"","","","",1,"","","",null,null,null,null,null,null,null,"Janneosaursrex            ","REIROM                    "]
[null,null,28,"messi                     ",null,96.019272685556956,93.825366845852102,null,94.922319765704529,null,"","",96.019272685556956,93.825366845852102,null,"","",20,14,null,"","","","","","","","","","","","","",1,"","","","","",1,null,null,null,null,null,null,null,"R.E.I.R.O.M               ","Janneosaursrex            "]
[null,null,29,"Ande                      ",null,95.944885596811162,95.41564991052546,null,95.680267753668318,null,95.944885596811162,95.41564991052546,"","",null,13,13,"","",null,"","","","","","","","","","","","",2,"","","","","","","",null,null,null,null,null,null,null,"Testaaja                  ","R.E.I.R.O.M               "]
[null,null,30,"Poisonous                 ",null,95.687517654813092,95.687517654813092,null,95.687517654813092,null,95.687517654813092,"","","",null,14,"","","",null,"","","","","","","","","","","","","",1,"","","","","","",null,null,null,null,null,null,null,"[FUN] GR8 Arjen!          ","Testaaja                  "]
[null,null,31,"Sharp                     ",null,94.573302783967847,94.573302783967847,null,94.573302783967847,null,94.573302783967847,"","","",null,15,"","","",null,{"$f":"IF(SUMIF($P37:$S37,U$6)/U$6=0,\"\",SUMIF($P37:$S37,U$6)/U$6)","v":""},"","","","","","","","","",{"$f":"IF(SUMIF($P37:$S37,AE$6)/AE$6=0,\"\",SUMIF($P37:$S37,AE$6)/AE$6)","v":""},"","","",1,"","","","","",null,null,null,null,null,null,null,"stoner                    ","[FUN] GR8 Arjen!          "]
[null,null,32,"Scud                      ",null,94.535639182699867,94.535639182699867,null,94.535639182699867,null,94.535639182699867,"","","",null,16,"","","",null,"","","","","","","","","","","","","","","",1,"","","","",null,null,null,null,null,null,null,"[+] xzeal                 ","stoner                    "]
[null,null,33,"Hazard                    ",null,{"$f":"IF($I39=\"\",0,MAX($K39:$N39))","v":93.710753212949413},{"$f":"IF($I39=\"\",0,MIN($K39:$N39))","v":93.710753212949413},null,{"$f":"IF(COUNT(K39:N39)=0,0,SUM(K39:N39)/COUNT(K39:N39))","v":93.710753212949413},null,"",93.710753212949413,"","",null,{"$f":"IFERROR(RANK(K39,K$7:K$999,0),\"\")","v":""},{"$f":"IFERROR(RANK(L39,L$7:L$999,0),\"\")","v":15},{"$f":"IFERROR(RANK(M39,M$7:M$999,0),\"\")","v":""},{"$f":"IFERROR(RANK(N39,N$7:N$999,0),\"\")","v":""},null,"","","","","","","","","","","","","","",1,"","","","","",null,null,null,null,null,null,null,"Matic                     ","Chukie                    "]
[null,null,34,"Shaytun                   ",null,92.870114775533921,92.870114775533921,null,92.870114775533921,null,"","","",92.870114775533921,null,"","","",16,null,"","","","","","","","","","","","","","","",1,"","","","",null,null,null,null,null,null,null,"Serif                     ","[+] xzeal                 "]
[null,null,35,"#5 Burnout                ",null,91.299708107090169,91.299708107090169,null,91.299708107090169,null,91.299708107090169,"","","",null,18,"","","",null,"","","","","","","","","","","","","","","","","",1,"","",null,null,null,null,null,null,null,"Augusto                   ","Matic                     "]
[null,null,36,"JJ Nylander               ",null,91.282870841202964,91.282870841202964,null,91.282870841202964,null,"","","",91.282870841202964,null,"","","",18,null,"","","","","","","","","","","","","","","","","",1,"","",null,null,null,null,null,null,null,"NBA                       ","Serif                     "]
[null,null,37,"Serif                     ",null,90.772417689338056,90.772417689338056,null,90.772417689338056,null,90.772417689338056,"","","",null,19,"","","",null,"","","","","","","","","","","","","","","","","","",1,"",null,null,null,null,null,null,null,"Pro08                     ","Augusto                   "]
[null,null,38,"Reinikainen               ",null,90.515049747340001,90.515049747340001,null,90.515049747340001,null,90.515049747340001,"","","",null,20,"","","",null,"","","","","","","","","","","","","","","","","","","",1,null,null,null,null,null,null,null,"RiantHoff                 ","NBA                       "]
[null,null,39,"FliZeR                    ",null,89.089060002905711,89.089060002905711,null,89.089060002905711,null,"","","",89.089060002905711,null,"","","",19,null,"","","","","","","","","","","","","","","","","","",1,"",null,null,null,null,null,null,null,"CrazybikE                 ","Augusto                   "]
[null,null,40,"Reiska                    ",null,88.603621982988614,88.603621982988614,null,88.603621982988614,null,88.603621982988614,"","","",null,21,"","","",null,"","","","","","","","","","","","","","","","","","","","",null,null,null,null,null,null,null,"Sharp                     ","Pro08                     "]
[null,null,41,"DustyBadSkillz            ",null,88.057499764602511,88.057499764602511,null,88.057499764602511,null,88.057499764602511,"","","",null,22,"","","",null,{"$f":"IF(SUMIF($P47:$S47,U$6)/U$6=0,\"\",SUMIF($P47:$S47,U$6)/U$6)","v":""},"","","","","","","","","",{"$f":"IF(SUMIF($P47:$S47,AE$6)/AE$6=0,\"\",SUMIF($P47:$S47,AE$6)/AE$6)","v":""},"","","","","","","","","",null,null,null,null,null,null,null,"[+] Eddie                 ","lds                       "]
[null,null,42,"Niksi                     ",null,84.758796020212799,84.758796020212799,null,84.758796020212799,null,84.758796020212799,"","","",null,23,"","","",null,"","","","","","","","","","","","","","","","","","","","",null,null,null,null,null,null,null,"Fama                      ","RiantHoff                 "]
[null,null,43,"Waenoo                    ",null,81.06462446250903,81.06462446250903,null,81.06462446250903,null,81.06462446250903,"","","",null,25,"","","",null,"","","","","","","","","","","","","","","","","","","","",null,null,null,null,null,null,null,"Rubao                     ","CrazybikE                 "]
[null,null,44,"Brian                     ",null,77.577602711779292,77.577602711779292,null,77.577602711779292,null,77.577602711779292,"","","",null,26,"","","",null,"","","","","","","","","","","","","","","","","","","","",null,null,null,null,null,null,null,"Jim                       ","Sharp                     "]
[null,null,45,"REIROM                    ",null,76.180643187640996,76.180643187640996,null,76.180643187640996,null,"","",76.180643187640996,"",null,"","",22,"",null,"","","","","","","","","","","","","","","","","","","","",null,null,null,null,null,null,null,"#5 Burnout                ","[+] Eddie                 "]
[null,null,46,"Gol_v8                    ",null,56.678054335448195,56.678054335448195,null,56.678054335448195,null,"",56.678054335448195,"","",null,"",18,"","",null,"","","","","","","","","","","","","","","","","",1,"","",null,null,null,null,null,null,null,"suzuck                    ","Fama                      "]
[null,null,47,"shamino                   ",null,44.527792599102369,44.527792599102369,null,44.527792599102369,null,44.527792599102369,"","","",null,27,"","","",null,"","","","","","","","","","","","","","","","","","","","",null,null,null,null,null,null,null,"Brian                     ","Rubao                     "]
[null,null,48,"Gol_V8 ( 17 )             ",null,42.764782798198468,42.764782798198468,null,42.764782798198468,null,"","","",42.764782798198468,null,"","","",20,null,"","","","","","","","","","","","","","","","","","","",1,null,null,null,null,null,null,null,"Reinikainen               ","Jim                       "]
[null,null,49,"[+] Badeend               ",null,0,0,null,0,null,"","","","",null,"","","","",null,"","","","","","","","","","","","","","","","","","","","",null,null,null,null,null,null,null,"Niksi                     ","#5 Burnout                "]
[null,null,50,"KyNa                      ",null,0,0,null,0,null,"","","","",null,"","","","",null,"","","","","","","","","","","","","","","","","","","","",null,null,null,null,null,null,null,"Lavon                     ","suzuck                    "]
[null,null,51,"[FN] Pornfest             ",null,0,0,null,0,null,"","","","",null,"","","","",null,{"$f":"IF(SUMIF($P57:$S57,U$6)/U$6=0,\"\",SUMIF($P57:$S57,U$6)/U$6)","v":""},"","","","","","","","","",{"$f":"IF(SUMIF($P57:$S57,AE$6)/AE$6=0,\"\",SUMIF($P57:$S57,AE$6)/AE$6)","v":""},"","","","","","","","","",null,null,null,null,null,null,null,"Gol_v8                    ","Brian                     "]
[null,null,52,"Double O Seven            ",null,0,0,null,0,null,"","","","",null,"","","","",null,"","","","","","","","","","","","","","","","","","","","",null,null,null,null,null,null,null,"BIXOMAU                   ","Reinikainen               "]
[null,null,53,"Diego Armando             ",null,0,0,null,0,null,"","","","",null,"","","","",null,"","","","","","","","","","","","","","","","","","","","",null,null,null,null,null,null,null,"Reiska                    ","Niksi                     "]
[null,null,54,"lds                       ",null,0,0,null,0,null,"","","","",null,"","","","",null,"","","","","","","","","","","","","","","","","","","","",null,null,null,null,null,null,null,"DustyBadSkillz            ","Lavon                     "]
[null,null,55,"[PahaJori] Ender          ",null,0,0,null,0,null,"","","","",null,"","","","",null,"","","","","","","","","","","","","","","","","","","","",null,null,null,null,null,null,null,"Kiki                      ","Gol_v8                    "]
[null,null,56,"laf                       ",null,0,0,null,0,null,"","","","",null,"","","","",null,"","","","","","","","","","","","","","","","","","","","",null,null,null,null,null,null,null,"Rahim                     ","BIXOMAU                   "]
[null,null,57,"Janneosaursrex            ",null,0,0,null,0,null,"","","","",null,"","","","",null,"","","","","","","","","","","","","","","","","","","","",null,null,null,null,null,null,null,"Iron Man                  ","Reiska                    "]
[null,null,58,"R.E.I.R.O.M               ",null,0,0,null,0,null,"","","","",null,"","","","",null,"","","","","","","","","","","","","","","","","","","","",null,null,null,null,null,null,null,"Sig                       ","DustyBadSkillz            "]
[null,null,59,"Testaaja                  ",null,0,0,null,0,null,"","","","",null,"","","","",null,"","","","","","","","","","","","","","","","","","","","",null,null,null,null,null,null,null,"Waenoo                    ","Kiki                      "]
[null,null,60,"[FUN] GR8 Arjen!          ",null,0,0,null,0,null,"","","","",null,"","","","",null,"","","","","","","","","","","","","","","","","","","","",null,null,null,null,null,null,null,"Jukra                     ","Rahim                     "]
[null,null,61,"stoner                    ",null,0,0,null,0,null,"","","","",null,"","","","",null,{"$f":"IF(SUMIF($P67:$S67,U$6)/U$6=0,\"\",SUMIF($P67:$S67,U$6)/U$6)","v":""},"","","","","","","","","",{"$f":"IF(SUMIF($P67:$S67,AE$6)/AE$6=0,\"\",SUMIF($P67:$S67,AE$6)/AE$6)","v":""},"","","","","","","","","",null,null,null,null,null,null,null,"JJN                       ","Iron Man                  "]
[null,null,62,"Matic                     ",null,0,0,null,0,null,"","","","",null,"","","","",null,"","","","","","","","","","","","","","","","","","","","",null,null,null,null,null,null,null,"Storm                     ","Sig                       "]
[null,null,63,"NBA                       ",null,0,0,null,0,null,"","","","",null,"","","","",null,"","","","","","","","","","","","","","","","","","","","",null,null,null,null,null,null,null,"kikiriki                  ","Waenoo                    "]
[null,null,64,"Pro08                     ",null,0,0,null,0,null,"","","","",null,"","","","",null,"","","","","","","","","","","","","","","","","","","","",null,null,null,null,null,null,null,"{l}rard{l}                ","Jukra                     "]
[null,null,65,"RiantHoff                 ",null,{"$f":"IF($I71=\"\",0,MAX($K71:$N71))","v":0},{"$f":"IF($I71=\"\",0,MIN($K71:$N71))","v":0},null,{"$f":"IF(COUNT(K71:N71)=0,0,SUM(K71:N71)/COUNT(K71:N71))","v":0},null,"","","","",null,{"$f":"IFERROR(RANK(K71,K$7:K$999,0),\"\")","v":""},{"$f":"IFERROR(RANK(L71,L$7:L$999,0),\"\")","v":""},{"$f":"IFERROR(RANK(M71,M$7:M$999,0),\"\")","v":""},{"$f":"IFERROR(RANK(N71,N$7:N$999,0),\"\")","v":""},null,"","","","","","","","","","","","","","","","","","","","",null,null,null,null,null,null,null,"shamino                   ","JJN                       "]
[null,null,66,"CrazybikE                 ",null,0,0,null,0,null,"","","","",null,"","","","",null,"","","","","","","","","","","","","","","","","","","","",null,null,null,null,null,null,null,"[iR] iBlaze²              ","Storm                     "]
[null,null,67,"[+] Eddie                 ",null,0,0,null,0,null,"","","","",null,"","","","",null,"","","","","","","","","","","","","","","","","","","","",null,null,null,null,null,null,null,"[x] Stylus                ","kikiriki                  "]
[null,null,68,"Fama                      ",null,0,0,null,0,null,"","","","",null,"","","","",null,"","","","","","","","","","","","","","","","","","","","",null,null,null,null,null,null,null,"Hazard                    ","{l}rard{l}                "]
[null,null,69,"Rubao                     ",null,0,0,null,0,null,"","","","",null,"","","","",null,"","","","","","","","","","","","","","","","","","","","",null,null,null,null,null,null,null,"\\/\\/ | |_ |_              ","shamino                   "]
[null,null,70,"Jim                       ",null,0,0,null,0,null,"","","","",null,"","","","",null,"","","","","","","","","","","","","","","","","","","","",null,null,null,null,null,null,null,"Qpa                       ","[+] Tinjovic              "]
[null,null,71,"suzuck                    ",null,0,0,null,0,null,"","","","",null,"","","","",null,{"$f":"IF(SUMIF($P77:$S77,U$6)/U$6=0,\"\",SUMIF($P77:$S77,U$6)/U$6)","v":""},"","","","","","","","","",{"$f":"IF(SUMIF($P77:$S77,AE$6)/AE$6=0,\"\",SUMIF($P77:$S77,AE$6)/AE$6)","v":""},"","","","","","","","","",null,null,null,null,null,null,null,"Serif  v2.5.3W            ","[x] Mike Nike             "]
[null,null,72,"Lavon                     ",null,0,0,null,0,null,"","","","",null,"","","","",null,"","","","","","","","","","","","","","","","","","","","",null,null,null,null,null,null,null,"Hengari                   ","Kyna_Musti                "]
[null,null,73,"BIXOMAU                   ",null,0,0,null,0,null,"","","","",null,"","","","",null,"","","","","","","","","","","","","","","","","","","","",null,null,null,null,null,null,null,"pozdro600                 ","kikiriki                  "]
[null,null,74,"Kiki                      ",null,0,0,null,0,null,"","","","",null,"","","","",null,"","","","","","","","","","","","","","","","","","","","",null,null,null,null,null,null,null,"Bubba                     ","[fS]Palo                  "]
[null,null,75,"Rahim                     ",null,0,0,null,0,null,"","","","",null,"","","","",null,"","","","","","","","","","","","","","","","","","","","",null,null,null,null,null,null,null,"Popowitch                 ","[iR] iBlaze²              "]
[null,null,76,"Iron Man                  ",null,0,0,null,0,null,"","","","",null,"","","","",null,"","","","","","","","","","","","","","","","","","","","",null,null,null,null,null,null,null,"Qri                       ","AnnicK                    "]
[null,null,77,"Sig                       ",null,0,0,null,0,null,"","","","",null,"","","","",null,"","","","","","","","","","","","","","","","","","","","",null,null,null,null,null,null,null,"batjunior                 ","Jurgen-NL                 "]
[null,null,78,"Jukra                     ",null,0,0,null,0,null,"","","","",null,"","","","",null,"","","","","","","","","","","","","","","","","","","","",null,null,null,null,null,null,null,"Delux                     ","[+] xzeal                 "]
[null,null,79,"JJN                       ",null,0,0,null,0,null,"","","","",null,"","","","",null,"","","","","","","","","","","","","","","","","","","","",null,null,null,null,null,null,null,"power79                   ","Ande                      "]
[null,null,80,"Storm                     ",null,0,0,null,0,null,"","","","",null,"","","","",null,"","","","","","","","","","","","","","","","","","","","",null,null,null,null,null,null,null,"TD Juquinha               ","Sig                       "]
[null,null,81,"{l}rard{l}                ",null,0,0,null,0,null,"","","","",null,"","","","",null,{"$f":"IF(SUMIF($P87:$S87,U$6)/U$6=0,\"\",SUMIF($P87:$S87,U$6)/U$6)","v":""},"","","","","","","","","",{"$f":"IF(SUMIF($P87:$S87,AE$6)/AE$6=0,\"\",SUMIF($P87:$S87,AE$6)/AE$6)","v":""},"","","","","","","","","",null,null,null,null,null,null,null,"Alukin                    ","[x] Stylus                "]
[null,null,82,"\\/\\/ | |_ |_              ",null,0,0,null,0,null,"","","","",null,"","","","",null,"","","","","","","","","","","","","","","","","","","","",null,null,null,null,null,null,null,"GoingDillon               ","mc65532                   "]
[null,null,83,"Serif  v2.5.3W            ",null,0,0,null,0,null,"","","","",null,"","","","",null,"","","","","","","","","","","","","","","","","","","","",null,null,null,null,null,null,null,"[Qc]RSX                   ","[x] Whiplash              "]
[null,null,84,"Bubba                     ",null,0,0,null,0,null,"","","","",null,"","","","",null,"","","","","","","","","","","","","","","","","","","","",null,null,null,null,null,null,null,"dire                      ","[+] Badeend               "]
[null,null,85,"Popowitch                 ",null,0,0,null,0,null,"","","","",null,"","","","",null,"","","","","","","","","","","","","","","","","","","","",null,null,null,null,null,null,null,"cavani                    ","Hazard                    "]
[null,null,86,"Qri                       ",null,0,0,null,0,null,"","","","",null,"","","","",null,"","","","","","","","","","","","","","","","","","","","",null,null,null,null,null,null,null,"Ninjinha_br               ","[fS]Hevonen               "]
[null,null,87,"batjunior                 ",null,0,0,null,0,null,"","","","",null,"","","","",null,"","","","","","","","","","","","","","","","","","","","",null,null,null,null,null,null,null,"bohun                     ","fatty                     "]
[null,null,88,"Delux                     ",null,0,0,null,0,null,"","","","",null,"","","","",null,"","","","","","","","","","","","","","","","","","","","",null,null,null,null,null,null,null,"Rub                       ","Double O Seven            "]
[null,null,89,"power79                   ",null,0,0,null,0,null,"","","","",null,"","","","",null,"","","","","","","","","","","","","","","","","","","","",null,null,null,null,null,null,null,"Kooler                    ","Scud                      "]
[null,null,90,"TD Juquinha               ",null,0,0,null,0,null,"","","","",null,"","","","",null,"","","","","","","","","","","","","","","","","","","","",null,null,null,null,null,null,null,"KORINGA                   ","Poisonous                 "]
[null,null,91,"Alukin                    ",null,0,0,null,0,null,"","","","",null,"","","","",null,{"$f":"IF(SUMIF($P97:$S97,U$6)/U$6=0,\"\",SUMIF($P97:$S97,U$6)/U$6)","v":""},"","","","","","","","","",{"$f":"IF(SUMIF($P97:$S97,AE$6)/AE$6=0,\"\",SUMIF($P97:$S97,AE$6)/AE$6)","v":""},"","","","","","","","","",null,null,null,null,null,null,null,"Oppy                      ","\\/\\/ | |_ |_              "]
[null,null,92,"GoingDillon               ",null,0,0,null,0,null,"","","","",null,"","","","",null,"","","","","","","","","","","","","","","","","","","","",null,null,null,null,null,null,null,"[fS]Jan                   ","Qpa                       "]
[null,null,93,"[Qc]RSX                   ",null,0,0,null,0,null,"","","","",null,"","","","",null,"","","","","","","","","","","","","","","","","","","","",null,null,null,null,null,null,null,"Matti                     ","Serif  v2.5.3W            "]
[null,null,94,"dire                      ",null,0,0,null,0,null,"","","","",null,"","","","",null,"","","","","","","","","","","","","","","","","","","","",null,null,null,null,null,null,null,"messi                     ","lds                       "]
[null,null,95,"cavani                    ",null,0,0,null,0,null,"","","","",null,"","","","",null,"","","","","","","","","","","","","","","","","","","","",null,null,null,null,null,null,null,"Ku Dern [Ri]              ","Hengari                   "]
[null,null,96,"Ninjinha_br               ",null,0,0,null,0,null,"","","","",null,"","","","",null,"","","","","","","","","","","","","","","","","","","","",null,null,null,null,null,null,null,"[$pectre]Jaw$             ","pozdro600                 "]
[null,null,97,"bohun                     ",null,{"$f":"IF($I103=\"\",0,MAX($K103:$N103))","v":0},{"$f":"IF($I103=\"\",0,MIN($K103:$N103))","v":0},null,{"$f":"IF(COUNT(K103:N103)=0,0,SUM(K103:N103)/COUNT(K103:N103))","v":0},null,"","","","",null,{"$f":"IFERROR(RANK(K103,K$7:K$999,0),\"\")","v":""},{"$f":"IFERROR(RANK(L103,L$7:L$999,0),\"\")","v":""},{"$f":"IFERROR(RANK(M103,M$7:M$999,0),\"\")","v":""},{"$f":"IFERROR(RANK(N103,N$7:N$999,0),\"\")","v":""},null,"","","","","","","","","","","","","","","","","","","","",null,null,null,null,null,null,null,"Magnat                    ","Gol_v8                    "]
[null,null,98,"Rub                       ",null,0,0,null,0,null,"","","","",null,"","","","",null,"","","","","","","","","","","","","","","","","","","","",null,null,null,null,null,null,null,"straits                   ","Bubba                     "]
[null,null,99,"Kooler                    ",null,0,0,null,0,null,"","","","",null,"","","","",null,"","","","","","","","","","","","","","","","","","","","",null,null,null,null,null,null,null,"[ITA]_AIR_GIGI            ","[PahaJori] Ender          "]
[null,null,100,"KORINGA                   ",null,0,0,null,0,null,"","","","",null,"","","","",null,"","","","","","","","","","","","","","","","","","","","",null,null,null,null,null,null,null,"BrunoA                    ","Fama                      "]
[null,null,101,"Oppy                      ",null,0,0,null,0,null,"","","","",null,"","","","",null,{"$f":"IF(SUMIF($P107:$S107,U$6)/U$6=0,\"\",SUMIF($P107:$S107,U$6)/U$6)","v":""},"","","","","","","","","",{"$f":"IF(SUMIF($P107:$S107,AE$6)/AE$6=0,\"\",SUMIF($P107:$S107,AE$6)/AE$6)","v":""},"","","","","","","","","",null,null,null,null,null,null,null,"koripallo tits            ","R.E.I.R.O.M               "]
[null,null,102,"Ku Dern [Ri]              ",null,0,0,null,0,null,"","","","",null,"","","","",null,"","","","","","","","","","","","","","","","","","","","",null,null,null,null,null,null,null,"Rendy                     ","Popowitch                 "]
[null,null,103,"[$pectre]Jaw$             ",null,0,0,null,0,null,"","","","",null,"","","","",null,"","","","","","","","","","","","","","","","","","","","",null,null,null,null,null,null,null,"Frank05                   ","[FUN] GR8 Arjen!          "]
[null,null,104,"Magnat                    ",null,0,0,null,0,null,"","","","",null,"","","","",null,"","","","","","","","","","","","","","","","","","","","",null,null,null,null,null,null,null,"[5] Burnout               ","Poisonous                 "]
[null,null,105,"straits                   ",null,0,0,null,0,null,"","","","",null,"","","","",null,"","","","","","","","","","","","","","","","","","","","",null,null,null,null,null,null,null,"[LWD] JamsleJ             ","NBA                       "]
[null,null,106,"[ITA]_AIR_GIGI            ",null,0,0,null,0,null,"","","","",null,"","","","",null,"","","","","","","","","","","","","","","","","","","","",null,null,null,null,null,null,null,"Thunda                    ","Diego Armando             "]
[null,null,107,"BrunoA                    ",null,0,0,null,0,null,"","","","",null,"","","","",null,"","","","","","","","","","","","","","","","","","","","",null,null,null,null,null,null,null,"Broomstig                 ","Qri                       "]
[null,null,108,"koripallo tits            ",null,0,0,null,0,null,"","","","",null,"","","","",null,"","","","","","","","","","","","","","","","","","","","",null,null,null,null,null,null,null,"[+] dede                  ","batjunior                 "]
[null,null,109,"Rendy                     ",null,0,0,null,0,null,"","","","",null,"","","","",null,"","","","","","","","","","","","","","","","","","","","",null,null,null,null,null,null,null,"GOl V8                    ","CrazybikE                 "]
[null,null,110,"Frank05                   ",null,0,0,null,0,null,"","","","",null,"","","","",null,"","","","","","","","","","","","","","","","","","","","",null,null,null,null,null,null,null,"majstorfantac             ","Matic                     "]
[null,null,111,"[5] Burnout               ",null,0,0,null,0,null,"","","","",null,"","","","",null,{"$f":"IF(SUMIF($P117:$S117,U$6)/U$6=0,\"\",SUMIF($P117:$S117,U$6)/U$6)","v":""},"","","","","","","","","",{"$f":"IF(SUMIF($P117:$S117,AE$6)/AE$6=0,\"\",SUMIF($P117:$S117,AE$6)/AE$6)","v":""},"","","","","","","","","",null,null,null,null,null,null,null,"Shaytun                   ","Delux                     "]
[null,null,112,"[LWD] JamsleJ             ",null,0,0,null,0,null,"","","","",null,"","","","",null,"","","","","","","","","","","","","","","","","","","","",null,null,null,null,null,null,null,"JJ Nylander               ","Chukie                    "]
[null,null,113,"Thunda                    ",null,0,0,null,0,null,"","","","",null,"","","","",null,"","","","","","","","","","","","","","","","","","","","",null,null,null,null,null,null,null,"Fa la la la la            ","power79                   "]
[null,null,114,"Broomstig                 ",null,0,0,null,0,null,"","","","",null,"","","","",null,"","","","","","","","","","","","","","","","","","","","",null,null,null,null,null,null,null,"Nico Hulkenberg           ","NBA                       "]
[null,null,115,"GOl V8                    ",null,0,0,null,0,null,"","","","",null,"","","","",null,"","","","","","","","","","","","","","","","","","","","",null,null,null,null,null,null,null,"Bleached Anus             ","TD Juquinha               "]
[null,null,116,"Fa la la la la            ",null,0,0,null,0,null,"","","","",null,"","","","",null,"","","","","","","","","","","","","","","","","","","","",null,null,null,null,null,null,null,"[+] olio                  ","Alukin                    "]
[null,null,117,"Nico Hulkenberg           ",null,0,0,null,0,null,"","","","",null,"","","","",null,"","","","","","","","","","","","","","","","","","","","",null,null,null,null,null,null,null,"Jaka                      ","REIROM                    "]
[null,null,118,"Bleached Anus             ",null,0,0,null,0,null,"","","","",null,"","","","",null,"","","","","","","","","","","","","","","","","","","","",null,null,null,null,null,null,null,"Gol_V8 ( 17 )             ","stoner                    "]
[null,null,119,"Jaka                      ",null,0,0,null,0,null,"","","","",null,"","","","",null,"","","","","","","","","","","","","","","","","","","","",null,null,null,null,null,null,null,"ROMREI                    ","GoingDillon               "]
[null,null,120,"ROMREI                    ",null,0,0,null,0,null,"","","","",null,"","","","",null,"","","","","","","","","","","","","","","","","","","","",null,null,null,null,null,null,null,"KLE621                    ","[Qc]RSX                   "]
[null,null,121,"KLE621                    ",null,0,0,null,0,null,"","","","",null,"","","","",null,{"$f":"IF(SUMIF($P127:$S127,U$6)/U$6=0,\"\",SUMIF($P127:$S127,U$6)/U$6)","v":""},"","","","","","","","","",{"$f":"IF(SUMIF($P127:$S127,AE$6)/AE$6=0,\"\",SUMIF($P127:$S127,AE$6)/AE$6)","v":""},"","","","","","","","","",null,null,null,null,null,null,null,"put                       ","laf                       "]
[null,null,122,"put                       ",null,0,0,null,0,null,"","","","",null,"","","","",null,"","","","","","","","","","","","","","","","","","","","",null,null,null,null,null,null,null,"DEAD FISH                 ","dire                      "]
[null,null,123,"DEAD FISH                 ",null,0,0,null,0,null,"","","","",null,"","","","",null,"","","","","","","","","","","","","","","","","","","","",null,null,null,null,null,null,null,"FliZeR                    ","cavani                    "]
[null,null,124,"Xenor                     ",null,0,0,null,0,null,"","","","",null,"","","","",null,"","","","","","","","","","","","","","","","","","","","",null,null,null,null,null,null,null,"Xenor                     ","Ninjinha_br               "]
[null,null,125,"[iR] Etmil                ",null,0,0,null,0,null,"","","","",null,"","","","",null,"","","","","","","","","","","","","","","","","","","","",null,null,null,null,null,null,null,"[iR] Etmil                ","bohun                     "]
[null,null,126,"I-IenR!Kubica             ",null,0,0,null,0,null,"","","","",null,"","","","",null,"","","","","","","","","","","","","","","","","","","","",null,null,null,null,null,null,null,"I-IenR!Kubica             ","Rub                       "]
[null,null,null,null,null,null,null,null,null,null,null,null,null,null,null,null,null,null,null,null,null,null,null,null,null,null,null,null,null,null,null,null,null,null,null,null,null,null,null,null,null,null,null,null,null,null,null,null,"Kooler                    "]
[null,null,null,null,null,null,null,null,null,null,null,null,null,null,null,null,null,null,null,null,null,null,null,null,null,null,null,null,null,null,null,null,null,null,null,null,null,null,null,null,null,null,null,null,null,null,null,null,"KORINGA                   "]
[null,null,null,null,null,null,null,null,null,null,null,null,null,null,null,null,null,null,null,null,null,null,null,null,null,null,null,null,null,null,null,null,null,null,null,null,null,null,null,null,null,null,null,null,null,null,null,null,"Oppy                      "]
[null,null,null,null,null,null,null,null,null,null,null,null,null,null,null,null,null,null,null,null,null,null,null,null,null,null,null,null,null,null,null,null,null,null,null,null,null,null,null,null,null,null,null,null,null,null,null,null,"[+] Tinjovic              "]
[null,null,null,null,null,null,null,null,null,null,null,null,null,null,null,null,null,null,null,null,null,null,null,null,null,null,null,null,null,null,null,null,null,null,null,null,null,null,null,null,null,null,null,null,null,null,null,null,"[x] Mike Nike             "]
[null,null,null,null,null,null,null,null,null,null,null,null,null,null,null,null,null,null,null,null,null,null,null,null,null,null,null,null,null,null,null,null,null,null,null,null,null,null,null,null,null,null,null,null,null,null,null,null,"[x] Stylus                "]
[null,null,null,null,null,null,null,null,null,null,null,null,null,null,null,null,null,null,null,null,null,null,null,null,null,null,null,null,null,null,null,null,null,null,null,null,null,null,null,null,null,null,null,null,null,null,null,null,"[fS]Palo                  "]
[null,null,null,null,null,null,null,null,null,null,null,null,null,null,null,null,null,null,null,null,null,null,null,null,null,null,null,null,null,null,null,null,null,null,null,null,null,null,null,null,null,null,null,null,null,null,null,null,"Kyna_Musti                "]
[null,null,null,null,null,null,null,null,null,null,null,null,null,null,null,null,null,null,null,null,null,null,null,null,null,null,null,null,null,null,null,null,null,null,null,null,null,null,null,null,null,null,null,null,null,null,null,null,"[x] Whiplash              "]
[null,null,null,null,null,null,null,null,null,null,null,null,null,null,null,null,null,null,null,null,null,null,null,null,null,null,null,null,null,null,null,null,null,null,null,null,null,null,null,null,null,null,null,null,null,null,null,null,"[fS]Hevonen               "]
[null,null,null,null,null,null,null,null,null,null,null,null,null,null,null,null,null,null,null,null,null,null,null,null,null,null,null,null,null,null,null,null,null,null,null,null,null,null,null,null,null,null,null,null,null,null,null,null,"[+] xzeal                 "]
[null,null,null,null,null,null,null,null,null,null,null,null,null,null,null,null,null,null,null,null,null,null,null,null,null,null,null,null,null,null,null,null,null,null,null,null,null,null,null,null,null,null,null,null,null,null,null,null,"Jurgen-NL                 "]
[null,null,null,null,null,null,null,null,null,null,null,null,null,null,null,null,null,null,null,null,null,null,null,null,null,null,null,null,null,null,null,null,null,null,null,null,null,null,null,null,null,null,null,null,null,null,null,null,"[iR] iBlaze²              "]
[null,null,null,null,null,null,null,null,null,null,null,null,null,null,null,null,null,null,null,null,null,null,null,null,null,null,null,null,null,null,null,null,null,null,null,null,null,null,null,null,null,null,null,null,null,null,null,null,"AnnicK                    "]
[null,null,null,null,null,null,null,null,null,null,null,null,null,null,null,null,null,null,null,null,null,null,null,null,null,null,null,null,null,null,null,null,null,null,null,null,null,null,null,null,null,null,null,null,null,null,null,null,"mc65532                   "]
[null,null,null,null,null,null,null,null,null,null,null,null,null,null,null,null,null,null,null,null,null,null,null,null,null,null,null,null,null,null,null,null,null,null,null,null,null,null,null,null,null,null,null,null,null,null,null,null,"fatty                     "]
[null,null,null,null,null,null,null,null,null,null,null,null,null,null,null,null,null,null,null,null,null,null,null,null,null,null,null,null,null,null,null,null,null,null,null,null,null,null,null,null,null,null,null,null,null,null,null,null,"[fS]Jan                   "]
[null,null,null,null,null,null,null,null,null,null,null,null,null,null,null,null,null,null,null,null,null,null,null,null,null,null,null,null,null,null,null,null,null,null,null,null,null,null,null,null,null,null,null,null,null,null,null,null,"pozdro600                 "]
[null,null,null,null,null,null,null,null,null,null,null,null,null,null,null,null,null,null,null,null,null,null,null,null,null,null,null,null,null,null,null,null,null,null,null,null,null,null,null,null,null,null,null,null,null,null,null,null,"chill                     "]
[null,null,null,null,null,null,null,null,null,null,null,null,null,null,null,null,null,null,null,null,null,null,null,null,null,null,null,null,null,null,null,null,null,null,null,null,null,null,null,null,null,null,null,null,null,null,null,null,"Qpa                       "]
[null,null,null,null,null,null,null,null,null,null,null,null,null,null,null,null,null,null,null,null,null,null,null,null,null,null,null,null,null,null,null,null,null,null,null,null,null,null,null,null,null,null,null,null,null,null,null,null,"Gol_v8                    "]
[null,null,null,null,null,null,null,null,null,null,null,null,null,null,null,null,null,null,null,null,null,null,null,null,null,null,null,null,null,null,null,null,null,null,null,null,null,null,null,null,null,null,null,null,null,null,null,null,"Rub                       "]
[null,null,null,null,null,null,null,null,null,null,null,null,null,null,null,null,null,null,null,null,null,null,null,null,null,null,null,null,null,null,null,null,null,null,null,null,null,null,null,null,null,null,null,null,null,null,null,null,"Augusto                   "]
[null,null,null,null,null,null,null,null,null,null,null,null,null,null,null,null,null,null,null,null,null,null,null,null,null,null,null,null,null,null,null,null,null,null,null,null,null,null,null,null,null,null,null,null,null,null,null,null,"Chukie                    "]
[null,null,null,null,null,null,null,null,null,null,null,null,null,null,null,null,null,null,null,null,null,null,null,null,null,null,null,null,null,null,null,null,null,null,null,null,null,null,null,null,null,null,null,null,null,null,null,null,"[FUN] GR8 Arjen!          "]
[null,null,null,null,null,null,null,null,null,null,null,null,null,null,null,null,null,null,null,null,null,null,null,null,null,null,null,null,null,null,null,null,null,null,null,null,null,null,null,null,null,null,null,null,null,null,null,null,"\\/\\/ | |_ |_              "]
[null,null,null,null,null,null,null,null,null,null,null,null,null,null,null,null,null,null,null,null,null,null,null,null,null,null,null,null,null,null,null,null,null,null,null,null,null,null,null,null,null,null,null,null,null,null,null,null,"Matti                     "]
[null,null,null,null,null,null,null,null,null,null,null,null,null,null,null,null,null,null,null,null,null,null,null,null,null,null,null,null,null,null,null,null,null,null,null,null,null,null,null,null,null,null,null,null,null,null,null,null,"messi                     "]
[null,null,null,null,null,null,null,null,null,null,null,null,null,null,null,null,null,null,null,null,null,null,null,null,null,null,null,null,null,null,null,null,null,null,null,null,null,null,null,null,null,null,null,null,null,null,null,null,"REIROM                    "]
[null,null,null,null,null,null,null,null,null,null,null,null,null,null,null,null,null,null,null,null,null,null,null,null,null,null,null,null,null,null,null,null,null,null,null,null,null,null,null,null,null,null,null,null,null,null,null,null,"[+] Badeend               "]
[null,null,null,null,null,null,null,null,null,null,null,null,null,null,null,null,null,null,null,null,null,null,null,null,null,null,null,null,null,null,null,null,null,null,null,null,null,null,null,null,null,null,null,null,null,null,null,null,"[PahaJori] Ender          "]
[null,null,null,null,null,null,null,null,null,null,null,null,null,null,null,null,null,null,null,null,null,null,null,null,null,null,null,null,null,null,null,null,null,null,null,null,null,null,null,null,null,null,null,null,null,null,null,null,"Ku Dern [Ri]              "]
[null,null,null,null,null,null,null,null,null,null,null,null,null,null,null,null,null,null,null,null,null,null,null,null,null,null,null,null,null,null,null,null,null,null,null,null,null,null,null,null,null,null,null,null,null,null,null,null,"Sig                       "]
[null,null,null,null,null,null,null,null,null,null,null,null,null,null,null,null,null,null,null,null,null,null,null,null,null,null,null,null,null,null,null,null,null,null,null,null,null,null,null,null,null,null,null,null,null,null,null,null,"Double O Seven            "]
[null,null,null,null,null,null,null,null,null,null,null,null,null,null,null,null,null,null,null,null,null,null,null,null,null,null,null,null,null,null,null,null,null,null,null,null,null,null,null,null,null,null,null,null,null,null,null,null,"Matic                     "]
[null,null,null,null,null,null,null,null,null,null,null,null,null,null,null,null,null,null,null,null,null,null,null,null,null,null,null,null,null,null,null,null,null,null,null,null,null,null,null,null,null,null,null,null,null,null,null,null,"Alukin                    "]
[null,null,null,null,null,null,null,null,null,null,null,null,null,null,null,null,null,null,null,null,null,null,null,null,null,null,null,null,null,null,null,null,null,null,null,null,null,null,null,null,null,null,null,null,null,null,null,null,"lds                       "]
[null,null,null,null,null,null,null,null,null,null,null,null,null,null,null,null,null,null,null,null,null,null,null,null,null,null,null,null,null,null,null,null,null,null,null,null,null,null,null,null,null,null,null,null,null,null,null,null,"Ninjinha_br               "]
[null,null,null,null,null,null,null,null,null,null,null,null,null,null,null,null,null,null,null,null,null,null,null,null,null,null,null,null,null,null,null,null,null,null,null,null,null,null,null,null,null,null,null,null,null,null,null,null,"[$pectre]Jaw$             "]
[null,null,null,null,null,null,null,null,null,null,null,null,null,null,null,null,null,null,null,null,null,null,null,null,null,null,null,null,null,null,null,null,null,null,null,null,null,null,null,null,null,null,null,null,null,null,null,null,"stoner                    "]
[null,null,null,null,null,null,null,null,null,null,null,null,null,null,null,null,null,null,null,null,null,null,null,null,null,null,null,null,null,null,null,null,null,null,null,null,null,null,null,null,null,null,null,null,null,null,null,null,"kikiriki                  "]
[null,null,null,null,null,null,null,null,null,null,null,null,null,null,null,null,null,null,null,null,null,null,null,null,null,null,null,null,null,null,null,null,null,null,null,null,null,null,null,null,null,null,null,null,null,null,null,null,"Qri                       "]
[null,null,null,null,null,null,null,null,null,null,null,null,null,null,null,null,null,null,null,null,null,null,null,null,null,null,null,null,null,null,null,null,null,null,null,null,null,null,null,null,null,null,null,null,null,null,null,null,"power79                   "]
[null,null,null,null,null,null,null,null,null,null,null,null,null,null,null,null,null,null,null,null,null,null,null,null,null,null,null,null,null,null,null,null,null,null,null,null,null,null,null,null,null,null,null,null,null,null,null,null,"batjunior                 "]
[null,null,null,null,null,null,null,null,null,null,null,null,null,null,null,null,null,null,null,null,null,null,null,null,null,null,null,null,null,null,null,null,null,null,null,null,null,null,null,null,null,null,null,null,null,null,null,null,"Serif  v2.5.3W            "]
[null,null,null,null,null,null,null,null,null,null,null,null,null,null,null,null,null,null,null,null,null,null,null,null,null,null,null,null,null,null,null,null,null,null,null,null,null,null,null,null,null,null,null,null,null,null,null,null,"Magnat                    "]
[null,null,null,null,null,null,null,null,null,null,null,null,null,null,null,null,null,null,null,null,null,null,null,null,null,null,null,null,null,null,null,null,null,null,null,null,null,null,null,null,null,null,null,null,null,null,null,null,"RiantHoff                 "]
[null,null,null,null,null,null,null,null,null,null,null,null,null,null,null,null,null,null,null,null,null,null,null,null,null,null,null,null,null,null,null,null,null,null,null,null,null,null,null,null,null,null,null,null,null,null,null,null,"Popowitch                 "]
[null,null,null,null,null,null,null,null,null,null,null,null,null,null,null,null,null,null,null,null,null,null,null,null,null,null,null,null,null,null,null,null,null,null,null,null,null,null,null,null,null,null,null,null,null,null,null,null,"straits                   "]
[null,null,null,null,null,null,null,null,null,null,null,null,null,null,null,null,null,null,null,null,null,null,null,null,null,null,null,null,null,null,null,null,null,null,null,null,null,null,null,null,null,null,null,null,null,null,null,null,"[ITA]_AIR_GIGI            "]
[null,null,null,null,null,null,null,null,null,null,null,null,null,null,null,null,null,null,null,null,null,null,null,null,null,null,null,null,null,null,null,null,null,null,null,null,null,null,null,null,null,null,null,null,null,null,null,null,"BrunoA                    "]
[null,null,null,null,null,null,null,null,null,null,null,null,null,null,null,null,null,null,null,null,null,null,null,null,null,null,null,null,null,null,null,null,null,null,null,null,null,null,null,null,null,null,null,null,null,null,null,null,"CrazybikE                 "]
[null,null,null,null,null,null,null,null,null,null,null,null,null,null,null,null,null,null,null,null,null,null,null,null,null,null,null,null,null,null,null,null,null,null,null,null,null,null,null,null,null,null,null,null,null,null,null,null,"koripallo tits            "]
[null,null,null,null,null,null,null,null,null,null,null,null,null,null,null,null,null,null,null,null,null,null,null,null,null,null,null,null,null,null,null,null,null,null,null,null,null,null,null,null,null,null,null,null,null,null,null,null,"bohun                     "]
[null,null,null,null,null,null,null,null,null,null,null,null,null,null,null,null,null,null,null,null,null,null,null,null,null,null,null,null,null,null,null,null,null,null,null,null,null,null,null,null,null,null,null,null,null,null,null,null,"Rendy                     "]
[null,null,null,null,null,null,null,null,null,null,null,null,null,null,null,null,null,null,null,null,null,null,null,null,null,null,null,null,null,null,null,null,null,null,null,null,null,null,null,null,null,null,null,null,null,null,null,null,"Hazard                    "]
[null,null,null,null,null,null,null,null,null,null,null,null,null,null,null,null,null,null,null,null,null,null,null,null,null,null,null,null,null,null,null,null,null,null,null,null,null,null,null,null,null,null,null,null,null,null,null,null,"Frank05                   "]
[null,null,null,null,null,null,null,null,null,null,null,null,null,null,null,null,null,null,null,null,null,null,null,null,null,null,null,null,null,null,null,null,null,null,null,null,null,null,null,null,null,null,null,null,null,null,null,null,"[5] Burnout               "]
[null,null,null,null,null,null,null,null,null,null,null,null,null,null,null,null,null,null,null,null,null,null,null,null,null,null,null,null,null,null,null,null,null,null,null,null,null,null,null,null,null,null,null,null,null,null,null,null,"[LWD] JamsleJ             "]
[null,null,null,null,null,null,null,null,null,null,null,null,null,null,null,null,null,null,null,null,null,null,null,null,null,null,null,null,null,null,null,null,null,null,null,null,null,null,null,null,null,null,null,null,null,null,null,null,"CrazybikE                 "]
[null,null,null,null,null,null,null,null,null,null,null,null,null,null,null,null,null,null,null,null,null,null,null,null,null,null,null,null,null,null,null,null,null,null,null,null,null,null,null,null,null,null,null,null,null,null,null,null,"laf                       "]
[null,null,null,null,null,null,null,null,null,null,null,null,null,null,null,null,null,null,null,null,null,null,null,null,null,null,null,null,null,null,null,null,null,null,null,null,null,null,null,null,null,null,null,null,null,null,null,null,"Thunda                    "]
[null,null,null,null,null,null,null,null,null,null,null,null,null,null,null,null,null,null,null,null,null,null,null,null,null,null,null,null,null,null,null,null,null,null,null,null,null,null,null,null,null,null,null,null,null,null,null,null,"Broomstig                 "]
[null,null,null,null,null,null,null,null,null,null,null,null,null,null,null,null,null,null,null,null,null,null,null,null,null,null,null,null,null,null,null,null,null,null,null,null,null,null,null,null,null,null,null,null,null,null,null,null,"[+] Tinjovic              "]
[null,null,null,null,null,null,null,null,null,null,null,null,null,null,null,null,null,null,null,null,null,null,null,null,null,null,null,null,null,null,null,null,null,null,null,null,null,null,null,null,null,null,null,null,null,null,null,null,"[x] Mike Nike             "]
[null,null,null,null,null,null,null,null,null,null,null,null,null,null,null,null,null,null,null,null,null,null,null,null,null,null,null,null,null,null,null,null,null,null,null,null,null,null,null,null,null,null,null,null,null,null,null,null,"[x] Stylus                "]
[null,null,null,null,null,null,null,null,null,null,null,null,null,null,null,null,null,null,null,null,null,null,null,null,null,null,null,null,null,null,null,null,null,null,null,null,null,null,null,null,null,null,null,null,null,null,null,null,"Matti                     "]
[null,null,null,null,null,null,null,null,null,null,null,null,null,null,null,null,null,null,null,null,null,null,null,null,null,null,null,null,null,null,null,null,null,null,null,null,null,null,null,null,null,null,null,null,null,null,null,null,"Jurgen-NL                 "]
[null,null,null,null,null,null,null,null,null,null,null,null,null,null,null,null,null,null,null,null,null,null,null,null,null,null,null,null,null,null,null,null,null,null,null,null,null,null,null,null,null,null,null,null,null,null,null,null,"[+] xzeal                 "]
[null,null,null,null,null,null,null,null,null,null,null,null,null,null,null,null,null,null,null,null,null,null,null,null,null,null,null,null,null,null,null,null,null,null,null,null,null,null,null,null,null,null,null,null,null,null,null,null,"[iR] iBlaze²              "]
[null,null,null,null,null,null,null,null,null,null,null,null,null,null,null,null,null,null,null,null,null,null,null,null,null,null,null,null,null,null,null,null,null,null,null,null,null,null,null,null,null,null,null,null,null,null,null,null,"AnnicK                    "]
[null,null,null,null,null,null,null,null,null,null,null,null,null,null,null,null,null,null,null,null,null,null,null,null,null,null,null,null,null,null,null,null,null,null,null,null,null,null,null,null,null,null,null,null,null,null,null,null,"[+] dede                  "]
[null,null,null,null,null,null,null,null,null,null,null,null,null,null,null,null,null,null,null,null,null,null,null,null,null,null,null,null,null,null,null,null,null,null,null,null,null,null,null,null,null,null,null,null,null,null,null,null,"GOl V8                    "]
[null,null,null,null,null,null,null,null,null,null,null,null,null,null,null,null,null,null,null,null,null,null,null,null,null,null,null,null,null,null,null,null,null,null,null,null,null,null,null,null,null,null,null,null,null,null,null,null,"messi                     "]
[null,null,null,null,null,null,null,null,null,null,null,null,null,null,null,null,null,null,null,null,null,null,null,null,null,null,null,null,null,null,null,null,null,null,null,null,null,null,null,null,null,null,null,null,null,null,null,null,"[fS]Palo                  "]
[null,null,null,null,null,null,null,null,null,null,null,null,null,null,null,null,null,null,null,null,null,null,null,null,null,null,null,null,null,null,null,null,null,null,null,null,null,null,null,null,null,null,null,null,null,null,null,null,"majstorfantac             "]
[null,null,null,null,null,null,null,null,null,null,null,null,null,null,null,null,null,null,null,null,null,null,null,null,null,null,null,null,null,null,null,null,null,null,null,null,null,null,null,null,null,null,null,null,null,null,null,null,"pozdro600                 "]
[null,null,null,null,null,null,null,null,null,null,null,null,null,null,null,null,null,null,null,null,null,null,null,null,null,null,null,null,null,null,null,null,null,null,null,null,null,null,null,null,null,null,null,null,null,null,null,null,"Shaytun                   "]
[null,null,null,null,null,null,null,null,null,null,null,null,null,null,null,null,null,null,null,null,null,null,null,null,null,null,null,null,null,null,null,null,null,null,null,null,null,null,null,null,null,null,null,null,null,null,null,null,"majstorfantac             "]
[null,null,null,null,null,null,null,null,null,null,null,null,null,null,null,null,null,null,null,null,null,null,null,null,null,null,null,null,null,null,null,null,null,null,null,null,null,null,null,null,null,null,null,null,null,null,null,null,"Qpa                       "]
[null,null,null,null,null,null,null,null,null,null,null,null,null,null,null,null,null,null,null,null,null,null,null,null,null,null,null,null,null,null,null,null,null,null,null,null,null,null,null,null,null,null,null,null,null,null,null,null,"[PahaJori] Ender          "]
[null,null,null,null,null,null,null,null,null,null,null,null,null,null,null,null,null,null,null,null,null,null,null,null,null,null,null,null,null,null,null,null,null,null,null,null,null,null,null,null,null,null,null,null,null,null,null,null,"JJ Nylander               "]
[null,null,null,null,null,null,null,null,null,null,null,null,null,null,null,null,null,null,null,null,null,null,null,null,null,null,null,null,null,null,null,null,null,null,null,null,null,null,null,null,null,null,null,null,null,null,null,null,"Kyna_Musti                "]
[null,null,null,null,null,null,null,null,null,null,null,null,null,null,null,null,null,null,null,null,null,null,null,null,null,null,null,null,null,null,null,null,null,null,null,null,null,null,null,null,null,null,null,null,null,null,null,null,"\\/\\/ | |_ |_              "]
[null,null,null,null,null,null,null,null,null,null,null,null,null,null,null,null,null,null,null,null,null,null,null,null,null,null,null,null,null,null,null,null,null,null,null,null,null,null,null,null,null,null,null,null,null,null,null,null,"Sig                       "]
[null,null,null,null,null,null,null,null,null,null,null,null,null,null,null,null,null,null,null,null,null,null,null,null,null,null,null,null,null,null,null,null,null,null,null,null,null,null,null,null,null,null,null,null,null,null,null,null,"majstorfantac             "]
[null,null,null,null,null,null,null,null,null,null,null,null,null,null,null,null,null,null,null,null,null,null,null,null,null,null,null,null,null,null,null,null,null,null,null,null,null,null,null,null,null,null,null,null,null,null,null,null,"Gol_v8                    "]
[null,null,null,null,null,null,null,null,null,null,null,null,null,null,null,null,null,null,null,null,null,null,null,null,null,null,null,null,null,null,null,null,null,null,null,null,null,null,null,null,null,null,null,null,null,null,null,null,"Augusto                   "]
[null,null,null,null,null,null,null,null,null,null,null,null,null,null,null,null,null,null,null,null,null,null,null,null,null,null,null,null,null,null,null,null,null,null,null,null,null,null,null,null,null,null,null,null,null,null,null,null,"majstorfantac             "]
[null,null,null,null,null,null,null,null,null,null,null,null,null,null,null,null,null,null,null,null,null,null,null,null,null,null,null,null,null,null,null,null,null,null,null,null,null,null,null,null,null,null,null,null,null,null,null,null,"Fa la la la la            "]
[null,null,null,null,null,null,null,null,null,null,null,null,null,null,null,null,null,null,null,null,null,null,null,null,null,null,null,null,null,null,null,null,null,null,null,null,null,null,null,null,null,null,null,null,null,null,null,null,"Nico Hulkenberg           "]
[null,null,null,null,null,null,null,null,null,null,null,null,null,null,null,null,null,null,null,null,null,null,null,null,null,null,null,null,null,null,null,null,null,null,null,null,null,null,null,null,null,null,null,null,null,null,null,null,"Bleached Anus             "]
[null,null,null,null,null,null,null,null,null,null,null,null,null,null,null,null,null,null,null,null,null,null,null,null,null,null,null,null,null,null,null,null,null,null,null,null,null,null,null,null,null,null,null,null,null,null,null,null,"JJ Nylander               "]
[null,null,null,null,null,null,null,null,null,null,null,null,null,null,null,null,null,null,null,null,null,null,null,null,null,null,null,null,null,null,null,null,null,null,null,null,null,null,null,null,null,null,null,null,null,null,null,null,"[+] Badeend               "]
[null,null,null,null,null,null,null,null,null,null,null,null,null,null,null,null,null,null,null,null,null,null,null,null,null,null,null,null,null,null,null,null,null,null,null,null,null,null,null,null,null,null,null,null,null,null,null,null,"batjunior                 "]
[null,null,null,null,null,null,null,null,null,null,null,null,null,null,null,null,null,null,null,null,null,null,null,null,null,null,null,null,null,null,null,null,null,null,null,null,null,null,null,null,null,null,null,null,null,null,null,null,"[+] olio                  "]
[null,null,null,null,null,null,null,null,null,null,null,null,null,null,null,null,null,null,null,null,null,null,null,null,null,null,null,null,null,null,null,null,null,null,null,null,null,null,null,null,null,null,null,null,null,null,null,null,"[x] Whiplash              "]
[null,null,null,null,null,null,null,null,null,null,null,null,null,null,null,null,null,null,null,null,null,null,null,null,null,null,null,null,null,null,null,null,null,null,null,null,null,null,null,null,null,null,null,null,null,null,null,null,"Jaka                      "]
[null,null,null,null,null,null,null,null,null,null,null,null,null,null,null,null,null,null,null,null,null,null,null,null,null,null,null,null,null,null,null,null,null,null,null,null,null,null,null,null,null,null,null,null,null,null,null,null,"Double O Seven            "]
[null,null,null,null,null,null,null,null,null,null,null,null,null,null,null,null,null,null,null,null,null,null,null,null,null,null,null,null,null,null,null,null,null,null,null,null,null,null,null,null,null,null,null,null,null,null,null,null,"Gol_V8 ( 17 )             "]
[null,null,null,null,null,null,null,null,null,null,null,null,null,null,null,null,null,null,null,null,null,null,null,null,null,null,null,null,null,null,null,null,null,null,null,null,null,null,null,null,null,null,null,null,null,null,null,null,"laf                       "]
[null,null,null,null,null,null,null,null,null,null,null,null,null,null,null,null,null,null,null,null,null,null,null,null,null,null,null,null,null,null,null,null,null,null,null,null,null,null,null,null,null,null,null,null,null,null,null,null,"lds                       "]
[null,null,null,null,null,null,null,null,null,null,null,null,null,null,null,null,null,null,null,null,null,null,null,null,null,null,null,null,null,null,null,null,null,null,null,null,null,null,null,null,null,null,null,null,null,null,null,null,"ROMREI                    "]
[null,null,null,null,null,null,null,null,null,null,null,null,null,null,null,null,null,null,null,null,null,null,null,null,null,null,null,null,null,null,null,null,null,null,null,null,null,null,null,null,null,null,null,null,null,null,null,null,"KLE621                    "]
[null,null,null,null,null,null,null,null,null,null,null,null,null,null,null,null,null,null,null,null,null,null,null,null,null,null,null,null,null,null,null,null,null,null,null,null,null,null,null,null,null,null,null,null,null,null,null,null,"power79                   "]
[null,null,null,null,null,null,null,null,null,null,null,null,null,null,null,null,null,null,null,null,null,null,null,null,null,null,null,null,null,null,null,null,null,null,null,null,null,null,null,null,null,null,null,null,null,null,null,null,"[FUN] GR8 Arjen!          "]
[null,null,null,null,null,null,null,null,null,null,null,null,null,null,null,null,null,null,null,null,null,null,null,null,null,null,null,null,null,null,null,null,null,null,null,null,null,null,null,null,null,null,null,null,null,null,null,null,"RiantHoff                 "]
[null,null,null,null,null,null,null,null,null,null,null,null,null,null,null,null,null,null,null,null,null,null,null,null,null,null,null,null,null,null,null,null,null,null,null,null,null,null,null,null,null,null,null,null,null,null,null,null,"put                       "]
[null,null,null,null,null,null,null,null,null,null,null,null,null,null,null,null,null,null,null,null,null,null,null,null,null,null,null,null,null,null,null,null,null,null,null,null,null,null,null,null,null,null,null,null,null,null,null,null,"Qri                       "]
[null,null,null,null,null,null,null,null,null,null,null,null,null,null,null,null,null,null,null,null,null,null,null,null,null,null,null,null,null,null,null,null,null,null,null,null,null,null,null,null,null,null,null,null,null,null,null,null,"Ninjinha_br               "]
[null,null,null,null,null,null,null,null,null,null,null,null,null,null,null,null,null,null,null,null,null,null,null,null,null,null,null,null,null,null,null,null,null,null,null,null,null,null,null,null,null,null,null,null,null,null,null,null,"DEAD FISH                 "]
[null,null,null,null,null,null,null,null,null,null,null,null,null,null,null,null,null,null,null,null,null,null,null,null,null,null,null,null,null,null,null,null,null,null,null,null,null,null,null,null,null,null,null,null,null,null,null,null,"FliZeR                    "]
[null,null,null,null,null,null,null,null,null,null,null,null,null,null,null,null,null,null,null,null,null,null,null,null,null,null,null,null,null,null,null,null,null,null,null,null,null,null,null,null,null,null,null,null,null,null,null,null,"Xenor                     "]
[null,null,null,null,null,null,null,null,null,null,null,null,null,null,null,null,null,null,null,null,null,null,null,null,null,null,null,null,null,null,null,null,null,null,null,null,null,null,null,null,null,null,null,null,null,null,null,null,"FliZeR                    "]
[null,null,null,null,null,null,null,null,null,null,null,null,null,null,null,null,null,null,null,null,null,null,null,null,null,null,null,null,null,null,null,null,null,null,null,null,null,null,null,null,null,null,null,null,null,null,null,null,"kikiriki                  "]
[null,null,null,null,null,null,null,null,null,null,null,null,null,null,null,null,null,null,null,null,null,null,null,null,null,null,null,null,null,null,null,null,null,null,null,null,null,null,null,null,null,null,null,null,null,null,null,null,"Kooler                    "]
[null,null,null,null,null,null,null,null,null,null,null,null,null,null,null,null,null,null,null,null,null,null,null,null,null,null,null,null,null,null,null,null,null,null,null,null,null,null,null,null,null,null,null,null,null,null,null,null,"[iR] Etmil                "]
[null,null,null,null,null,null,null,null,null,null,null,null,null,null,null,null,null,null,null,null,null,null,null,null,null,null,null,null,null,null,null,null,null,null,null,null,null,null,null,null,null,null,null,null,null,null,null,null,"I-IenR!Kubica             "]

{"sheet":"all_speed_public","index":12,"n_rows":250,"n_cols":49,"rows_kept":250,"cut":false,"hidden":false,"merged":[]}
[]
[]
[]
[]
[null,null,null,"Speeder"]
[null,null,null,null,null,"Max","Min",null,"Av",null,"Week 1","Week 2","Week 3","Week 4",null,1,2,3,4,null,1,2,3,4,5,6,7,8,9,10,11,12,13,14,15,16,17,18,19,20,null,null,null,null,null,null,null,null,"copy from all weeks under here..values..and then copy to left and filter out duplicates"]
[null,null,{"$f":"ROW()-6","v":1},"[+] Tinjovic              ",null,{"$f":"IF($I7=\"\",0,MAX($K7:$N7))","v":100},{"$f":"IF($I7=\"\",0,MIN($K7:$N7))","v":100},null,{"$f":"IF(COUNT(K7:N7)=0,0,SUM(K7:N7)/COUNT(K7:N7))","v":100},null,100,100,100,100,null,{"$f":"IFERROR(RANK(K7,K$7:K$999,0),\"\")","v":1},{"$f":"IFERROR(RANK(L7,L$7:L$999,0),\"\")","v":1},{"$f":"IFERROR(RANK(M7,M$7:M$999,0),\"\")","v":1},{"$f":"IFERROR(RANK(N7,N$7:N$999,0),\"\")","v":1},null,{"$f":"IF(SUMIF($P7:$S7,U$6)/U$6=0,\"\",SUMIF($P7:$S7,U$6)/U$6)","v":4},"","","","","","","","","",{"$f":"IF(SUMIF($P7:$S7,AE$6)/AE$6=0,\"\",SUMIF($P7:$S7,AE$6)/AE$6)","v":""},"","","","","","","","","",null,null,null,null,null,null,null,"[+] Tinjovic              ","[+] Tinjovic              "]
[null,null,2,"[x] Mike Nike             ",null,99.956616052060738,99.399585921325041,null,99.689833116010817,null,99.956616052060738,99.874773897314597,99.399585921325041,99.528356593342863,null,2,2,2,2,null,"",4,"","","","","","","","","","","","","","","","","","",null,null,null,null,null,null,null,"[x] Mike Nike             ","[x] Mike Nike             "]
[null,null,3,"Sig                       ",null,99.420110565585503,81.641915568162858,null,94.082884557538009,null,81.641915568162858,96.855433421455402,98.414078674948229,99.420110565585503,null,23,5,8,3,null,"","",1,"",1,"","",1,"","","","","","","","","","","","",null,null,null,null,null,null,null,"[fS]Palo                  ","[fS]Palo                  "]
[null,null,4,"GOl V8                    ",null,99.404646847334448,99.404646847334448,null,99.404646847334448,null,"","","",99.404646847334448,null,"","","",4,null,"","","",1,"","","","","","","","","","","","","","","","",null,null,null,null,null,null,null,"[x] Whiplash              ","[x] Whiplash              "]
[null,null,5,"kikiriki                  ",null,99.383022774327117,69.851493408977134,null,89.100156199128421,null,69.851493408977134,98.065952414080982,99.383022774327117,"",null,25,4,3,"",null,"","",1,1,"","","","","","","","","","","","","","","","",null,null,null,null,null,null,null,"[fS]Hevonen               ","[fS]Hevonen               "]
[null,null,6,"[fS]Palo                  ",null,99.018633540372662,98.925412981812116,null,98.972023261092389,null,98.925412981812116,"",99.018633540372662,"",null,4,"",4,"",null,"","","",2,"","","","","","","","","","","","","","","","",null,null,null,null,null,null,null,"Kyna_Musti                ","Kyna_Musti                "]
[null,null,7,"[+] Iziwýn                ",null,98.958785249457691,98.958785249457691,null,98.958785249457691,null,98.958785249457691,"","","",null,3,"","","",null,"","",1,"","","","","","","","","","","","","","","","","",null,null,null,null,null,null,null,"[+] Iziwýn                ","[+] Iziwýn                "]
[null,null,8,"Gol_v8                    ",null,98.840579710144922,89.093942933422341,null,95.543916797289185,null,89.093942933422341,95.857103102824553,98.840579710144922,98.384041442764911,null,17,8,5,6,null,"","","","",1,1,"",1,"","","","","","","","",1,"","","",null,null,null,null,null,null,null,"mc65532                   ","mc65532                   "]
[null,null,9,"[x] Stylus                ",null,98.741200828157346,95.731877000139136,null,97.362599762690493,null,"",95.731877000139136,98.741200828157346,97.614721459774998,null,"",9,6,8,null,"","","","","",1,"",1,1,"","","","","","","","","","","",null,null,null,null,null,null,null,"[+] Badeend               ","[+] Badeend               "]
[null,null,10,"[x] Whiplash              ",null,98.608695652173907,98.044385115968637,null,98.326540384071279,null,98.044385115968637,"",98.608695652173907,"",null,5,"",7,"",null,"","","","",1,"",1,"","","","","","","","","","","","","",null,null,null,null,null,null,null,"Poisonous                 ","Poisonous                 "]
[null,null,11,"Gol_V8 ( 17 )             ",null,98.480689681833994,98.480689681833994,null,98.480689681833994,null,"","","",98.480689681833994,null,"","","",5,null,{"$f":"IF(SUMIF($P17:$S17,U$6)/U$6=0,\"\",SUMIF($P17:$S17,U$6)/U$6)","v":""},"","","",1,"","","","","",{"$f":"IF(SUMIF($P17:$S17,AE$6)/AE$6=0,\"\",SUMIF($P17:$S17,AE$6)/AE$6)","v":""},"","","","","","","","","",null,null,null,null,null,null,null,"Chukie                    ","Chukie                    "]
[null,null,12,"[iR] iBlaze²              ",null,98.354668150827891,97.471682065952763,null,97.816512874192583,null,"",98.354668150827891,97.623188405797094,97.471682065952763,null,"",3,11,9,null,"","",1,"","","","","",1,"",1,"","","","","","","","","",null,null,null,null,null,null,null,"Jurgen-NL                 ","Jurgen-NL                 "]
[null,null,13,"Matti                     ",null,98.345382147137272,98.345382147137272,null,98.345382147137272,null,"","","",98.345382147137272,null,"","","",7,null,"","","","","","",1,"","","","","","","","","","","","","",null,null,null,null,null,null,null,"KyNa                      ","KyNa                      "]
[null,null,14,"Kyna_Musti                ",null,98.19047619047619,96.681508278836787,null,97.255008783836288,null,96.893041882195888,96.681508278836787,98.19047619047619,"",null,7,6,9,"",null,"","","","","",1,1,"",1,"","","","","","","","","","","",null,null,null,null,null,null,null,"fatty                     ","Kyna_Musti                "]
[null,null,15,"[fS]Hevonen               ",null,97.875776397515523,96.926414149841477,null,97.401095273678493,null,96.926414149841477,"",97.875776397515523,"",null,6,"",10,"",null,"","","","","",1,"","","",1,"","","","","","","","","","",null,null,null,null,null,null,null,"AnnicK                    ","fatty                     "]
[null,null,16,"[+] xzeal                 ",null,97.291925465838503,88.930418821958966,null,94.481031822046191,null,88.930418821958966,95.157924029497707,97.291925465838503,96.543858970889559,null,18,11,12,10,null,"","","","","","","","","",1,1,1,"","","","","",1,"","",null,null,null,null,null,null,null,"[FN] Pornfest             ","AnnicK                    "]
[null,null,17,"Jurgen-NL                 ",null,97.246376811594189,93.412314366761223,null,95.476962007764826,null,93.412314366761223,94.848337275636567,97.246376811594189,96.40081957706731,null,12,12,13,11,null,"","","","","","","","","","",1,2,1,"","","","","","","",null,null,null,null,null,null,null,"Double O Seven            ","[FN] Pornfest             "]
[null,null,18,"AnnicK                    ",null,97.242236024844715,94.016352411146343,null,95.767815687694807,null,94.016352411146343,95.411854737720887,97.242236024844715,96.40081957706731,null,10,10,14,11,null,"","","","","","","","","",2,1,"","",1,"","","","","","",null,null,null,null,null,null,null,"chill                     ","Double O Seven            "]
[null,null,19,"[+] Badeend               ",null,96.859669614550313,96.859669614550313,null,96.859669614550313,null,96.859669614550313,"","","",null,8,"","","",null,"","","","","","","",1,"","","","","","","","","","","","",null,null,null,null,null,null,null,"Guillo                    ","chill                     "]
[null,null,20,"Chukie                    ",null,96.517598343685293,96.517598343685293,null,96.517598343685293,null,"","",96.517598343685293,"",null,"","",15,"",null,"","","","","","","","","","","","","","",1,"","","","","",null,null,null,null,null,null,null,"Ande                      ","Guillo                    "]
[null,null,21,"Ninjinha_br               ",null,96.389221788379018,93.380409071935446,null,95.038462184632067,null,"",93.380409071935446,95.345755693581765,96.389221788379018,null,"",13,20,13,null,{"$f":"IF(SUMIF($P27:$S27,U$6)/U$6=0,\"\",SUMIF($P27:$S27,U$6)/U$6)","v":""},"","","","","","","","","",{"$f":"IF(SUMIF($P27:$S27,AE$6)/AE$6=0,\"\",SUMIF($P27:$S27,AE$6)/AE$6)","v":""},"",2,"","","","","","",1,null,null,null,null,null,null,null,"Scud                      ","Ande                      "]
[null,null,22,"Matic                     ",null,96.028985507246361,96.028985507246361,null,96.028985507246361,null,"","",96.028985507246361,"",null,"","",16,"",null,"","","","","","","","","","","","","","","",1,"","","","",null,null,null,null,null,null,null,"Diego Armando             ","Scud                      "]
[null,null,23,"Hazard                    ",null,95.93015166272437,95.672877846790882,null,95.801514754757619,null,"",95.93015166272437,95.672877846790882,"",null,"",7,18,"",null,"","","","","","",1,"","","","","","","","","","",1,"","",null,null,null,null,null,null,null,"lds                       ","Diego Armando             "]
[null,null,24,"\\/\\/ | |_ |_              ",null,95.772256728778459,93.188232110410951,null,94.480244419594698,null,"","",95.772256728778459,93.188232110410951,null,"","",17,17,null,"","","","","","","","","","","","","","","","",2,"","","",null,null,null,null,null,null,null,"[PahaJori] Ender          ","lds                       "]
[null,null,25,"fatty                     ",null,95.362318840579704,89.467712331052894,null,92.001689811721334,null,89.467712331052894,91.175038263531377,95.362318840579704,"",null,16,17,19,"",null,"","","","","","","","","","","","","","","",1,1,"",1,"",null,null,null,null,null,null,null,"laf                       ","[PahaJori] Ender          "]
[null,null,26,"[PahaJori] Ender          ",null,95.128928750918163,95.128928750918163,null,95.128928750918163,null,"","","",95.128928750918163,null,"","","",14,null,"","","","","","","","","","","","","",1,"","","","","","",null,null,null,null,null,null,null,"REIROM                    ","laf                       "]
[null,null,27,"Fa la la la la            ",null,95.016816793598025,95.016816793598025,null,95.016816793598025,null,"","","",95.016816793598025,null,"","","",15,null,"","","","","","","","","","","","","","",1,"","","","","",null,null,null,null,null,null,null,"Janneosaursrex            ","REIROM                    "]
[null,null,28,"pozdro600                 ",null,94.865424430641809,93.099315730467396,null,93.982370080554603,null,"","",94.865424430641809,93.099315730467396,null,"","",21,18,null,"","","","","","","","","","","","","","","","","",1,"","",null,null,null,null,null,null,null,"R.E.I.R.O.M               ","Janneosaursrex            "]
[null,null,29,"Qpa                       ",null,94.600414078674945,91.773340754139426,null,93.19506084020064,null,"",91.773340754139426,94.600414078674945,93.211427687787534,null,"",16,22,16,null,"","","","","","","","","","","","","","","",2,"","","","",null,null,null,null,null,null,null,"Testaaja                  ","R.E.I.R.O.M               "]
[null,null,30,"[fS]Jan                   ",null,94.310559006211165,94.310559006211165,null,94.310559006211165,null,"","",94.310559006211165,"",null,"","",23,"",null,"","","","","","","","","","","","","","","","","","","","",null,null,null,null,null,null,null,"[FUN] GR8 Arjen!          ","Testaaja                  "]
[null,null,31,"[+] Eddie                 ",null,94.253295511429997,94.253295511429997,null,94.253295511429997,null,94.253295511429997,"","","",null,9,"","","",null,{"$f":"IF(SUMIF($P37:$S37,U$6)/U$6=0,\"\",SUMIF($P37:$S37,U$6)/U$6)","v":""},"","","","","","","",1,"",{"$f":"IF(SUMIF($P37:$S37,AE$6)/AE$6=0,\"\",SUMIF($P37:$S37,AE$6)/AE$6)","v":""},"","","","","","","","","",null,null,null,null,null,null,null,"stoner                    ","[FUN] GR8 Arjen!          "]
[null,null,32,"[5] Burnout               ",null,94.231884057971016,94.231884057971016,null,94.231884057971016,null,"","",94.231884057971016,"",null,"","",24,"",null,"","","","","","","","","","","","","","","","","","","","",null,null,null,null,null,null,null,"[+] xzeal                 ","stoner                    "]
[null,null,33,"Alukin                    ",null,{"$f":"IF($I39=\"\",0,MAX($K39:$N39))","v":94.149068322981364},{"$f":"IF($I39=\"\",0,MIN($K39:$N39))","v":94.149068322981364},null,{"$f":"IF(COUNT(K39:N39)=0,0,SUM(K39:N39)/COUNT(K39:N39))","v":94.149068322981364},null,"","",94.149068322981364,"",null,{"$f":"IFERROR(RANK(K39,K$7:K$999,0),\"\")","v":""},{"$f":"IFERROR(RANK(L39,L$7:L$999,0),\"\")","v":""},{"$f":"IFERROR(RANK(M39,M$7:M$999,0),\"\")","v":25},{"$f":"IFERROR(RANK(N39,N$7:N$999,0),\"\")","v":""},null,"","","","","","","","","","","","","","","","","","","","",null,null,null,null,null,null,null,"Matic                     ","Chukie                    "]
[null,null,34,"Poisonous                 ",null,93.992991823794426,90.635870321413663,null,92.314431072604037,null,93.992991823794426,90.635870321413663,"","",null,11,18,"","",null,"","","","","","","","","","",1,"","","","","","",1,"","",null,null,null,null,null,null,null,"Serif                     ","[+] xzeal                 "]
[null,null,35,"mc65532                   ",null,93.987577639751549,90.815951943934593,null,92.401764791843078,null,90.815951943934593,"",93.987577639751549,"",null,14,"",26,"",null,"","","","","","","","","","","","","",1,"","","","","","",null,null,null,null,null,null,null,"Augusto                   ","Matic                     "]
[null,null,36,"[FUN] GR8 Arjen!          ",null,93.482401656314693,93.482401656314693,null,93.482401656314693,null,"","",93.482401656314693,"",null,"","",27,"",null,"","","","","","","","","","","","","","","","","","","","",null,null,null,null,null,null,null,"NBA                       ","Serif                     "]
[null,null,37,"REIROM                    ",null,93.337474120082803,93.337474120082803,null,93.337474120082803,null,"","",93.337474120082803,"",null,"","",28,"",null,"","","","","","","","","","","","","","","","","","","","",null,null,null,null,null,null,null,"Pro08                     ","Augusto                   "]
[null,null,38,"Magnat                    ",null,93.093167701863337,93.093167701863337,null,93.093167701863337,null,"","",93.093167701863337,"",null,"","",29,"",null,"","","","","","","","","","","","","","","","","","","","",null,null,null,null,null,null,null,"RiantHoff                 ","NBA                       "]
[null,null,39,"KyNa                      ",null,93.058568329718,93.058568329718,null,93.058568329718,null,93.058568329718,"","","",null,13,"","","",null,"","","","","","","","","","","","",1,"","","","","","","",null,null,null,null,null,null,null,"CrazybikE                 ","Augusto                   "]
[null,null,40,"Jaka                      ",null,92.805505083697369,92.805505083697369,null,92.805505083697369,null,"","","",92.805505083697369,null,"","","",19,null,"","","","","","","","","","","","","","","","","","",1,"",null,null,null,null,null,null,null,"Sharp                     ","Pro08                     "]
[null,null,41,"Scud                      ",null,92.712536524279955,92.712536524279955,null,92.712536524279955,null,"",92.712536524279955,"","",null,"",14,"","",null,{"$f":"IF(SUMIF($P47:$S47,U$6)/U$6=0,\"\",SUMIF($P47:$S47,U$6)/U$6)","v":""},"","","","","","","","","",{"$f":"IF(SUMIF($P47:$S47,AE$6)/AE$6=0,\"\",SUMIF($P47:$S47,AE$6)/AE$6)","v":""},"","",1,"","","","","","",null,null,null,null,null,null,null,"[+] Eddie                 ","lds                       "]
[null,null,42,"Augusto                   ",null,92.550724637681142,92.550724637681142,null,92.550724637681142,null,"","",92.550724637681142,"",null,"","",30,"",null,"","","","","","","","","","","","","","","","","","","","",null,null,null,null,null,null,null,"Fama                      ","RiantHoff                 "]
[null,null,43,"Ande                      ",null,92.350772227633229,89.497747371933912,null,90.92425979978357,null,89.497747371933912,92.350772227633229,"","",null,15,15,"","",null,"","","","","","","","","","","","","","",2,"","","","","",null,null,null,null,null,null,null,"Rubao                     ","CrazybikE                 "]
[null,null,44,"messi                     ",null,92.028453241581943,92.028453241581943,null,92.028453241581943,null,"","","",92.028453241581943,null,"","","",20,null,"","","","","","","","","","","","","","","","","","","",1,null,null,null,null,null,null,null,"Jim                       ","Sharp                     "]
[null,null,45,"laf                       ",null,91.79710144927536,87.518771900550647,null,89.852755711137092,null,87.518771900550647,"",91.79710144927536,90.242393783585271,null,19,"",31,23,null,"","","","","","","","","","","","","","","","","","",1,"",null,null,null,null,null,null,null,"#5 Burnout                ","[+] Eddie                 "]
[null,null,46,"Rub                       ",null,91.668737060041408,91.668737060041408,null,91.668737060041408,null,"","",91.668737060041408,"",null,"","",32,"",null,"","","","","","","","","","","","","","","","","","","","",null,null,null,null,null,null,null,"suzuck                    ","Fama                      "]
[null,null,47,"Shaytun                   ",null,91.077434569142156,91.077434569142156,null,91.077434569142156,null,"","","",91.077434569142156,null,"","","",21,null,"","","","","","","","","","","","","","","","","","","","",null,null,null,null,null,null,null,"Brian                     ","Rubao                     "]
[null,null,48,"JJ Nylander               ",null,90.551668148606339,90.551668148606339,null,90.551668148606339,null,"","","",90.551668148606339,null,"","","",22,null,"","","","","","","","","","","","","","","","","","","","",null,null,null,null,null,null,null,"Reinikainen               ","Jim                       "]
[null,null,49,"TD Juquinha               ",null,90.329762070404911,90.329762070404911,null,90.329762070404911,null,"",90.329762070404911,"","",null,"",19,"","",null,"","","","","","","","","","","","","","","","","","",1,"",null,null,null,null,null,null,null,"Niksi                     ","#5 Burnout                "]
[null,null,50,"Fama                      ",null,87.388620056732861,87.388620056732861,null,87.388620056732861,null,87.388620056732861,"","","",null,20,"","","",null,"","","","","","","","","","","","","","","","","","","",1,null,null,null,null,null,null,null,"Lavon                     ","suzuck                    "]
[null,null,51,"Kiki                      ",null,86.18054396796262,86.18054396796262,null,86.18054396796262,null,86.18054396796262,"","","",null,21,"","","",null,{"$f":"IF(SUMIF($P57:$S57,U$6)/U$6=0,\"\",SUMIF($P57:$S57,U$6)/U$6)","v":""},"","","","","","","","","",{"$f":"IF(SUMIF($P57:$S57,AE$6)/AE$6=0,\"\",SUMIF($P57:$S57,AE$6)/AE$6)","v":""},"","","","","","","","","",null,null,null,null,null,null,null,"Gol_v8                    ","Brian                     "]
[null,null,52,"suzuck                    ",null,81.995661605206067,81.995661605206067,null,81.995661605206067,null,81.995661605206067,"","","",null,22,"","","",null,"","","","","","","","","","","","","","","","","","","","",null,null,null,null,null,null,null,"BIXOMAU                   ","Reinikainen               "]
[null,null,53,"Kooler                    ",null,79.421177125365233,78.872694939498203,null,79.146936032431711,null,"",79.421177125365233,"",78.872694939498203,null,"",20,"",25,null,"","","","","","","","","","","","","","","","","","","",1,null,null,null,null,null,null,null,"Reiska                    ","Niksi                     "]
[null,null,54,"DEAD FISH                 ",null,79.355936134843631,79.355936134843631,null,79.355936134843631,null,"","","",79.355936134843631,null,"","","",24,null,"","","","","","","","","","","","","","","","","","","","",null,null,null,null,null,null,null,"DustyBadSkillz            ","Lavon                     "]
[null,null,55,"JJN                       ",null,77.497079926581023,77.497079926581023,null,77.497079926581023,null,77.497079926581023,"","","",null,24,"","","",null,"","","","","","","","","","","","","","","","","","","","",null,null,null,null,null,null,null,"Kiki                      ","Gol_v8                    "]
[null,null,56,"FliZeR                    ",null,71.736188966637044,71.736188966637044,null,71.736188966637044,null,"","","",71.736188966637044,null,"","","",26,null,"","","","","","","","","","","","","","","","","","","","",null,null,null,null,null,null,null,"Rahim                     ","BIXOMAU                   "]
[null,null,57,"Iron Man                  ",null,53.081928917069909,53.081928917069909,null,53.081928917069909,null,53.081928917069909,"","","",null,26,"","","",null,"","","","","","","","","","","","","","","","","","","","",null,null,null,null,null,null,null,"Iron Man                  ","Reiska                    "]
[null,null,58,"[FN] Pornfest             ",null,0,0,null,0,null,"","","","",null,"","","","",null,"","","","","","","","","","","","","","","","","","","","",null,null,null,null,null,null,null,"Sig                       ","DustyBadSkillz            "]
[null,null,59,"Double O Seven            ",null,0,0,null,0,null,"","","","",null,"","","","",null,"","","","","","","","","","","","","","","","","","","","",null,null,null,null,null,null,null,"Waenoo                    ","Kiki                      "]
[null,null,60,"chill                     ",null,0,0,null,0,null,"","","","",null,"","","","",null,"","","","","","","","","","","","","","","","","","","","",null,null,null,null,null,null,null,"Jukra                     ","Rahim                     "]
[null,null,61,"Guillo                    ",null,0,0,null,0,null,"","","","",null,"","","","",null,{"$f":"IF(SUMIF($P67:$S67,U$6)/U$6=0,\"\",SUMIF($P67:$S67,U$6)/U$6)","v":""},"","","","","","","","","",{"$f":"IF(SUMIF($P67:$S67,AE$6)/AE$6=0,\"\",SUMIF($P67:$S67,AE$6)/AE$6)","v":""},"","","","","","","","","",null,null,null,null,null,null,null,"JJN                       ","Iron Man                  "]
[null,null,62,"Diego Armando             ",null,0,0,null,0,null,"","","","",null,"","","","",null,"","","","","","","","","","","","","","","","","","","","",null,null,null,null,null,null,null,"Storm                     ","Sig                       "]
[null,null,63,"lds                       ",null,0,0,null,0,null,"","","","",null,"","","","",null,"","","","","","","","","","","","","","","","","","","","",null,null,null,null,null,null,null,"kikiriki                  ","Waenoo                    "]
[null,null,64,"Janneosaursrex            ",null,0,0,null,0,null,"","","","",null,"","","","",null,"","","","","","","","","","","","","","","","","","","","",null,null,null,null,null,null,null,"{l}rard{l}                ","Jukra                     "]
[null,null,65,"R.E.I.R.O.M               ",null,{"$f":"IF($I71=\"\",0,MAX($K71:$N71))","v":0},{"$f":"IF($I71=\"\",0,MIN($K71:$N71))","v":0},null,{"$f":"IF(COUNT(K71:N71)=0,0,SUM(K71:N71)/COUNT(K71:N71))","v":0},null,"","","","",null,{"$f":"IFERROR(RANK(K71,K$7:K$999,0),\"\")","v":""},{"$f":"IFERROR(RANK(L71,L$7:L$999,0),\"\")","v":""},{"$f":"IFERROR(RANK(M71,M$7:M$999,0),\"\")","v":""},{"$f":"IFERROR(RANK(N71,N$7:N$999,0),\"\")","v":""},null,"","","","","","","","","","","","","","","","","","","","",null,null,null,null,null,null,null,"shamino                   ","JJN                       "]
[null,null,66,"Testaaja                  ",null,0,0,null,0,null,"","","","",null,"","","","",null,"","","","","","","","","","","","","","","","","","","","",null,null,null,null,null,null,null,"[iR] iBlaze²              ","Storm                     "]
[null,null,67,"stoner                    ",null,0,0,null,0,null,"","","","",null,"","","","",null,"","","","","","","","","","","","","","","","","","","","",null,null,null,null,null,null,null,"[x] Stylus                ","kikiriki                  "]
[null,null,68,"Serif                     ",null,0,0,null,0,null,"","","","",null,"","","","",null,"","","","","","","","","","","","","","","","","","","","",null,null,null,null,null,null,null,"Hazard                    ","{l}rard{l}                "]
[null,null,69,"NBA                       ",null,0,0,null,0,null,"","","","",null,"","","","",null,"","","","","","","","","","","","","","","","","","","","",null,null,null,null,null,null,null,"\\/\\/ | |_ |_              ","shamino                   "]
[null,null,70,"Pro08                     ",null,0,0,null,0,null,"","","","",null,"","","","",null,"","","","","","","","","","","","","","","","","","","","",null,null,null,null,null,null,null,"Qpa                       ","[+] Tinjovic              "]
[null,null,71,"RiantHoff                 ",null,0,0,null,0,null,"","","","",null,"","","","",null,{"$f":"IF(SUMIF($P77:$S77,U$6)/U$6=0,\"\",SUMIF($P77:$S77,U$6)/U$6)","v":""},"","","","","","","","","",{"$f":"IF(SUMIF($P77:$S77,AE$6)/AE$6=0,\"\",SUMIF($P77:$S77,AE$6)/AE$6)","v":""},"","","","","","","","","",null,null,null,null,null,null,null,"Serif  v2.5.3W            ","[x] Mike Nike             "]
[null,null,72,"CrazybikE                 ",null,0,0,null,0,null,"","","","",null,"","","","",null,"","","","","","","","","","","","","","","","","","","","",null,null,null,null,null,null,null,"Hengari                   ","Kyna_Musti                "]
[null,null,73,"Sharp                     ",null,0,0,null,0,null,"","","","",null,"","","","",null,"","","","","","","","","","","","","","","","","","","","",null,null,null,null,null,null,null,"pozdro600                 ","kikiriki                  "]
[null,null,74,"Rubao                     ",null,0,0,null,0,null,"","","","",null,"","","","",null,"","","","","","","","","","","","","","","","","","","","",null,null,null,null,null,null,null,"Bubba                     ","[fS]Palo                  "]
[null,null,75,"Jim                       ",null,0,0,null,0,null,"","","","",null,"","","","",null,"","","","","","","","","","","","","","","","","","","","",null,null,null,null,null,null,null,"Popowitch                 ","[iR] iBlaze²              "]
[null,null,76,"#5 Burnout                ",null,0,0,null,0,null,"","","","",null,"","","","",null,"","","","","","","","","","","","","","","","","","","","",null,null,null,null,null,null,null,"Qri                       ","AnnicK                    "]
[null,null,77,"Brian                     ",null,0,0,null,0,null,"","","","",null,"","","","",null,"","","","","","","","","","","","","","","","","","","","",null,null,null,null,null,null,null,"batjunior                 ","Jurgen-NL                 "]
[null,null,78,"Reinikainen               ",null,0,0,null,0,null,"","","","",null,"","","","",null,"","","","","","","","","","","","","","","","","","","","",null,null,null,null,null,null,null,"Delux                     ","[+] xzeal                 "]
[null,null,79,"Niksi                     ",null,0,0,null,0,null,"","","","",null,"","","","",null,"","","","","","","","","","","","","","","","","","","","",null,null,null,null,null,null,null,"power79                   ","Ande                      "]
[null,null,80,"Lavon                     ",null,0,0,null,0,null,"","","","",null,"","","","",null,"","","","","","","","","","","","","","","","","","","","",null,null,null,null,null,null,null,"TD Juquinha               ","Sig                       "]
[null,null,81,"BIXOMAU                   ",null,0,0,null,0,null,"","","","",null,"","","","",null,{"$f":"IF(SUMIF($P87:$S87,U$6)/U$6=0,\"\",SUMIF($P87:$S87,U$6)/U$6)","v":""},"","","","","","","","","",{"$f":"IF(SUMIF($P87:$S87,AE$6)/AE$6=0,\"\",SUMIF($P87:$S87,AE$6)/AE$6)","v":""},"","","","","","","","","",null,null,null,null,null,null,null,"Alukin                    ","[x] Stylus                "]
[null,null,82,"Reiska                    ",null,0,0,null,0,null,"","","","",null,"","","","",null,"","","","","","","","","","","","","","","","","","","","",null,null,null,null,null,null,null,"GoingDillon               ","mc65532                   "]
[null,null,83,"DustyBadSkillz            ",null,0,0,null,0,null,"","","","",null,"","","","",null,"","","","","","","","","","","","","","","","","","","","",null,null,null,null,null,null,null,"[Qc]RSX                   ","[x] Whiplash              "]
[null,null,84,"Rahim                     ",null,0,0,null,0,null,"","","","",null,"","","","",null,"","","","","","","","","","","","","","","","","","","","",null,null,null,null,null,null,null,"dire                      ","[+] Badeend               "]
[null,null,85,"Waenoo                    ",null,0,0,null,0,null,"","","","",null,"","","","",null,"","","","","","","","","","","","","","","","","","","","",null,null,null,null,null,null,null,"cavani                    ","Hazard                    "]
[null,null,86,"Jukra                     ",null,0,0,null,0,null,"","","","",null,"","","","",null,"","","","","","","","","","","","","","","","","","","","",null,null,null,null,null,null,null,"Ninjinha_br               ","[fS]Hevonen               "]
[null,null,87,"Storm                     ",null,0,0,null,0,null,"","","","",null,"","","","",null,"","","","","","","","","","","","","","","","","","","","",null,null,null,null,null,null,null,"bohun                     ","fatty                     "]
[null,null,88,"{l}rard{l}                ",null,0,0,null,0,null,"","","","",null,"","","","",null,"","","","","","","","","","","","","","","","","","","","",null,null,null,null,null,null,null,"Rub                       ","Double O Seven            "]
[null,null,89,"shamino                   ",null,0,0,null,0,null,"","","","",null,"","","","",null,"","","","","","","","","","","","","","","","","","","","",null,null,null,null,null,null,null,"Kooler                    ","Scud                      "]
[null,null,90,"Serif  v2.5.3W            ",null,0,0,null,0,null,"","","","",null,"","","","",null,"","","","","","","","","","","","","","","","","","","","",null,null,null,null,null,null,null,"KORINGA                   ","Poisonous                 "]
[null,null,91,"Hengari                   ",null,0,0,null,0,null,"","","","",null,"","","","",null,{"$f":"IF(SUMIF($P97:$S97,U$6)/U$6=0,\"\",SUMIF($P97:$S97,U$6)/U$6)","v":""},"","","","","","","","","",{"$f":"IF(SUMIF($P97:$S97,AE$6)/AE$6=0,\"\",SUMIF($P97:$S97,AE$6)/AE$6)","v":""},"","","","","","","","","",null,null,null,null,null,null,null,"Oppy                      ","\\/\\/ | |_ |_              "]
[null,null,92,"Bubba                     ",null,0,0,null,0,null,"","","","",null,"","","","",null,"","","","","","","","","","","","","","","","","","","","",null,null,null,null,null,null,null,"[fS]Jan                   ","Qpa                       "]
[null,null,93,"Popowitch                 ",null,0,0,null,0,null,"","","","",null,"","","","",null,"","","","","","","","","","","","","","","","","","","","",null,null,null,null,null,null,null,"Matti                     ","Serif  v2.5.3W            "]
[null,null,94,"Qri                       ",null,0,0,null,0,null,"","","","",null,"","","","",null,"","","","","","","","","","","","","","","","","","","","",null,null,null,null,null,null,null,"messi                     ","lds                       "]
[null,null,95,"batjunior                 ",null,0,0,null,0,null,"","","","",null,"","","","",null,"","","","","","","","","","","","","","","","","","","","",null,null,null,null,null,null,null,"Ku Dern [Ri]              ","Hengari                   "]
[null,null,96,"Delux                     ",null,0,0,null,0,null,"","","","",null,"","","","",null,"","","","","","","","","","","","","","","","","","","","",null,null,null,null,null,null,null,"[$pectre]Jaw$             ","pozdro600                 "]
[null,null,97,"power79                   ",null,{"$f":"IF($I103=\"\",0,MAX($K103:$N103))","v":0},{"$f":"IF($I103=\"\",0,MIN($K103:$N103))","v":0},null,{"$f":"IF(COUNT(K103:N103)=0,0,SUM(K103:N103)/COUNT(K103:N103))","v":0},null,"","","","",null,{"$f":"IFERROR(RANK(K103,K$7:K$999,0),\"\")","v":""},{"$f":"IFERROR(RANK(L103,L$7:L$999,0),\"\")","v":""},{"$f":"IFERROR(RANK(M103,M$7:M$999,0),\"\")","v":""},{"$f":"IFERROR(RANK(N103,N$7:N$999,0),\"\")","v":""},null,"","","","","","","","","","","","","","","","","","","","",null,null,null,null,null,null,null,"Magnat                    ","Gol_v8                    "]
[null,null,98,"GoingDillon               ",null,0,0,null,0,null,"","","","",null,"","","","",null,"","","","","","","","","","","","","","","","","","","","",null,null,null,null,null,null,null,"straits                   ","Bubba                     "]
[null,null,99,"[Qc]RSX                   ",null,0,0,null,0,null,"","","","",null,"","","","",null,"","","","","","","","","","","","","","","","","","","","",null,null,null,null,null,null,null,"[ITA]_AIR_GIGI            ","[PahaJori] Ender          "]
[null,null,100,"dire                      ",null,0,0,null,0,null,"","","","",null,"","","","",null,"","","","","","","","","","","","","","","","","","","","",null,null,null,null,null,null,null,"BrunoA                    ","Fama                      "]
[null,null,101,"cavani                    ",null,0,0,null,0,null,"","","","",null,"","","","",null,{"$f":"IF(SUMIF($P107:$S107,U$6)/U$6=0,\"\",SUMIF($P107:$S107,U$6)/U$6)","v":""},"","","","","","","","","",{"$f":"IF(SUMIF($P107:$S107,AE$6)/AE$6=0,\"\",SUMIF($P107:$S107,AE$6)/AE$6)","v":""},"","","","","","","","","",null,null,null,null,null,null,null,"koripallo tits            ","R.E.I.R.O.M               "]
[null,null,102,"bohun                     ",null,0,0,null,0,null,"","","","",null,"","","","",null,"","","","","","","","","","","","","","","","","","","","",null,null,null,null,null,null,null,"Rendy                     ","Popowitch                 "]
[null,null,103,"KORINGA                   ",null,0,0,null,0,null,"","","","",null,"","","","",null,"","","","","","","","","","","","","","","","","","","","",null,null,null,null,null,null,null,"Frank05                   ","[FUN] GR8 Arjen!          "]
[null,null,104,"Oppy                      ",null,0,0,null,0,null,"","","","",null,"","","","",null,"","","","","","","","","","","","","","","","","","","","",null,null,null,null,null,null,null,"[5] Burnout               ","Poisonous                 "]
[null,null,105,"Ku Dern [Ri]              ",null,0,0,null,0,null,"","","","",null,"","","","",null,"","","","","","","","","","","","","","","","","","","","",null,null,null,null,null,null,null,"[LWD] JamsleJ             ","NBA                       "]
[null,null,106,"[$pectre]Jaw$             ",null,0,0,null,0,null,"","","","",null,"","","","",null,"","","","","","","","","","","","","","","","","","","","",null,null,null,null,null,null,null,"Thunda                    ","Diego Armando             "]
[null,null,107,"straits                   ",null,0,0,null,0,null,"","","","",null,"","","","",null,"","","","","","","","","","","","","","","","","","","","",null,null,null,null,null,null,null,"Broomstig                 ","Qri                       "]
[null,null,108,"[ITA]_AIR_GIGI            ",null,0,0,null,0,null,"","","","",null,"","","","",null,"","","","","","","","","","","","","","","","","","","","",null,null,null,null,null,null,null,"[+] dede                  ","batjunior                 "]
[null,null,109,"BrunoA                    ",null,0,0,null,0,null,"","","","",null,"","","","",null,"","","","","","","","","","","","","","","","","","","","",null,null,null,null,null,null,null,"GOl V8                    ","CrazybikE                 "]
[null,null,110,"koripallo tits            ",null,0,0,null,0,null,"","","","",null,"","","","",null,"","","","","","","","","","","","","","","","","","","","",null,null,null,null,null,null,null,"majstorfantac             ","Matic                     "]
[null,null,111,"Rendy                     ",null,0,0,null,0,null,"","","","",null,"","","","",null,{"$f":"IF(SUMIF($P117:$S117,U$6)/U$6=0,\"\",SUMIF($P117:$S117,U$6)/U$6)","v":""},"","","","","","","","","",{"$f":"IF(SUMIF($P117:$S117,AE$6)/AE$6=0,\"\",SUMIF($P117:$S117,AE$6)/AE$6)","v":""},"","","","","","","","","",null,null,null,null,null,null,null,"Shaytun                   ","Delux                     "]
[null,null,112,"Frank05                   ",null,0,0,null,0,null,"","","","",null,"","","","",null,"","","","","","","","","","","","","","","","","","","","",null,null,null,null,null,null,null,"JJ Nylander               ","Chukie                    "]
[null,null,113,"[LWD] JamsleJ             ",null,0,0,null,0,null,"","","","",null,"","","","",null,"","","","","","","","","","","","","","","","","","","","",null,null,null,null,null,null,null,"Fa la la la la            ","power79                   "]
[null,null,114,"Thunda                    ",null,0,0,null,0,null,"","","","",null,"","","","",null,"","","","","","","","","","","","","","","","","","","","",null,null,null,null,null,null,null,"Nico Hulkenberg           ","NBA                       "]
[null,null,115,"Broomstig                 ",null,0,0,null,0,null,"","","","",null,"","","","",null,"","","","","","","","","","","","","","","","","","","","",null,null,null,null,null,null,null,"Bleached Anus             ","TD Juquinha               "]
[null,null,116,"[+] dede                  ",null,0,0,null,0,null,"","","","",null,"","","","",null,"","","","","","","","","","","","","","","","","","","","",null,null,null,null,null,null,null,"[+] olio                  ","Alukin                    "]
[null,null,117,"majstorfantac             ",null,0,0,null,0,null,"","","","",null,"","","","",null,"","","","","","","","","","","","","","","","","","","","",null,null,null,null,null,null,null,"Jaka                      ","REIROM                    "]
[null,null,118,"Nico Hulkenberg           ",null,0,0,null,0,null,"","","","",null,"","","","",null,"","","","","","","","","","","","","","","","","","","","",null,null,null,null,null,null,null,"Gol_V8 ( 17 )             ","stoner                    "]
[null,null,119,"Bleached Anus             ",null,0,0,null,0,null,"","","","",null,"","","","",null,"","","","","","","","","","","","","","","","","","","","",null,null,null,null,null,null,null,"ROMREI                    ","GoingDillon               "]
[null,null,120,"[+] olio                  ",null,0,0,null,0,null,"","","","",null,"","","","",null,"","","","","","","","","","","","","","","","","","","","",null,null,null,null,null,null,null,"KLE621                    ","[Qc]RSX                   "]
[null,null,121,"ROMREI                    ",null,0,0,null,0,null,"","","","",null,"","","","",null,{"$f":"IF(SUMIF($P127:$S127,U$6)/U$6=0,\"\",SUMIF($P127:$S127,U$6)/U$6)","v":""},"","","","","","","","","",{"$f":"IF(SUMIF($P127:$S127,AE$6)/AE$6=0,\"\",SUMIF($P127:$S127,AE$6)/AE$6)","v":""},"","","","","","","","","",null,null,null,null,null,null,null,"put                       ","laf                       "]
[null,null,122,"KLE621                    ",null,0,0,null,0,null,"","","","",null,"","","","",null,"","","","","","","","","","","","","","","","","","","","",null,null,null,null,null,null,null,"DEAD FISH                 ","dire                      "]
[null,null,123,"put                       ",null,0,0,null,0,null,"","","","",null,"","","","",null,"","","","","","","","","","","","","","","","","","","","",null,null,null,null,null,null,null,"FliZeR                    ","cavani                    "]
[null,null,124,"Xenor                     ",null,0,0,null,0,null,"","","","",null,"","","","",null,"","","","","","","","","","","","","","","","","","","","",null,null,null,null,null,null,null,"Xenor                     ","Ninjinha_br               "]
[null,null,125,"[iR] Etmil                ",null,0,0,null,0,null,"","","","",null,"","","","",null,"","","","","","","","","","","","","","","","","","","","",null,null,null,null,null,null,null,"[iR] Etmil                ","bohun                     "]
[null,null,126,"I-IenR!Kubica             ",null,0,0,null,0,null,"","","","",null,"","","","",null,"","","","","","","","","","","","","","","","","","","","",null,null,null,null,null,null,null,"I-IenR!Kubica             ","Rub                       "]
[null,null,null,null,null,null,null,null,null,null,null,null,null,null,null,null,null,null,null,null,null,null,null,null,null,null,null,null,null,null,null,null,null,null,null,null,null,null,null,null,null,null,null,null,null,null,null,null,"Kooler                    "]
[null,null,null,null,null,null,null,null,null,null,null,null,null,null,null,null,null,null,null,null,null,null,null,null,null,null,null,null,null,null,null,null,null,null,null,null,null,null,null,null,null,null,null,null,null,null,null,null,"KORINGA                   "]
[null,null,null,null,null,null,null,null,null,null,null,null,null,null,null,null,null,null,null,null,null,null,null,null,null,null,null,null,null,null,null,null,null,null,null,null,null,null,null,null,null,null,null,null,null,null,null,null,"Oppy                      "]
[null,null,null,null,null,null,null,null,null,null,null,null,null,null,null,null,null,null,null,null,null,null,null,null,null,null,null,null,null,null,null,null,null,null,null,null,null,null,null,null,null,null,null,null,null,null,null,null,"[+] Tinjovic              "]
[null,null,null,null,null,null,null,null,null,null,null,null,null,null,null,null,null,null,null,null,null,null,null,null,null,null,null,null,null,null,null,null,null,null,null,null,null,null,null,null,null,null,null,null,null,null,null,null,"[x] Mike Nike             "]
[null,null,null,null,null,null,null,null,null,null,null,null,null,null,null,null,null,null,null,null,null,null,null,null,null,null,null,null,null,null,null,null,null,null,null,null,null,null,null,null,null,null,null,null,null,null,null,null,"[x] Stylus                "]
[null,null,null,null,null,null,null,null,null,null,null,null,null,null,null,null,null,null,null,null,null,null,null,null,null,null,null,null,null,null,null,null,null,null,null,null,null,null,null,null,null,null,null,null,null,null,null,null,"[fS]Palo                  "]
[null,null,null,null,null,null,null,null,null,null,null,null,null,null,null,null,null,null,null,null,null,null,null,null,null,null,null,null,null,null,null,null,null,null,null,null,null,null,null,null,null,null,null,null,null,null,null,null,"Kyna_Musti                "]
[null,null,null,null,null,null,null,null,null,null,null,null,null,null,null,null,null,null,null,null,null,null,null,null,null,null,null,null,null,null,null,null,null,null,null,null,null,null,null,null,null,null,null,null,null,null,null,null,"[x] Whiplash              "]
[null,null,null,null,null,null,null,null,null,null,null,null,null,null,null,null,null,null,null,null,null,null,null,null,null,null,null,null,null,null,null,null,null,null,null,null,null,null,null,null,null,null,null,null,null,null,null,null,"[fS]Hevonen               "]
[null,null,null,null,null,null,null,null,null,null,null,null,null,null,null,null,null,null,null,null,null,null,null,null,null,null,null,null,null,null,null,null,null,null,null,null,null,null,null,null,null,null,null,null,null,null,null,null,"[+] xzeal                 "]
[null,null,null,null,null,null,null,null,null,null,null,null,null,null,null,null,null,null,null,null,null,null,null,null,null,null,null,null,null,null,null,null,null,null,null,null,null,null,null,null,null,null,null,null,null,null,null,null,"Jurgen-NL                 "]
[null,null,null,null,null,null,null,null,null,null,null,null,null,null,null,null,null,null,null,null,null,null,null,null,null,null,null,null,null,null,null,null,null,null,null,null,null,null,null,null,null,null,null,null,null,null,null,null,"[iR] iBlaze²              "]
[null,null,null,null,null,null,null,null,null,null,null,null,null,null,null,null,null,null,null,null,null,null,null,null,null,null,null,null,null,null,null,null,null,null,null,null,null,null,null,null,null,null,null,null,null,null,null,null,"AnnicK                    "]
[null,null,null,null,null,null,null,null,null,null,null,null,null,null,null,null,null,null,null,null,null,null,null,null,null,null,null,null,null,null,null,null,null,null,null,null,null,null,null,null,null,null,null,null,null,null,null,null,"mc65532                   "]
[null,null,null,null,null,null,null,null,null,null,null,null,null,null,null,null,null,null,null,null,null,null,null,null,null,null,null,null,null,null,null,null,null,null,null,null,null,null,null,null,null,null,null,null,null,null,null,null,"fatty                     "]
[null,null,null,null,null,null,null,null,null,null,null,null,null,null,null,null,null,null,null,null,null,null,null,null,null,null,null,null,null,null,null,null,null,null,null,null,null,null,null,null,null,null,null,null,null,null,null,null,"[fS]Jan                   "]
[null,null,null,null,null,null,null,null,null,null,null,null,null,null,null,null,null,null,null,null,null,null,null,null,null,null,null,null,null,null,null,null,null,null,null,null,null,null,null,null,null,null,null,null,null,null,null,null,"pozdro600                 "]
[null,null,null,null,null,null,null,null,null,null,null,null,null,null,null,null,null,null,null,null,null,null,null,null,null,null,null,null,null,null,null,null,null,null,null,null,null,null,null,null,null,null,null,null,null,null,null,null,"chill                     "]
[null,null,null,null,null,null,null,null,null,null,null,null,null,null,null,null,null,null,null,null,null,null,null,null,null,null,null,null,null,null,null,null,null,null,null,null,null,null,null,null,null,null,null,null,null,null,null,null,"Qpa                       "]
[null,null,null,null,null,null,null,null,null,null,null,null,null,null,null,null,null,null,null,null,null,null,null,null,null,null,null,null,null,null,null,null,null,null,null,null,null,null,null,null,null,null,null,null,null,null,null,null,"Gol_v8                    "]
[null,null,null,null,null,null,null,null,null,null,null,null,null,null,null,null,null,null,null,null,null,null,null,null,null,null,null,null,null,null,null,null,null,null,null,null,null,null,null,null,null,null,null,null,null,null,null,null,"Rub                       "]
[null,null,null,null,null,null,null,null,null,null,null,null,null,null,null,null,null,null,null,null,null,null,null,null,null,null,null,null,null,null,null,null,null,null,null,null,null,null,null,null,null,null,null,null,null,null,null,null,"Augusto                   "]
[null,null,null,null,null,null,null,null,null,null,null,null,null,null,null,null,null,null,null,null,null,null,null,null,null,null,null,null,null,null,null,null,null,null,null,null,null,null,null,null,null,null,null,null,null,null,null,null,"Chukie                    "]
[null,null,null,null,null,null,null,null,null,null,null,null,null,null,null,null,null,null,null,null,null,null,null,null,null,null,null,null,null,null,null,null,null,null,null,null,null,null,null,null,null,null,null,null,null,null,null,null,"[FUN] GR8 Arjen!          "]
[null,null,null,null,null,null,null,null,null,null,null,null,null,null,null,null,null,null,null,null,null,null,null,null,null,null,null,null,null,null,null,null,null,null,null,null,null,null,null,null,null,null,null,null,null,null,null,null,"\\/\\/ | |_ |_              "]
[null,null,null,null,null,null,null,null,null,null,null,null,null,null,null,null,null,null,null,null,null,null,null,null,null,null,null,null,null,null,null,null,null,null,null,null,null,null,null,null,null,null,null,null,null,null,null,null,"Matti                     "]
[null,null,null,null,null,null,null,null,null,null,null,null,null,null,null,null,null,null,null,null,null,null,null,null,null,null,null,null,null,null,null,null,null,null,null,null,null,null,null,null,null,null,null,null,null,null,null,null,"messi                     "]
[null,null,null,null,null,null,null,null,null,null,null,null,null,null,null,null,null,null,null,null,null,null,null,null,null,null,null,null,null,null,null,null,null,null,null,null,null,null,null,null,null,null,null,null,null,null,null,null,"REIROM                    "]
[null,null,null,null,null,null,null,null,null,null,null,null,null,null,null,null,null,null,null,null,null,null,null,null,null,null,null,null,null,null,null,null,null,null,null,null,null,null,null,null,null,null,null,null,null,null,null,null,"[+] Badeend               "]
[null,null,null,null,null,null,null,null,null,null,null,null,null,null,null,null,null,null,null,null,null,null,null,null,null,null,null,null,null,null,null,null,null,null,null,null,null,null,null,null,null,null,null,null,null,null,null,null,"[PahaJori] Ender          "]
[null,null,null,null,null,null,null,null,null,null,null,null,null,null,null,null,null,null,null,null,null,null,null,null,null,null,null,null,null,null,null,null,null,null,null,null,null,null,null,null,null,null,null,null,null,null,null,null,"Ku Dern [Ri]              "]
[null,null,null,null,null,null,null,null,null,null,null,null,null,null,null,null,null,null,null,null,null,null,null,null,null,null,null,null,null,null,null,null,null,null,null,null,null,null,null,null,null,null,null,null,null,null,null,null,"Sig                       "]
[null,null,null,null,null,null,null,null,null,null,null,null,null,null,null,null,null,null,null,null,null,null,null,null,null,null,null,null,null,null,null,null,null,null,null,null,null,null,null,null,null,null,null,null,null,null,null,null,"Double O Seven            "]
[null,null,null,null,null,null,null,null,null,null,null,null,null,null,null,null,null,null,null,null,null,null,null,null,null,null,null,null,null,null,null,null,null,null,null,null,null,null,null,null,null,null,null,null,null,null,null,null,"Matic                     "]
[null,null,null,null,null,null,null,null,null,null,null,null,null,null,null,null,null,null,null,null,null,null,null,null,null,null,null,null,null,null,null,null,null,null,null,null,null,null,null,null,null,null,null,null,null,null,null,null,"Alukin                    "]
[null,null,null,null,null,null,null,null,null,null,null,null,null,null,null,null,null,null,null,null,null,null,null,null,null,null,null,null,null,null,null,null,null,null,null,null,null,null,null,null,null,null,null,null,null,null,null,null,"lds                       "]
[null,null,null,null,null,null,null,null,null,null,null,null,null,null,null,null,null,null,null,null,null,null,null,null,null,null,null,null,null,null,null,null,null,null,null,null,null,null,null,null,null,null,null,null,null,null,null,null,"Ninjinha_br               "]
[null,null,null,null,null,null,null,null,null,null,null,null,null,null,null,null,null,null,null,null,null,null,null,null,null,null,null,null,null,null,null,null,null,null,null,null,null,null,null,null,null,null,null,null,null,null,null,null,"[$pectre]Jaw$             "]
[null,null,null,null,null,null,null,null,null,null,null,null,null,null,null,null,null,null,null,null,null,null,null,null,null,null,null,null,null,null,null,null,null,null,null,null,null,null,null,null,null,null,null,null,null,null,null,null,"stoner                    "]
[null,null,null,null,null,null,null,null,null,null,null,null,null,null,null,null,null,null,null,null,null,null,null,null,null,null,null,null,null,null,null,null,null,null,null,null,null,null,null,null,null,null,null,null,null,null,null,null,"kikiriki                  "]
[null,null,null,null,null,null,null,null,null,null,null,null,null,null,null,null,null,null,null,null,null,null,null,null,null,null,null,null,null,null,null,null,null,null,null,null,null,null,null,null,null,null,null,null,null,null,null,null,"Qri                       "]
[null,null,null,null,null,null,null,null,null,null,null,null,null,null,null,null,null,null,null,null,null,null,null,null,null,null,null,null,null,null,null,null,null,null,null,null,null,null,null,null,null,null,null,null,null,null,null,null,"power79                   "]
[null,null,null,null,null,null,null,null,null,null,null,null,null,null,null,null,null,null,null,null,null,null,null,null,null,null,null,null,null,null,null,null,null,null,null,null,null,null,null,null,null,null,null,null,null,null,null,null,"batjunior                 "]
[null,null,null,null,null,null,null,null,null,null,null,null,null,null,null,null,null,null,null,null,null,null,null,null,null,null,null,null,null,null,null,null,null,null,null,null,null,null,null,null,null,null,null,null,null,null,null,null,"Serif  v2.5.3W            "]
[null,null,null,null,null,null,null,null,null,null,null,null,null,null,null,null,null,null,null,null,null,null,null,null,null,null,null,null,null,null,null,null,null,null,null,null,null,null,null,null,null,null,null,null,null,null,null,null,"Magnat                    "]
[null,null,null,null,null,null,null,null,null,null,null,null,null,null,null,null,null,null,null,null,null,null,null,null,null,null,null,null,null,null,null,null,null,null,null,null,null,null,null,null,null,null,null,null,null,null,null,null,"RiantHoff                 "]
[null,null,null,null,null,null,null,null,null,null,null,null,null,null,null,null,null,null,null,null,null,null,null,null,null,null,null,null,null,null,null,null,null,null,null,null,null,null,null,null,null,null,null,null,null,null,null,null,"Popowitch                 "]
[null,null,null,null,null,null,null,null,null,null,null,null,null,null,null,null,null,null,null,null,null,null,null,null,null,null,null,null,null,null,null,null,null,null,null,null,null,null,null,null,null,null,null,null,null,null,null,null,"straits                   "]
[null,null,null,null,null,null,null,null,null,null,null,null,null,null,null,null,null,null,null,null,null,null,null,null,null,null,null,null,null,null,null,null,null,null,null,null,null,null,null,null,null,null,null,null,null,null,null,null,"[ITA]_AIR_GIGI            "]
[null,null,null,null,null,null,null,null,null,null,null,null,null,null,null,null,null,null,null,null,null,null,null,null,null,null,null,null,null,null,null,null,null,null,null,null,null,null,null,null,null,null,null,null,null,null,null,null,"BrunoA                    "]
[null,null,null,null,null,null,null,null,null,null,null,null,null,null,null,null,null,null,null,null,null,null,null,null,null,null,null,null,null,null,null,null,null,null,null,null,null,null,null,null,null,null,null,null,null,null,null,null,"CrazybikE                 "]
[null,null,null,null,null,null,null,null,null,null,null,null,null,null,null,null,null,null,null,null,null,null,null,null,null,null,null,null,null,null,null,null,null,null,null,null,null,null,null,null,null,null,null,null,null,null,null,null,"koripallo tits            "]
[null,null,null,null,null,null,null,null,null,null,null,null,null,null,null,null,null,null,null,null,null,null,null,null,null,null,null,null,null,null,null,null,null,null,null,null,null,null,null,null,null,null,null,null,null,null,null,null,"bohun                     "]
[null,null,null,null,null,null,null,null,null,null,null,null,null,null,null,null,null,null,null,null,null,null,null,null,null,null,null,null,null,null,null,null,null,null,null,null,null,null,null,null,null,null,null,null,null,null,null,null,"Rendy                     "]
[null,null,null,null,null,null,null,null,null,null,null,null,null,null,null,null,null,null,null,null,null,null,null,null,null,null,null,null,null,null,null,null,null,null,null,null,null,null,null,null,null,null,null,null,null,null,null,null,"Hazard                    "]
[null,null,null,null,null,null,null,null,null,null,null,null,null,null,null,null,null,null,null,null,null,null,null,null,null,null,null,null,null,null,null,null,null,null,null,null,null,null,null,null,null,null,null,null,null,null,null,null,"Frank05                   "]
[null,null,null,null,null,null,null,null,null,null,null,null,null,null,null,null,null,null,null,null,null,null,null,null,null,null,null,null,null,null,null,null,null,null,null,null,null,null,null,null,null,null,null,null,null,null,null,null,"[5] Burnout               "]
[null,null,null,null,null,null,null,null,null,null,null,null,null,null,null,null,null,null,null,null,null,null,null,null,null,null,null,null,null,null,null,null,null,null,null,null,null,null,null,null,null,null,null,null,null,null,null,null,"[LWD] JamsleJ             "]
[null,null,null,null,null,null,null,null,null,null,null,null,null,null,null,null,null,null,null,null,null,null,null,null,null,null,null,null,null,null,null,null,null,null,null,null,null,null,null,null,null,null,null,null,null,null,null,null,"CrazybikE                 "]
[null,null,null,null,null,null,null,null,null,null,null,null,null,null,null,null,null,null,null,null,null,null,null,null,null,null,null,null,null,null,null,null,null,null,null,null,null,null,null,null,null,null,null,null,null,null,null,null,"laf                       "]
[null,null,null,null,null,null,null,null,null,null,null,null,null,null,null,null,null,null,null,null,null,null,null,null,null,null,null,null,null,null,null,null,null,null,null,null,null,null,null,null,null,null,null,null,null,null,null,null,"Thunda                    "]
[null,null,null,null,null,null,null,null,null,null,null,null,null,null,null,null,null,null,null,null,null,null,null,null,null,null,null,null,null,null,null,null,null,null,null,null,null,null,null,null,null,null,null,null,null,null,null,null,"Broomstig                 "]
[null,null,null,null,null,null,null,null,null,null,null,null,null,null,null,null,null,null,null,null,null,null,null,null,null,null,null,null,null,null,null,null,null,null,null,null,null,null,null,null,null,null,null,null,null,null,null,null,"[+] Tinjovic              "]
[null,null,null,null,null,null,null,null,null,null,null,null,null,null,null,null,null,null,null,null,null,null,null,null,null,null,null,null,null,null,null,null,null,null,null,null,null,null,null,null,null,null,null,null,null,null,null,null,"[x] Mike Nike             "]
[null,null,null,null,null,null,null,null,null,null,null,null,null,null,null,null,null,null,null,null,null,null,null,null,null,null,null,null,null,null,null,null,null,null,null,null,null,null,null,null,null,null,null,null,null,null,null,null,"[x] Stylus                "]
[null,null,null,null,null,null,null,null,null,null,null,null,null,null,null,null,null,null,null,null,null,null,null,null,null,null,null,null,null,null,null,null,null,null,null,null,null,null,null,null,null,null,null,null,null,null,null,null,"Matti                     "]
[null,null,null,null,null,null,null,null,null,null,null,null,null,null,null,null,null,null,null,null,null,null,null,null,null,null,null,null,null,null,null,null,null,null,null,null,null,null,null,null,null,null,null,null,null,null,null,null,"Jurgen-NL                 "]
[null,null,null,null,null,null,null,null,null,null,null,null,null,null,null,null,null,null,null,null,null,null,null,null,null,null,null,null,null,null,null,null,null,null,null,null,null,null,null,null,null,null,null,null,null,null,null,null,"[+] xzeal                 "]
[null,null,null,null,null,null,null,null,null,null,null,null,null,null,null,null,null,null,null,null,null,null,null,null,null,null,null,null,null,null,null,null,null,null,null,null,null,null,null,null,null,null,null,null,null,null,null,null,"[iR] iBlaze²              "]
[null,null,null,null,null,null,null,null,null,null,null,null,null,null,null,null,null,null,null,null,null,null,null,null,null,null,null,null,null,null,null,null,null,null,null,null,null,null,null,null,null,null,null,null,null,null,null,null,"AnnicK                    "]
[null,null,null,null,null,null,null,null,null,null,null,null,null,null,null,null,null,null,null,null,null,null,null,null,null,null,null,null,null,null,null,null,null,null,null,null,null,null,null,null,null,null,null,null,null,null,null,null,"[+] dede                  "]
[null,null,null,null,null,null,null,null,null,null,null,null,null,null,null,null,null,null,null,null,null,null,null,null,null,null,null,null,null,null,null,null,null,null,null,null,null,null,null,null,null,null,null,null,null,null,null,null,"GOl V8                    "]
[null,null,null,null,null,null,null,null,null,null,null,null,null,null,null,null,null,null,null,null,null,null,null,null,null,null,null,null,null,null,null,null,null,null,null,null,null,null,null,null,null,null,null,null,null,null,null,null,"messi                     "]
[null,null,null,null,null,null,null,null,null,null,null,null,null,null,null,null,null,null,null,null,null,null,null,null,null,null,null,null,null,null,null,null,null,null,null,null,null,null,null,null,null,null,null,null,null,null,null,null,"[fS]Palo                  "]
[null,null,null,null,null,null,null,null,null,null,null,null,null,null,null,null,null,null,null,null,null,null,null,null,null,null,null,null,null,null,null,null,null,null,null,null,null,null,null,null,null,null,null,null,null,null,null,null,"majstorfantac             "]
[null,null,null,null,null,null,null,null,null,null,null,null,null,null,null,null,null,null,null,null,null,null,null,null,null,null,null,null,null,null,null,null,null,null,null,null,null,null,null,null,null,null,null,null,null,null,null,null,"pozdro600                 "]
[null,null,null,null,null,null,null,null,null,null,null,null,null,null,null,null,null,null,null,null,null,null,null,null,null,null,null,null,null,null,null,null,null,null,null,null,null,null,null,null,null,null,null,null,null,null,null,null,"Shaytun                   "]
[null,null,null,null,null,null,null,null,null,null,null,null,null,null,null,null,null,null,null,null,null,null,null,null,null,null,null,null,null,null,null,null,null,null,null,null,null,null,null,null,null,null,null,null,null,null,null,null,"majstorfantac             "]
[null,null,null,null,null,null,null,null,null,null,null,null,null,null,null,null,null,null,null,null,null,null,null,null,null,null,null,null,null,null,null,null,null,null,null,null,null,null,null,null,null,null,null,null,null,null,null,null,"Qpa                       "]
[null,null,null,null,null,null,null,null,null,null,null,null,null,null,null,null,null,null,null,null,null,null,null,null,null,null,null,null,null,null,null,null,null,null,null,null,null,null,null,null,null,null,null,null,null,null,null,null,"[PahaJori] Ender          "]
[null,null,null,null,null,null,null,null,null,null,null,null,null,null,null,null,null,null,null,null,null,null,null,null,null,null,null,null,null,null,null,null,null,null,null,null,null,null,null,null,null,null,null,null,null,null,null,null,"JJ Nylander               "]
[null,null,null,null,null,null,null,null,null,null,null,null,null,null,null,null,null,null,null,null,null,null,null,null,null,null,null,null,null,null,null,null,null,null,null,null,null,null,null,null,null,null,null,null,null,null,null,null,"Kyna_Musti                "]
[null,null,null,null,null,null,null,null,null,null,null,null,null,null,null,null,null,null,null,null,null,null,null,null,null,null,null,null,null,null,null,null,null,null,null,null,null,null,null,null,null,null,null,null,null,null,null,null,"\\/\\/ | |_ |_              "]
[null,null,null,null,null,null,null,null,null,null,null,null,null,null,null,null,null,null,null,null,null,null,null,null,null,null,null,null,null,null,null,null,null,null,null,null,null,null,null,null,null,null,null,null,null,null,null,null,"Sig                       "]
[null,null,null,null,null,null,null,null,null,null,null,null,null,null,null,null,null,null,null,null,null,null,null,null,null,null,null,null,null,null,null,null,null,null,null,null,null,null,null,null,null,null,null,null,null,null,null,null,"majstorfantac             "]
[null,null,null,null,null,null,null,null,null,null,null,null,null,null,null,null,null,null,null,null,null,null,null,null,null,null,null,null,null,null,null,null,null,null,null,null,null,null,null,null,null,null,null,null,null,null,null,null,"Gol_v8                    "]
[null,null,null,null,null,null,null,null,null,null,null,null,null,null,null,null,null,null,null,null,null,null,null,null,null,null,null,null,null,null,null,null,null,null,null,null,null,null,null,null,null,null,null,null,null,null,null,null,"Augusto                   "]
[null,null,null,null,null,null,null,null,null,null,null,null,null,null,null,null,null,null,null,null,null,null,null,null,null,null,null,null,null,null,null,null,null,null,null,null,null,null,null,null,null,null,null,null,null,null,null,null,"majstorfantac             "]
[null,null,null,null,null,null,null,null,null,null,null,null,null,null,null,null,null,null,null,null,null,null,null,null,null,null,null,null,null,null,null,null,null,null,null,null,null,null,null,null,null,null,null,null,null,null,null,null,"Fa la la la la            "]
[null,null,null,null,null,null,null,null,null,null,null,null,null,null,null,null,null,null,null,null,null,null,null,null,null,null,null,null,null,null,null,null,null,null,null,null,null,null,null,null,null,null,null,null,null,null,null,null,"Nico Hulkenberg           "]
[null,null,null,null,null,null,null,null,null,null,null,null,null,null,null,null,null,null,null,null,null,null,null,null,null,null,null,null,null,null,null,null,null,null,null,null,null,null,null,null,null,null,null,null,null,null,null,null,"Bleached Anus             "]
[null,null,null,null,null,null,null,null,null,null,null,null,null,null,null,null,null,null,null,null,null,null,null,null,null,null,null,null,null,null,null,null,null,null,null,null,null,null,null,null,null,null,null,null,null,null,null,null,"JJ Nylander               "]
[null,null,null,null,null,null,null,null,null,null,null,null,null,null,null,null,null,null,null,null,null,null,null,null,null,null,null,null,null,null,null,null,null,null,null,null,null,null,null,null,null,null,null,null,null,null,null,null,"[+] Badeend               "]
[null,null,null,null,null,null,null,null,null,null,null,null,null,null,null,null,null,null,null,null,null,null,null,null,null,null,null,null,null,null,null,null,null,null,null,null,null,null,null,null,null,null,null,null,null,null,null,null,"batjunior                 "]
[null,null,null,null,null,null,null,null,null,null,null,null,null,null,null,null,null,null,null,null,null,null,null,null,null,null,null,null,null,null,null,null,null,null,null,null,null,null,null,null,null,null,null,null,null,null,null,null,"[+] olio                  "]
[null,null,null,null,null,null,null,null,null,null,null,null,null,null,null,null,null,null,null,null,null,null,null,null,null,null,null,null,null,null,null,null,null,null,null,null,null,null,null,null,null,null,null,null,null,null,null,null,"[x] Whiplash              "]
[null,null,null,null,null,null,null,null,null,null,null,null,null,null,null,null,null,null,null,null,null,null,null,null,null,null,null,null,null,null,null,null,null,null,null,null,null,null,null,null,null,null,null,null,null,null,null,null,"Jaka                      "]
[null,null,null,null,null,null,null,null,null,null,null,null,null,null,null,null,null,null,null,null,null,null,null,null,null,null,null,null,null,null,null,null,null,null,null,null,null,null,null,null,null,null,null,null,null,null,null,null,"Double O Seven            "]
[null,null,null,null,null,null,null,null,null,null,null,null,null,null,null,null,null,null,null,null,null,null,null,null,null,null,null,null,null,null,null,null,null,null,null,null,null,null,null,null,null,null,null,null,null,null,null,null,"Gol_V8 ( 17 )             "]
[null,null,null,null,null,null,null,null,null,null,null,null,null,null,null,null,null,null,null,null,null,null,null,null,null,null,null,null,null,null,null,null,null,null,null,null,null,null,null,null,null,null,null,null,null,null,null,null,"laf                       "]
[null,null,null,null,null,null,null,null,null,null,null,null,null,null,null,null,null,null,null,null,null,null,null,null,null,null,null,null,null,null,null,null,null,null,null,null,null,null,null,null,null,null,null,null,null,null,null,null,"lds                       "]
[null,null,null,null,null,null,null,null,null,null,null,null,null,null,null,null,null,null,null,null,null,null,null,null,null,null,null,null,null,null,null,null,null,null,null,null,null,null,null,null,null,null,null,null,null,null,null,null,"ROMREI                    "]
[null,null,null,null,null,null,null,null,null,null,null,null,null,null,null,null,null,null,null,null,null,null,null,null,null,null,null,null,null,null,null,null,null,null,null,null,null,null,null,null,null,null,null,null,null,null,null,null,"KLE621                    "]
[null,null,null,null,null,null,null,null,null,null,null,null,null,null,null,null,null,null,null,null,null,null,null,null,null,null,null,null,null,null,null,null,null,null,null,null,null,null,null,null,null,null,null,null,null,null,null,null,"power79                   "]
[null,null,null,null,null,null,null,null,null,null,null,null,null,null,null,null,null,null,null,null,null,null,null,null,null,null,null,null,null,null,null,null,null,null,null,null,null,null,null,null,null,null,null,null,null,null,null,null,"[FUN] GR8 Arjen!          "]
[null,null,null,null,null,null,null,null,null,null,null,null,null,null,null,null,null,null,null,null,null,null,null,null,null,null,null,null,null,null,null,null,null,null,null,null,null,null,null,null,null,null,null,null,null,null,null,null,"RiantHoff                 "]
[null,null,null,null,null,null,null,null,null,null,null,null,null,null,null,null,null,null,null,null,null,null,null,null,null,null,null,null,null,null,null,null,null,null,null,null,null,null,null,null,null,null,null,null,null,null,null,null,"put                       "]
[null,null,null,null,null,null,null,null,null,null,null,null,null,null,null,null,null,null,null,null,null,null,null,null,null,null,null,null,null,null,null,null,null,null,null,null,null,null,null,null,null,null,null,null,null,null,null,null,"Qri                       "]
[null,null,null,null,null,null,null,null,null,null,null,null,null,null,null,null,null,null,null,null,null,null,null,null,null,null,null,null,null,null,null,null,null,null,null,null,null,null,null,null,null,null,null,null,null,null,null,null,"Ninjinha_br               "]
[null,null,null,null,null,null,null,null,null,null,null,null,null,null,null,null,null,null,null,null,null,null,null,null,null,null,null,null,null,null,null,null,null,null,null,null,null,null,null,null,null,null,null,null,null,null,null,null,"DEAD FISH                 "]
[null,null,null,null,null,null,null,null,null,null,null,null,null,null,null,null,null,null,null,null,null,null,null,null,null,null,null,null,null,null,null,null,null,null,null,null,null,null,null,null,null,null,null,null,null,null,null,null,"FliZeR                    "]
[null,null,null,null,null,null,null,null,null,null,null,null,null,null,null,null,null,null,null,null,null,null,null,null,null,null,null,null,null,null,null,null,null,null,null,null,null,null,null,null,null,null,null,null,null,null,null,null,"Xenor                     "]
[null,null,null,null,null,null,null,null,null,null,null,null,null,null,null,null,null,null,null,null,null,null,null,null,null,null,null,null,null,null,null,null,null,null,null,null,null,null,null,null,null,null,null,null,null,null,null,null,"FliZeR                    "]
[null,null,null,null,null,null,null,null,null,null,null,null,null,null,null,null,null,null,null,null,null,null,null,null,null,null,null,null,null,null,null,null,null,null,null,null,null,null,null,null,null,null,null,null,null,null,null,null,"kikiriki                  "]
[null,null,null,null,null,null,null,null,null,null,null,null,null,null,null,null,null,null,null,null,null,null,null,null,null,null,null,null,null,null,null,null,null,null,null,null,null,null,null,null,null,null,null,null,null,null,null,null,"Kooler                    "]
[null,null,null,null,null,null,null,null,null,null,null,null,null,null,null,null,null,null,null,null,null,null,null,null,null,null,null,null,null,null,null,null,null,null,null,null,null,null,null,null,null,null,null,null,null,null,null,null,"[iR] Etmil                "]
[null,null,null,null,null,null,null,null,null,null,null,null,null,null,null,null,null,null,null,null,null,null,null,null,null,null,null,null,null,null,null,null,null,null,null,null,null,null,null,null,null,null,null,null,null,null,null,null,"I-IenR!Kubica             "]

{"sheet":"pts_system","index":13,"n_rows":49,"n_cols":11,"rows_kept":49,"cut":false,"hidden":false,"merged":[]}
[]
[null," 1. [x] Mike Nike             26.552   (1000 pts)",{"$f":"VALUE(LEFT(RIGHT(B2,19+0),6))/1000","v":26.552},1000,{"$f":"D2/1000","v":1},0,null,null,null,{"$f":"E2+F2","v":1},1000]
[null," 2. [+] Tinjovic              26.570    (989 pts)",{"$f":"VALUE(LEFT(RIGHT(B3,19+0),6))/1000","v":26.57},{"$f":"VALUE(LEFT(RIGHT(B3,LEN(B4)-FIND(\"(\",B4)),3))","v":989},{"$f":"D3/1000","v":0.98899999999999999},{"$f":"(C3/C$2-1)*10","v":6.7791503464897929E-3},{"$f":"1-E3","v":1.100000000000001E-2},{"$f":"G3/F3","v":1.6226222222222508},null,{"$f":"E3+F3","v":0.99577915034648978},{"$f":"VALUE(LEFT(RIGHT(D3,LEN(D4)-FIND(\"(\",D4)),3))","v":{"$error":"#VALUE!"}}]
[null," 3. [fS]Hevonen               26.582    (982 pts)",26.582000000000001,{"$f":"VALUE(LEFT(RIGHT(B4,LEN(B5)-FIND(\"(\",B5)),3))","v":982},0.98199999999999998,{"$f":"(C4/C$2-1)*10","v":1.1298583910817062E-2},{"$f":"1-E4","v":1.8000000000000016E-2},{"$f":"G4/F4","v":1.5931199999999237},null,0.99329858391081705,{"$error":"#VALUE!"}]
[null," 4. [+] Badeend               26.584    (980 pts)",26.584,980,0.98,1.2051822838203829E-2,2.0000000000000018E-2,1.6595000000000633,null,0.99205182283820381,{"$error":"#VALUE!"}]
[null," 5. [fS]Palo                  26.602    (970 pts)",26.602,970,0.97,1.8830973184693622E-2,3.0000000000000027E-2,1.5931200000000489,null,0.9888309731846936,{"$error":"#VALUE!"}]
[null," 6. mc65532                   26.681    (925 pts)",26.681000000000001,925,0.92500000000000004,4.8583910816510922E-2,7.4999999999999956E-2,1.5437209302325596,null,0.97358391081651097,{"$error":"#VALUE!"}]
[null," 7. Double O Seven            26.710    (909 pts)",26.71,909,0.90900000000000003,5.95058752636346E-2,9.099999999999997E-2,1.5292607594936454,null,0.96850587526363463,{"$error":"#VALUE!"}]
[null," 8. [PahaJori] Ender          26.730    (898 pts)",26.73,898,0.89800000000000002,6.7038264537511161E-2,0.10199999999999998,1.5215191011235982,null,0.96503826453751118,{"$error":"#VALUE!"}]
[null," 9. Qri                       26.745    (890 pts)",26.745000000000001,890,0.89,7.2687556492920802E-2,0.10999999999999999,1.5133264248704401,null,0.96268755649292082,{"$error":"#VALUE!"}]
[null,"10. [FUN] GR8 Arjen!          26.748    (888 pts)",26.748000000000001,888,0.88800000000000001,7.3817414884000954E-2,0.11199999999999999,1.517257142857148,null,0.96181741488400097,{"$error":"#VALUE!"}]
[null,"11. [iR] iBlaze²              26.776    (874 pts)",26.776,874,0.874,8.4362759867429027E-2,0.126,1.4935500000000164,null,0.95836275986742903,{"$error":"#VALUE!"}]
[null,"12. Jurgen-NL                 26.777    (873 pts)",26.777000000000001,873,0.873,8.4739379331124631E-2,0.127,1.4987128888888748,null,0.95773937933112463,{"$error":"#VALUE!"}]
[null,"13. Kyna_Musti                26.785    (869 pts)",26.785,869,0.86899999999999999,8.7752335040676144E-2,0.13100000000000001,1.4928377682403222,null,0.95675233504067614,{"$error":"#VALUE!"}]
[null,"14. Matti                     26.808    (857 pts)",26.808,857,0.85699999999999998,9.6414582705635077E-2,0.14300000000000002,1.4831781249999871,null,0.95341458270563506,{"$error":"#VALUE!"}]
[null,"15. [x] Whiplash              26.823    (850 pts)",26.823,850,0.85,0.1020638746610425,0.15000000000000002,1.4696678966789667,null,0.95206387466104248,{"$error":"#VALUE!"}]
[null,"16. Alukin                    26.851    (835 pts)",26.850999999999999,835,0.83499999999999996,0.11260921964447057,0.16500000000000004,1.4652441471571995,null,0.94760921964447054,{"$error":"#VALUE!"}]
[null,"17. [x] Stylus                26.883    (820 pts)",26.882999999999999,820,0.82,0.1246610424826744,0.18000000000000005,1.4439154078549981,null,0.94466104248267435,{"$error":"#VALUE!"}]
[null,"18. Qpa                       26.893    (815 pts)",26.893000000000001,815,0.81499999999999995,0.1284272371196149,0.18500000000000005,1.4405043988269737,null,0.94342723711961485,{"$error":"#VALUE!"}]
[null,"19. \\/\\/ | |_ |_              26.899    (812 pts)",26.899000000000001,812,0.81200000000000006,0.13068695390177743,0.18799999999999994,1.4385521613832872,null,0.94268695390177748,{"$error":"#VALUE!"}]
[null,"20. [+] xzeal                 26.906    (809 pts)",26.905999999999999,809,0.80900000000000005,0.13332329014763555,0.19099999999999995,1.4326079096045117,null,0.94232329014763561,{"$error":"#VALUE!"}]
[null,"21. messi                     26.910    (807 pts)",26.91,807,0.80700000000000005,0.13482976800241131,0.19299999999999995,1.4314346368714981,null,0.94182976800241136,{"$error":"#VALUE!"}]
[null,"22. Serif  v2.5.3W            26.926    (799 pts)",26.925999999999998,799,0.79900000000000004,0.14085567942151211,0.20099999999999996,1.4269925133689876,null,0.93985567942151216,{"$error":"#VALUE!"}]
[null,"23. Gol_v8                    26.928    (798 pts)",26.928000000000001,798,0.79800000000000004,0.1416089183489011,0.20199999999999996,1.4264638297872254,null,0.93960891834890115,{"$error":"#VALUE!"}]
[null,"24. lds                       26.998    (766 pts)",26.998000000000001,766,0.76600000000000001,0.16797228080747351,0.23399999999999999,1.3930869955156835,null,0.93397228080747352,{"$error":"#VALUE!"}]
[null,"25. AnnicK                    27.012    (759 pts)",27.012,759,0.75900000000000001,0.17324495329918754,0.24099999999999999,1.3910939130434699,null,0.93224495329918755,{"$error":"#VALUE!"}]
[null,"26. chill                     27.031    (751 pts)",27.030999999999999,751,0.751,0.18040072310937072,0.249,1.3802605427974914,null,0.93140072310937072,{"$error":"#VALUE!"}]
[null,"27. fatty                     27.055    (740 pts)",27.055,740,0.74,0.18943959023802304,0.26,1.3724691848906594,null,0.92943959023802303,{"$error":"#VALUE!"}]
[null,"28. Popowitch                 27.122    (711 pts)",27.122,711,0.71099999999999997,0.21467309430551307,0.28900000000000003,1.3462329824561445,null,0.92567309430551303,{"$error":"#VALUE!"}]
[null,"29. Matic                     27.133    (707 pts)",27.132999999999999,707,0.70699999999999996,0.21881590840614695,0.29300000000000004,1.3390251290877766,null,0.92581590840614691,{"$error":"#VALUE!"}]
[null,"30. straits                   27.156    (697 pts)",27.155999999999999,697,0.69699999999999995,0.22747815607110589,0.30300000000000005,1.3319960264900657,null,0.92447815607110584,{"$error":"#VALUE!"}]
[null,"31. REIROM                    27.160    (696 pts)",27.16,696,0.69599999999999995,0.22898463392588164,0.30400000000000005,1.3275999999999981,null,0.92498463392588159,{"$error":"#VALUE!"}]
[null,"32. Rub                       27.186    (685 pts)",27.186,685,0.68500000000000005,0.23877673998192295,0.31499999999999995,1.3192239747634029,null,0.923776739981923,{"$error":"#VALUE!"}]
[null,"33. Augusto                   27.296    (642 pts)",27.295999999999999,642,0.64200000000000002,0.28020488098824847,0.35799999999999998,1.2776365591397894,null,0.92220488098824849,{"$error":"#VALUE!"}]
[null,"34. batjunior                 27.297    (642 pts)",27.297000000000001,642,0.64200000000000002,0.28058150045194408,0.35799999999999998,1.2759216107382516,null,0.92258150045194409,{"$error":"#VALUE!"}]
[null,"35. pozdro600                 27.334    (628 pts)",27.334,628,0.628,0.29451642060861705,0.372,1.2630874680306905,null,0.92251642060861705,{"$error":"#VALUE!"}]
[null,"36. [fS]Jan                   27.355    (620 pts)",27.355,620,0.62,0.30242542934618921,0.38,1.2565080946450784,null,0.92242542934618921,{"$error":"#VALUE!"}]
[null,"37. CrazybikE                 27.357    (620 pts)",27.356999999999999,620,0.62,0.30317866827357598,0.38,1.2533863354037285,null,0.92317866827357598,{"$error":"#VALUE!"}]
[null,"38. Ninjinha_br               27.402    (604 pts)",27.402000000000001,604,0.60399999999999998,0.32012654413980268,0.39600000000000002,1.2370108235294059,null,0.92412654413980266,{"$error":"#VALUE!"}]
[null,"39. [$pectre]Jaw$             27.405    (602 pts)",27.405000000000001,602,0.60199999999999998,0.32125640253088283,0.39800000000000002,1.238885814771395,null,0.92325640253088281,{"$error":"#VALUE!"}]
[null,"40. stoner                    27.429    (594 pts)",27.428999999999998,594,0.59399999999999997,0.33029526965953515,0.40600000000000003,1.2292031927023979,null,0.92429526965953512,{"$error":"#VALUE!"}]
[null,"41. bohun                     27.432    (593 pts)",27.431999999999999,593,0.59299999999999997,0.33142512805061752,0.40700000000000003,1.2280300000000006,null,0.9244251280506175,{"$error":"#VALUE!"}]
[null,"42. Rendy                     27.481    (576 pts)",27.481000000000002,576,0.57599999999999996,0.34987948177161776,0.42400000000000004,1.2118458557588814,null,0.92587948177161772,{"$error":"#VALUE!"}]
[null,"43. [ITA]_AIR_GIGI            27.499    (570 pts)",27.498999999999999,570,0.56999999999999995,0.35665863211810755,0.43000000000000005,1.205634635691659,null,0.92665863211810751,{"$error":"#VALUE!"}]
[null,"44. RiantHoff                 27.504    (569 pts)",27.504000000000001,569,0.56899999999999995,0.35854172943657892,0.43100000000000005,1.2020915966386501,null,0.92754172943657887,{"$error":"#VALUE!"}]
[null,"45. Frank05                   27.759    (491 pts)",27.759,491,0.49099999999999999,0.45457969267851839,0.50900000000000001,1.1197156586578274,null,0.94557969267851838,{"$error":"#VALUE!"}]
[null,"46. CrazybikE                 28.306    (359 pts)",28.306000000000001,359,0.35899999999999999,0.66059053931907252,0.64100000000000001,0.970343899657924,null,1.0195905393190725,{"$error":"#VALUE!"}]
[null,"47. BrunoA                    28.445    (332 pts)",28.445,332,0.33200000000000002,0.71294064477252173,0.66799999999999993,0.93696439513998953,null,1.0449406447725218,332]
[null,"48. kikiriki                  34.792     (13 pts)",34.792000000000002,13,1.2999999999999999E-2,3.1033443808376027,null,null,null,null,13]

{"sheet":"antislider_stints","index":14,"n_rows":37,"n_cols":3,"rows_kept":37,"cut":false,"hidden":false,"merged":[]}
[]
[]
[null,1,804]
[null,2,664]
[null,3,625]
[null,4,596]
[null,5,583]
[null,6,613]
[null,7,573]
[null,8,534]
[null,9,527]
[null,10,569]
[null,11,511]
[null,12,602]
[null,13,564]
[null,14,570]
[null,15,625]
[null,16,488]
[null,17,574]
[null,18,462]
[null,19,563]
[null,20,494]
[null,21,588]
[null,22,553]
[null,23,521]
[null,24,635]
[null,25,452]
[null,26,618]
[null,27,528]
[null,28,539]
[null,29,399]
[null,30,534]
[null,31,590]
[null,32,543]
[null,33,514]
[null,34,462]
[null,35,577]

{"sheet":"calc_skippable_stint","index":15,"n_rows":30,"n_cols":27,"rows_kept":30,"cut":false,"hidden":false,"merged":[]}
[null,null,null,null,null,null,null,null,null,null,null,null,null,"time invested/laps max to drive"]
[null,null,null,null,null,null,"to drive potential laps:"]
[null,12,"spinner",null,null,null,null,"ruined lap at % of lap",null,null,null,null,null,null,null,null,null,null,"time (laps) invested",null,null,null,null,"time invested/pot.laps driven"]
[null,null,"invest lap",null,null,null,null,null,"invested time (laps)",null,null,null,null,null,null,null,null,"pot laps driven:"]
[null,1,1,1,1,1,11,1,{"$f":"C5+$G5","v":12},{"$f":"D5+$G5","v":12},12,12,null,{"$f":"I5/$G5","v":1.0909090909090908},{"$f":"J5/$G5","v":1.0909090909090908},1.0909090909090908,1.0909090909090908,0,{"$f":"$R5+C5","v":1},{"$f":"$R5+D5","v":1},1,1,null,0,0,0,0]
[null,2,1,0.75,0.5,0.25,10,1,{"$f":"C6+$G6","v":11},{"$f":"D6+$G6","v":10.75},{"$f":"E6+$G6","v":10.5},{"$f":"F6+$G6","v":10.25},null,{"$f":"I6/$G6","v":1.1000000000000001},{"$f":"J6/$G6","v":1.075},{"$f":"K6/$G6","v":1.05},{"$f":"L6/$G6","v":1.0249999999999999},1,{"$f":"$R6+C6","v":2},{"$f":"$R6+D6","v":1.75},{"$f":"$R6+E6","v":1.5},{"$f":"$R6+F6","v":1.25},null,{"$f":"S6/$R6","v":2},{"$f":"T6/$R6","v":1.75},1.5,1.25]
[null,3,1,0.75,0.5,0.25,9,1,10,9.75,9.5,9.25,null,1.1111111111111112,1.0833333333333333,1.0555555555555556,1.0277777777777777,2,3,2.75,2.5,2.25,null,{"$f":"S7/$R7","v":1.5},{"$f":"T7/$R7","v":1.375},{"$f":"U7/$R7","v":1.25},{"$f":"V7/$R7","v":1.125}]
[null,4,1,0.75,0.5,0.25,8,1,9,8.75,8.5,8.25,null,1.125,1.09375,1.0625,1.03125,3,4,3.75,3.5,3.25,null,1.3333333333333333,1.25,1.1666666666666667,1.0833333333333333]
[null,5,1,0.75,0.5,0.25,7,1,8,7.75,7.5,7.25,null,1.1428571428571428,1.1071428571428572,1.0714285714285714,1.0357142857142858,4,5,4.75,4.5,4.25,null,1.25,1.1875,1.125,1.0625]
[null,6,1,0.75,0.5,0.25,6,1,7,6.75,6.5,6.25,null,1.1666666666666667,1.125,1.0833333333333333,1.0416666666666667,5,6,5.75,5.5,5.25,null,{"$f":"S10/$R10","v":1.2},1.1499999999999999,1.1000000000000001,1.05]
[null,7,1,0.75,0.5,0.25,5,1,6,5.75,5.5,5.25,null,1.2,1.1499999999999999,1.1000000000000001,1.05,6,7,6.75,6.5,6.25,null,1.1666666666666667,1.125,1.0833333333333333,1.0416666666666667]
[null,8,1,0.75,0.5,0.25,4,1,5,4.75,4.5,4.25,null,1.25,1.1875,1.125,1.0625,7,8,7.75,7.5,7.25,null,1.1428571428571428,1.1071428571428572,1.0714285714285714,1.0357142857142858]
[null,9,1,0.75,0.5,0.25,3,1,4,3.75,3.5,3.25,null,1.3333333333333333,1.25,1.1666666666666667,1.0833333333333333,8,9,8.75,8.5,8.25,null,1.125,1.09375,1.0625,1.03125]
[null,10,1,0.75,0.5,0.25,2,1,3,2.75,2.5,2.25,null,1.5,1.375,1.25,1.125,9,10,9.75,9.5,9.25,null,1.1111111111111112,1.0833333333333333,1.0555555555555556,1.0277777777777777]
[null,11,1,0.75,0.5,0.25,1,1,2,1.75,1.5,1.25,null,2,1.75,1.5,1.25,10,11,10.75,10.5,10.25,null,1.1000000000000001,1.075,1.05,1.0249999999999999]
[null,12,1,0.75,0.5,0.25,0,null,null,null,null,null,null,null,null,null,null,11,12,11.75,11.5,11.25,null,1.0909090909090908,1.0681818181818181,1.0454545454545454,1.0227272727272727]
[null,null,"time driven (in laps)",null,null,null,null,"potential laptries done",null,null,null,null,null,"time driven (in laps)/pot. Lap try"]
[null,null,0.125,0.375,0.625,0.875,null,0,0,0,0,null,1,null,{"$f":"I18/D18","v":0},{"$f":"J18/E18","v":0},0]
[null,null,{"$f":"C18+1","v":1.125},{"$f":"D18+1","v":1.375},1.625,1.875,null,1,1,1,1,null,2,{"$f":"C19/H19","v":1.125},{"$f":"D19/I19","v":1.375},1.625,1.875]
[null,null,{"$f":"C19+1","v":2.125},{"$f":"D19+1","v":2.375},{"$f":"E19+1","v":2.625},{"$f":"F19+1","v":2.875},null,2,2,2,2,null,3,{"$f":"C20/H20","v":1.0625},{"$f":"D20/I20","v":1.1875},{"$f":"E20/J20","v":1.3125},{"$f":"F20/K20","v":1.4375}]
[null,null,3.125,3.375,3.625,3.875,null,3,3,3,3,null,4,1.0416666666666667,1.125,1.2083333333333333,1.2916666666666667]
[null,null,4.125,4.375,4.625,4.875,null,4,4,4,4,null,5,1.03125,1.09375,1.15625,1.21875]
[null,null,5.125,5.375,5.625,5.875,null,5,5,5,5,null,6,1.0249999999999999,1.075,1.125,1.175]
[null,null,6.125,6.375,6.625,6.875,null,6,6,6,6,null,7,1.0208333333333333,1.0625,1.1041666666666667,1.1458333333333333]
[null,null,7.125,7.375,7.625,7.875,null,7,7,7,7,null,8,1.0178571428571428,1.0535714285714286,1.0892857142857142,1.125]
[null,null,8.125,8.375,8.625,8.875,null,8,8,8,8,null,9,1.015625,1.046875,1.078125,1.109375,{"$f":"AVERAGE(N26:Q30)","v":1.0555852644087937}]
[null,null,9.125,9.375,9.625,9.875,null,9,9,9,9,null,10,1.0138888888888888,1.0416666666666667,1.0694444444444444,1.0972222222222223,{"$f":"AVERAGE(N27:Q30)","v":1.0534576534576534}]
[null,null,10.125,10.375,10.625,10.875,null,10,10,10,10,null,11,1.0125,1.0375000000000001,1.0625,1.0874999999999999,{"$f":"AVERAGE(N28:Q30)","v":1.0525252525252524}]
[null,null,11.125,11.375,11.625,11.875,null,11,11,11,11,null,12,1.0113636363636365,1.0340909090909092,1.0568181818181819,1.0795454545454546,{"$f":"AVERAGE(N29:Q30)","v":1.0545454545454545}]
[null,null,12,null,null,null,null,11,null,null,null,null,null,1.0909090909090908]